{"text_format":"1","workbook":"xlsx","n_sheets":17,"sheets":["COA","Additions Pivot","Cover Page","Total Deferred Depr","Total PIS","112020 PIS Summary","032021 PIS Summary","062021 PIS Summary","CR query CWIP only all months","CR CWIP query 112020 ISD","CR CWIP query 032021 ISD","CR CWIP query 062021 ISD","SEI ISD","WBS by Depr info","sei depr 1039","Asset 1200 SEI","info"],"not_rendered":{"charts":0,"images":3,"macros":0,"external_links":0,"defined_names":135,"comments":2,"pivot_tables":2},"unopened":[],"bounds":{"document_bytes":16777216,"sheet_cells":100000,"rows_first":2000,"rows_last":500,"rows_between":2000,"halvings":0,"cell_chars":16384,"cell_head_chars":4096},"cells_cut":0,"cells_raw":0,"read":"whole","date_system":"1900"}

{"sheet":"COA","index":0,"n_rows":2043,"n_cols":2,"rows_kept":2043,"cut":false,"hidden":true,"merged":[]}
["AMERICAN WATER"]
["CHART OF ACCOUNTS (SAP - AWTR)"]
["As of 6/29/14"]
["G/L Acct","Long Text"]
[10130100,"UPIS - Organization"]
[10130200,"UPIS - Franchises"]
[10130320,"UPIS - Land & Land Rights - Source of Supply"]
[10130330,"UPIS - Land & Land Rights - Pumping"]
[10130340,"UPIS - Land & Land Rights - Water Treatment"]
[10130350,"UPIS - Land & Land Rights - Transmission & Distrib"]
[10130360,"UPIS - Land & Land Rights - Admin & General"]
[10130410,"UPIS - Struct & Imp - Source of Supply"]
[10130420,"UPIS - Struct & Imp - Pumping"]
[10130430,"UPIS - Struct & Imp - Water Treatment"]
[10130440,"UPIS - Struct & Imp - Transmission & Distribution"]
[10130450,"UPIS - Struct & Imp - Admin & General"]
[10130500,"UPIS - Collect & Impounding"]
[10130600,"UPIS - Lake & River & Other"]
[10130700,"UPIS - Wells & Springs"]
[10130800,"UPIS - Infiltration Galleries"]
[10130900,"UPIS - Supply Mains"]
[10131000,"UPIS - Power Generation Equipment"]
[10131020,"UPIS - Boiler Plant Equipment"]
[10131110,"UPIS - Pumping Equipment - Steam"]
[10131120,"UPIS - Pumping Equipment - Electric"]
[10131130,"UPIS - Pumping Equipment - Diesel"]
[10131140,"UPIS - Pumping Equipment - Hydraulic"]
[10131150,"UPIS - Pumping Equipment - Other"]
[10131152,"UPIS - Pumping Equipment - Source of Supply"]
[10131153,"UPIS - Pumping Equipment - Water Treatment"]
[10131154,"UPIS - Pumping Equipment - Transmission & Distrib"]
[10132010,"UPIS - Water Treatment Equipment"]
[10133000,"UPIS - Distribution Reservoirs & Standpipes"]
[10133100,"UPIS - Transmission & Distribution Mains"]
[10133200,"UPIS - Fire Mains"]
[10133300,"UPIS - Services"]
[10133410,"UPIS - Meters"]
[10133420,"UPIS - Meter Installations"]
[10133500,"UPIS - Hydrants"]
[10133600,"UPIS - Backflow Prevention"]
[10133910,"UPIS - Other P/E - Intangible"]
[10133920,"UPIS - Other P/E - Source of Supply"]
[10133930,"UPIS - Other P/E - Water Treatment"]
[10133950,"UPIS - Other P/E - Transmission & Distribution"]
[10134010,"UPIS - Office Furniture & Equipment"]
[10134100,"UPIS - Transportation Equipment"]
[10134200,"UPIS - Stores Equipment"]
[10134300,"UPIS - Tools-Shop-Garage Equipment"]
[10134400,"UPIS - Laboratory Equipment"]
[10134500,"UPIS - Power Operated Equipment"]
[10134600,"UPIS - Communication Equipment"]
[10134700,"UPIS - Misc Equipment"]
[10134800,"UPIS - Other Tangible Property"]
[10135100,"UPIS - WW Organization"]
[10135200,"UPIS - WW Franchises"]
[10135220,"UPIS - WW Other Intangible"]
[10135320,"UPIS - WW Land & Land Rights - Coll"]
[10135330,"UPIS - WW Land & Land Rights - SPP"]
[10135340,"UPIS - WW Land & Land Rights - TDP"]
[10135350,"UPIS - WW Land & Land Rights - General"]
[10135420,"UPIS - WW Struct & Imp - Coll"]
[10135430,"UPIS - WW Struct & Imp - SPP"]
[10135440,"UPIS - WW Struct & Imp - TDP"]
[10135450,"UPIS - WW Struct & Imp - General"]
[10135520,"UPIS - WW Pwr Gen Equipment -  Col"]
[10135530,"UPIS - WW Pwr Gen Equipment -  SPP"]
[10135540,"UPIS - WW Pwr Gen Equipment -  TDP"]
[10135550,"UPIS - WW Pwr Gen Equipment -  RWT"]
[10135560,"UPIS - WW Pwr Gen Equipment -  RWD"]
[10136000,"UPIS - WW Collection Sewers"]
[10136110,"UPIS - WW Collecting Mains"]
[10136200,"UPIS - WW Special Coll Struct"]
[10136300,"UPIS - WW Services Sewer"]
[10136400,"UPIS - WW Flow Measuring Device"]
[10136500,"UPIS - WW Flow Measuring Install"]
[10137000,"UPIS - WW Receiving Wells"]
[10137110,"UPIS - WW Pump Equipment - Elect"]
[10137120,"UPIS - WW Pump Equipment - Oth Pwr"]
[10138000,"UPIS - WW - Transmission & D244Distribution Equip"]
[10138100,"UPIS - WW Plant Sewers"]
[10138200,"UPIS - WW Outfall Sewer Line"]
[10138910,"UPIS - WW Oth Plant & Misc Equipment"]
[10138920,"UPIS - WW Oth Plant & Misc Equipment - Coll"]
[10138930,"UPIS - WW Oth Plant & Misc Equipment - SPP"]
[10138940,"UPIS - WW Oth Plant & Misc Equipment - TDP"]
[10139000,"UPIS - WW Office Furniture"]
[10139100,"UPIS - WW Transportation Equipment"]
[10139200,"UPIS - WW Stores Equipment"]
[10139300,"UPIS - WW Tool Shop & Garage"]
[10139400,"UPIS - WW Laboratory Equipment"]
[10139500,"UPIS - WW Power Operated Equipment"]
[10139600,"UPIS - WW Communication Equipment"]
[10139700,"UPIS - WW Misc Equipment"]
[10139800,"UPIS - WW Other Tangible Pl"]
[10190000,"Reg Asset-AFUDC-Debt"]
[10230100,"Leased - Organization"]
[10230320,"Leased - Land & Land Rights - Source of Supply"]
[10230330,"Leased - Land & Land Rights - Pumping"]
[10230340,"Leased - Land & Land Rights - Water Treatment"]
[10230350,"Leased - Land & Land Rights - Transmission & Distr"]
[10230360,"Leased - Land & Land Rights - Admin & General"]
[10230410,"Leased - Struct & Imp - Source of Supply"]
[10230420,"Leased - Struct & Imp - Pumping"]
[10230430,"Leased - Struct & Imp - Water Treatment"]
[10230440,"Leased - Struct & Imp - Transmission & Distrib"]
[10230450,"Leased - Struct & Imp - Admin & General"]
[10230500,"Leased - Collect & Impounding"]
[10230600,"Leased - Lake - River & Other"]
[10230900,"Leased - Supply Mains"]
[10231000,"Leased - Power Generation Equipment"]
[10231120,"Leased - Pump Equipment Electric"]
[10232010,"Leased - WT Equipment"]
[10233000,"Leased - Distribution Reservoirs & Standpipes"]
[10233100,"Leased - TD Mains"]
[10233300,"Leased - Services"]
[10233410,"Leased - Meters"]
[10233420,"Leased - Meter Installations"]
[10233500,"Leased - Hydrants"]
[10233950,"Leased - Other P/E - Transmission & Distribution"]
[10234010,"Leased - Office Furniture & Equipment"]
[10234100,"Leased - Transportation Equipment"]
[10234200,"Leased - Stores Equipment"]
[10234300,"Leased - Tools-Shop-Garage Equipment"]
[10234400,"Leased - Laboratory Equipment"]
[10234500,"Leased - Power Operated Equipment"]
[10234600,"Leased - Comm Equipment Not Class"]
[10234700,"Leased - Misc Equipment"]
[10300000,"Property Held Future"]
[10400000,"Utility Plant Purchased or Sold"]
[10630100,"CCNC Organization"]
[10630200,"CCNC Franchises"]
[10630320,"CCNC Land & Land Rights - Source of Supply"]
[10630330,"CCNC Land & Land Rights - Pumping"]
[10630340,"CCNC Land & Land Rights - Water Treatment"]
[10630350,"CCNC Land & Land Rights - Transmssn & Distr"]
[10630360,"CCNC Land & Land Rights - Adm & Gen"]
[10630410,"CCNC Struct & Imp - Source of Supply"]
[10630420,"CCNC Struct & Imp - Pumping"]
[10630430,"CCNC Struct & Imp - Water Treatment"]
[10630440,"CCNC Struct & Imp - Transmission & Distribution"]
[10630450,"CCNC Struct & Imp - Admin & General"]
[10630500,"CCNC Collect & Impounding"]
[10630600,"CCNC Lake - River & Other"]
[10630700,"CCNC Wells & Springs"]
[10630800,"CCNC Infiltration Galleries"]
[10630900,"CCNC Supply Mains"]
[10631000,"CCNC Power Generation Equipment"]
[10631020,"CCNC Boiler Plant Equipment"]
[10631110,"CCNC Pumping Equipment - Steam"]
[10631120,"CCNC Pumping Equipment - Electric"]
[10631130,"CCNC Pumping Equipment - Diesel"]
[10631140,"CCNC Pumping Equipment - Hydraulic"]
[10631150,"CCNC Pumping Equipment - Other"]
[10631152,"CCNC Pumping Equipment - Source of Supply"]
[10631153,"CCNC Pumping Equipment - Water Treatment"]
[10631154,"CCNC Pumping Equipment - Transmssn & Distr"]
[10632010,"CCNC - Water Treatment Equipment -  Non-Media"]
[10633000,"CCNC - Distribution Reservoirs & Standpipes"]
[10633100,"CCNC - Transmssn & Distr Mains Not Classified"]
[10633200,"CCNC Fire Mains"]
[10633300,"CCNC Services"]
[10633410,"CCNC Meters"]
[10633420,"CCNC Meter Installations"]
[10633500,"CCNC Hydrants"]
[10633600,"CCNC Backflow Prevention"]
[10633910,"CCNC Other P/E Intangible"]
[10633920,"CCNC Other P/E - Source of Supply"]
[10633930,"CCNC Other P/E - Water Treatment"]
[10633950,"CCNC Other P/E - Transmission & Distribution"]
[10634010,"CCNC Office Furniture & Equipment"]
[10634100,"CCNC Transportation Equipment Not Classified"]
[10634200,"CCNC Stores Equipment"]
[10634300,"CCNC Tools-Shop-Garage Equipment"]
[10634400,"CCNC Laboratory Equipment"]
[10634500,"CCNC Power Operated Equipment"]
[10634600,"CCNC Communication Equipment"]
[10634700,"CCNC Misc Equipment"]
[10634800,"CCNC Other Tangible Property"]
[10635320,"CCNC WW Land & Land Rights - Coll"]
[10635330,"CCNC WW Land & Land Rights - SPP"]
[10635340,"CCNC WW Land & Land Rights - TDP"]
[10635350,"CCNC WW Land & Land Rights - Gen"]
[10635420,"CCNC WW Struct & Imp - Coll"]
[10635430,"CCNC WW Struct & Imp - SPP"]
[10635440,"CCNC WW Struct & Imp - TDP"]
[10635450,"CCNC WW Struct & Imp - Gen"]
[10635520,"CCNC WW Power Gen Equipment - Col"]
[10635530,"CCNC WW Power Gen Equipment - SPP"]
[10635540,"CCNC WW Power Gen Equipment - TDP"]
[10635550,"CCNC WW Power Gen Equipment - RWT"]
[10635560,"CCNC WW Power Gen Equipment - RWD"]
[10636000,"CCNC WW Collection Sewers"]
[10636110,"CCNC WW Collecting Mains"]
[10636200,"CCNC WW Special Coll Stru"]
[10636300,"CCNC WW Services Sewer"]
[10636400,"CCNC WW Flow Measuring De"]
[10636500,"CCNC WW Flow Measuring In"]
[10637000,"CCNC WW Receiving Wells"]
[10637110,"CCNC WW Pump Equipment - Elect"]
[10637120,"CCNC WW Pump Equipment - Oth Pwr"]
[10638000,"CCNC WW TD Equipment"]
[10638100,"CCNC WW Plant Sewers"]
[10638200,"CCNC WW Outfall Sewer Line"]
[10638910,"CCNC WW Oth Plant & Misc Equipment"]
[10638920,"CCNC WW Oth Plant & Misc Eq - Coll"]
[10638930,"CCNC WW Oth Plant & Misc Eq - SPP"]
[10638940,"CCNC WW Oth Plant & Misc Eq - TDP"]
[10639000,"CCNC WW Office Furniture"]
[10639100,"CCNC WW Transportation Equipment"]
[10639200,"CCNC WW Stores Equipment"]
[10639300,"CCNC WW Tool Shop & Garage Equip"]
[10639400,"CCNC WW Laboratory Equipment"]
[10639500,"CCNC WW Power Operated Equip"]
[10639600,"CCNC WW Communication Equip"]
[10639700,"CCNC WW Misc Equipment"]
[10639800,"CCNC WW Other Tangible Pl"]
[10700000,"CWIP"]
[10780000,"CWIP - Workbasket Accrual"]
[10780100,"CWIP - Backhoe Clearing"]
[10780110,"CWIP - Eng Clearing Dist Overhead"]
[10780120,"CWIP - Eng Clearing Eng Overhead"]
[10780130,"CWIP - Management Study - AMR"]
[10780140,"CWIP - Management Study - Pipe"]
[10780150,"CWIP - Interdistrict Clearing"]
[10790000,"CWIP - Capital Settlement Clearing"]
[10801000,"Accum Depreciation - Utility Plant in Service"]
[10802000,"Accum Depreciation - Salvage/Scrap"]
[10803000,"Accum Depreciation - Asset Sale"]
[10804000,"Accum Depreciation - Original Cost"]
[10810000,"Accum Depreciation - Reg Asset"]
[10820000,"Accum Depreciation - Utility Plant Leased to Othrs"]
[10830000,"Accum Depreciation - Property Held for Future Use"]
[10840000,"Accum Amortization - Utility Plant in Service"]
[10850000,"Accum Amortization - Utility Plant Capital Lease"]
[11410000,"UPAA - Above The Line"]
[11415000,"UPAA - Above The Line - Accum Amortization"]
[11420000,"UPAA - Above The Line Depreciation"]
[11425000,"UPAA - Above The Line Depr - Accum Depreciation"]
[11430000,"UPAA - Neg Post 1/1/06"]
[11435000,"UPAA - Neg Post 1/1/06 - Accum Amortization"]
[12110000,"Non-Utility Property - Land"]
[12120000,"Non-Utility Property - Buildings"]
[12130003,"Non-Utility Property - Capital Lease 3yr"]
[12130004,"Non-Utility Property - Capital Lease 4yr"]
[12130005,"Non-Utility Property - Capital Lease 5yr"]
[12130007,"Non-Utility Property - Capital Lease 7yr"]
[12130010,"Non-Utility Property - Capital Lease 10yr"]
[12130015,"Non-Utility Property - Capital Lease 15yr"]
[12140000,"Non-Utility Property - Leasehold Improvement"]
[12150000,"Non-Utility Property - Other 10 Yr"]
[12150010,"Non-Utility Property - Other 5yr"]
[12150020,"Non-Utility Property - Other 7yr"]
[12150030,"Non-Utility Property - Other 4 Yr"]
[12150040,"Non-Utility Property - Other Hardware"]
[12150050,"Non-Utility Property - Other Software"]
[12150080,"Non-Utility Property - Other Enterprise"]
[12180000,"Non-Utility Property - CWIP"]
[12200000,"Non-Utility Property - Accum Depreciation"]
[12210000,"Non-Utility Property - Accum Amortization Cap Lse"]
[12310000,"Goodwill"]
[12320000,"Goodwill - Post 1/1/06 UPAA"]
[12400000,"Investments - Outside"]
[12401000,"Investment in Joint Venture"]
[12401100,"Investment in Group Share Joint Venture"]
[12410000,"Investment in Assoc Co's"]
[12420000,"Investment in Assoc Co's Preferred Stock"]
[12510000,"Intangibles - Finite Life"]
[12515000,"Intangibles - Finite Life - Accum Amort"]
[13112000,"PNC AWK - Main"]
[13112001,"PNC AWK - Outbound Wire"]
[13112002,"PNC AWK - Outbound ACH"]
[13112003,"PNC AWK - Outbound Check"]
[13112004,"PNC AWK - Inbound Wires & ACH"]
[13112017,"PNC AWK - Misc Debits/Credits"]
[13112100,"PNC AWR - Main"]
[13112101,"PNC AWR - Outbound Wire"]
[13112102,"PNC AWR - Outbound ACH"]
[13112103,"PNC AWR - Outbound Check"]
[13112104,"PNC AWR - Inbound Wires & ACH"]
[13112116,"PNC AWR - NSF Return Payments"]
[13112117,"PNC AWR - Misc Debits/Credits"]
[13112400,"PNC Pennvest - Main"]
[13112401,"PNC Pennvest - Outbound Wire"]
[13112402,"PNC Pennvest - Outbound ACH"]
[13112404,"PNC Pennvest - Inbound Wires & ACH"]
[13112417,"PNC Pennvest - Misc Debits/Credits"]
[13112500,"PNC Investment IL - Main"]
[13112501,"PNC Investment IL - Outbound Wire"]
[13112502,"PNC Investment IL - Outbound ACH"]
[13112504,"PNC Investment IL - Inbound Wires & ACH"]
[13112517,"PNC Investment IL - Misc Debits/Credits"]
[13112700,"PNC VA - Main"]
[13112701,"PNC VA - Main  - Outbound Wire"]
[13112702,"PNC VA - Main  - Outbound ACH"]
[13112717,"PNC VA - Main  - Misc Debits/Credits"]
[13112800,"PNC WV Green Metering - Main"]
[13112801,"PNC WV Green Metering - Outbound Wire"]
[13112802,"PNC WV Green Metering - Outbound ACH"]
[13112804,"PNC WV Green Metering - Inbound Wires & ACH"]
[13112817,"PNC WV Green Metering - Misc Debits/Credits"]
[13115100,"PNC ETown Corporate - Main"]
[13115101,"PNC ETown Corporate - Outbound Wire"]
[13115102,"PNC ETown Corporate - Outbound ACH"]
[13115103,"PNC ETown Corporate - Outbound Check"]
[13115104,"PNC ETown Corporate - Inbound Wires & ACH"]
[13115116,"PNC ETown Corporate - NSF Return Payments"]
[13115117,"PNC ETown Corporate - Misc Debits/Credits"]
[13115700,"PNC ETown Properties - Main"]
[13115701,"PNC ETown Properties - Outbound Wire"]
[13115702,"PNC ETown Properties - Outbound ACH"]
[13115703,"PNC ETown Properties - Outbound Check"]
[13115704,"PNC ETown Properties - Inbound Wires & ACH"]
[13115716,"PNC ETown Properties - NSF Return Payments"]
[13115717,"PNC ETown Properties - Misc Debits/Credits"]
[13118000,"PNC Laurel Oak Properties - Main"]
[13118001,"PNC Laurel Oak Properties - Outbound Wire"]
[13118002,"PNC Laurel Oak Properties - Outbound ACH"]
[13118003,"PNC Laurel Oak Properties - Outbound Check"]
[13118004,"PNC Laurel Oak Properties - Inbound Wires & ACH"]
[13118016,"PNC Laurel Oak Properties - NSF Return Payments"]
[13118017,"PNC Laurel Oak Properties - Misc Debits/Credits"]
[13118500,"PNC ACUS Corp/Ashbrook - Main (Closed early 2012)"]
[13119000,"PNC Thames Water Holding Inc - Main"]
[13119001,"PNC Thames Water Holding Inc - Outbound Wire"]
[13119002,"PNC Thames Water Holding Inc - Outbound ACH"]
[13119003,"PNC Thames Water Holding Inc - Outbound Check"]
[13119004,"PNC Thames Water Holding Inc - Inbound Wires & ACH"]
[13119016,"PNC Thames Water Holding Inc - NSF Return Payments"]
[13119017,"PNC Thames Water Holding Inc - Misc Debits/Credits"]
[13119100,"PNC TWNA - Main"]
[13119101,"PNC TWNA - Outbound Wire"]
[13119102,"PNC TWNA - Outbound ACH"]
[13119103,"PNC TWNA - Outbound Check"]
[13119104,"PNC TWNA - Inbound Wires & ACH"]
[13119116,"PNC TWNA - NSF Return Payments"]
[13119117,"PNC TWNA - Misc Debits/Credits"]
[13120000,"BNYM - Concentration"]
[13120001,"BNYM-Conc - Outbound Wire"]
[13120004,"BNYM-Conc - Inbound Wires & ACH"]
[13120005,"BNYM-Conc - ZBA Activity"]
[13120006,"BNYM-Conc - Customer Direct Debit"]
[13120007,"BNYM-Conc - Customer ACH"]
[13120008,"BNYM-Conc - Customer Lockbox"]
[13120009,"BNYM-Conc - Online Resources Credit Corp"]
[13120010,"BNYM-Conc - First Tech"]
[13120011,"BNYM-Conc - FiServ (fka CheckFree)"]
[13120012,"BNYM-Conc - Penn Credit"]
[13120013,"BNYM-Conc - E-Return - Mellon"]
[13120014,"BNYM-Conc - E-Return - Online Resource Ck Conv"]
[13120015,"BNYM-Conc - Customer Accts Receiv Ck Conversion"]
[13120016,"BNYM-Conc - NSF Return Payments"]
[13120017,"BNYM-Conc - Misc Debits/Credits"]
[13120100,"BNYM Pass thru-IL"]
[13120101,"BNYM Pass thru-IL - Outbound Wire"]
[13120104,"BNYM Pass thru-IL - Inbound Wires & ACH"]
[13120106,"BNYM Pass thru-IL - Customer Direct Debit"]
[13120107,"BNYM Pass thru-IL - Customer ACH"]
[13120108,"BNYM Pass thru-IL - Customer Lockbox"]
[13120109,"BNYM Pass thru-IL - Online Resources Credit Corp"]
[13120110,"BNYM Pass thru-IL - First Tech"]
[13120111,"BNYM Pass thru-IL - FiServ (fka CheckFree)"]
[13120112,"BNYM Pass thru-IL - Penn Credit"]
[13120113,"BNYM Pass thru-IL - E-Return - Mellon"]
[13120114,"BNYM Pass thru-IL - E-Return - Online Rsrc Ck Conv"]
[13120115,"BNYM Pass thru-IL - Customer A/R Ck Conversion"]
[13120116,"BNYM Pass thru-IL - NSF Return Payments"]
[13120117,"BNYM Pass thru-IL - Misc Debits/Credits"]
[13120200,"BNYM Pass thru-NJ"]
[13120201,"BNYM Pass thru-NJ - Outbound Wire"]
[13120204,"BNYM Pass thru-NJ - Inbound Wires & ACH"]
[13120206,"BNYM Pass thru-NJ - Customer Direct Debit"]
[13120207,"BNYM Pass thru-NJ - Customer ACH"]
[13120208,"BNYM Pass thru-NJ - Customer Lockbox"]
[13120209,"BNYM Pass thru-NJ - Online Resources Credit Corp"]
[13120211,"BNYM Pass thru-NJ - FiServ (fka CheckFree)"]
[13120212,"BNYM Pass thru-NJ - Penn Credit"]
[13120213,"BNYM Pass thru-NJ - E-Return - Mellon"]
[13120214,"BNYM Pass thru-NJ - E-Return - Online Rsrc Ck Conv"]
[13120215,"BNYM Pass thru-NJ - Customer A/R Ck Conversion"]
[13120216,"BNYM Pass thru-NJ - NSF Return Payments"]
[13120217,"BNYM Pass thru-NJ - Misc Debits/Credits"]
[13120300,"BNYM Pass thru-NE"]
[13120301,"BNYM Pass thru-NE - Outbound Wire"]
[13120304,"BNYM Pass thru-NE - Inbound Wires & ACH"]
[13120306,"BNYM Pass thru-NE - Customer Direct Debit"]
[13120307,"BNYM Pass thru-NE - Customer ACH"]
[13120308,"BNYM Pass thru-NE - Customer Lockbox"]
[13120309,"BNYM Pass thru-NE - Online Resources Credit Corp"]
[13120310,"BNYM Pass thru-NE - First Tech"]
[13120311,"BNYM Pass thru-NE - FiServ (fka CheckFree)"]
[13120312,"BNYM Pass thru-NE - Penn Credit"]
[13120313,"BNYM Pass thru-NE - E-Return - Mellon"]
[13120314,"BNYM Pass thru-NE - E-Return - Online Rsrc Ck Conv"]
[13120315,"BNYM Pass thru-NE - Customer A/R Ck Conversion"]
[13120316,"BNYM Pass thru-NE - NSF Return Payments"]
[13120317,"BNYM Pass thru-NE - Misc Debits/Credits"]
[13120400,"BNYM Pass thru-CA"]
[13120401,"BNYM Pass thru-CA - Outbound Wire"]
[13120404,"BNYM Pass thru-CA - Inbound Wires & ACH"]
[13120406,"BNYM Pass thru-CA - Customer Direct Debit"]
[13120407,"BNYM Pass thru-CA - Customer ACH"]
[13120408,"BNYM Pass thru-CA - Customer Lockbox"]
[13120409,"BNYM Pass thru-CA - Online Resources Credit Corp"]
[13120411,"BNYM Pass thru-CA - FiServ (fka CheckFree)"]
[13120412,"BNYM Pass thru-CA - Penn Credit"]
[13120413,"BNYM Pass thru-CA - E-Return - Mellon"]
[13120414,"BNYM Pass thru-CA - E-Return - Online Rsrc Ck Conv"]
[13120415,"BNYM Pass thru-CA - Customer A/R Ck Conversion"]
[13120416,"BNYM Pass thru-CA - NSF Return Payments"]
[13120417,"BNYM Pass thru-CA - Misc Debits/Credits"]
[13121000,"BNYM IN"]
[13121001,"BNYM IN - Outbound Wire"]
[13121004,"BNYM IN - Inbound Wires & ACH"]
[13121006,"BNYM IN - Customer Direct Debit"]
[13121007,"BNYM IN - Customer ACH"]
[13121008,"BNYM IN - Customer Lockbox"]
[13121009,"BNYM IN - Online Resources Credit Corp"]
[13121010,"BNYM IN - First Tech"]
[13121012,"BNYM IN - Penn Credit - 3rd Party Collections"]
[13121013,"BNYM IN - E-Return - Mellon"]
[13121014,"BNYM IN - E-Return - Online Resource Ck Conv"]
[13121015,"BNYM IN - Customer A/R Ck Conversion"]
[13121016,"BNYM IN - NSF Return Payments"]
[13121017,"BNYM IN - Misc Debits/Credits"]
[13121018,"BNYM IN - Client Services - 3rd Party Collections"]
[13121100,"BNYM IA"]
[13121101,"BNYM IA - Outbound Wire"]
[13121104,"BNYM IA - Inbound Wires & ACH"]
[13121106,"BNYM IA - Customer Direct Debit"]
[13121107,"BNYM IA - Customer ACH"]
[13121108,"BNYM IA - Customer Lockbox"]
[13121109,"BNYM IA - Online Resources Credit Corp"]
[13121110,"BNYM IA - Firstech Collections"]
[13121111,"BNYM IA - FiServ (fka CheckFree)"]
[13121112,"BNYM IA - Penn Credit"]
[13121113,"BNYM IA - E-Return - Mellon"]
[13121114,"BNYM IA - E-Return - Online Resource Ck Conv"]
[13121115,"BNYM IA - Customer A/R Ck Conversion"]
[13121116,"BNYM IA - NSF Return Payments"]
[13121117,"BNYM IA - Misc Debits/Credits"]
[13121118,"BNYM IA - Client Services - 3rd Party Collections"]
[13121200,"BNYM KY"]
[13121201,"BNYM KY - Outbound Wire"]
[13121204,"BNYM KY - Inbound Wires & ACH"]
[13121206,"BNYM KY - Customer Direct Debit"]
[13121207,"BNYM KY - Customer ACH"]
[13121208,"BNYM KY - Customer Lockbox"]
[13121209,"BNYM KY - Online Resources Credit Corp"]
[13121211,"BNYM KY - FiServ (fka CheckFree)"]
[13121212,"BNYM KY - Penn Credit"]
[13121213,"BNYM KY - E-Return - Mellon"]
[13121214,"BNYM KY - E-Return - Online Resource Ck Conv"]
[13121215,"BNYM KY - Customer A/R Ck Conversion"]
[13121216,"BNYM KY - NSF Return Payments"]
[13121217,"BNYM KY - Misc Debits/Credits"]
[13121218,"BNYM KY - Client Services - 3rd Party Collections"]
[13121300,"BNYM MD"]
[13121301,"BNYM MD - Outbound Wire"]
[13121304,"BNYM MD - Inbound Wires & ACH"]
[13121306,"BNYM MD - Customer Direct Debit"]
[13121307,"BNYM MD - Customer ACH"]
[13121308,"BNYM MD - Customer Lockbox"]
[13121309,"BNYM MD - Online Resources Credit Corp"]
[13121311,"BNYM MD - FiServ (fka CheckFree)"]
[13121312,"BNYM MD - Penn Credit"]
[13121313,"BNYM MD - E-Return - Mellon"]
[13121314,"BNYM MD - E-Return - Online Resource Ck Conv"]
[13121315,"BNYM MD - Customer A/R Ck Conversion"]
[13121316,"BNYM MD - NSF Return Payments"]
[13121317,"BNYM MD - Misc Debits/Credits"]
[13121318,"BNYM MD - Client Services - 3rd Party Collections"]
[13121500,"BNYM CA - Main"]
[13121501,"BNYM CA - Outbound Wire"]
[13121504,"BNYM CA - Inbound Wires & ACH"]
[13121506,"BNYM CA - Customer Direct Debit"]
[13121507,"BNYM CA - Customer ACH"]
[13121508,"BNYM CA - Customer Lockbox"]
[13121509,"BNYM CA - Online Resources Credit Corp"]
[13121511,"BNYM CA - FiServ (fka CheckFree)"]
[13121512,"BNYM CA - Penn Credit"]
[13121513,"BNYM CA - E-Return - Mellon"]
[13121514,"BNYM CA - E-Return - Online Resource Ck Conv"]
[13121515,"BNYM CA - Customer A/R Ck Conversion"]
[13121516,"BNYM CA - NSF Return Payments"]
[13121517,"BNYM CA - Misc Debits/Credits"]
[13121518,"BNYM CA - Client Services - 3rd Party Collections"]
[13121700,"BNYM MO"]
[13121701,"BNYM MO - Outbound Wire"]
[13121704,"BNYM MO - Inbound Wires & ACH"]
[13121706,"BNYM MO - Customer Direct Debit"]
[13121707,"BNYM MO - Customer ACH"]
[13121708,"BNYM MO - Customer Lockbox"]
[13121709,"BNYM MO - Online Resources Credit Corp"]
[13121710,"BNYM MO - First Tech"]
[13121712,"BNYM MO - Penn Credit"]
[13121713,"BNYM MO - E-Return - Mellon"]
[13121714,"BNYM MO - E-Return - Online Resource Ck Conv"]
[13121715,"BNYM MO - Customer A/R Ck Conversion"]
[13121716,"BNYM MO - NSF Return Payments"]
[13121717,"BNYM MO - Misc Debits/Credits"]
[13121718,"BNYM MO - Client Services - 3rd Party Collections"]
[13121800,"BNYM NJ"]
[13121801,"BNYM NJ - Outbound Wire"]
[13121804,"BNYM NJ - Inbound Wires & ACH"]
[13121806,"BNYM NJ - Customer Direct Debit"]
[13121807,"BNYM NJ - Customer ACH"]
[13121808,"BNYM NJ - Customer Lockbox"]
[13121809,"BNYM NJ - Online Resources Credit Corp"]
[13121811,"BNYM NJ - FiServ (fka CheckFree)"]
[13121812,"BNYM NJ - Penn Credit"]
[13121813,"BNYM NJ - E-Return - Mellon"]
[13121814,"BNYM NJ - E-Return - Online Resource Ck Conv"]
[13121815,"BNYM NJ - Customer A/R Ck Conversion"]
[13121816,"BNYM NJ - NSF Return Payments"]
[13121817,"BNYM NJ - Misc Debits/Credits"]
[13121818,"BNYM NJ - Client Services - 3rd Party Collections"]
[13121900,"BNYM NM"]
[13121907,"BNYM NM - Customer ACH"]
[13121908,"BNYM NM - Customer Lockbox"]
[13121916,"BNYM NM - NSF Return Payments"]
[13121917,"BNYM NM - Misc Debits/Credits"]
[13122200,"BNYM OH"]
[13122207,"BNYM OH - Customer ACH"]
[13122208,"BNYM OH - Customer Lockbox"]
[13122216,"BNYM OH - NSF Return Payments"]
[13122217,"BNYM OH - Misc Debits/Credits"]
[13122300,"BNYM AZ"]
[13122307,"BNYM AZ - Customer ACH"]
[13122308,"BNYM AZ - Customer Lockbox"]
[13122316,"BNYM AZ - NSF Return Payments"]
[13122317,"BNYM AZ - Misc Debits/Credits"]
[13122400,"BNYM PA"]
[13122401,"BNYM PA - Outbound Wire"]
[13122404,"BNYM PA - Inbound Wires & ACH"]
[13122406,"BNYM PA - Customer Direct Debit"]
[13122407,"BNYM PA - Customer ACH"]
[13122408,"BNYM PA - Customer Lockbox"]
[13122409,"BNYM PA - Online Resources Credit Corp"]
[13122411,"BNYM PA - FiServ (fka CheckFree)"]
[13122412,"BNYM PA - Penn Credit"]
[13122413,"BNYM PA - E-Return - Mellon"]
[13122414,"BNYM PA - E-Return - Online Resource Ck Conv"]
[13122415,"BNYM PA - Customer A/R Ck Conversion"]
[13122416,"BNYM PA - NSF Return Payments"]
[13122417,"BNYM PA - Misc Debits/Credits"]
[13122418,"BNYM PA - Client Services - 3rd Party Collections"]
[13122500,"BNYM IL - Main"]
[13122501,"BNYM IL - Outbound Wire"]
[13122504,"BNYM IL - Inbound Wires & ACH"]
[13122506,"BNYM IL - Customer Direct Debit"]
[13122507,"BNYM IL - Customer ACH"]
[13122508,"BNYM IL - Customer Lockbox"]
[13122509,"BNYM IL - Online Resources Credit Corp"]
[13122510,"BNYM IL - First Tech"]
[13122511,"BNYM IL - FiServ (fka CheckFree)"]
[13122512,"BNYM IL - Penn Credit"]
[13122513,"BNYM IL - E-Return - Mellon"]
[13122514,"BNYM IL - E-Return - Online Resource Ck Conv"]
[13122515,"BNYM IL - Customer A/R Ck Conversion"]
[13122516,"BNYM IL - NSF Return Payments"]
[13122517,"BNYM IL - Misc Debits/Credits"]
[13122518,"BNYM IL - Client Services - 3rd Party Collections"]
[13122600,"BNYM TN"]
[13122601,"BNYM TN - Outbound Wire"]
[13122604,"BNYM TN - Inbound Wires & ACH"]
[13122606,"BNYM TN - Customer Direct Debit"]
[13122607,"BNYM TN - Customer ACH"]
[13122608,"BNYM TN - Customer Lockbox"]
[13122609,"BNYM TN - Online Resources Credit Corp"]
[13122610,"BNYM TN - Firstech Collections"]
[13122611,"BNYM TN - FiServ (fka CheckFree)"]
[13122612,"BNYM TN - Penn Credit"]
[13122613,"BNYM TN - E-Return - Mellon"]
[13122614,"BNYM TN - E-Return - Online Resource Ck Conv"]
[13122615,"BNYM TN - Customer A/R Ck Conversion"]
[13122616,"BNYM TN - NSF Return Payments"]
[13122617,"BNYM TN - Misc Debits/Credits"]
[13122618,"BNYM TN - Client Services - 3rd Party Collections"]
[13122700,"BNYM VA"]
[13122701,"BNYM VA - Outbound Wire"]
[13122704,"BNYM VA - Inbound Wires & ACH"]
[13122706,"BNYM VA - Customer Direct Debit"]
[13122707,"BNYM VA - Customer ACH"]
[13122708,"BNYM VA - Customer Lockbox"]
[13122709,"BNYM VA - Online Resources Credit Corp"]
[13122711,"BNYM VA - FiServ (fka CheckFree)"]
[13122712,"BNYM VA - Penn Credit"]
[13122713,"BNYM VA - E-Return - Mellon"]
[13122714,"BNYM VA - E-Return - Online Resource Ck Conv"]
[13122715,"BNYM VA - Customer A/R Ck Conversion"]
[13122716,"BNYM VA - NSF Return Payments"]
[13122717,"BNYM VA - Misc Debits/Credits"]
[13122718,"BNYM VA - Client Services - 3rd Party Collections"]
[13122800,"BNYM WV"]
[13122801,"BNYM WV - Outbound Wire"]
[13122804,"BNYM WV - Inbound Wires & ACH"]
[13122806,"BNYM WV - Customer Direct Debit"]
[13122807,"BNYM WV - Customer ACH"]
[13122808,"BNYM WV - Customer Lockbox"]
[13122809,"BNYM WV - Online Resources Credit Corp"]
[13122811,"BNYM WV - FiServ (fka CheckFree)"]
[13122812,"BNYM WV - Penn Credit"]
[13122813,"BNYM WV - E-Return - Mellon"]
[13122814,"BNYM WV - E-Return - Online Resource Ck Conv"]
[13122815,"BNYM WV - Customer A/R Ck Conversion"]
[13122816,"BNYM WV - NSF Return Payments"]
[13122817,"BNYM WV - Misc Debits/Credits"]
[13122818,"BNYM WV - Client Services - 3rd Party Collections"]
[13123000,"BNYM HI"]
[13123001,"BNYM HI - Outbound Wire"]
[13123004,"BNYM HI - Inbound Wires & ACH"]
[13123006,"BNYM HI - Customer Direct Debit"]
[13123007,"BNYM HI - Customer ACH"]
[13123008,"BNYM HI - Customer Lockbox"]
[13123009,"BNYM HI - Online Resources Credit Corp"]
[13123010,"BNYM HI - First Tech"]
[13123011,"BNYM HI - FiServ (fka CheckFree)"]
[13123012,"BNYM HI - Penn Credit"]
[13123013,"BNYM HI - E-Return - Mellon"]
[13123014,"BNYM HI - E-Return - Online Resource Ck Conv"]
[13123015,"BNYM HI - Customer A/R Ck Conversion"]
[13123016,"BNYM HI - NSF Return Payments"]
[13123017,"BNYM HI - Misc Debits/Credits"]
[13123018,"BNYM HI - Client Services - 3rd Party Collections"]
[13123800,"BNYM NY"]
[13123801,"BNYM NY - Outbound Wire"]
[13123804,"BNYM NY - Inbound Wires & ACH"]
[13123806,"BNYM NY - Customer Direct Debit"]
[13123807,"BNYM NY - Customer ACH"]
[13123808,"BNYM NY - Customer Lockbox"]
[13123809,"BNYM NY - Online Resources Credit Corp"]
[13123810,"BNYM NY - First Tech"]
[13123811,"BNYM NY - FiServ (fka CheckFree)"]
[13123812,"BNYM NY - Penn Credit"]
[13123813,"BNYM NY - E-Return - Mellon"]
[13123814,"BNYM NY - E-Return - Online Resource Ck Conv"]
[13123815,"BNYM NY - Customer A/R Ck Conversion"]
[13123816,"BNYM NY - NSF Return Payments"]
[13123817,"BNYM NY - Misc Debits/Credits"]
[13123818,"BNYM NY - Client Services - 3rd Party Collections"]
[13125200,"BNYM EWC"]
[13125201,"BNYM EWC - Outbound Wire"]
[13125204,"BNYM EWC - Inbound Wires & ACH"]
[13125206,"BNYM EWC - Customer Direct Debit"]
[13125208,"BNYM EWC - Customer Lockbox"]
[13125209,"BNYM EWC - Online Resources Credit Corp"]
[13125210,"BNYM EWC - First Tech"]
[13125211,"BNYM EWC - FiServ (fka CheckFree)"]
[13125212,"BNYM EWC - Penn Credit"]
[13125213,"BNYM EWC - E-Return - Mellon"]
[13125214,"BNYM EWC - E-Return - Online Resource Ck Conv"]
[13125215,"BNYM EWC - Customer A/R Ck Conversion"]
[13125216,"BNYM EWC - NSF Return Payments"]
[13125217,"BNYM EWC - Misc Debits/Credits"]
[13125300,"BNYM MH"]
[13125301,"BNYM MH - Outbound Wire"]
[13125306,"BNYM MH - Customer Direct Debit"]
[13125308,"BNYM MH - Customer Lockbox"]
[13125309,"BNYM MH - Online Resources Credit Corp"]
[13125310,"BNYM MH - First Tech"]
[13125311,"BNYM MH - FiServ (fka CheckFree)"]
[13125312,"BNYM MH - Penn Credit"]
[13125313,"BNYM MH - E-Return - Mellon"]
[13125314,"BNYM MH - E-Return - Online Resource Ck Conv"]
[13125315,"BNYM MH - Customer A/R Ck Conversion"]
[13125316,"BNYM MH - NSF - Return Payments"]
[13125317,"BNYM MH - Misc Debits/Credits"]
[13133800,"BNYM NY #2"]
[13133801,"BNYM NY #2 - Outbound Wire"]
[13133802,"BNYM NY #2 - Outbound ACH"]
[13133803,"BNYM NY #2 - Outbound Check"]
[13133804,"BNYM NY #2 - Inbound Wires & ACH"]
[13133805,"BNYM NY #2 - ZBA Activity"]
[13133806,"BNYM NY #2 - Customer Direct Debit"]
[13133808,"BNYM NY #2 - Customer Lockbox"]
[13133809,"BNYM NY #2 - Online Resources Credit Corp"]
[13133810,"BNYM NY #2 - First Tech"]
[13133811,"BNYM NY #2 - FiServ (fka CheckFree)"]
[13133812,"BNYM NY #2 - Penn Credit"]
[13133813,"BNYM NY #2 - E-Return - Mellon"]
[13133814,"BNYM NY #2 - E-Return - Online Resource Ck Conv"]
[13133815,"BNYM NY #2 - Customer A/R Ck Conversion"]
[13133816,"BNYM NY #2 - NSF Return Payments"]
[13133817,"BNYM NY #2 - Misc Debits/Credits"]
[13133818,"BNYM NY #2 - Client Services - 3rd Party Collction"]
[13140000,"PNC AWCC-Concentration"]
[13140001,"PNC AWCC-Concentration - Outbound Wire"]
[13140002,"PNC AWCC-Concentration - Outbound ACH"]
[13140004,"PNC AWCC-Concentration - Inbound Wires & ACH"]
[13140005,"PNC AWCC-Concentration - ZBA Activity"]
[13140012,"PNC AWCC-Concentration - Penn Credit"]
[13140017,"PNC AWCC-Concentration - Misc Debits/Credits"]
[13140100,"PNC AWCC-Accounts Payable"]
[13140102,"PNC AWCC-Accounts Payable - Outbound ACH"]
[13140103,"PNC AWCC-Accounts Payable - Outbound Check"]
[13140104,"PNC AWCC-Accounts Payable - Inbound Wires & ACH"]
[13140105,"PNC AWCC-Accounts Payable - ZBA Activity"]
[13140117,"PNC AWCC-Accounts Payable - Misc Debits/Credits"]
[13140200,"PNC AWCC-Payroll"]
[13140202,"PNC AWCC-Payroll - Outbound ACH"]
[13140203,"PNC AWCC-Payroll - Outbound Check"]
[13140204,"PNC AWCC-Payroll - Inbound Wires & ACH"]
[13140205,"PNC AWCC-Payroll - ZBA Activity"]
[13140217,"PNC AWCC-Payroll - Misc Debits/Credits"]
[13140300,"PNC AWCC-Customer Refund"]
[13140303,"PNC AWCC-Customer Refund - Outbound Check"]
[13140304,"PNC AWCC-Customer Refund - Inbound Wires & ACH"]
[13140305,"PNC AWCC-Customer Refund - ZBA Activity"]
[13140317,"PNC AWCC-Customer Refund - Misc Debits/Credits"]
[13140400,"PNC AWCC-Commercial Paper"]
[13140401,"PNC AWCC-Commercial Paper - Outbound Wire"]
[13140402,"PNC AWCC-Commercial Paper - Outbound ACH"]
[13140404,"PNC AWCC-Commercial Paper - Inbound Wires & ACH"]
[13140417,"PNC AWCC-Commercial Paper - Misc Debits/Credits"]
[13140500,"PNC AWCC- Credit Line"]
[13140501,"PNC AWCC- Credit Line - Outbound Wire"]
[13140502,"PNC AWCC- Credit Line - Outbound ACH"]
[13140504,"PNC AWCC- Credit Line - Inbound Wires & ACH"]
[13140517,"PNC AWCC- Credit Line - Misc Debits/Credits"]
[13140600,"PNC AWCC-Misc Items Lockbox"]
[13140601,"PNC AWCC-Misc Items Lockbox - Outbound Wire"]
[13140602,"PNC AWCC-Misc Items Lockbox - Outbound ACH"]
[13140604,"PNC AWCC-Misc Items Lockbox - Inbound Wires & ACH"]
[13140617,"PNC AWCC-Misc Items Lockbox - Misc Debits/Credits"]
[13140700,"PNC AWCC-AP Vendor Payment"]
[13140701,"PNC AWCC-AP Vendor Payment - Outbound Wire"]
[13140702,"PNC AWCC-AP Vendor Payment - Oubound ACH"]
[13140704,"PNC AWCC-AP Vendor Payment - Inbound Wires & ACH"]
[13140705,"PNC AWCC-AP Vendor Payment - ZBA Activity"]
[13152700,"WellsF VA-Main"]
[13152725,"WellsF VA - Refund"]
[13152726,"WellsF VA - Sinking Fund"]
[13152727,"WellsF VA - Investment"]
[13180100,"Suntrust TN"]
[13180101,"Suntrust TN - Outbound Wire"]
[13180106,"Suntrust TN - Customer Direct Debit"]
[13180108,"Suntrust TN - Customer Lockbox"]
[13180109,"Suntrust TN - Online Resources Credit Corp"]
[13180111,"Suntrust TN - FiServ (fka CheckFree)"]
[13180112,"Suntrust TN - Penn Credit"]
[13180113,"Suntrust TN - E-Return - Mellon"]
[13180114,"Suntrust TN - E-Return - Online Resource Ck Conv"]
[13180115,"Suntrust TN - Customer A/R Ck Conversion"]
[13180116,"Suntrust TN - NSF - Return Payments"]
[13180117,"Suntrust TN - Misc Debits/Credits"]
[13180200,"River Valley MI"]
[13180201,"River Valley MI - Outbound Wire"]
[13180202,"River Valley MI - Outbound ACH"]
[13180208,"River Valley MI - Customer Lockbox"]
[13180216,"River Valley MI - NSF Return Payments"]
[13180217,"River Valley MI - Misc Debits/Credits"]
[13180300,"First Hawaiian HI"]
[13180301,"First Hawaiian HI - Outbound Wire"]
[13180302,"First Hawaiian HI - Outbound ACH"]
[13180308,"First Hawaiian HI - Customer Lockbox"]
[13180316,"First Hawaiian HI - NSF Return Payments"]
[13180317,"First Hawaiian HI - Misc Debits/Credits"]
[13180400,"Union First VA"]
[13180401,"Union First VA - Outbound Wire"]
[13180402,"Union First VA - Outbound ACH"]
[13180408,"Union First VA - Customer Lockbox"]
[13180417,"Union First VA - Misc Debits/Credits"]
[13181700,"US Bank MO-Main for Tri-State in Branson, MO"]
[13181800,"TD Bank - Gift Card Incentive"]
[13182400,"PNC Conveyance Fee Escrow - Main"]
[13182401,"PNC Conveyance Fee Escrow - Outbound Wire"]
[13182417,"PNC Conveyance Fee Escrow - Misc Debits/Credits"]
[13182500,"Busey Bank IL-Collections for Bollingbrook"]
[13182516,"Busey Bank IL-NSF Return Payments-Bollingbrook"]
[13182600,"First Volunteer Bank, Whitwell, TN"]
[13182700,"Burke & Herbert VA - Payroll"]
[13199001,"Cash Clearing - NSF Check"]
[13199002,"Cash Clearing - Mixed Payments"]
[13199003,"Cash Clearing - Misc Debits/Credits"]
[13199004,"Cash Clearing - MI's"]
[13199005,"Cash Clearing - ORCOM"]
[13199006,"Cash Clearing - Intercompany"]
[13199999,"Cash Conversion History"]
[13500000,"Petty Cash"]
[13600000,"Temp Investments - under 90 days"]
[13700000,"Temp Investments - over 90 days"]
[13800000,"Funds Restricted for Construction - Current"]
[14100000,"A/R - Customer - CIS Reconciliation"]
[14100001,"A/R - Customer - Non-Regulated"]
[14100002,"A/R - Customer - Unallocated"]
[14100003,"A/R - Customer - ECIS"]
[14100010,"A/R - Customer - Miscellaneous - PAW Other"]
[14100020,"A/R - Customer - Pittsburgh"]
[14100099,"A/R - Customer - Clearing - Credit Rfnd Processing"]
[14100998,"A/R - Customer - Payment Clarification"]
[14100999,"A/R - Customer - Returns Clarification"]
[14300000,"Allowance for Uncollectible Accounts"]
[14300001,"Allowance for Uncollectible Accounts Non-Regulated"]
[14399999,"Allowance for Uncollectable Accts - CIS Conversion"]
[14400000,"Unbilled Utility Revenue"]
[14400001,"Unbilled Utility Revenue Non-Regulated"]
[14510000,"A/R Assoc Cos - Miscellaneous"]
[14510100,"A/R Assoc Cos - Reconciliation Account"]
[14510600,"Intercompany System Clearing -CIS Only"]
[14510999,"A/R Assoc Cos - Settlement Clearing"]
[14511000,"A/R Assoc Cos - Service Company Bill"]
[14511001,"A/R Assoc Cos - Service Company Bill"]
[14511031,"A/R Assoc Cos - Service Settlement AWE"]
[14511039,"A/R Assoc Cos - Service Settlement New York Aqua"]
[14511054,"A/R Assoc Cos - Service Settlement Edison"]
[14511055,"A/R Assoc Cos - Service Settlement Liberty"]
[14511056,"A/R Assoc Cos - Service Settlement E'Town Services"]
[14512000,"A/R Assoc Cos - Payroll Tax"]
[14512500,"A/R Assoc Cos - Payroll Disbursements"]
[14571000,"A/R Assoc Cos - Dividend Receivable"]
[14572000,"A/R Assoc Cos - Interest Receivable"]
[14573000,"A/R Assoc Cos - Dividend Equivalents"]
[14574000,"N/R Assoc Co's"]
[14575000,"Capital Lease Rec Assoc Cos"]
[14575500,"Unearned Capital Lease Rec Assoc Cos"]
[14610000,"Misc A/R - Reconciliation Account"]
[14610099,"Misc A/R - Conversion"]
[14611000,"Misc A/R - Manual"]
[14611200,"Misc A/R - Retro Insurance"]
[14611300,"Misc A/R - Liability Insurance"]
[14611500,"Misc A/R - Medicare Subsidy"]
[14612500,"Misc A/R - OPEB Trust"]
[14613000,"Misc A/R - Employees"]
[14613100,"Misc A/R - Employees Payroll"]
[14619999,"Misc A/R - Miscellaneous Invoice Lockbox Clearing"]
[14620000,"Misc Rec - Allow for Uncollectible Accts"]
[14640000,"Notes Receivable"]
[14670000,"Accrued Interest & Dividend Receivable"]
[14690000,"Current Portion LT Receivable"]
[14810000,"Income Tax Receivable - SIT"]
[14820000,"Income Tax Receivable - FIT"]
[15110000,"Inventory - Plant Material"]
[15120000,"Inventory - Fuel"]
[15130000,"Inventory - Chemicals"]
[15140000,"Inventory - Other Materials & Supplies"]
[15199997,"Inventory - Price Difference"]
[15199998,"Inventory - Consignment Clearing"]
[15199999,"Inventory - Conversion"]
[16410000,"Other Special Deposits"]
[16420000,"Other Current Assets"]
[16510000,"Prepaid Taxes"]
[16510001,"Prepaid Taxes - CIS-San Diego License/Franch Tax"]
[16520000,"Prepaid Insurance"]
[16530000,"Prepaid PUC/PSC Assessment"]
[16540000,"Prepaid Audit Fees"]
[16550000,"Prepaid Other"]
[16550010,"Prepaid Other - Global"]
[17420000,"Current Portion-Deferred Federal Income Tax Asset"]
[17430000,"Current Portion-Deferred State Income Tax Asset"]
[18503000,"Reg Asset-Inc Tax Rec Thru Rates-AFUDC Equity CWIP"]
[18503500,"Reg Asset-Inc Tax Rec Thru Rates-AFUDC Equity"]
[18504000,"Reg Asset-Inc Tax Rec Thru Rates-Plant Flow Thru"]
[18504500,"Reg Asset-Inc Tax Rec Thru Rates-Other"]
[18505000,"Reg Asset-Inc Tax Rec Thru Rates-St Flow Thru"]
[18505100,"Reg Asset-Inc Tax Rec Thru Rates-St Tax Chg"]
[18505500,"Reg Asset-Inc Tax Rec Thru Rates-Acc Amort"]
[18506000,"Reg Asset-Inc Tax Rec Thru Rates-Reg Liab Reclass"]
[18610000,"Reg Asset - Deferred Programmed Maint"]
[18620000,"Reg Asset - Deferred Rate Case"]
[18631000,"Reg Asset - Deferred OPEB"]
[18632000,"Reg Asset - Deferred OPEB Service Co"]
[18641000,"Reg Asset - Deferred Pension"]
[18642000,"Reg Asset - Deferred Pension Service Co"]
[18650000,"Reg Asset - Purchase Prem Rec Thru Rates"]
[18661000,"Reg Asset - Unamortized Debt Exp"]
[18661500,"Reg Asset - Unamortized Debt Exp Interco"]
[18662000,"Reg Asset - Unamortized Preferred Stock Exp"]
[18680000,"Reg Asset - Cost of Removal"]
[18680100,"Reg Asset - Cost of Removal - RWIP"]
[18680101,"Reg Asset - Deferred Vacation Pay"]
[18680102,"Reg Asset - Deferred Cust Service Proj"]
[18680103,"Reg Asset - Deferred Financial Services Proj"]
[18680111,"Reg Asset - Sick Bank"]
[18680113,"Reg Asset - Deferred Purchased Water"]
[18680126,"Reg Asset - FAS112 Costs"]
[18680127,"Reg Asset - Treatment Plant"]
[18680131,"Reg Asset - Depreciation Study"]
[18680132,"Reg Asset - Cost of Service Study"]
[18680134,"Reg Asset - Post In-Service AFUDC"]
[18680135,"Reg Asset - Post In-Service Depreciation"]
[18680136,"Reg Asset - Environmental Remediation"]
[18680137,"Reg Asset - Rental Costs"]
[18680140,"Reg Asset - MPWMD User Fee"]
[18680141,"Reg Asset - Oper Energy Efficiency"]
[18680142,"Reg Asset - Cease & Desist Order"]
[18680144,"Reg Asset - Waste Disposal"]
[18680145,"Reg Asset - Revenue Stabilization"]
[18680147,"Reg Asset - Low Income Customer Data Sharing"]
[18680151,"Reg Asset - Phase 1 ASR"]
[18680152,"Reg Asset - Seaside ASR"]
[18680153,"Reg Asset - Patton Well"]
[18680154,"Reg Asset - Management Study"]
[18680160,"Reg Asset - Santa Rosa Groundwater Survey"]
[18680162,"Reg Asset - Acquisition Costs"]
[18680163,"Reg Asset - DSIC Surcharge"]
[18680164,"Reg Asset - Low Income Program Costs"]
[18680165,"Reg Asset - Interim Rates"]
[18680166,"Reg Asset - Water Revenue Adjustment Mechanism"]
[18680167,"Reg Asset - San Clemente Dam AFUDC"]
[18680168,"Reg Asset - Conservation Surcharge"]
[18680169,"Reg Asset - Engineering Study"]
[18680170,"Reg Asset - San Clemente Dam Removal Costs"]
[18680171,"Sand City Desal Plant Pur Wtr Bal Acct"]
[18680172,"Reg Asset -Leak Adjustments"]
[18680191,"Reg Asset - PSTAC Balancing Account"]
[18680192,"Reg Asset - Additional Security Costs"]
[18680194,"Reg Asset - Conservation Balancing Acct"]
[18680195,"Reg Asset - Purch Power & Water Balancing Acct"]
[18680196,"Reg Asset - Carmel River Dam"]
[18680197,"Reg Asset - Coastal Water Project Surcharge"]
[18680198,"Reg Asset - Seaside GW Basin"]
[18680199,"Reg Asset - Endangered Species Act"]
[18680200,"Reg Asset - Authorized Balancing Account"]
[18680210,"Reg Asset - Water Action Plan - Memo Acct"]
[18689900,"Reg Asset - Other"]
[18711000,"LT Asset - Preliminary Financing Exp"]
[18712000,"LT Asset - SERP Trust"]
[18713000,"LT Asset - Prelim Survey & Investigation"]
[18715000,"LT Asset - Unamortized Debt Exp Non-Reg"]
[18715500,"LT Asset - Unamort Debt Exp Non-Reg Interco"]
[18715600,"LT Asset - Unamort Debt Exp - Revolver"]
[18715700,"LT Asset - Unamort Debt In - Revolver"]
[18720000,"LT Asset - Swap Contract"]
[18740000,"LT Asset - Receivable"]
[18741000,"LT Asset - Intercompany Notes"]
[18742000,"LT Asset - Intercompany Capital Lease"]
[18742100,"LT Asset - Intercompany Capital Lease Income"]
[18790000,"LT Asset - Other"]
[18800000,"Funds Restricted for Construction - LT"]
[20110000,"Common Stock - Subs Minority Interest"]
[20120000,"Common Stock - Subs Intercompany"]
[20130000,"Common Stock - AWK"]
[20510000,"Paid-in Capital - Subs Minority Interest"]
[20520000,"Paid-in Capital - Subs Intercompany"]
[20530000,"Paid-in Capital - AWK Misc"]
[20530100,"Paid-in Capital - AWK Restricted Stock"]
[20530200,"Paid-in Capital - AWK Options"]
[20530300,"Paid-in Capital - AWK RSU's"]
[20530400,"Paid-in Capital - AWK Treasury Stock"]
[20530500,"Paid-in Capital - AWK ESPP"]
[20530600,"Paid-in Capital - AWK DRIP"]
[20530650,"Paid-in Capital - DWAC Fees"]
[20530700,"Paid-in Capital - Tax Windfall"]
[20540000,"Paid-in Capital - AWK Capital Stock Expense"]
[21021000,"Retained Earnings at Acquisition Intercompany"]
[21024000,"Retained Earnings Since Acquisition"]
[21200000,"Treasury stock"]
[21300000,"Accumulated Comprehensive Income"]
[21410000,"Preferred Stock - w/o Mandatory Redemptn Requirmts"]
[21420000,"Preferred Stock - w/o Mand Redemptn Requirmts I/C"]
[21510000,"Preferred Stock - Redeemable"]
[21510100,"Preferred Stock - Redeemable FV Uplift"]
[21550000,"Curr Portion - Redeemable Preferred Stock"]
[22110000,"Bonds"]
[22110100,"Bonds - FV Uplift"]
[22110200,"Bonds - FV Hedge"]
[22110300,"LT Debt - Discount Outside"]
[22110400,"LT Debt - Discount Inside"]
[22110500,"AWTR-LT Debt Premium-Outside"]
[22115000,"Bonds - Interco"]
[22130000,"Capital Lease"]
[22135000,"Capital Lease - Interco"]
[22210000,"Current Portion LTD"]
[22215000,"Current Portion LTD - Interco"]
[22230000,"Current Portion Capital Lease"]
[22235000,"Current Portion Capital Lease Interco"]
[23110000,"N/P Commercial Paper"]
[23110500,"N/P Commercial Paper Discount"]
[23120000,"N/P Assoc Cos"]
[23121000,"In-House Cash Center Bank"]
[23121001,"IHC Clearing - Outgoing Payment"]
[23121002,"IHC Clearing - Incoming Payment"]
[23121003,"In-House Cash Center - Payment Clearing"]
[23121004,"In-House Cash Center - Clearing Account"]
[23121005,"IHC Clearing - Intermediate"]
[23121006,"IHC Clearing - Other"]
[23129000,"N/P Assoc Cos - Loan Clearing"]
[23130000,"N/P Revolving Credit Line"]
[23410000,"A/P - Reconciliation Account"]
[23410100,"A/P Intercompany - Reconciliation Account"]
[23410999,"A/P - Conversion"]
[23411000,"A/P - Pcard"]
[23411400,"A/P - Gcard Clearing"]
[23411500,"A/P - Pcard Clearing"]
[23412000,"A/P - Utility Bills"]
[23412200,"A/P - Contracted Services"]
[23412500,"A/P - Phone Bills"]
[23420000,"A/P - Contract Retentions"]
[23430000,"A/P - Miscellaneous"]
[23430600,"A/P - Workbasket Accrual"]
[23430700,"A/P - Pcard Accrual"]
[23430900,"A/P - PNC Loan Clearing"]
[23431000,"A/P - Misc Global"]
[23435000,"A/P - Project Cost Accrual"]
[23436000,"A/P-GRIR Capital Services"]
[23439000,"A/P - Income Taxes Withheld"]
[23510000,"A/P Associated Companies"]
[23510500,"A/P Associated Companies - Dividend Equivalents"]
[23510600,"Intercompany System Clearing -CIS Only"]
[23520000,"A/P Associated Companies - Service Co Bill"]
[23520001,"A/P Associated Companies - Service Co Bill"]
[23530000,"CFO - WLPP Interco"]
[23530100,"CFO - SLPP Interco"]
[23530200,"CFO - InHome Interco"]
[23530300,"CFO - WLPP/SLPP Interco"]
[23530400,"CFO - WLPP/SLPP/InHome Interco"]
[23540000,"CFO - WLPP Receivable Interco"]
[23540001,"CFO - WLPP Receivable Interco - CIS Reconciliation"]
[23540100,"CFO - SLPP Receivable Interco"]
[23540101,"CFO - SLPP Receivable Interco - CIS Reconciliation"]
[23540200,"CFO - InHome Receivable Interco"]
[23540201,"CFO - InHome Receivable I/C - CIS Reconciliation"]
[23540300,"CFO - WLPP/SLPP Receivable Interco"]
[23540301,"CFO - WLPP/SLPP Receivable I/C-CIS Reconciliation"]
[23540400,"CFO - WLPP/SLPP/InHome Receivable Interco"]
[23540401,"CFO - WLPP/SLPP/InHome Rec I/C-CIS Reconciliation"]
[23599999,"Intercompany System Clearing"]
[23621000,"Accrued FIT - Current Year"]
[23621500,"Accrued FIT - Current Year Unitary Returns"]
[23622000,"Accrued FIT - Prior Years"]
[23622500,"Accrued FIT - Prior Years Unitary Returns"]
[23631000,"Accrued SIT - Current Year"]
[23631500,"Accrued SIT - Current Year Unitary Returns"]
[23632000,"Accrued SIT - Prior Years"]
[23632500,"Accrued SIT - Prior Years - Unitary Returns"]
[23651000,"Accrued Tax - Gross Income & Receipts"]
[23651100,"Accrued Tax - Gross Income & Receipts-IncTax"]
[23652000,"Accrued Tax - FUTA"]
[23652100,"Accrued Tax - FICA"]
[23652200,"Accrued Tax - SUTA"]
[23652300,"Accrued Tax - Payroll Tax Clearing"]
[23653000,"Accrued Tax - Property Tax"]
[23654000,"Accrued Tax - Use Tax"]
[23654100,"Accrued Tax - Franchise Tax"]
[23654110,"Accrued Tax - Franchise Tax - Income Tax"]
[23654200,"Accrued Tax - PURTA"]
[23654300,"Accrued Tax - Capital Stock"]
[23654310,"Accrued Tax - Capital Stock - Income Tax"]
[23659000,"Accrued Tax - Other"]
[23720000,"Interest Accrued - LTD"]
[23730000,"Interest Accrued - LTD Interco"]
[23740000,"Interest Accrued - Redeemable Preferred Dividends"]
[23750000,"Interest Accrued - Other"]
[24120000,"Accrued Vacation Pay"]
[24120100,"Accrued Water Purchases"]
[24120200,"Accrued Power"]
[24120300,"Accrued Legal"]
[24120600,"Accrued Wages"]
[24120699,"Accrued Wages - Net Adjustments Clearing"]
[24120700,"Accrued Insurance"]
[24120710,"Accrued Insurance Retro Adjustment"]
[24120800,"Accrued Rents"]
[24121000,"Accrued Waste Disposal"]
[24121100,"Accrued Retiree Medical"]
[24121200,"Accrued DCP - Contribution"]
[24121400,"Accrued Bank Fees"]
[24121500,"Accrued Credit Lines Fees"]
[24121800,"Accrued Severance"]
[24121900,"Accrued Healthy Solution"]
[24122500,"Refund Rates Under Bond"]
[24122600,"Accrued Safety Incentive"]
[24122700,"Accrued Employer 401k Match"]
[24122800,"Accr'd Pref'd Dividnds w/o Mand Redmptn Requiremts"]
[24122850,"Pref'd Div Declared w/o Mand Redemptn Requiremts"]
[24122900,"Common Dividends Declared"]
[24123000,"Accrued Incentive Plan Cash"]
[24123100,"Accrued Construction Costs"]
[24126000,"Miscellaneous Deposits Payable"]
[24126200,"Accrued Paving"]
[24126300,"Accrued Litigation"]
[24126400,"Customer Deposits"]
[24126500,"Accrued Audit Fees"]
[24129000,"Accrued NOAA Settlement - Current Portion"]
[24133000,"Unclaimed Customer Credits"]
[24133200,"Unclaimed A/P Checks"]
[24133300,"Unclaimed Wages"]
[24142001,"WH PR - Union Dues"]
[24142002,"WH PR - Charity Contributions"]
[24142005,"WH PR - Flex Spending"]
[24142006,"WH PR - 401k Contributions"]
[24142008,"WH PR - Garnishments"]
[24142009,"WH PR - Life Insurance"]
[24142010,"WH PR - Tax Coll Pay FIT"]
[24142011,"WH PR - Tax Coll Pay SUI"]
[24142012,"WH PR - Tax Coll Pay LIT"]
[24142013,"WH PR - Tax Coll Pay FICA"]
[24142014,"WH PR - ESPP"]
[24142099,"WH PR - Miscellaneous"]
[24142100,"WH PR - Tax Coll SIT"]
[24161000,"GRIR - Stock E (Materials)"]
[24162000,"GRIR - Stock D (Fuel)"]
[24163000,"GRIR - Stock C (Chemicals)"]
[24164000,"GRIR - Non-inventory"]
[24165000,"GRIR - Freight"]
[24166000,"GRIR-Capital Expenditure Accruals Reclass"]
[24169999,"GRIR - Conversion"]
[24171000,"CFO Miscellaneous"]
[24171001,"CFO Customer Assistance"]
[24171005,"CFO Customer Assistance Non Pledged"]
[24171006,"CFO Customer Assistance Pledged"]
[24171009,"CFO Primacy fees"]
[24171011,"CFO MC/Sewer Revenue/Cash"]
[24171012,"CFO MC/Sewer A/R"]
[24171013,"CFO MC/Sewer Adjustment"]
[24171014,"CFO MC/Sewer ChgOff"]
[24172000,"CFO Sales Tax"]
[24172001,"CFO Sales Tax AZ"]
[24172002,"CFO Sales Tax CA Chula Vista"]
[24172003,"CFO Sales Tax CA Sacramento"]
[24172004,"CFO Sales Tax CA San Marino"]
[24172005,"CFO Sales Tax FL"]
[24172006,"CFO Sales Tax IL Belleville"]
[24172007,"CFO Sales Tax IL Alton"]
[24172008,"CFO Sales Tax IL Chicago"]
[24172009,"CFO Sales Tax IN"]
[24172010,"CFO Sales Tax KY"]
[24172011,"CFO Sales Tax MO"]
[24172012,"CFO Sales Tax NJ"]
[24172013,"CFO Sales Tax PA"]
[24172014,"CFO Sales Tax TN"]
[24172015,"CFO Sales Tax WV"]
[24172100,"CFO Sales Tax - from CIS"]
[24173000,"CFO Gross Receipts Tax"]
[24173100,"CFO Gross Receipts Tax - from CIS"]
[24174000,"CFO Municipal Tax"]
[24174100,"CFO Municipal Tax - from CIS"]
[24175100,"CFO PUC Surcharge - from CIS"]
[24199700,"Deferred Revenue - Current Portion"]
[24199800,"Other Current Liabilities - Tax Sensitive"]
[24199900,"Other Current Liabilities - Non-Tax Sensitive"]
[25211000,"Advances for Construction - NT Mains"]
[25212000,"Advances for Construction - NT Ext Deposits"]
[25213000,"Advances for Construction - NT Services"]
[25214000,"Advances for Construction - NT Meters"]
[25215000,"Advances for Construction - NT Hydrants"]
[25216000,"Advances for Construction - NT Other"]
[25217000,"Advances for Construction - NT WIP"]
[25222000,"Advances for Construction - Tax Ext Deposits"]
[25223000,"Advances for Construction - Tax Services"]
[25224000,"Advances for Construction - Tax Meters"]
[25226000,"Advances for Construction - Tax Other"]
[25227000,"Advances for Construction - Tax WIP"]
[25230000,"Advances for Construction - Tax SIT"]
[25280000,"Advances for Construction - Reclassed to Current"]
[25299900,"Advances for Construction - Current"]
[25310000,"Deferred FIT Liability - Normalized Property"]
[25311000,"Deferred FIT Liability - Other"]
[25311500,"Deferred FIT Liability - Unitary Returns"]
[25319000,"Deferred FIT Asset - Long Term"]
[25321000,"Deferred SIT Liability - Other"]
[25321500,"Deferred SIT Liability - Unitary Returns"]
[25329000,"Deferred SIT Asset - Long Term"]
[25340000,"Deferred FIT Liability - Current"]
[25349000,"Deferred FIT Asset - Current"]
[25350000,"Deferred SIT Liability - Current"]
[25359000,"Deferred SIT Asset - Current"]
[25510100,"Unamortized ITC - 3%"]
[25510200,"Unamortized ITC - 4%"]
[25510300,"Unamortized ITC - 10%"]
[25510400,"Unamortized ITC - 6%"]
[25510500,"Unamortized ITC - State"]
[25621000,"Reg Liab-Inc Tax Rec Thru Rates-Exc Def FIT"]
[25621100,"Reg Liab-Inc Tax Rec Thru Rates-Exc Def AFUDC FIT"]
[25621200,"Reg Liab-Inc Tax Rec Thru Rates-Exc Def Depr FIT"]
[25622000,"Reg Liab-Inc Tax Rec Thru Rates-Deficit Def"]
[25623000,"Reg Liab-Inc Tax Rec Thru Rates-Exc Def SIT"]
[25623100,"Reg Liab-Inc Tax Rec Thru Rates-Exc Def AFUDC SIT"]
[25623200,"Reg Liab-Inc Tax Rec Thru Rates-Exc Def Dep SIT"]
[25624000,"Reg Liab-Inc Tax Rec Thru Rates-Other"]
[25626000,"Reg Liab-Inc Tax Rec Thru Rates-ITC Gross-Up 3%"]
[25626100,"Reg Liab-Inc Tax Rec Thru Rates-ITC Gross-Up 4%"]
[25626200,"Reg Liab-Inc Tax Rec Thru Rates-ITC Gross-Up 10%"]
[25626300,"Reg Liab-Inc Tax Rec Thru Rates-ITC Gross-Up 6%"]
[25626500,"Reg Liab-Inc Tax Rec Thru Rates-ITC Gross-Up SIT"]
[25632000,"Reg Liab - Revenue Stabilization"]
[25632100,"Reg Liab - Property Tax Stabilization"]
[25632400,"Reg Liab - Refund to Customers"]
[25632500,"Reg Liab - Conservation Surcharge"]
[25632700,"Reg Liab - Purchased Water Stabilization"]
[25632800,"Reg Liab - Property Tax Settlement"]
[25632900,"Reg Liab - PBOP Tracker"]
[25633000,"Reg Liab - Pension Tracker"]
[25633100,"Reg Liab - Tank Painting Tracker"]
[25633200,"Reg Liab - Service Company Pension"]
[25633300,"Reg Liab - PBOP"]
[25633400,"Reg Liab - Pension Internal Reserve"]
[25633500,"Reg Liab - Gain on Debt"]
[25633700,"Reg Liab - Gain on Acquisition"]
[25633800,"Reg Liab - Accrued Rate Case Expense"]
[25634100,"Reg Liab - Property Sales in Suspense"]
[25634400,"Reg Liab - CA Aerojet Project"]
[25634500,"Reg Liab - MTBE Settlement"]
[25634600,"Reg Liab - Atrazine Settlement"]
[25634800,"Reg Liab - Def Revenue CIAC FIT"]
[25635500,"Reg Liab - Refund of COR"]
[25689900,"Reg Liab - Other"]
[25700000,"Reg Liab - Cost of Removal"]
[25710000,"Reg Liab - Cost of Removal RWIP"]
[26212000,"Accrued Pension Expense"]
[26214000,"Accrued Pension Expense ERP (SERP)"]
[26215000,"Accrued Pension Expense ERP (SRP)"]
[26216000,"Accrued Pension Exp ERP (Special Contract)"]
[26221000,"Accrued OPEB NEI"]
[26221100,"Accrued OPEB NEI"]
[26221500,"Accrued OPEB Medicare Subsidy"]
[26233000,"Deferred Revenue - CIAC"]
[26233100,"Deferred Revenue - CIAC FIT"]
[26233200,"Deferred Revenue - CIAC SIT"]
[26233800,"Deferred Revenue - Tax Gross-Up AIC"]
[26233900,"Deferred Revenue - Tax Gross-Up AIC FIT/SIT"]
[26234000,"Deferred Revenue - Tax Gross-Up AIC SIT"]
[26237100,"Deferred Revenue"]
[26237500,"MPWMD Surcharge Collected for Others"]
[26281100,"Accrued Defined Contribution SERP"]
[26281150,"Accrued NOAA Settlement"]
[26281200,"Accrued 401k Restoration"]
[26281250,"Accrued Asset Retirement Obligation Liability"]
[26281300,"Deferred FAS 112 Costs"]
[26281350,"Swap Contract FV Liability"]
[26281400,"Extension Deposits in Suspense"]
[26281450,"Advance Pay & Deposits"]
[26281500,"Accrued Dividend Equivalents"]
[26281600,"Property Sales in Suspense"]
[26281700,"Deferred Compensation (prior 1/1/08)"]
[26281800,"Non-Qualified Savings & Def Compensation"]
[26281900,"Accrued Sick Bank"]
[26281997,"Surcharge Clearing- WV B&O Tax (CIS)"]
[26281998,"DCN-Deferred Credit Other - Not Tax Sensitive"]
[26281999,"Accrued Long Term Liability - Other"]
[26282000,"Accrued Long Term Liability - Other Interco"]
[26282100,"Accrued Long Term Liability - Interco Credit Fees"]
[26400000,"Misc Operating Reserve"]
[26580000,"FIN 48 Reserve - Federal"]
[26581000,"FIN 48 Reserve - State"]
[27111000,"CIAC-Non Taxable -  Mains"]
[27112000,"CIAC-Non Taxable -  Ext Dep"]
[27113000,"CIAC-Non Taxable -  Services"]
[27114000,"CIAC-Non Taxable -  Meters"]
[27115000,"CIAC-Non Taxable -  Hydrants"]
[27116000,"CIAC-Non Taxable -  Other"]
[27116001,"CIAC-Non Taxable -  Other Spec Fac Fee"]
[27116002,"CIAC-Non Taxable -  Other Terra Cotta"]
[27116010,"CIAC-Non Taxable -  Other Gov Gmt Contamn Proceed"]
[27116020,"CIAC-Non Taxable -  Other Gov Loan Contamn Proceed"]
[27116030,"CIAC-Non Taxable -  Other Damg Awd Contamn Proceed"]
[27116040,"CIAC-Non Taxable -  Other Settlmnt Contamn Proceed"]
[27116051,"CIAC-Non Taxable -  Other Gvt Ord Contmn Pvt Funds"]
[27116052,"CIAC-Non Taxable -  Other Gvt Ord Contmn Pub Funds"]
[27116060,"CIAC-Non Taxable -  Other Insurance Contmn Proceed"]
[27117000,"CIAC-Non Taxable -  WIP"]
[27118000,"CIAC-Non Taxable -  Non-Utility Property Property"]
[27121000,"CIAC-Taxable - Mains"]
[27122000,"CIAC-Taxable - Ext Dep"]
[27123000,"CIAC-Taxable - Services"]
[27124000,"CIAC-Taxable - Meters"]
[27125000,"CIAC-Taxable - Hydrants"]
[27126000,"CIAC-Taxable - Other"]
[27127000,"CIAC-Taxable - WIP"]
[27131000,"CIAC-Taxable - Mains SIT"]
[27133000,"CIAC-Taxable - Services SIT"]
[27135000,"CIAC-Taxable - Hydrants SIT"]
[27136000,"CIAC-Taxable - Other SIT"]
[27137000,"CIAC-Taxable - WIP SIT"]
[27141000,"CIAC-Taxable - Mains FIT"]
[27143000,"CIAC-Taxable - Services FIT"]
[27144000,"CIAC-Taxable - Meters FIT"]
[27145000,"CIAC-Taxable - Hydrants FIT"]
[27146000,"CIAC-Taxable - Other FIT"]
[27201000,"Accum Amort CIAC - Mains"]
[27203000,"Accum Amort CIAC - Services"]
[27204000,"Accum Amort CIAC - Meters"]
[27205000,"Accum Amort CIAC - Hydrants"]
[27206000,"Accum Amort CIAC - Other"]
[27210000,"Accum Amort CIAC - Tax"]
[29999999,"999 Line JE Clearing"]
[40111000,"Residential Sales Billed"]
[40111001,"Residential Sales Billed - Discount"]
[40111100,"Residential Sales Billed Surcharge"]
[40111199,"Residential Sales Billed Surcharge - Clearing"]
[40111200,"Residential Sales Billed DSIC"]
[40111300,"Residential Sales Billed Unmetered"]
[40112000,"Residential Sales Unbilled"]
[40121000,"Commercial Sales Billed"]
[40121100,"Commercial Sales Billed Surcharge"]
[40121200,"Commercial Sales Billed DSIC"]
[40121300,"Commercial Sales Billed Unmetered"]
[40122000,"Commercial Sales Unbilled"]
[40131000,"Industrial Sales Billed"]
[40131100,"Industrial Sales Billed Surcharge"]
[40131200,"Industrial Sales Billed DSIC"]
[40132000,"Industiral Sales Unbilled"]
[40138000,"Accrued Revenue Stabilization"]
[40138200,"Accrued Property Tax Rev Stblztn"]
[40141000,"Public Fire Billed"]
[40141100,"Public Fire Billed Surcharge"]
[40141200,"Public Fire Billed DSIC"]
[40142000,"Public Fire Unbilled"]
[40145000,"Private Fire Billed"]
[40145100,"Private Fire Billed Surcharge"]
[40145200,"Private Fire Billed DSIC"]
[40146000,"Private Fire Unbilled"]
[40151000,"Public Authority Billed"]
[40151100,"Public Authority Billed Surcharge"]
[40151200,"Public Authority Billed DSIC"]
[40152000,"Public Authority Unbilled"]
[40161000,"Sales for Resale Billed"]
[40161050,"Sales for Resale Billed Interco"]
[40161100,"Sales for Resale Billed Surcharge"]
[40161200,"Sales for Resale Billed DSIC"]
[40161250,"Sales for Resale Billed DSIC Interco"]
[40162000,"Sales for Resale Unbilled"]
[40171000,"Misc Sales Billed"]
[40171100,"Misc Sales Billed Surcharge"]
[40171300,"Misc Sales Billed Unmetered"]
[40172000,"Misc Sales Unbilled"]
[40175100,"Misc Sales ORCOM Errors"]
[40180100,"Other Water Revenue - Temp Service"]
[40180200,"Other Water Revenue - Conservation"]
[40180300,"Other Water Revenue - Amort Def CIAC"]
[40189900,"Other Water Revenue"]
[40211000,"Domestic WW Service Billed"]
[40211001,"Domestic WW Service Billed Bimonthly"]
[40211100,"Domestic WW Service Billed Surcharge"]
[40211200,"Domestic WW Service Billed DSIC"]
[40211300,"Domestic WW Service Billed CGCR"]
[40212000,"Domestic WW Service Unbilled"]
[40221000,"Commerical WW Service Billed"]
[40221100,"Commerical WW Service Billed Surcharge"]
[40221300,"Commerical WW Service Billed CGCR"]
[40222000,"Commercial WW Service Unbilled"]
[40231000,"Industrial WW Service Billed"]
[40231100,"Industrial WW Service Billed Surcharge"]
[40231300,"Industrial WW Service Billed CGCR"]
[40232000,"Industrial WW Service Unbilled"]
[40251000,"Public Authority WW Service Billed"]
[40251100,"Public Authority WW Service Billed Surcharge"]
[40251300,"Public Authority WW Service Billed CGCR"]
[40252000,"Public Authority WW Service Unbilled"]
[40271000,"Misc WW Service Billed"]
[40271300,"Misc WW Service Billed CGCR"]
[40272000,"Misc WW Service Unbilled"]
[40280000,"Other Revenue WW - Guaranteed"]
[40290000,"Other Revenue WW - Intercompany"]
[40300100,"Other Revenue - Interco"]
[40310000,"Other Revenue - Guaranteed"]
[40310100,"Other Revenue - Late Payment Charge"]
[40310200,"Other Revenue - Rent"]
[40310250,"Other Revenue - Rent Interco"]
[40310300,"Other Revenue - Collection for Others"]
[40310400,"Other Revenue - NSF Check Charge"]
[40310500,"Other Revenue - Application/Initiation Fee"]
[40310600,"Other Revenue - Usage Data"]
[40310700,"Other Revenue - Reconnection Fee"]
[40310800,"Other Revenue - Frozen Meter"]
[40310900,"Other Revenue - CFO - CA PUC Surcharge"]
[40311600,"Other Revenue - Storage Fees"]
[40313000,"Other Revenue - After Hrs Charge"]
[40319900,"Other Revenue - Misc Service"]
[40351100,"Other Revenue WW - Late Payment Charge"]
[40359900,"Other Revenue WW - Misc Service"]
[40999999,"Revenue Conversion - CIS"]
[45000000,"Service Company Revenue OPEX Interco"]
[45000001,"Service Company Revenue CAPEX Interco"]
[45000002,"Servco Company Revenue Market Based COs Interco"]
[50100000,"Labor Natural Account"]
[50100001,"Labor Expense Accrual"]
[50100002,"Labor Expense - Intercompany"]
[50101100,"Labor Oper Source of Supply"]
[50101105,"Labor Oper Source of Supply - Super & Eng"]
[50101200,"Labor Oper Pumping"]
[50101205,"Labor Oper Pumping - Super & Eng"]
[50101210,"Labor Oper Pumping - Power Prod"]
[50101215,"Labor Oper Pumping - Pump"]
[50101300,"Labor Oper Water Treatment"]
[50101305,"Labor Oper Water Treatment - Super & Eng"]
[50101400,"Labor Oper Transmission & Distribution"]
[50101405,"Labor Oper Trans & Distr - Super & Eng"]
[50101410,"Labor Oper Trans & Distr - Storage Facility"]
[50101415,"Labor Oper Trans & Distr - Lines"]
[50101420,"Labor Oper Trans & Distr - Meter"]
[50101425,"Labor Oper Trans & Distr - Meter Install"]
[50101500,"Labor Oper Customer Accounting"]
[50101505,"Labor Oper Customer Acctg - Super & Eng"]
[50101510,"Labor Oper Customer Acctg - Meter Read"]
[50101515,"Labor Oper Customer Acctg - Cust Rec & Coll"]
[50101520,"Labor Oper Customer Acctg - Cust Serv & Info"]
[50101600,"Labor Oper Admin & General"]
[50101601,"Labor Oper Adm & Gen - Director & Officer"]
[50102100,"Labor Maint Source of Supply"]
[50102105,"Labor Maint Source of Supply - Super & Eng"]
[50102110,"Labor Maint Source of Supply - Struct &Imp"]
[50102115,"Labor Maint Source of Supply - Coll & Imp"]
[50102120,"Labor Maint Source of Supply - Lake"]
[50102125,"Labor Maint Source of Supply - Wells"]
[50102130,"Labor Maint Src of Supply-Infilt Galleries"]
[50102135,"Labor Maint Src of Supply-Supply Mains"]
[50102200,"Labor Maint Pumping"]
[50102205,"Labor Maint Pumping - Super & Eng"]
[50102210,"Labor Maint Pumping - Struct & Imp"]
[50102215,"Labor Maint Pumping - Power Prod"]
[50102300,"Labor Maint Water Treatment"]
[50102305,"Labor Maint Water Treatment - Super & Eng"]
[50102310,"Labor Maint Water Treatment - Struct & Imp"]
[50102315,"Labor Maint Water Treatment - Equipment"]
[50102400,"Labor Maint Transmission & Distribution"]
[50102405,"Labor Maint Transmssn & Distr - Super & Eng"]
[50102410,"Labor Maint Transmssn & Distr - Struct & Imp"]
[50102415,"Labor Maint Transmssn & Distr - Dist Res"]
[50102420,"Labor Maint Transmssn & Distr - Mains"]
[50102425,"Labor Maint Transmssn & Distr - Fire Mains"]
[50102430,"Labor Maint Transmssn & Distr - Service"]
[50102435,"Labor Maint Transmssn & Distr - Meter"]
[50102440,"Labor Maint Transmssn & Distr - Hydrants"]
[50102600,"Labor Maint Admin & General"]
[50109900,"Labor Capitalized Credits"]
[50110000,"Labor Non-scheduled Overtime - Natural Account"]
[50111100,"Labor Oper Non-scheduled Overtime- SS"]
[50111105,"Labor Oper Non-scheduled Overtime- SS Super & Eng"]
[50111200,"Labor Oper Non-scheduled Overtime- P"]
[50111205,"Labor Oper Non-scheduled Overtime- P Super & Eng"]
[50111210,"Labor Oper Non-scheduled Overtime- P Power Prod"]
[50111215,"Labor Oper Non-scheduled Overtime- P Pump"]
[50111300,"Labor Oper Non-scheduled Overtime- WT"]
[50111305,"Labor Oper Non-scheduled Overtime- WT Super & Eng"]
[50111400,"Labor Oper Non-scheduled Overtime- TD"]
[50111405,"Labor Oper Non-scheduled Overtime- TD Super & Eng"]
[50111410,"Labor Oper Non-scheduled OT-TD Storage Facility"]
[50111415,"Labor Oper Non-scheduled Overtime- TD Lines"]
[50111420,"Labor Oper Non-scheduled Overtime- TD Meter"]
[50111425,"Labor Oper Non-scheduled OT-TD Meter Install"]
[50111500,"Labor Oper Non-scheduled Overtime- CA"]
[50111505,"Labor Oper Non-scheduled Overtime- CA Super & Eng"]
[50111510,"Labor Oper Non-scheduled Overtime- CA Meter Read"]
[50111515,"Labor Oper Non-scheduled OT - CA Cust Rec & Coll"]
[50111520,"Labor Oper Non-scheduled OT - CA Cust Serv & Info"]
[50111600,"Labor Oper Non-scheduled Overtime- AG"]
[50112100,"Labor Maint Non-scheduled Overtime- SS"]
[50112105,"Labor Maint Non-scheduled Overtime- SS Super & Eng"]
[50112110,"Labor Maint Non-scheduled OT - SS Struct & Imp"]
[50112115,"Labor Maint Non-scheduled Overtime- SS Coll & Imp"]
[50112120,"Labor Maint Non-scheduled Overtime- SS Lake"]
[50112125,"Labor Maint Non-scheduled Overtime- SS Wells"]
[50112130,"Labor Maint Non-scheduled OT - SS Infilt Gallery"]
[50112135,"Labor Maint Non-scheduled OT - SS Supply Mains"]
[50112200,"Labor Maint Non-scheduled Overtime- P"]
[50112205,"Labor Maint Non-scheduled Overtime- P Super & Eng"]
[50112210,"Labor Maint Non-scheduled Overtime- P Struct & Imp"]
[50112215,"Labor Maint Non-scheduled Overtime- P Power Prod"]
[50112300,"Labor Maint Non-scheduled Overtime- WT"]
[50112305,"Labor Maint Non-scheduled Overtime- WT Super & Eng"]
[50112310,"Labor Maint Non-scheduled OT - WT Struct & Imp"]
[50112315,"Labor Maint Non-scheduled Overtime- WT Equipment"]
[50112400,"Labor Maint Non-scheduled Overtime- TD"]
[50112405,"Labor Maint Non-scheduled Overtime- TD Super & Eng"]
[50112410,"Labor Maint Non-scheduled OT - TD Struct & Imp"]
[50112415,"Labor Maint Non-scheduled Overtime- TD Dist Res"]
[50112420,"Labor Maint Non-scheduled Overtime- TD Mains"]
[50112425,"Labor Maint Non-scheduled Overtime- TD Fire Main"]
[50112430,"Labor Maint Non-scheduled Overtime- TD Service"]
[50112435,"Labor Maint Non-scheduled Overtime- TD Meter"]
[50112440,"Labor Maint Non-scheduled Overtime- TD Hydrant"]
[50112600,"Labor Maint Non-scheduled Overtime- AG"]
[50119900,"Labor Non-scheduled Overtime- Capitalized Credits"]
[50120000,"Labor Overtime - Natural Account"]
[50121100,"Labor Oper Scheduled Overtime-SS"]
[50121105,"Labor Oper Scheduled Overtime-SS Super & Eng"]
[50121200,"Labor Oper Scheduled Overtime-P"]
[50121205,"Labor Oper Scheduled Overtime-P Super & Eng"]
[50121210,"Labor Oper Scheduled Overtime-P Power Prod"]
[50121215,"Labor Oper Scheduled Overtime-P Pump"]
[50121300,"Labor Oper Scheduled Overtime-WT"]
[50121305,"Labor Oper Scheduled Overtime-WT Super & Eng"]
[50121400,"Labor Oper Scheduled Overtime-TD"]
[50121405,"Labor Oper Scheduled Overtime-TD Super & Eng"]
[50121410,"Labor Oper Scheduled Overtime-TD Storage Facility"]
[50121415,"Labor Oper Scheduled Overtime-TD Lines"]
[50121420,"Labor Oper Scheduled Overtime-TD Meter"]
[50121425,"Labor Oper Scheduled Overtime-TD Meter Install"]
[50121500,"Labor Oper Scheduled Overtime-CA"]
[50121505,"Labor Oper Scheduled Overtime-CA Super & Eng"]
[50121510,"Labor Oper Scheduled Overtime-CA Merer Read"]
[50121515,"Labor Oper Scheduled Overtime-CA Cust Rec & Coll"]
[50121520,"Labor Oper Scheduled Overtime-CA Cust Serv & Info"]
[50121600,"Labor Oper Scheduled Overtime-AG"]
[50122100,"Labor Maint Scheduled Overtime-SS"]
[50122105,"Labor Maint Scheduled Overtime-SS Super & Eng"]
[50122110,"Labor Maint Scheduled Overtime-SS Struct & Imp"]
[50122115,"Labor Maint Scheduled Overtime-SS Coll & Imp"]
[50122120,"Labor Maint Scheduled Overtime-SS Lake"]
[50122125,"Labor Maint Scheduled Overtime-SS Wells"]
[50122130,"Labor Maint Scheduled Overtime-SS Infilt Gallery"]
[50122135,"Labor Maint Scheduled Overtime-SS Supply Main"]
[50122200,"Labor Maint Scheduled Overtime-P"]
[50122205,"Labor Maint Scheduled Overtime-P Super & Eng"]
[50122210,"Labor Maint Scheduled Overtime-P Struct & Imp"]
[50122215,"Labor Maint Scheduled Overtime-P Power Prod"]
[50122300,"Labor Maint Scheduled Overtime-WT"]
[50122305,"Labor Maint Scheduled Overtime-WT Super & Eng"]
[50122310,"Labor Maint Scheduled Overtime-WT Struct & Imp"]
[50122315,"Labor Maint Scheduled Overtime-WT Equipment"]
[50122400,"Labor Maint Scheduled Overtime-TD"]
[50122405,"Labor Maint Scheduled Overtime-TD Super & Eng"]
[50122410,"Labor Maint Scheduled Overtime-TD Struct & Imp"]
[50122415,"Labor Maint Scheduled Overtime-TD Dist Res"]
[50122420,"Labor Maint Scheduled Overtime-TD Mains"]
[50122425,"Labor Maint Scheduled Overtime-TD Fire Main"]
[50122430,"Labor Maint Scheduled Overtime-TD Service"]
[50122435,"Labor Maint Scheduled Overtime-TD Meter"]
[50122440,"Labor Maint Scheduled Overtime-TD Hydrant"]
[50122600,"Labor Maint Scheduled Overtime-AG"]
[50129900,"Labor Scheduled Overtime- Capitalized Credits"]
[50171000,"Annual Incentive Plan"]
[50171100,"Annual Incentive Plan Cap Credits"]
[50171600,"Compensation Exp - Options"]
[50171800,"Compensation Exp - RSU's"]
[50185000,"Severance"]
[50421000,"401k Expense"]
[50421100,"401k Expense Cap Credits"]
[50422000,"Defined Compensation Plan Expense"]
[50422100,"Defined Comp Plan Exp Cap Credits"]
[50423000,"Employee Stock Purchase Plan Expense"]
[50424000,"DC SERP Expense"]
[50425000,"401k Restoration Expense"]
[50426000,"Retiree Medical Expense"]
[50426100,"Retiree Medical Expense Cap Credits"]
[50427000,"FAS 112 Amortization"]
[50450000,"Other Welfare - Natural Account"]
[50450011,"Other Welfare - Source of Supply"]
[50450012,"Other Welfare - Pumping"]
[50450013,"Other Welfare - Water Treatment"]
[50450014,"Other Welfare - Transm & Distrib"]
[50450015,"Other Welfare - Customer Accounting"]
[50450016,"Other Welfare - Admin & General"]
[50451000,"Employee Awards"]
[50452000,"Employee Physical Exams"]
[50454000,"Safety Incentive Awards"]
[50456000,"Tuition Aid"]
[50457000,"Training"]
[50458000,"Referral Bonus"]
[50510000,"PBOP Expense"]
[50510100,"PBOP Capitalized Credits"]
[50550000,"Group Insurance Expense"]
[50550100,"Group Insurance Capitalized Credits"]
[50610000,"Pension Expense"]
[50610100,"Pension Capitalized Credits"]
[50620000,"Pension Expense - SRP"]
[50630000,"Pension Expense - SERP"]
[51010000,"Purchased Water"]
[51010500,"PWAC Differential"]
[51015000,"Purchased Water Interco"]
[51020000,"Diversion Rights"]
[51110000,"Waste Disposal"]
[51110500,"PSTAC Differential"]
[51110600,"PSTAC Amortization"]
[51115000,"Waste Disposal Interco"]
[51120000,"Amort Waste Disposal"]
[51510000,"Purchased Power - Natural Account"]
[51510011,"Purchased Power - Source of Supply"]
[51510012,"Purchased Power - Pumping"]
[51510013,"Purchased Power - Water Treatment"]
[51510014,"Purchased Power - Transmission & Distribution"]
[51510015,"Purchased Power - Customer Accounting"]
[51510016,"Purchased Power - Admin & General"]
[51510500,"Purchased Power Balancing Account"]
[51520000,"Fuel for Power Production"]
[51800000,"Chemicals"]
[51850000,"Chemicals Carbon Interco"]
[52000000,"M & S  (O&M) - Natural Account"]
[52001100,"M & S Oper - Source of Supply"]
[52001200,"M & S Oper - Pumping"]
[52001300,"M & S Oper - Water Treatment"]
[52001400,"M & S Oper - Transmission & Distribution"]
[52001500,"M & S Oper - Customer Accounting"]
[52001600,"M & S Oper - Admin & General"]
[52500000,"Misc Exp (O&M) - Natural Acct"]
[52501100,"Misc Oper - Source of Supply"]
[52501200,"Misc Oper - Pumping"]
[52501300,"Misc Oper - Water Treatment"]
[52501400,"Misc Oper - Transmission & Distribution"]
[52501410,"Misc Oper - Transmission & Distribution Storage"]
[52501415,"Misc Oper - Transmission & Distribution Mains"]
[52501420,"Misc Oper - Transmission & Distribution Meters"]
[52501425,"Misc Oper - Transmssn & Distr Meter Install"]
[52501500,"Misc Oper - Customer Accounting"]
[52501510,"Misc Oper - Customer Accounting Mtr Read"]
[52501515,"Misc Oper - Customer Accounting Cust Rec"]
[52501520,"Misc Oper - Customer Accounting Cust Serv"]
[52501600,"Misc Oper - Admin & General"]
[52503000,"Advertising"]
[52510000,"Bank Service Charges - Natural Account"]
[52510015,"Bank Service Charges - Customer Accounting"]
[52510016,"Bank Service Charges - Admin & General"]
[52512500,"Books & Publications"]
[52513200,"Business Development"]
[52514000,"Charitable Contribution Deductible"]
[52514100,"Charitable Contribution Nondeductible"]
[52514500,"Charitable Donations - Health/Education/Environmnt"]
[52514600,"Charitable Donations - Community"]
[52514700,"Community Partnerships"]
[52514800,"Community Commercial Initiatives"]
[52514900,"Customer Education"]
[52514901,"Customer Education Communication - Reg"]
[52514902,"Customer Education Communication - Third Party"]
[52514903,"Customer Education Communication - Issues"]
[52514904,"Customer Education Communication - Conservation"]
[52514905,"Customer Education Communication - Printed"]
[52514906,"Customer Education - Bill Inserts"]
[52514907,"Customer Education - Press Releases"]
[52514908,"Customer Education - Media Editorial"]
[52514909,"Customer Education - Video & Photo"]
[52514910,"Customer Education - Online Development/Production"]
[52515000,"Community Relations - Events"]
[52515001,"Community Relations - Specialty"]
[52520000,"Collection Agencies"]
[52522000,"Community Relations"]
[52524000,"Co Dues/Membership Deductible"]
[52525000,"Condemnation Costs"]
[52525500,"Conservation Expense"]
[52526000,"Credit Line Fees"]
[52526100,"Credit Line Fees Interco"]
[52527000,"Directors Fees"]
[52527100,"Directors Expenses"]
[52532000,"Electricity - Natural Account"]
[52532011,"Electricity - Source of Supply"]
[52532013,"Electricity - Water Treatment"]
[52532014,"Electricity - Transmission & Distribution"]
[52532015,"Electricity - Customer Accounting"]
[52532016,"Electricity - Admin & General"]
[52534000,"Employee Expenses"]
[52534200,"Conferences & Registration"]
[52535000,"Meals Deductible"]
[52535100,"Meals Non-Deductible"]
[52540000,"Amort Bus Services Proj Exp"]
[52542000,"Forms - Natural Account"]
[52542015,"Forms - Customer Accounting"]
[52542016,"Forms - Admin & General"]
[52546000,"Grounds Keeping - Natural Account"]
[52546011,"Grounds Keeping - Source of Supply"]
[52546013,"Grounds Keeping - Water Treatment"]
[52546014,"Grounds Keeping - Transmission & Distribution"]
[52546016,"Grounds Keeping - Admin & General"]
[52548000,"Heating Oil/Gas - Natural Account"]
[52548011,"Heating Oil/Gas - Source of Supply"]
[52548013,"Heating Oil/Gas - Water Treatment"]
[52548014,"Heating Oil/Gas - Transmission & Distribution"]
[52548015,"Heating Oil/Gas - Customer Accounting"]
[52548016,"Heating Oil/Gas - Admin & General"]
[52548100,"Hiring Costs"]
[52549000,"Injuries and Damages"]
[52549500,"Inventory Physical Write-off Scrap"]
[52550000,"Janitorial - Natural Account"]
[52550012,"Janitorial - Pumping"]
[52550013,"Janitorial - Water Treatment"]
[52550014,"Janitorial - Transmission & Distribution"]
[52550015,"Janitorial - Customer Accounting"]
[52550016,"Janitorial - Admin & General"]
[52554500,"Lab Supplies"]
[52556000,"Lobbying Expenses"]
[52556500,"Low Income Pay Program"]
[52562000,"Office & Admin Supplies - Natural Account"]
[52562011,"Office & Admin Supplies - Source of Supply"]
[52562013,"Office & Admin Supplies - Water Treatment"]
[52562014,"Office & Admin Supplies - Transmssn & Distr"]
[52562015,"Office & Admin Supplies - Customer Accounting"]
[52562016,"Office & Admin Supplies - Admin & General"]
[52562500,"Overnight Shipping - Natural Account"]
[52562511,"Overnight Shipping - Source of Supply"]
[52562513,"Overnight Shipping - Water Treatment"]
[52562514,"Overnight Shipping - Transmission & Distribution"]
[52562515,"Overnight Shipping - Customer Accounting"]
[52562516,"Overnight Shipping - Admin & General"]
[52564000,"Penalties Nondeductible"]
[52566000,"Postage - Natural Account"]
[52566015,"Postage - Customer Accounting"]
[52566016,"Postage - Admin & General"]
[52566700,"Printing"]
[52567000,"Relocation Expenses"]
[52568000,"Research & Development"]
[52571000,"Security Service - Natural Account"]
[52571011,"Security Service - Source of Supply"]
[52571013,"Security Service - Water Treatment"]
[52571014,"Security Service - Transmission & Distribution"]
[52571015,"Security Service - Customer Accounting"]
[52571016,"Security Service - Admin & General"]
[52571100,"Add'l Security Costs"]
[52571500,"Software Licenses"]
[52572000,"Telemetering - Source of Supply"]
[52574000,"Telephone - Natural Account"]
[52574011,"Telephone - Source of Supply"]
[52574013,"Telephone - Water Treatment"]
[52574014,"Telephone - Transmission & Distribution"]
[52574015,"Telephone - Customer Accounting"]
[52574016,"Telephone - Admin & General"]
[52574100,"Cell Phone - Natural Account"]
[52574111,"Cell Phone - Source of Supply"]
[52574113,"Cell Phone - Water Treatment"]
[52574114,"Cell Phone - Transmission & Distribution"]
[52574115,"Cell Phone - Customer Accounting"]
[52574116,"Cell Phone - Admin & General"]
[52574200,"Data Lines - Admin & General"]
[52574300,"Wireless - Service First - Natural Account"]
[52574314,"Wireless - Service First-Transmission&Distribution"]
[52574315,"Wireless - Service First - Customer Accounting"]
[52574316,"Wireless - Service First - Admin & General"]
[52577500,"Trade Shows"]
[52578000,"Trash Removal - Natural Account"]
[52578011,"Trash Removal - Source of Supply"]
[52578013,"Trash Removal - Water Treatment"]
[52578014,"Trash Removal - Transmission & Distribution"]
[52578015,"Trash Removal - Customer Accounting"]
[52578016,"Trash Removal - Admin & General"]
[52579000,"Trustee Fees"]
[52582000,"Uniforms - Natural Account"]
[52582011,"Uniforms - Source of Supply"]
[52582012,"Uniforms - Pumping"]
[52582013,"Uniforms - Water Treatment"]
[52582014,"Uniforms - Transmission & Distribution"]
[52582015,"Uniforms - Customer Accounting"]
[52582016,"Uniforms - Admin & General"]
[52583000,"Water & WW - Natural Account"]
[52583011,"Water & WW - Source of Supply"]
[52583013,"Water & WW - Water Treatment"]
[52583014,"Water & WW - Transmission & Distribution"]
[52583016,"Water & WW - Admin & General"]
[52585000,"Discounts Available"]
[52585100,"Discounts Lost"]
[52586000,"PO Small Price Differences - within tolerance"]
[52599800,"PCard Undistributed"]
[52801000,"Capital Purchases Clearing"]
[52801100,"Indirect Overhead Clearing"]
[52801200,"Capital Accrual Clearing"]
[52801500,"Dev Funded Const Clearing"]
[52805000,"Budget COR Clearing"]
[52805100,"Indirect Overhead RWIP Clearing"]
[53110000,"Contract Svc-Eng - Natural Account"]
[53110011,"Contract Svc-Eng - Source of Supply"]
[53110013,"Contract Svc-Eng - Water Treatment"]
[53110014,"Contract Svc-Eng - Transmission & Distribution"]
[53110015,"Contract Svc-Eng - Customer Accounting"]
[53110016,"Contract Svc-Eng - Admin & General"]
[53150000,"Contract Svc-Other - Natural Account"]
[53150011,"Contract Svc-Other - Source of Supply"]
[53150013,"Contract Svc-Other - Water Treatment"]
[53150014,"Contract Svc-Other - Transmission & Distribution"]
[53150015,"Contract Svc-Other - Customer Accounting"]
[53150016,"Contract Svc-Other - Admin & General"]
[53151000,"Contract Svc-Temp Empl - Natural Account"]
[53151011,"Contract Svc-Temp Empl - Source of Supply"]
[53151013,"Contract Svc-Temp Empl - Water Treatment"]
[53151014,"Contract Svc-Temp Empl - Transmssn & Distr"]
[53151015,"Contract Svc-Temp Empl - Customer Accounting"]
[53151016,"Contract Svc-Temp Empl - Admin & General"]
[53152000,"Contract Svc-Lab Testing - Water Treatment"]
[53153000,"Contract Services - Accounting"]
[53154000,"Contract Services - Audit Fees"]
[53155000,"Contract Services - Legal"]
[53156000,"Contract Services - Litigation"]
[53157000,"Contract Services - Outplacement"]
[53158000,"Contract Services - BT Related Incr Ext Costs"]
[53185000,"Contract Services - Interco"]
[53401000,"AWWSC Services - Labor OPEX"]
[53401100,"AWWSC Services - Pension OPEX"]
[53401200,"AWWSC Services - Group Insurance OPEX"]
[53401300,"AWWSC Services - Other Benefits OPEX"]
[53401400,"AWWSC Services - Contracted Services OPEX"]
[53401500,"AWWSC Services - Office Supplies OPEX"]
[53401700,"AWWSC Services - Rents OPEX"]
[53401900,"AWWSC Services - Maint Supplies & Svcs OPEX"]
[53402100,"AWWSC Services - Other O&M Expense OPEX"]
[53402200,"AWWSC Services - Depr & Amort OPEX"]
[53402300,"AWWSC Services - General Taxes OPEX"]
[53402400,"AWWSC Services - Net Interest OPEX"]
[53402500,"AWWSC Services - Other Inc & Ded OPEX"]
[53402600,"AWWSC Services - Income Taxes OPEX"]
[53409999,"AWWSC Services - Conversion"]
[53481000,"AWWSC Services - Labor CAPX"]
[53481100,"AWWSC Services - Pension CAPX"]
[53481200,"AWWSC Services - Group Insurance CAPX"]
[53481300,"AWWSC Services - Other Benefits CAPX"]
[53481400,"AWWSC Services - Contracted Services CAPX"]
[53481500,"AWWSC Services - Office Supplies CAPX"]
[53481700,"AWWSC Services - Rents CAPX"]
[53481900,"AWWSC Services - Maint Supplies & Svcs CAPX"]
[53482100,"AWWSC Services - Other O&M Expense CAPX"]
[53482200,"AWWSC Services - Depr & Amort CAPX"]
[53482300,"AWWSC Services - General Taxes CAPX"]
[53482400,"AWWSC Services - Net Interest CAPX"]
[53482500,"AWWSC Services - Other Inc & Ded CAPX"]
[53482600,"AWWSC Services - Income Taxes CAPX"]
[54110000,"Rents-Real Property - Natural Account"]
[54110011,"Rents-Real Property - Source of Supply"]
[54110012,"Rents-Real Property - Pumping"]
[54110013,"Rents-Real Property - Water Treatment"]
[54110014,"Rents-Real Property - Transmission & Distribution"]
[54110015,"Rents-Real Property - Customer Accounting"]
[54110016,"Rents-Real Property - Admin & General"]
[54115000,"Rents-Real Property Interco"]
[54140000,"Rents-Equipment - Natural Account"]
[54140011,"Rents-Equipment - Source of Supply"]
[54140012,"Rents-Equipment - Pumping"]
[54140013,"Rents-Equipment - Water Treatment"]
[54140014,"Rents-Equipment - Transmission & Distribution"]
[54140015,"Rents-Equipment - Customer Accounting"]
[54140016,"Rents-Equipment - Admin & General"]
[54145000,"Rents-Equipment Intercompany"]
[55000000,"Transportation (O&M) - Natural Account"]
[55000011,"Transportation Oper - Source of Supply"]
[55000012,"Transportation Oper - Pumping"]
[55000013,"Transportation Oper - Water Treatment"]
[55000014,"Transportation Oper - Transmission & Distribution"]
[55000015,"Transportation Oper - Customer Accounting"]
[55000016,"Transportation Oper - Admin & General"]
[55000021,"Transportation Maint - Source of Supply"]
[55000022,"Transportation Maint - Pumping"]
[55000023,"Transportation Maint - Water Treatment"]
[55000024,"Transportation Maint - Transmission & Distribution"]
[55000026,"Transportation Maint - Admin & General"]
[55000100,"Transportation Capitalized Credits"]
[55010100,"Transportation Lease Costs"]
[55010200,"Transportation Lease Fuel"]
[55010300,"Transportation Lease Maint"]
[55010400,"Transportation - Employee Reimbursement to Company"]
[55010500,"Transportation - Reimburse Employee Personal Use"]
[55020000,"Fuel - Physical Inventory Write-off Scrap"]
[55110000,"Insurance Vehicle"]
[55710000,"Insurance General Liabilty"]
[55720000,"Insurance Workers Compensation"]
[55720100,"Insurance WC Capitalized Credits"]
[55730000,"Insurance Other"]
[56610000,"Regulatory Exp - Amortization"]
[56611000,"Regulatory Exp - Not Authorized"]
[56620000,"Regulatory Exp - Amort Depreciation Study"]
[56630000,"Regulatory Exp - Amort Management Study"]
[56670000,"Regulatory Exp - Other"]
[57010000,"Uncollectible Accounts Exp - Natural Account"]
[57010015,"Uncollectible Accounts Exp - Customer Accounting"]
[57010016,"Uncollectible Accounts Exp - Admin & General"]
[57010100,"Uncollectible Accounts Exp - Individual Value Adj"]
[58001000,"Impairment - Goodwill"]
[58001500,"Impairment - Intangibles"]
[58002000,"Impairment - Plant Property & Equipment"]
[59011000,"Gains/Losses Non-Utility Property Disposals"]
[59011500,"Gains/Losses Non-Utility Property Sales"]
[59021000,"Gains/Losses Utility Property Sales"]
[59022000,"Gains/Losses Acquisition of Asset"]
[62002100,"M&S Maint - Source of Supply"]
[62002200,"M&S Maint - Pumping"]
[62002300,"M&S Maint - Water Treatment"]
[62002400,"M&S Maint - Transmission & Distribution"]
[62002600,"M&S Maint - Admin & General"]
[62502100,"Misc Maint - Source of Supply"]
[62502110,"Misc Maint - Source of Supply Struct & Imp"]
[62502115,"Misc Maint - Source of Supply Coll & Imp"]
[62502120,"Misc Maint - Source of Supply Lake"]
[62502125,"Misc Maint - Source of Supply Wells"]
[62502130,"Misc Maint - Source of Supply Infil Gallery"]
[62502135,"Misc Maint - Source of Supply Supply Mains"]
[62502200,"Misc Maint - Pumping"]
[62502210,"Misc Maint - Pumping - Struct & Imp"]
[62502215,"Misc Maint - Pumping - Power Production"]
[62502300,"Misc Maint - Water Treatment"]
[62502310,"Misc Maint - Water Treatment - Struct & Imp"]
[62502315,"Misc Maint - Water Treatment - Equipment"]
[62502400,"Misc Maint - Transmission & Distribution"]
[62502410,"Misc Maint - Transmission & Distr - Struct & Imp"]
[62502415,"Misc Maint - Transmission & Distrib - Dist Res"]
[62502420,"Misc Maint - Transmission & Distribution - Mains"]
[62502425,"Misc Maint - Transmission & Distrib - Fire Main"]
[62502430,"Misc Maint - Transmission & Distribution - Service"]
[62502435,"Misc Maint - Transmission & Distribution - Meters"]
[62502440,"Misc Maint - Transmission & Distribution - Hydrant"]
[62502600,"Misc Maint - Admin & General"]
[62510000,"Amort Def Maint - Natural Account"]
[62512100,"Amort Def Maint - Source of Supply"]
[62512200,"Amort Def Maint - Pumping"]
[62512300,"Amort Def Maint - Water Treatment"]
[62512400,"Amort Def Maint - Transmission & Distribution"]
[62520700,"Misc Maint Paving/Backfill"]
[62520800,"Misc Maint Permits - Natural Account"]
[62520821,"Misc Maint Permits - Source of Supply"]
[62520824,"Misc Maint Permits - Transmission & Distribution"]
[63110021,"Contract Svc-Eng Maint - Source of Supply"]
[63110022,"Contract Svc-Eng Maint - Pumping"]
[63110023,"Contract Svc-Eng Maint - Water Treatment"]
[63110024,"Contract Svc-Eng Maint - Transmission & Distr"]
[63110026,"Contract Svc-Eng Maint - Admin & General"]
[63150021,"Contract Svc-Other Maint - Source of Supply"]
[63150022,"Contract Svc-Other Maint - Pumping"]
[63150023,"Contract Svc-Other Maint - Water Treatment"]
[63150024,"Contract Svc-Other Maint - Transmission & Distr"]
[63150026,"Contract Svc-Other Maint - Admin & General"]
[68011000,"Depreciation Exp - UPIS General"]
[68011200,"Depreciation Exp - Non-Utility Property"]
[68011500,"Depreciation Exp - Amort Def Depreciation"]
[68012000,"Depreciation Exp - Amort CIAC Tax"]
[68012500,"Depreciation Exp - Amort CIAC Nontax"]
[68013000,"Depreciation Exp - UPAA FAS141"]
[68013500,"Depreciation Exp - Neg UPAA"]
[68251000,"Amortization - Ltd Term Plant"]
[68252000,"Amortization - Capital Leases"]
[68253000,"Amortization - Post In-Service AFUDC"]
[68254000,"Amortization - Reg Asset AFUDC"]
[68255000,"Amortization - UPAA"]
[68256000,"Amortization - Intangible Finite Life"]
[68257000,"Amortization - Property Losses"]
[68258000,"Amortization - Reg Asset"]
[68259000,"Amortization - Other UP"]
[68311000,"Removal Costs - ARO/Net Neg Salvage"]
[68312000,"Removal Costs - Net Negative Salvage CIAC Tax"]
[68312500,"Removal Costs - Net Negative Salvage CIAC Non-Tax"]
[68520000,"Property Taxes"]
[68520100,"Tax Discounts"]
[68529000,"Property Tax Non-Utility Property"]
[68532000,"FUTA"]
[68532100,"FUTA Cap Credits"]
[68533000,"FICA"]
[68533100,"FICA Cap Credits"]
[68535000,"SUTA"]
[68535100,"SUTA Cap Credits"]
[68541000,"Capital Stock Tax"]
[68542000,"Enviromental Tax"]
[68543000,"Other Taxes and Licenses"]
[68544000,"Gross Receipts Tax"]
[68545000,"Utility Reg Assessment"]
[69011000,"FIT - Current"]
[69011400,"FIT - Current - Unitary Returns"]
[69012000,"FIT - Prior Year Adjustment"]
[69012400,"FIT - Prior Year - Unitary Returns"]
[69012500,"FIT - Acquisition Adjustment"]
[69021000,"SIT - Current"]
[69021400,"SIT - Current - Unitary Returns"]
[69022000,"SIT - Prior Year Adjustment"]
[69022400,"SIT - Prior Year - Unitary Returns"]
[69022500,"SIT - Acquisition Adjustment"]
[69031000,"FIT - Other Income & Deductions Current Year"]
[69031500,"FIT - Reduction Acquisition Adjustment"]
[69041000,"SIT - Other Income & Deductions Current Year"]
[69041500,"SIT - Reduction Acquisition Adjustment"]
[69061000,"Deferred FIT - Current Year"]
[69061400,"Deferred FIT - Current Year - Unitary Returns"]
[69062000,"Deferred FIT - Prior Year Adjustment"]
[69062400,"Deferred FIT - Prior Year - Unitary Returns"]
[69063000,"Deferred FIT - Reg Asset/Liability"]
[69065000,"Deferred FIT - Other"]
[69071000,"Deferred SIT - Current Year"]
[69071400,"Deferred SIT - Current Year - Unitary Returns"]
[69072000,"Deferred SIT - Prior Year Adjustment"]
[69072400,"Deferred SIT - Prior Year - Unitary Returns"]
[69073000,"Deferred SIT - Reg Asset/Liability"]
[69073500,"Deferred SIT - Other"]
[69522000,"Investment Tax Credits Restored - 3%"]
[69523000,"Investment Tax Credits Restored - 4%"]
[69524000,"Investment Tax Credits Restored - 10%"]
[69525000,"Investment Tax Credits Restored - 6%"]
[69550000,"Investment Tax Credits Restored SIT"]
[70510000,"AFUDC - Equity"]
[71010000,"Dividend Income"]
[71015000,"Dividend Income C/S Interco"]
[71030000,"Dividend Income P/S Interco"]
[71511000,"M&J Revenues"]
[71511500,"M&J Revenues Intercompany"]
[71511510,"M&J Rev WLPP Billing Intercompany"]
[71521000,"M&J Expenses"]
[71521500,"M&J Expenses Intercompany"]
[71611000,"Misc Nonutility Revenue"]
[71611100,"Misc Nonutility Rev Rents"]
[71611510,"Misc Nonutility Revenue Intercompany"]
[71611520,"Misc Nonutility Rev Debt Exp Intercompany"]
[71611530,"Misc Nonutility Rev Credit Line Intercompany"]
[71611540,"Misc Nonutility Rev Rent Intercompany"]
[71611550,"Misc Nonutility Rev Credit Line Fee Amortization"]
[71621000,"Misc Nonutility Expense"]
[71630000,"Misc Nonutility JV Profit/Loss"]
[71711000,"Gains/Losses SERP Inv (Suppl Exec Retiremnt Plan)"]
[71712000,"Gains/Losses Other Non-Operating"]
[72801000,"Adv Receipt Services Clearing"]
[72801100,"Adv Receipt Non-Services Clearing"]
[72801200,"Adv Refund Services Clearing"]
[72801300,"Adv Refund Non-Services Clearing"]
[72802000,"CIAC Receipt Services Clearing"]
[72802100,"CIAC Receipt Non-Services Clearing"]
[72803000,"Salvage/Scrap Receipt Clearing"]
[72803100,"Property Sale Receipt Clearing"]
[75510000,"Amortize UPAA"]
[75520000,"Amortize Preferred Stock Expense"]
[75810000,"Donations Deductible"]
[75811000,"Donations Deduct Customer Assist"]
[75815000,"Donations Non-deductible"]
[75820000,"Other Income Deductions"]
[75840000,"Lobbying Expenses"]
[75841000,"Political Contributiions"]
[81010000,"Interest Long Term Debt"]
[81011000,"Interest expense LTD - debt discount Outside"]
[81015000,"Interest Long Term Debt Intercompany"]
[81016000,"Interest expense-LTD debt discount amort inside"]
[81017000,"Early Debt Retirement Loss - External"]
[81017100,"Early Debt Retirement Gain - Intercompany"]
[81017200,"Early Debt Retirement Loss - Intercompany"]
[81020000,"Dividends Declared P/S w/ Mand Redemptn Requiremts"]
[81030000,"Interest Capital Lease"]
[81035000,"Interest Capital Lease Intercompany"]
[81050000,"Interest LTD Gain/Loss Hedge SWAP"]
[81050100,"Interest LTD Gain/Loss Hedge Debt"]
[81055200,"Interest LTD Gain/Loss Hedge Intercompany"]
[81310000,"Interest Short Term Debt"]
[81315000,"Interest Short Term Debt Intercompany"]
[81315100,"In-House Cash Center Interest Inc/Exp Clearing"]
[81500000,"Interest Other"]
[81810000,"Interest Income"]
[81815000,"Interest income-LTD intercompany"]
[81815100,"Interest Income - STD Intercompany"]
[81816000,"Interest Income  - LTD debt discount amort"]
[81817000,"AWTR Interest Income  - LTD debt premium amort"]
[82010000,"Amortize Debt Disc & Exp"]
[82011000,"Amort Debt Exp Outside-Revolving Credit Line"]
[82015000,"Amortize Debt Disc & Exp Intercompany"]
[82016000,"Amortize Debt Exp Inside-Revolving Credit Line"]
[82020000,"Amort P/S Exp w/ Mandatory Redemptn Requiremts"]
[85000000,"AFUDC Debt"]
[86021000,"Dividend Declared Common Stock"]
[86021500,"Dividend Declared Common Stock Intercompany"]
[86031000,"Dividend Declared Preferred Stock"]
[86031500,"Dividend Declared Preferred Stock Intercompany"]
[88101000,"Capital Movements - UP"]
[88106000,"Capital Movements - CCNC"]
[88107000,"Capital Movements - CWIP"]
[88108020,"Capital Movements - UP - A/D - Salvage"]
[88121000,"Capital Movements - Non-Utility Property"]
[88121800,"Capital Movements - Non-Utility Property - CWIP"]
[88186800,"Capital Movements - Reg Asset Cost of Removal"]
[88186801,"Capital Movements - Reg Asset Cost of Removal RWIP"]
[88252100,"Capital Movements - ADV NT"]
[88252170,"Capital Movements - ADV NT WIP"]
[88252200,"Capital Movements - ADV Tax"]
[88252270,"Capital Movements - ADV Tax WIP"]
[88257000,"Capital Movements - Cost of Removal"]
[88257100,"Capital Movements - RWIP"]
[88271100,"Capital Movements - CIAC NT"]
[88271170,"Capital Movements - CIAC NT WIP"]
[88271200,"Capital Movements - CIAC Tax"]
[88271270,"Capital Movements - CIAC Tax WIP"]
[88900000,"Capital Movements - Settlement"]
[89999999,"Conversion Exceptions"]

{"sheet":"Additions Pivot","index":1,"n_rows":124,"n_cols":8,"rows_kept":124,"cut":false,"hidden":true,"merged":[]}
["Deferred Depr Calc"]
[null,{"$f":"+'Total Deferred Depr'!P4","v":68011000},{"$f":"+'Total Deferred Depr'!Q4","v":68311000},{"$f":"+'Total Deferred Depr'!R4","v":68011000}]
["Work Order Number","Sum of Life reserve","Sum of COR Reserve","Sum of Salvage Reserve","Profit Center","Cost Center","Profit Center","Cost Center"]
["R10-01K3.19-P-4031",-27301.4895,0,0,{"$f":"MID(A4,2,5)","v":"10-01"},{"$f":"E4&\"05\"","v":"10-0105"},{"$f":"SUBSTITUTE(E4,\"-\",\"\")","v":"1001"},{"$f":"SUBSTITUTE(F4,\"-\",\"\")","v":"100105"}]
["T10-0184-P-1000",-19606.143666666663,0,0,{"$f":"MID(A5,2,5)","v":"10-01"},{"$f":"E5&\"05\"","v":"10-0105"},{"$f":"SUBSTITUTE(E5,\"-\",\"\")","v":"1001"},{"$f":"SUBSTITUTE(F5,\"-\",\"\")","v":"100105"}]
["T10-0185-P-1000",-3538.7695833333328,0,0,"10-01","10-0105","1001","100105"]
["Grand Total",-50446.402750000001,0,0]
[null,{"$f":"SUM(B4:B6)","v":-50446.402750000001}]
[]
[]
[]
[]
[]
[]
[]
[]
[]
[]
[]
[]
[]
[]
[]
[]
[]
[]
[]
[]
[]
[]
[]
[]
[]
[]
[]
[]
[]
[]
[]
[]
[]
[]
[]
[]
[]
[]
[]
[]
[]
[]
[]
[]
[]
[]
[]
[]
[]
[]
[]
[]
[]
[]
[]
[]
[]
[]
[]
[]
[]
[]
[]
[]
[]
[]
[]
[]
[]
[]
[]
[]
[]
[]
[]
[]
[]
[]
[]
[]
[]
[]
[]
[]
[]
[]
[]
[]
[]
[]
[]
[]
[]
[]
[]
[]
[]
[]
[]
[]
[]
[]
[]
[]
[]
[]
[]
[]
[]
[]
[]
[]
[]
[]
[]
[null,null,null,null,null,null,{"$f":"SUBSTITUTE(E124,\"-\",\"\")","v":""},{"$f":"SUBSTITUTE(F124,\"-\",\"\")","v":""}]

{"sheet":"Cover Page","index":2,"n_rows":6,"n_cols":4,"rows_kept":6,"cut":false,"hidden":false,"merged":[]}
[]
[]
[]
[null,null,null,"Cause No. 45609 SEI-1 S1"]
[null,null,null,"Indiana American Water Company"]
[null,null,null,"Workpaper GDS-4R"]

{"sheet":"Total Deferred Depr","index":3,"n_rows":369,"n_cols":20,"rows_kept":369,"cut":false,"hidden":false,"merged":[]}
["CR query for UN,UP doc types so have each month of CWIP transfers for depr base calc",null,null,null,null,null,null,null,null,null,null,null,null,"2022-10-01","redo this column monthly"]
[null,null,null,null,null,null,null,null,null,null,null,null,null,null,"latest month errors; kept prior month convention"]
[]
[null,null,null,null,null,"when added to CPR",null,null,null,null,null,null,null,{"$f":"+F4","v":"when added to CPR"},null,68011000,68311000,68011000]
["Company","Work Order Number","Account","Document Type","Posting WBS","Month Number","Amount","Depr Group","Life Rate","COR Rate","Slvg Rate??","yr","month","Depr begins","#months","Life reserve","COR Reserve","Salvage Reserve"]
["1010","R10-01K3.19-P-4031","10700000","UN","R10-01K3.19-P-4031",202103,172430.46,{"$f":"VLOOKUP($B6,'WBS by Depr info'!$A$5:$G$147,2,0)","v":"10C:340300"},{"$f":"VLOOKUP($H6,'WBS by Depr info'!$B$4:$G$147,4,0)","v":0.1},{"$f":"VLOOKUP($H6,'WBS by Depr info'!$B$4:$G$147,5,0)","v":0},{"$f":"VLOOKUP($H6,'WBS by Depr info'!$B$4:$G$147,6,0)","v":0},{"$f":"LEFT(F6,4)","v":"2021"},{"$f":"RIGHT(F6,2)","v":"03"},{"$f":"CONCATENATE(M6,\"/\",1,\"/\",L6)","v":"03/1/2021"},{"$f":"((DAYS360($N6,$N$1)/30))","v":19},{"$f":"$G6*($I6/12)*$O6","v":27301.4895},{"$f":"$G6*($J6/12)*$O6","v":0},{"$f":"$G6*($K6/12)*$O6","v":0}]
["1010","R10-01K3.19-P-4031","10700000","UP","R10-01K3.19-P-4031",202203,0,{"$f":"VLOOKUP($B7,'WBS by Depr info'!$A$5:$G$147,2,0)","v":"10C:340300"},{"$f":"VLOOKUP($H7,'WBS by Depr info'!$B$4:$G$147,4,0)","v":0.1},{"$f":"VLOOKUP($H7,'WBS by Depr info'!$B$4:$G$147,5,0)","v":0},{"$f":"VLOOKUP($H7,'WBS by Depr info'!$B$4:$G$147,6,0)","v":0},"2022","03","03/1/2022",{"$f":"((DAYS360($N7,$N$1)/30))","v":7},0,0,0]
["1010","T10-0184-P-1000","10700000","UN","T10-0184-P-1000",202011,85959.3,{"$f":"VLOOKUP($B8,'WBS by Depr info'!$A$5:$G$147,2,0)","v":"10C:340300"},{"$f":"VLOOKUP($H8,'WBS by Depr info'!$B$4:$G$147,4,0)","v":0.1},{"$f":"VLOOKUP($H8,'WBS by Depr info'!$B$4:$G$147,5,0)","v":0},{"$f":"VLOOKUP($H8,'WBS by Depr info'!$B$4:$G$147,6,0)","v":0},"2020","11","11/1/2020",23,16475.532500000001,0,0]
["1010","T10-0184-P-1000","10700000","UN","T10-0184-P-1000",202012,16473.650000000001,{"$f":"VLOOKUP($B9,'WBS by Depr info'!$A$5:$G$147,2,0)","v":"10C:340300"},{"$f":"VLOOKUP($H9,'WBS by Depr info'!$B$4:$G$147,4,0)","v":0.1},{"$f":"VLOOKUP($H9,'WBS by Depr info'!$B$4:$G$147,5,0)","v":0},{"$f":"VLOOKUP($H9,'WBS by Depr info'!$B$4:$G$147,6,0)","v":0},"2020","12","12/1/2020",22,3020.1691666666666,0,0]
["1010","T10-0184-P-1000","10700000","UN","T10-0184-P-1000",202101,615.86,{"$f":"VLOOKUP($B10,'WBS by Depr info'!$A$5:$G$147,2,0)","v":"10C:340300"},{"$f":"VLOOKUP($H10,'WBS by Depr info'!$B$4:$G$147,4,0)","v":0.1},{"$f":"VLOOKUP($H10,'WBS by Depr info'!$B$4:$G$147,5,0)","v":0},{"$f":"VLOOKUP($H10,'WBS by Depr info'!$B$4:$G$147,6,0)","v":0},"2021","01","01/1/2021",21,107.77549999999999,0,0]
["1010","T10-0184-P-1000","10700000","UN","T10-0184-P-1000",202102,517.66999999999996,{"$f":"VLOOKUP($B11,'WBS by Depr info'!$A$5:$G$147,2,0)","v":"10C:340300"},{"$f":"VLOOKUP($H11,'WBS by Depr info'!$B$4:$G$147,4,0)","v":0.1},{"$f":"VLOOKUP($H11,'WBS by Depr info'!$B$4:$G$147,5,0)","v":0},{"$f":"VLOOKUP($H11,'WBS by Depr info'!$B$4:$G$147,6,0)","v":0},"2021","02","02/1/2021",20,86.278333333333336,0,0]
["1010","T10-0184-P-1000","10700000","UN","T10-0184-P-1000",202103,-551.20000000000005,{"$f":"VLOOKUP($B12,'WBS by Depr info'!$A$5:$G$147,2,0)","v":"10C:340300"},{"$f":"VLOOKUP($H12,'WBS by Depr info'!$B$4:$G$147,4,0)","v":0.1},{"$f":"VLOOKUP($H12,'WBS by Depr info'!$B$4:$G$147,5,0)","v":0},{"$f":"VLOOKUP($H12,'WBS by Depr info'!$B$4:$G$147,6,0)","v":0},"2021","03","03/1/2021",19,-87.273333333333341,0,0]
["1010","T10-0184-P-1000","10700000","UN","T10-0184-P-1000",202104,24.41,{"$f":"VLOOKUP($B13,'WBS by Depr info'!$A$5:$G$147,2,0)","v":"10C:340300"},{"$f":"VLOOKUP($H13,'WBS by Depr info'!$B$4:$G$147,4,0)","v":0.1},{"$f":"VLOOKUP($H13,'WBS by Depr info'!$B$4:$G$147,5,0)","v":0},{"$f":"VLOOKUP($H13,'WBS by Depr info'!$B$4:$G$147,6,0)","v":0},"2021","04","04/1/2021",18,3.6614999999999998,0,0]
["1010","T10-0185-P-1000","10700000","UN","T10-0185-P-1000",202106,25348.240000000002,{"$f":"VLOOKUP($B14,'WBS by Depr info'!$A$5:$G$147,2,0)","v":"10C:340300"},{"$f":"VLOOKUP($H14,'WBS by Depr info'!$B$4:$G$147,4,0)","v":0.1},{"$f":"VLOOKUP($H14,'WBS by Depr info'!$B$4:$G$147,5,0)","v":0},{"$f":"VLOOKUP($H14,'WBS by Depr info'!$B$4:$G$147,6,0)","v":0},"2021","06","06/1/2021",16,3379.7653333333333,0,0]
["1010","T10-0185-P-1000","10700000","UN","T10-0185-P-1000",202107,232.67,{"$f":"VLOOKUP($B15,'WBS by Depr info'!$A$5:$G$147,2,0)","v":"10C:340300"},{"$f":"VLOOKUP($H15,'WBS by Depr info'!$B$4:$G$147,4,0)","v":0.1},{"$f":"VLOOKUP($H15,'WBS by Depr info'!$B$4:$G$147,5,0)","v":0},{"$f":"VLOOKUP($H15,'WBS by Depr info'!$B$4:$G$147,6,0)","v":0},"2021","07","07/1/2021",15,29.083749999999998,0,0]
["1010","T10-0185-P-1000","10700000","UN","T10-0185-P-1000",202108,121.14,{"$f":"VLOOKUP($B16,'WBS by Depr info'!$A$5:$G$147,2,0)","v":"10C:340300"},{"$f":"VLOOKUP($H16,'WBS by Depr info'!$B$4:$G$147,4,0)","v":0.1},{"$f":"VLOOKUP($H16,'WBS by Depr info'!$B$4:$G$147,5,0)","v":0},{"$f":"VLOOKUP($H16,'WBS by Depr info'!$B$4:$G$147,6,0)","v":0},"2021","08","08/1/2021",14,14.133000000000001,0,0]
["1010","T10-0185-P-1000","10700000","UN","T10-0185-P-1000",202112,1389.45,{"$f":"VLOOKUP($B17,'WBS by Depr info'!$A$5:$G$147,2,0)","v":"10C:340300"},{"$f":"VLOOKUP($H17,'WBS by Depr info'!$B$4:$G$147,4,0)","v":0.1},{"$f":"VLOOKUP($H17,'WBS by Depr info'!$B$4:$G$147,5,0)","v":0},{"$f":"VLOOKUP($H17,'WBS by Depr info'!$B$4:$G$147,6,0)","v":0},"2021","12","12/1/2021",10,115.78749999999999,0,0]
["1010","T10-0185-P-1000","10700000","UP","T10-0185-P-1000",202203,0,{"$f":"VLOOKUP($B18,'WBS by Depr info'!$A$5:$G$147,2,0)","v":"10C:340300"},{"$f":"VLOOKUP($H18,'WBS by Depr info'!$B$4:$G$147,4,0)","v":0.1},{"$f":"VLOOKUP($H18,'WBS by Depr info'!$B$4:$G$147,5,0)","v":0},{"$f":"VLOOKUP($H18,'WBS by Depr info'!$B$4:$G$147,6,0)","v":0},"2022","03","03/1/2022",7,0,0,0]
[]
[null,null,null,null,null,null,null,null,null,null,null,null,null,null,null,{"$f":"SUM(P6:P19)","v":50446.402750000008},{"$f":"SUM(Q6:Q19)","v":0},0]
[]
[null,null,null,null,null,null,null,null,null,null,null,null,null,null,null,{"$f":"SUM(P20:R20)","v":50446.402750000008}]
[]
[]
[]
[]
[]
[]
[]
[]
[]
[]
[]
[]
[]
[]
[]
[]
[]
[]
[]
[]
[]
[]
[]
[]
[]
[]
[]
[]
[]
[]
[]
[]
[]
[]
[]
[]
[]
[]
[]
[]
[]
[]
[]
[]
[]
[]
[]
[]
[]
[]
[]
[]
[]
[]
[]
[]
[]
[]
[]
[]
[]
[]
[]
[]
[]
[]
[]
[]
[]
[]
[]
[]
[]
[]
[]
[]
[]
[]
[]
[]
[]
[]
[]
[]
[]
[]
[]
[]
[]
[]
[]
[]
[]
[]
[]
[]
[]
[]
[]
[]
[]
[]
[]
[]
[]
[]
[]
[]
[]
[]
[]
[]
[]
[]
[]
[]
[]
[]
[]
[]
[]
[]
[]
[]
[]
[]
[]
[]
[]
[]
[]
[]
[]
[]
[]
[]
[]
[]
[]
[]
[]
[]
[]
[]
[]
[]
[]
[]
[]
[]
[]
[]
[]
[]
[]
[]
[]
[]
[]
[]
[]
[]
[]
[]
[]
[]
[]
[]
[]
[]
[]
[]
[]
[]
[]
[]
[]
[]
[]
[]
[]
[]
[]
[]
[]
[]
[]
[]
[]
[]
[]
[]
[]
[]
[]
[]
[]
[]
[]
[]
[]
[]
[]
[]
[]
[]
[]
[]
[]
[]
[]
[]
[]
[]
[]
[]
[]
[]
[]
[]
[]
[]
[]
[]
[]
[]
[]
[]
[]
[]
[]
[]
[]
[]
[]
[]
[]
[]
[]
[]
[]
[]
[]
[]
[]
[]
[]
[]
[]
[]
[]
[]
[]
[]
[]
[]
[]
[]
[]
[]
[]
[]
[]
[]
[]
[]
[]
[]
[]
[]
[]
[]
[]
[]
[]
[]
[]
[]
[]
[]
[]
[]
[]
[]
[]
[]
[]
[]
[]
[]
[]
[]
[]
[]
[]
[]
[]
[]
[]
[]
[]
[]
[]
[]
[]
[]
[]
[]
[]
[]
[]
[]
[]
[]
[]
[]
[]
[]
[]
[]
[]
[]
[]
[]
[]
[]
[]
[]
[]
[]
[]
[]
[]
[]
[]
[]
[]
[]
[]
[null,null,null,null,null,null,null,null,null,null,null,null,null,null,null,null,null,null,null,"."]
[]
[]
[]
[]
[]
[]
[null,null,null,null,null,null,null,null,null,null,null,null,null,null,null,{"$f":"SUM(P6:P366)","v":151339.20825000003},{"$f":"SUM(Q6:Q366)","v":0},{"$f":"SUM(R6:R366)","v":0}]

{"sheet":"Total PIS","index":4,"n_rows":13,"n_cols":7,"rows_kept":13,"cut":false,"hidden":false,"merged":[]}
["CWIP only all months is source",null,null,85000000,70510000]
["Represents Yr and Mo in Service"]
["Row Labels","Sum of Amount","Allocation","Debt","Equity","Code","Cost Center"]
["2020-11-20",103039.68999999999]
["T10-0184-P-1000",103039.68999999999,{"$f":"+B5/$B$4","v":1},{"$f":"$C5*'112020 PIS Summary'!$K$5","v":4193.6099999999997},{"$f":"$C5*'112020 PIS Summary'!$J$5","v":9077.65},{"$f":"MID(A5,2,5)","v":"10-01"},{"$f":"F5&\"05\"","v":"10-0105"}]
["2021-06-15",27091.500000000018]
["T10-0185-P-1000",27091.500000000018,{"$f":"+B7/$B$6","v":1},{"$f":"$C7*'062021 PIS Summary'!$K$5","v":749.53500000000008},{"$f":"$C7*'062021 PIS Summary'!$J$5","v":1622.4749999999999},{"$f":"MID(A7,2,5)","v":"10-01"},{"$f":"F7&\"05\"","v":"10-0105"}]
["2021-03-01",172430.4599999999]
["R10-01K3.19-P-4031",172430.4599999999,{"$f":"+B9/$B$8","v":1},{"$f":"$C9*'032021 PIS Summary'!$K$5","v":5805.2550000000001},{"$f":"$C9*'032021 PIS Summary'!$J$5","v":12566.274999999998},{"$f":"MID(A9,2,5)","v":"10-01"},{"$f":"F9&\"05\"","v":"10-0105"}]
["Grand Total",302561.64999999991]
[null,null,null,{"$f":"SUM(D5:D9)","v":10748.4},{"$f":"SUM(E5:E9)","v":23266.399999999998}]
[]
[null,null,null,{"$f":"SUM(D11:E11)","v":34014.799999999996}]

{"sheet":"112020 PIS Summary","index":5,"n_rows":63,"n_cols":12,"rows_kept":63,"cut":false,"hidden":true,"merged":[]}
["Indiana American Water"]
["Post In Service AFUDC Calc"]
["11/1/2020-",null,null,null,null,null,null,null,null,{"$f":"SUM('CR CWIP query 112020 ISD'!H:H)+J5+K5-G62","v":0},"check"]
[]
[null,null,null,null,null,null,null,null,null,{"$f":"SUM(J35,J49,J51:J61)","v":9077.65},{"$f":"SUM(K35,K49,K51:K61)","v":4193.6099999999997},{"$f":"SUM(L35,L49,L51:L61)","v":4884.04}]
[]
["Year","Month","Grand Total CWIP","Beginning AFUDC Base","Current Month Charges","50% Charge Current Charge","Current Base","PIS AFUDC Monthly Equity Rate","PIS AFUDC Monthly  Debt Rate","PIS AFUDC Equity to be Recorded","PIS AFUDC Debt to be Recorded","AFUDC PIS Equity Reduction to record"]
[]
[2019,1,{"$f":"SUMIFS('CR CWIP query 112020 ISD'!$H:$H,'CR CWIP query 112020 ISD'!$L:$L,'112020 PIS Summary'!A9,'CR CWIP query 112020 ISD'!$K:$K,'112020 PIS Summary'!B9)","v":0},{"$f":"+D6+E6+J6+K6","v":0},{"$f":"C9","v":0},{"$f":"0.5*E9","v":0},{"$f":"+D9+F9","v":0},3.5608300000000001E-3,1.645E-3]
[2019,2,{"$f":"SUMIFS('CR CWIP query 112020 ISD'!$H:$H,'CR CWIP query 112020 ISD'!$L:$L,'112020 PIS Summary'!A10,'CR CWIP query 112020 ISD'!$K:$K,'112020 PIS Summary'!B10)","v":0},{"$f":"+D9+E9+J9+K9","v":0},0,{"$f":"0.5*E10","v":0},{"$f":"+D10+F10","v":0},3.5608300000000001E-3,1.645E-3]
[2019,3,{"$f":"SUMIFS('CR CWIP query 112020 ISD'!$H:$H,'CR CWIP query 112020 ISD'!$L:$L,'112020 PIS Summary'!A11,'CR CWIP query 112020 ISD'!$K:$K,'112020 PIS Summary'!B11)","v":0},0,0,0,0,3.5608300000000001E-3,1.645E-3]
[2019,4,{"$f":"SUMIFS('CR CWIP query 112020 ISD'!$H:$H,'CR CWIP query 112020 ISD'!$L:$L,'112020 PIS Summary'!A12,'CR CWIP query 112020 ISD'!$K:$K,'112020 PIS Summary'!B12)","v":0},0,{"$f":"C12","v":0},{"$f":"0.5*E12","v":0},{"$f":"+D12+F12","v":0},3.5608300000000001E-3,1.645E-3]
[2019,5,{"$f":"SUMIFS('CR CWIP query 112020 ISD'!$H:$H,'CR CWIP query 112020 ISD'!$L:$L,'112020 PIS Summary'!A13,'CR CWIP query 112020 ISD'!$K:$K,'112020 PIS Summary'!B13)","v":0},0,{"$f":"C13","v":0},{"$f":"0.5*E13","v":0},{"$f":"+D13+F13","v":0},3.5608300000000001E-3,1.645E-3]
[2019,6,{"$f":"SUMIFS('CR CWIP query 112020 ISD'!$H:$H,'CR CWIP query 112020 ISD'!$L:$L,'112020 PIS Summary'!A14,'CR CWIP query 112020 ISD'!$K:$K,'112020 PIS Summary'!B14)","v":0},0,0,0,0,3.5608300000000001E-3,1.645E-3]
[2019,7,{"$f":"SUMIFS('CR CWIP query 112020 ISD'!$H:$H,'CR CWIP query 112020 ISD'!$L:$L,'112020 PIS Summary'!A15,'CR CWIP query 112020 ISD'!$K:$K,'112020 PIS Summary'!B15)","v":0},0,0,0,0,3.5608300000000001E-3,1.645E-3]
[2019,8,{"$f":"SUMIFS('CR CWIP query 112020 ISD'!$H:$H,'CR CWIP query 112020 ISD'!$L:$L,'112020 PIS Summary'!A16,'CR CWIP query 112020 ISD'!$K:$K,'112020 PIS Summary'!B16)","v":0},0,0,0,0,3.5608300000000001E-3,1.645E-3]
[2019,9,{"$f":"SUMIFS('CR CWIP query 112020 ISD'!$H:$H,'CR CWIP query 112020 ISD'!$L:$L,'112020 PIS Summary'!A17,'CR CWIP query 112020 ISD'!$K:$K,'112020 PIS Summary'!B17)","v":0},0,0,0,0,3.5608300000000001E-3,1.645E-3]
[2019,10,{"$f":"SUMIFS('CR CWIP query 112020 ISD'!$H:$H,'CR CWIP query 112020 ISD'!$L:$L,'112020 PIS Summary'!A18,'CR CWIP query 112020 ISD'!$K:$K,'112020 PIS Summary'!B18)","v":0},0,0,0,0,3.5608300000000001E-3,1.645E-3]
[2019,11,{"$f":"SUMIFS('CR CWIP query 112020 ISD'!$H:$H,'CR CWIP query 112020 ISD'!$L:$L,'112020 PIS Summary'!A19,'CR CWIP query 112020 ISD'!$K:$K,'112020 PIS Summary'!B19)","v":0},0,0,0,0,3.5608300000000001E-3,1.645E-3]
[2019,12,{"$f":"SUMIFS('CR CWIP query 112020 ISD'!$H:$H,'CR CWIP query 112020 ISD'!$L:$L,'112020 PIS Summary'!A20,'CR CWIP query 112020 ISD'!$K:$K,'112020 PIS Summary'!B20)","v":0},0,{"$f":"C20","v":0},{"$f":"0.5*E20","v":0},{"$f":"+D20+F20","v":0},3.5608300000000001E-3,1.645E-3]
["19 Total",null,{"$f":"SUM(C9:C20)","v":0},null,{"$f":"SUM(E9:E20)","v":0},null,null,null,null,{"$f":"SUM(J9:J20)","v":0},{"$f":"SUM(K9:K20)","v":0},{"$f":"SUM(L9:L20)","v":0}]
[]
[2020,1,{"$f":"SUMIFS('CR CWIP query 112020 ISD'!$H:$H,'CR CWIP query 112020 ISD'!$L:$L,'112020 PIS Summary'!A23,'CR CWIP query 112020 ISD'!$K:$K,'112020 PIS Summary'!B23)","v":0},{"$f":"+D20+E20+J20+K20","v":0},{"$f":"C23","v":0},{"$f":"0.5*E23","v":0},{"$f":"+D23+F23","v":0},3.5608300000000001E-3,1.645E-3]
[2020,2,{"$f":"SUMIFS('CR CWIP query 112020 ISD'!$H:$H,'CR CWIP query 112020 ISD'!$L:$L,'112020 PIS Summary'!A24,'CR CWIP query 112020 ISD'!$K:$K,'112020 PIS Summary'!B24)","v":0},{"$f":"+D23+E23+J23+K23","v":0},0,{"$f":"0.5*E24","v":0},{"$f":"+D24+F24","v":0},3.5608300000000001E-3,1.645E-3]
[2020,3,{"$f":"SUMIFS('CR CWIP query 112020 ISD'!$H:$H,'CR CWIP query 112020 ISD'!$L:$L,'112020 PIS Summary'!A25,'CR CWIP query 112020 ISD'!$K:$K,'112020 PIS Summary'!B25)","v":0},0,0,0,0,3.5608300000000001E-3,1.645E-3]
[2020,4,{"$f":"SUMIFS('CR CWIP query 112020 ISD'!$H:$H,'CR CWIP query 112020 ISD'!$L:$L,'112020 PIS Summary'!A26,'CR CWIP query 112020 ISD'!$K:$K,'112020 PIS Summary'!B26)","v":0},0,{"$f":"C26","v":0},{"$f":"0.5*E26","v":0},{"$f":"+D26+F26","v":0},3.5608300000000001E-3,1.645E-3]
[2020,5,{"$f":"SUMIFS('CR CWIP query 112020 ISD'!$H:$H,'CR CWIP query 112020 ISD'!$L:$L,'112020 PIS Summary'!A27,'CR CWIP query 112020 ISD'!$K:$K,'112020 PIS Summary'!B27)","v":0},0,{"$f":"C27","v":0},{"$f":"0.5*E27","v":0},{"$f":"+D27+F27","v":0},3.5608300000000001E-3,1.645E-3]
[2020,6,{"$f":"SUMIFS('CR CWIP query 112020 ISD'!$H:$H,'CR CWIP query 112020 ISD'!$L:$L,'112020 PIS Summary'!A28,'CR CWIP query 112020 ISD'!$K:$K,'112020 PIS Summary'!B28)","v":68942.3},0,68942.3,34471.15,34471.15,3.5608300000000001E-3,1.645E-3]
[2020,7,{"$f":"SUMIFS('CR CWIP query 112020 ISD'!$H:$H,'CR CWIP query 112020 ISD'!$L:$L,'112020 PIS Summary'!A29,'CR CWIP query 112020 ISD'!$K:$K,'112020 PIS Summary'!B29)","v":686.9},68942.3,686.9,343.45,69285.75,3.5608300000000001E-3,1.645E-3]
[2020,8,{"$f":"SUMIFS('CR CWIP query 112020 ISD'!$H:$H,'CR CWIP query 112020 ISD'!$L:$L,'112020 PIS Summary'!A30,'CR CWIP query 112020 ISD'!$K:$K,'112020 PIS Summary'!B30)","v":2138.3500000000004},69629.2,2138.3500000000004,1069.1750000000002,70698.375,3.5608300000000001E-3,1.645E-3]
[2020,9,{"$f":"SUMIFS('CR CWIP query 112020 ISD'!$H:$H,'CR CWIP query 112020 ISD'!$L:$L,'112020 PIS Summary'!A31,'CR CWIP query 112020 ISD'!$K:$K,'112020 PIS Summary'!B31)","v":1027.4399999999998},71767.55,1027.4399999999998,513.71999999999991,72281.27,3.5608300000000001E-3,1.645E-3]
[2020,10,{"$f":"SUMIFS('CR CWIP query 112020 ISD'!$H:$H,'CR CWIP query 112020 ISD'!$L:$L,'112020 PIS Summary'!A32,'CR CWIP query 112020 ISD'!$K:$K,'112020 PIS Summary'!B32)","v":12578.409999999998},72794.990000000005,12578.409999999998,6289.204999999999,79084.195000000007,3.5608300000000001E-3,1.645E-3]
[2020,11,{"$f":"SUMIFS('CR CWIP query 112020 ISD'!$H:$H,'CR CWIP query 112020 ISD'!$L:$L,'112020 PIS Summary'!A33,'CR CWIP query 112020 ISD'!$K:$K,'112020 PIS Summary'!B33)","v":585.90000000000009},85373.400000000009,585.90000000000009,292.95000000000005,85666.35,3.5608300000000001E-3,1.645E-3,{"$f":"ROUND($G33*H33,2)*0.5","v":152.52000000000001},{"$f":"ROUND($G33*I33,2)*0.5","v":70.459999999999994},{"$f":"+J33-K33","v":82.060000000000016}]
[2020,12,{"$f":"SUMIFS('CR CWIP query 112020 ISD'!$H:$H,'CR CWIP query 112020 ISD'!$L:$L,'112020 PIS Summary'!A34,'CR CWIP query 112020 ISD'!$K:$K,'112020 PIS Summary'!B34)","v":16473.650000000001},86182.280000000013,{"$f":"C34","v":16473.650000000001},{"$f":"0.5*E34","v":8236.8250000000007},{"$f":"+D34+F34","v":94419.10500000001},3.5608300000000001E-3,1.645E-3,{"$f":"ROUND($G34*H34,2)","v":336.21},{"$f":"ROUND($G34*I34,2)","v":155.32},{"$f":"+J34-K34","v":180.89}]
["20 Total",null,{"$f":"SUM(C23:C34)","v":102432.95000000001},null,{"$f":"SUM(E24:E34)","v":102432.95000000001},null,null,null,null,{"$f":"SUM(J23:J34)","v":488.73},{"$f":"SUM(K23:K34)","v":225.77999999999997},262.95]
[]
[2021,1,{"$f":"SUMIFS('CR CWIP query 112020 ISD'!$H:$H,'CR CWIP query 112020 ISD'!$L:$L,'112020 PIS Summary'!A37,'CR CWIP query 112020 ISD'!$K:$K,'112020 PIS Summary'!B37)","v":615.86000000000013},{"$f":"+D34+E34+J34+K34","v":103147.46000000004},{"$f":"C37","v":615.86000000000013},{"$f":"0.5*E37","v":307.93000000000006},{"$f":"+D37+F37","v":103455.39000000003},3.5608300000000001E-3,1.645E-3,{"$f":"ROUND($G37*H37,2)","v":368.39},170.18,{"$f":"+J37-K37","v":198.20999999999998}]
[2021,2,{"$f":"SUMIFS('CR CWIP query 112020 ISD'!$H:$H,'CR CWIP query 112020 ISD'!$L:$L,'112020 PIS Summary'!A38,'CR CWIP query 112020 ISD'!$K:$K,'112020 PIS Summary'!B38)","v":517.66999999999996},{"$f":"+D37+E37+J37+K37","v":104301.89000000003},517.66999999999996,{"$f":"0.5*E38","v":258.83499999999998},{"$f":"+D38+F38","v":104560.72500000003},3.5608300000000001E-3,1.645E-3,{"$f":"ROUND($G38*H38,2)","v":372.32},{"$f":"ROUND($G38*I38,2)","v":172},200.32]
[2021,3,{"$f":"SUMIFS('CR CWIP query 112020 ISD'!$H:$H,'CR CWIP query 112020 ISD'!$L:$L,'112020 PIS Summary'!A39,'CR CWIP query 112020 ISD'!$K:$K,'112020 PIS Summary'!B39)","v":-526.79},{"$f":"+D38+E38+J38+K38","v":105363.88000000003},-526.79,-263.39499999999998,105100.48500000003,3.5608300000000001E-3,1.645E-3,374.24,172.89,{"$f":"+J39-K39","v":201.35000000000002}]
[2021,4,{"$f":"SUMIFS('CR CWIP query 112020 ISD'!$H:$H,'CR CWIP query 112020 ISD'!$L:$L,'112020 PIS Summary'!A40,'CR CWIP query 112020 ISD'!$K:$K,'112020 PIS Summary'!B40)","v":0},{"$f":"+D39+E39+J39+K39","v":105384.22000000004},0,0,105384.22000000004,3.5608300000000001E-3,1.645E-3,375.26,173.36,201.89999999999998]
[2021,5,{"$f":"SUMIFS('CR CWIP query 112020 ISD'!$H:$H,'CR CWIP query 112020 ISD'!$L:$L,'112020 PIS Summary'!A41,'CR CWIP query 112020 ISD'!$K:$K,'112020 PIS Summary'!B41)","v":0},{"$f":"+D40+E40+J40+K40","v":105932.84000000004},0,0,105932.84000000004,3.5608300000000001E-3,1.645E-3,377.21,174.26,202.95]
[2021,6,{"$f":"SUMIFS('CR CWIP query 112020 ISD'!$H:$H,'CR CWIP query 112020 ISD'!$L:$L,'112020 PIS Summary'!A42,'CR CWIP query 112020 ISD'!$K:$K,'112020 PIS Summary'!B42)","v":0},106484.31000000004,0,0,106484.31000000004,3.5608300000000001E-3,1.645E-3,379.17,175.17,204.00000000000003]
[2021,7,{"$f":"SUMIFS('CR CWIP query 112020 ISD'!$H:$H,'CR CWIP query 112020 ISD'!$L:$L,'112020 PIS Summary'!A43,'CR CWIP query 112020 ISD'!$K:$K,'112020 PIS Summary'!B43)","v":0},107038.65000000004,0,0,107038.65000000004,3.5608300000000001E-3,1.645E-3,381.15,176.08,205.06999999999996]
[2021,8,{"$f":"SUMIFS('CR CWIP query 112020 ISD'!$H:$H,'CR CWIP query 112020 ISD'!$L:$L,'112020 PIS Summary'!A44,'CR CWIP query 112020 ISD'!$K:$K,'112020 PIS Summary'!B44)","v":0},107595.88000000003,0,0,107595.88000000003,3.5608300000000001E-3,1.645E-3,383.13,177,206.13]
[2021,9,{"$f":"SUMIFS('CR CWIP query 112020 ISD'!$H:$H,'CR CWIP query 112020 ISD'!$L:$L,'112020 PIS Summary'!A45,'CR CWIP query 112020 ISD'!$K:$K,'112020 PIS Summary'!B45)","v":0},108156.01000000004,0,0,108156.01000000004,3.5608300000000001E-3,1.645E-3,385.13,177.92,207.21]
[2021,10,{"$f":"SUMIFS('CR CWIP query 112020 ISD'!$H:$H,'CR CWIP query 112020 ISD'!$L:$L,'112020 PIS Summary'!A46,'CR CWIP query 112020 ISD'!$K:$K,'112020 PIS Summary'!B46)","v":0},108719.06000000004,0,0,108719.06000000004,3.5608300000000001E-3,1.645E-3,387.13,178.84,208.29]
[2021,11,{"$f":"SUMIFS('CR CWIP query 112020 ISD'!$H:$H,'CR CWIP query 112020 ISD'!$L:$L,'112020 PIS Summary'!A47,'CR CWIP query 112020 ISD'!$K:$K,'112020 PIS Summary'!B47)","v":0},109285.03000000004,0,0,109285.03000000004,3.5608300000000001E-3,1.645E-3,389.15,179.77,209.37999999999997]
[2021,12,{"$f":"SUMIFS('CR CWIP query 112020 ISD'!$H:$H,'CR CWIP query 112020 ISD'!$L:$L,'112020 PIS Summary'!A48,'CR CWIP query 112020 ISD'!$K:$K,'112020 PIS Summary'!B48)","v":0},109853.95000000004,0,0,109853.95000000004,3.5608300000000001E-3,1.645E-3,391.17,180.71,210.46]
["21 Total",null,{"$f":"SUM(C37:C48)","v":606.74000000000024},null,{"$f":"SUM(E37:E48)","v":606.74000000000024},null,null,null,null,{"$f":"SUM(J37:J48)","v":4563.4500000000007},{"$f":"SUM(K37:K48)","v":2108.1799999999998},{"$f":"SUM(L37:L48)","v":2455.27}]
[]
[2022,1,{"$f":"SUMIFS('CR CWIP query 112020 ISD'!$H:$H,'CR CWIP query 112020 ISD'!$L:$L,'112020 PIS Summary'!A51,'CR CWIP query 112020 ISD'!$K:$K,'112020 PIS Summary'!B51)","v":0},{"$f":"+D48+E48+J48+K48","v":110425.83000000005},{"$f":"C51","v":0},{"$f":"0.5*E51","v":0},{"$f":"+D51+F51","v":110425.83000000005},3.5608300000000001E-3,1.645E-3,{"$f":"ROUND($G51*H51,2)","v":393.21},{"$f":"ROUND($G51*I51,2)","v":181.65},{"$f":"+J51-K51","v":211.55999999999997}]
[2022,2,{"$f":"SUMIFS('CR CWIP query 112020 ISD'!$H:$H,'CR CWIP query 112020 ISD'!$L:$L,'112020 PIS Summary'!A52,'CR CWIP query 112020 ISD'!$K:$K,'112020 PIS Summary'!B52)","v":0},{"$f":"+D51+E51+J51+K51","v":111000.69000000005},0,{"$f":"0.5*E52","v":0},{"$f":"+D52+F52","v":111000.69000000005},3.5608300000000001E-3,1.645E-3,{"$f":"ROUND($G52*H52,2)","v":395.25},{"$f":"ROUND($G52*I52,2)","v":182.6},{"$f":"+J52-K52","v":212.65}]
[2022,3,{"$f":"SUMIFS('CR CWIP query 112020 ISD'!$H:$H,'CR CWIP query 112020 ISD'!$L:$L,'112020 PIS Summary'!A53,'CR CWIP query 112020 ISD'!$K:$K,'112020 PIS Summary'!B53)","v":0},{"$f":"+D52+E52+J52+K52","v":111578.54000000005},0,0,111578.54000000005,3.5608300000000001E-3,1.645E-3,{"$f":"ROUND($G53*H53,2)","v":397.31},{"$f":"ROUND($G53*I53,2)","v":183.55},213.76]
[2022,4,{"$f":"SUMIFS('CR CWIP query 112020 ISD'!$H:$H,'CR CWIP query 112020 ISD'!$L:$L,'112020 PIS Summary'!A54,'CR CWIP query 112020 ISD'!$K:$K,'112020 PIS Summary'!B54)","v":0},{"$f":"+D53+E53+J53+K53","v":112159.40000000005},0,0,112159.40000000005,3.5608300000000001E-3,1.645E-3,{"$f":"ROUND($G54*H54,2)","v":399.38},184.5,{"$f":"+J54-K54","v":214.88}]
[2022,5,{"$f":"SUMIFS('CR CWIP query 112020 ISD'!$H:$H,'CR CWIP query 112020 ISD'!$L:$L,'112020 PIS Summary'!A55,'CR CWIP query 112020 ISD'!$K:$K,'112020 PIS Summary'!B55)","v":0},{"$f":"+D54+E54+J54+K54","v":112743.28000000006},0,0,112743.28000000006,3.5608300000000001E-3,1.645E-3,401.46,185.46,215.99999999999997]
[2022,6,{"$f":"SUMIFS('CR CWIP query 112020 ISD'!$H:$H,'CR CWIP query 112020 ISD'!$L:$L,'112020 PIS Summary'!A56,'CR CWIP query 112020 ISD'!$K:$K,'112020 PIS Summary'!B56)","v":0},113330.20000000007,0,0,113330.20000000007,3.5608300000000001E-3,1.645E-3,403.55,186.43,217.12]
[2022,7,{"$f":"SUMIFS('CR CWIP query 112020 ISD'!$H:$H,'CR CWIP query 112020 ISD'!$L:$L,'112020 PIS Summary'!A57,'CR CWIP query 112020 ISD'!$K:$K,'112020 PIS Summary'!B57)","v":0},113920.18000000007,0,0,113920.18000000007,3.5608300000000001E-3,1.645E-3,405.65,187.4,218.24999999999997]
[2022,8,{"$f":"SUMIFS('CR CWIP query 112020 ISD'!$H:$H,'CR CWIP query 112020 ISD'!$L:$L,'112020 PIS Summary'!A58,'CR CWIP query 112020 ISD'!$K:$K,'112020 PIS Summary'!B58)","v":0},114513.23000000005,0,0,114513.23000000005,3.5608300000000001E-3,1.645E-3,{"$f":"ROUND($G58*H58,2)","v":407.76},{"$f":"ROUND($G58*I58,2)","v":188.37},{"$f":"+J58-K58","v":219.39}]
[2022,9,{"$f":"SUMIFS('CR CWIP query 112020 ISD'!$H:$H,'CR CWIP query 112020 ISD'!$L:$L,'112020 PIS Summary'!A59,'CR CWIP query 112020 ISD'!$K:$K,'112020 PIS Summary'!B59)","v":0},115109.36000000004,0,0,115109.36000000004,3.5608300000000001E-3,1.645E-3,409.88,189.35,220.53]
[2022,10,{"$f":"SUMIFS('CR CWIP query 112020 ISD'!$H:$H,'CR CWIP query 112020 ISD'!$L:$L,'112020 PIS Summary'!A60,'CR CWIP query 112020 ISD'!$K:$K,'112020 PIS Summary'!B60)","v":0},115708.59000000005,0,0,115708.59000000005,3.5608300000000001E-3,1.645E-3,412.02,190.34,221.67999999999998]
[2022,11,{"$f":"SUMIFS('CR CWIP query 112020 ISD'!$H:$H,'CR CWIP query 112020 ISD'!$L:$L,'112020 PIS Summary'!A61,'CR CWIP query 112020 ISD'!$K:$K,'112020 PIS Summary'!B61)","v":0},116310.95000000006,0,0,116310.95000000006,3.5608300000000001E-3,1.645E-3]
[2022,12,{"$f":"SUMIFS('CR CWIP query 112020 ISD'!$H:$H,'CR CWIP query 112020 ISD'!$L:$L,'112020 PIS Summary'!A62,'CR CWIP query 112020 ISD'!$K:$K,'112020 PIS Summary'!B62)","v":0},116310.95000000006,0,0,116310.95000000006,3.5608300000000001E-3,1.645E-3]
["22 Total",null,{"$f":"SUM(C51:C62)","v":0},null,{"$f":"SUM(E51:E62)","v":0},null,null,null,null,{"$f":"SUM(J51:J62)","v":4025.4700000000007},{"$f":"SUM(K51:K62)","v":1859.6499999999999},{"$f":"SUM(L51:L62)","v":2165.8199999999997}]

{"sheet":"032021 PIS Summary","index":6,"n_rows":63,"n_cols":12,"rows_kept":63,"cut":false,"hidden":true,"merged":[]}
["Indiana American Water"]
["Post In Service AFUDC Calc"]
["03/1/2021-",null,null,null,null,null,null,null,null,{"$f":"SUM('CR CWIP query 032021 ISD'!H:H)+J5+K5-G62","v":0},"check"]
[]
[null,null,null,null,null,null,null,null,null,{"$f":"SUM(J35,J49,J51:J61)","v":12566.274999999998},{"$f":"SUM(K35,K49,K51:K61)","v":5805.2550000000001},{"$f":"SUM(L35,L49,L51:L61)","v":6761.0199999999995}]
[]
["Year","Month","Grand Total CWIP","Beginning AFUDC Base","Current Month Charges","50% Charge Current Charge","Current Base","PIS AFUDC Monthly Equity Rate","PIS AFUDC Monthly  Debt Rate","PIS AFUDC Equity to be Recorded","PIS AFUDC Debt to be Recorded","AFUDC PIS Equity Reduction to record"]
[]
[2019,1,{"$f":"SUMIFS('CR CWIP query 032021 ISD'!$H:$H,'CR CWIP query 032021 ISD'!$L:$L,'032021 PIS Summary'!A9,'CR CWIP query 032021 ISD'!$K:$K,'032021 PIS Summary'!B9)","v":0},{"$f":"+D6+E6+J6+K6","v":0},{"$f":"C9","v":0},{"$f":"0.5*E9","v":0},{"$f":"+D9+F9","v":0},3.5608300000000001E-3,1.645E-3]
[2019,2,{"$f":"SUMIFS('CR CWIP query 032021 ISD'!$H:$H,'CR CWIP query 032021 ISD'!$L:$L,'032021 PIS Summary'!A10,'CR CWIP query 032021 ISD'!$K:$K,'032021 PIS Summary'!B10)","v":0},{"$f":"+D9+E9+J9+K9","v":0},0,{"$f":"0.5*E10","v":0},{"$f":"+D10+F10","v":0},3.5608300000000001E-3,1.645E-3]
[2019,3,{"$f":"SUMIFS('CR CWIP query 032021 ISD'!$H:$H,'CR CWIP query 032021 ISD'!$L:$L,'032021 PIS Summary'!A11,'CR CWIP query 032021 ISD'!$K:$K,'032021 PIS Summary'!B11)","v":0},0,0,0,0,3.5608300000000001E-3,1.645E-3]
[2019,4,{"$f":"SUMIFS('CR CWIP query 032021 ISD'!$H:$H,'CR CWIP query 032021 ISD'!$L:$L,'032021 PIS Summary'!A12,'CR CWIP query 032021 ISD'!$K:$K,'032021 PIS Summary'!B12)","v":0},0,{"$f":"C12","v":0},{"$f":"0.5*E12","v":0},{"$f":"+D12+F12","v":0},3.5608300000000001E-3,1.645E-3]
[2019,5,{"$f":"SUMIFS('CR CWIP query 032021 ISD'!$H:$H,'CR CWIP query 032021 ISD'!$L:$L,'032021 PIS Summary'!A13,'CR CWIP query 032021 ISD'!$K:$K,'032021 PIS Summary'!B13)","v":0},0,{"$f":"C13","v":0},{"$f":"0.5*E13","v":0},{"$f":"+D13+F13","v":0},3.5608300000000001E-3,1.645E-3]
[2019,6,{"$f":"SUMIFS('CR CWIP query 032021 ISD'!$H:$H,'CR CWIP query 032021 ISD'!$L:$L,'032021 PIS Summary'!A14,'CR CWIP query 032021 ISD'!$K:$K,'032021 PIS Summary'!B14)","v":0},0,0,0,0,3.5608300000000001E-3,1.645E-3]
[2019,7,{"$f":"SUMIFS('CR CWIP query 032021 ISD'!$H:$H,'CR CWIP query 032021 ISD'!$L:$L,'032021 PIS Summary'!A15,'CR CWIP query 032021 ISD'!$K:$K,'032021 PIS Summary'!B15)","v":0},0,0,0,0,3.5608300000000001E-3,1.645E-3]
[2019,8,{"$f":"SUMIFS('CR CWIP query 032021 ISD'!$H:$H,'CR CWIP query 032021 ISD'!$L:$L,'032021 PIS Summary'!A16,'CR CWIP query 032021 ISD'!$K:$K,'032021 PIS Summary'!B16)","v":82320.62},0,82320.62,41160.31,41160.31,3.5608300000000001E-3,1.645E-3]
[2019,9,{"$f":"SUMIFS('CR CWIP query 032021 ISD'!$H:$H,'CR CWIP query 032021 ISD'!$L:$L,'032021 PIS Summary'!A17,'CR CWIP query 032021 ISD'!$K:$K,'032021 PIS Summary'!B17)","v":460.19},82320.62,460.19,230.095,82550.714999999997,3.5608300000000001E-3,1.645E-3]
[2019,10,{"$f":"SUMIFS('CR CWIP query 032021 ISD'!$H:$H,'CR CWIP query 032021 ISD'!$L:$L,'032021 PIS Summary'!A18,'CR CWIP query 032021 ISD'!$K:$K,'032021 PIS Summary'!B18)","v":411.78},82780.81,411.78,205.89,82986.7,3.5608300000000001E-3,1.645E-3]
[2019,11,{"$f":"SUMIFS('CR CWIP query 032021 ISD'!$H:$H,'CR CWIP query 032021 ISD'!$L:$L,'032021 PIS Summary'!A19,'CR CWIP query 032021 ISD'!$K:$K,'032021 PIS Summary'!B19)","v":881.17000000000007},83192.59,881.17000000000007,440.58500000000004,83633.175000000003,3.5608300000000001E-3,1.645E-3]
[2019,12,{"$f":"SUMIFS('CR CWIP query 032021 ISD'!$H:$H,'CR CWIP query 032021 ISD'!$L:$L,'032021 PIS Summary'!A20,'CR CWIP query 032021 ISD'!$K:$K,'032021 PIS Summary'!B20)","v":18477.53},84073.76,{"$f":"C20","v":18477.53},{"$f":"0.5*E20","v":9238.7649999999994},{"$f":"+D20+F20","v":93312.524999999994},3.5608300000000001E-3,1.645E-3]
["19 Total",null,{"$f":"SUM(C9:C20)","v":102551.29},null,{"$f":"SUM(E9:E20)","v":102551.29},null,null,null,null,{"$f":"SUM(J9:J20)","v":0},{"$f":"SUM(K9:K20)","v":0},{"$f":"SUM(L9:L20)","v":0}]
[]
[2020,1,{"$f":"SUMIFS('CR CWIP query 032021 ISD'!$H:$H,'CR CWIP query 032021 ISD'!$L:$L,'032021 PIS Summary'!A23,'CR CWIP query 032021 ISD'!$K:$K,'032021 PIS Summary'!B23)","v":1753.3100000000002},{"$f":"+D20+E20+J20+K20","v":102551.29},{"$f":"C23","v":1753.3100000000002},{"$f":"0.5*E23","v":876.65500000000009},{"$f":"+D23+F23","v":103427.94499999999},3.5608300000000001E-3,1.645E-3]
[2020,2,{"$f":"SUMIFS('CR CWIP query 032021 ISD'!$H:$H,'CR CWIP query 032021 ISD'!$L:$L,'032021 PIS Summary'!A24,'CR CWIP query 032021 ISD'!$K:$K,'032021 PIS Summary'!B24)","v":1240.19},{"$f":"+D23+E23+J23+K23","v":104304.59999999999},1240.19,{"$f":"0.5*E24","v":620.09500000000003},{"$f":"+D24+F24","v":104924.69499999999},3.5608300000000001E-3,1.645E-3]
[2020,3,{"$f":"SUMIFS('CR CWIP query 032021 ISD'!$H:$H,'CR CWIP query 032021 ISD'!$L:$L,'032021 PIS Summary'!A25,'CR CWIP query 032021 ISD'!$K:$K,'032021 PIS Summary'!B25)","v":2754.6799999999994},105544.79,2754.6799999999994,1377.3399999999997,106922.12999999999,3.5608300000000001E-3,1.645E-3]
[2020,4,{"$f":"SUMIFS('CR CWIP query 032021 ISD'!$H:$H,'CR CWIP query 032021 ISD'!$L:$L,'032021 PIS Summary'!A26,'CR CWIP query 032021 ISD'!$K:$K,'032021 PIS Summary'!B26)","v":1295.6599999999999},108299.46999999999,{"$f":"C26","v":1295.6599999999999},{"$f":"0.5*E26","v":647.82999999999993},{"$f":"+D26+F26","v":108947.29999999999},3.5608300000000001E-3,1.645E-3]
[2020,5,{"$f":"SUMIFS('CR CWIP query 032021 ISD'!$H:$H,'CR CWIP query 032021 ISD'!$L:$L,'032021 PIS Summary'!A27,'CR CWIP query 032021 ISD'!$K:$K,'032021 PIS Summary'!B27)","v":1866.3899999999999},109595.12999999999,{"$f":"C27","v":1866.3899999999999},{"$f":"0.5*E27","v":933.19499999999994},{"$f":"+D27+F27","v":110528.325},3.5608300000000001E-3,1.645E-3]
[2020,6,{"$f":"SUMIFS('CR CWIP query 032021 ISD'!$H:$H,'CR CWIP query 032021 ISD'!$L:$L,'032021 PIS Summary'!A28,'CR CWIP query 032021 ISD'!$K:$K,'032021 PIS Summary'!B28)","v":6597.56},111461.51999999999,6597.56,3298.78,114760.29999999999,3.5608300000000001E-3,1.645E-3]
[2020,7,{"$f":"SUMIFS('CR CWIP query 032021 ISD'!$H:$H,'CR CWIP query 032021 ISD'!$L:$L,'032021 PIS Summary'!A29,'CR CWIP query 032021 ISD'!$K:$K,'032021 PIS Summary'!B29)","v":14271.229999999998},118059.07999999999,14271.229999999998,7135.6149999999989,125194.69499999999,3.5608300000000001E-3,1.645E-3]
[2020,8,{"$f":"SUMIFS('CR CWIP query 032021 ISD'!$H:$H,'CR CWIP query 032021 ISD'!$L:$L,'032021 PIS Summary'!A30,'CR CWIP query 032021 ISD'!$K:$K,'032021 PIS Summary'!B30)","v":3181.0599999999995},132330.31,3181.0599999999995,1590.5299999999997,133920.84,3.5608300000000001E-3,1.645E-3]
[2020,9,{"$f":"SUMIFS('CR CWIP query 032021 ISD'!$H:$H,'CR CWIP query 032021 ISD'!$L:$L,'032021 PIS Summary'!A31,'CR CWIP query 032021 ISD'!$K:$K,'032021 PIS Summary'!B31)","v":2172.0500000000002},135511.37,2172.0500000000002,1086.0250000000001,136597.39499999999,3.5608300000000001E-3,1.645E-3]
[2020,10,{"$f":"SUMIFS('CR CWIP query 032021 ISD'!$H:$H,'CR CWIP query 032021 ISD'!$L:$L,'032021 PIS Summary'!A32,'CR CWIP query 032021 ISD'!$K:$K,'032021 PIS Summary'!B32)","v":11596.3},137683.41999999998,11596.3,5798.15,143481.56999999998,3.5608300000000001E-3,1.645E-3]
[2020,11,{"$f":"SUMIFS('CR CWIP query 032021 ISD'!$H:$H,'CR CWIP query 032021 ISD'!$L:$L,'032021 PIS Summary'!A33,'CR CWIP query 032021 ISD'!$K:$K,'032021 PIS Summary'!B33)","v":2803.9},149279.71999999997,2803.9,1401.95,150681.66999999998,3.5608300000000001E-3,1.645E-3]
[2020,12,{"$f":"SUMIFS('CR CWIP query 032021 ISD'!$H:$H,'CR CWIP query 032021 ISD'!$L:$L,'032021 PIS Summary'!A34,'CR CWIP query 032021 ISD'!$K:$K,'032021 PIS Summary'!B34)","v":16790.93},152083.61999999997,{"$f":"C34","v":16790.93},{"$f":"0.5*E34","v":8395.4650000000001},{"$f":"+D34+F34","v":160479.08499999996},3.5608300000000001E-3,1.645E-3]
["20 Total",null,{"$f":"SUM(C23:C34)","v":66323.259999999995},null,{"$f":"SUM(E24:E34)","v":64569.95},null,null,null,null,{"$f":"SUM(J23:J34)","v":0},{"$f":"SUM(K23:K34)","v":0},0]
[]
[2021,1,{"$f":"SUMIFS('CR CWIP query 032021 ISD'!$H:$H,'CR CWIP query 032021 ISD'!$L:$L,'032021 PIS Summary'!A37,'CR CWIP query 032021 ISD'!$K:$K,'032021 PIS Summary'!B37)","v":826.87000000000012},{"$f":"+D34+E34+J34+K34","v":168874.54999999996},{"$f":"C37","v":826.87000000000012},{"$f":"0.5*E37","v":413.43500000000006},{"$f":"+D37+F37","v":169287.98499999996},3.5608300000000001E-3,1.645E-3]
[2021,2,{"$f":"SUMIFS('CR CWIP query 032021 ISD'!$H:$H,'CR CWIP query 032021 ISD'!$L:$L,'032021 PIS Summary'!A38,'CR CWIP query 032021 ISD'!$K:$K,'032021 PIS Summary'!B38)","v":1197.27},{"$f":"+D37+E37+J37+K37","v":169701.41999999995},1197.27,{"$f":"0.5*E38","v":598.63499999999999},{"$f":"+D38+F38","v":170300.05499999996},3.5608300000000001E-3,1.645E-3]
[2021,3,{"$f":"SUMIFS('CR CWIP query 032021 ISD'!$H:$H,'CR CWIP query 032021 ISD'!$L:$L,'032021 PIS Summary'!A39,'CR CWIP query 032021 ISD'!$K:$K,'032021 PIS Summary'!B39)","v":1531.77},{"$f":"+D38+E38+J38+K38","v":170898.68999999994},1531.77,765.88499999999999,171664.57499999995,3.5608300000000001E-3,1.645E-3,{"$f":"ROUND($G39*H39,2)*0.5","v":305.63499999999999},{"$f":"ROUND($G39*I39,2)*0.5","v":141.19499999999999},{"$f":"+J39-K39","v":164.44}]
[2021,4,{"$f":"SUMIFS('CR CWIP query 032021 ISD'!$H:$H,'CR CWIP query 032021 ISD'!$L:$L,'032021 PIS Summary'!A40,'CR CWIP query 032021 ISD'!$K:$K,'032021 PIS Summary'!B40)","v":0},{"$f":"+D39+E39+J39+K39","v":172877.28999999995},0,0,172877.28999999995,3.5608300000000001E-3,1.645E-3,{"$f":"ROUND($G40*H40,2)","v":615.59},284.38,{"$f":"+J40-K40","v":331.21000000000004}]
[2021,5,{"$f":"SUMIFS('CR CWIP query 032021 ISD'!$H:$H,'CR CWIP query 032021 ISD'!$L:$L,'032021 PIS Summary'!A41,'CR CWIP query 032021 ISD'!$K:$K,'032021 PIS Summary'!B41)","v":0},{"$f":"+D40+E40+J40+K40","v":173777.25999999995},0,0,173777.25999999995,3.5608300000000001E-3,1.645E-3,618.79,285.86,332.92999999999995]
[2021,6,{"$f":"SUMIFS('CR CWIP query 032021 ISD'!$H:$H,'CR CWIP query 032021 ISD'!$L:$L,'032021 PIS Summary'!A42,'CR CWIP query 032021 ISD'!$K:$K,'032021 PIS Summary'!B42)","v":0},174681.90999999995,0,0,174681.90999999995,3.5608300000000001E-3,1.645E-3,622.01,287.35000000000002,334.65999999999997]
[2021,7,{"$f":"SUMIFS('CR CWIP query 032021 ISD'!$H:$H,'CR CWIP query 032021 ISD'!$L:$L,'032021 PIS Summary'!A43,'CR CWIP query 032021 ISD'!$K:$K,'032021 PIS Summary'!B43)","v":0},175591.26999999996,0,0,175591.26999999996,3.5608300000000001E-3,1.645E-3,625.25,288.85000000000002,336.4]
[2021,8,{"$f":"SUMIFS('CR CWIP query 032021 ISD'!$H:$H,'CR CWIP query 032021 ISD'!$L:$L,'032021 PIS Summary'!A44,'CR CWIP query 032021 ISD'!$K:$K,'032021 PIS Summary'!B44)","v":0},176505.36999999997,0,0,176505.36999999997,3.5608300000000001E-3,1.645E-3,628.51,290.35000000000002,338.15999999999997]
[2021,9,{"$f":"SUMIFS('CR CWIP query 032021 ISD'!$H:$H,'CR CWIP query 032021 ISD'!$L:$L,'032021 PIS Summary'!A45,'CR CWIP query 032021 ISD'!$K:$K,'032021 PIS Summary'!B45)","v":0},177424.22999999998,0,0,177424.22999999998,3.5608300000000001E-3,1.645E-3,631.78,291.86,339.91999999999996]
[2021,10,{"$f":"SUMIFS('CR CWIP query 032021 ISD'!$H:$H,'CR CWIP query 032021 ISD'!$L:$L,'032021 PIS Summary'!A46,'CR CWIP query 032021 ISD'!$K:$K,'032021 PIS Summary'!B46)","v":0},178347.86999999997,0,0,178347.86999999997,3.5608300000000001E-3,1.645E-3,635.07000000000005,293.38,341.69000000000005]
[2021,11,{"$f":"SUMIFS('CR CWIP query 032021 ISD'!$H:$H,'CR CWIP query 032021 ISD'!$L:$L,'032021 PIS Summary'!A47,'CR CWIP query 032021 ISD'!$K:$K,'032021 PIS Summary'!B47)","v":0},179276.31999999998,0,0,179276.31999999998,3.5608300000000001E-3,1.645E-3,638.37,294.91000000000003,343.46]
[2021,12,{"$f":"SUMIFS('CR CWIP query 032021 ISD'!$H:$H,'CR CWIP query 032021 ISD'!$L:$L,'032021 PIS Summary'!A48,'CR CWIP query 032021 ISD'!$K:$K,'032021 PIS Summary'!B48)","v":0},180209.59999999998,0,0,180209.59999999998,3.5608300000000001E-3,1.645E-3,641.70000000000005,296.44,345.26000000000005]
["21 Total",null,{"$f":"SUM(C37:C48)","v":3555.91},null,{"$f":"SUM(E37:E48)","v":3555.91},null,null,null,null,{"$f":"SUM(J37:J48)","v":5962.704999999999},{"$f":"SUM(K37:K48)","v":2754.5750000000003},{"$f":"SUM(L37:L48)","v":3208.13}]
[]
[2022,1,{"$f":"SUMIFS('CR CWIP query 032021 ISD'!$H:$H,'CR CWIP query 032021 ISD'!$L:$L,'032021 PIS Summary'!A51,'CR CWIP query 032021 ISD'!$K:$K,'032021 PIS Summary'!B51)","v":0},{"$f":"+D48+E48+J48+K48","v":181147.74},{"$f":"C51","v":0},{"$f":"0.5*E51","v":0},{"$f":"+D51+F51","v":181147.74},3.5608300000000001E-3,1.645E-3,{"$f":"ROUND($G51*H51,2)","v":645.04},{"$f":"ROUND($G51*I51,2)","v":297.99},{"$f":"+J51-K51","v":347.04999999999995}]
[2022,2,{"$f":"SUMIFS('CR CWIP query 032021 ISD'!$H:$H,'CR CWIP query 032021 ISD'!$L:$L,'032021 PIS Summary'!A52,'CR CWIP query 032021 ISD'!$K:$K,'032021 PIS Summary'!B52)","v":0},{"$f":"+D51+E51+J51+K51","v":182090.77},0,{"$f":"0.5*E52","v":0},{"$f":"+D52+F52","v":182090.77},3.5608300000000001E-3,1.645E-3,{"$f":"ROUND($G52*H52,2)","v":648.39},{"$f":"ROUND($G52*I52,2)","v":299.54000000000002},{"$f":"+J52-K52","v":348.84999999999997}]
[2022,3,{"$f":"SUMIFS('CR CWIP query 032021 ISD'!$H:$H,'CR CWIP query 032021 ISD'!$L:$L,'032021 PIS Summary'!A53,'CR CWIP query 032021 ISD'!$K:$K,'032021 PIS Summary'!B53)","v":0},{"$f":"+D52+E52+J52+K52","v":183038.7},0,0,183038.7,3.5608300000000001E-3,1.645E-3,{"$f":"ROUND($G53*H53,2)","v":651.77},{"$f":"ROUND($G53*I53,2)","v":301.10000000000002},350.66999999999996]
[2022,4,{"$f":"SUMIFS('CR CWIP query 032021 ISD'!$H:$H,'CR CWIP query 032021 ISD'!$L:$L,'032021 PIS Summary'!A54,'CR CWIP query 032021 ISD'!$K:$K,'032021 PIS Summary'!B54)","v":0},{"$f":"+D53+E53+J53+K53","v":183991.57},0,0,183991.57,3.5608300000000001E-3,1.645E-3,{"$f":"ROUND($G54*H54,2)","v":655.16},302.67,{"$f":"+J54-K54","v":352.48999999999995}]
[2022,5,{"$f":"SUMIFS('CR CWIP query 032021 ISD'!$H:$H,'CR CWIP query 032021 ISD'!$L:$L,'032021 PIS Summary'!A55,'CR CWIP query 032021 ISD'!$K:$K,'032021 PIS Summary'!B55)","v":0},{"$f":"+D54+E54+J54+K54","v":184949.40000000002},0,0,184949.40000000002,3.5608300000000001E-3,1.645E-3,658.57,304.24,354.33000000000004]
[2022,6,{"$f":"SUMIFS('CR CWIP query 032021 ISD'!$H:$H,'CR CWIP query 032021 ISD'!$L:$L,'032021 PIS Summary'!A56,'CR CWIP query 032021 ISD'!$K:$K,'032021 PIS Summary'!B56)","v":0},185912.21000000002,0,0,185912.21000000002,3.5608300000000001E-3,1.645E-3,662,305.83,356.17]
[2022,7,{"$f":"SUMIFS('CR CWIP query 032021 ISD'!$H:$H,'CR CWIP query 032021 ISD'!$L:$L,'032021 PIS Summary'!A57,'CR CWIP query 032021 ISD'!$K:$K,'032021 PIS Summary'!B57)","v":0},186880.04,0,0,186880.04,3.5608300000000001E-3,1.645E-3,665.45,307.42,358.03000000000003]
[2022,8,{"$f":"SUMIFS('CR CWIP query 032021 ISD'!$H:$H,'CR CWIP query 032021 ISD'!$L:$L,'032021 PIS Summary'!A58,'CR CWIP query 032021 ISD'!$K:$K,'032021 PIS Summary'!B58)","v":0},187852.91000000003,0,0,187852.91000000003,3.5608300000000001E-3,1.645E-3,{"$f":"ROUND($G58*H58,2)","v":668.91},{"$f":"ROUND($G58*I58,2)","v":309.02},{"$f":"+J58-K58","v":359.89}]
[2022,9,{"$f":"SUMIFS('CR CWIP query 032021 ISD'!$H:$H,'CR CWIP query 032021 ISD'!$L:$L,'032021 PIS Summary'!A59,'CR CWIP query 032021 ISD'!$K:$K,'032021 PIS Summary'!B59)","v":0},188830.84000000003,0,0,188830.84000000003,3.5608300000000001E-3,1.645E-3,672.39,310.63,361.76]
[2022,10,{"$f":"SUMIFS('CR CWIP query 032021 ISD'!$H:$H,'CR CWIP query 032021 ISD'!$L:$L,'032021 PIS Summary'!A60,'CR CWIP query 032021 ISD'!$K:$K,'032021 PIS Summary'!B60)","v":0},189813.86000000004,0,0,189813.86000000004,3.5608300000000001E-3,1.645E-3,675.89,312.24,363.65]
[2022,11,{"$f":"SUMIFS('CR CWIP query 032021 ISD'!$H:$H,'CR CWIP query 032021 ISD'!$L:$L,'032021 PIS Summary'!A61,'CR CWIP query 032021 ISD'!$K:$K,'032021 PIS Summary'!B61)","v":0},190801.99000000005,0,0,190801.99000000005,3.5608300000000001E-3,1.645E-3]
[2022,12,{"$f":"SUMIFS('CR CWIP query 032021 ISD'!$H:$H,'CR CWIP query 032021 ISD'!$L:$L,'032021 PIS Summary'!A62,'CR CWIP query 032021 ISD'!$K:$K,'032021 PIS Summary'!B62)","v":0},190801.99000000005,0,0,190801.99000000005,3.5608300000000001E-3,1.645E-3]
["22 Total",null,{"$f":"SUM(C51:C62)","v":0},null,{"$f":"SUM(E51:E62)","v":0},null,null,null,null,{"$f":"SUM(J51:J62)","v":6603.5700000000006},{"$f":"SUM(K51:K62)","v":3050.6800000000003},{"$f":"SUM(L51:L62)","v":3552.89}]

{"sheet":"062021 PIS Summary","index":7,"n_rows":63,"n_cols":12,"rows_kept":63,"cut":false,"hidden":true,"merged":[]}
["Indiana American Water"]
["Post In Service AFUDC Calc"]
["06/1/2021-",null,null,null,null,null,null,null,null,{"$f":"SUM('CR CWIP query 062021 ISD'!H:H)+J5+K5-G62","v":0},"check"]
[]
[null,null,null,null,null,null,null,null,null,{"$f":"SUM(J35,J49,J51:J61)","v":1622.4749999999999},{"$f":"SUM(K35,K49,K51:K61)","v":749.53500000000008},{"$f":"SUM(L35,L49,L51:L61)","v":872.93999999999994}]
[]
["Year","Month","Grand Total CWIP","Beginning AFUDC Base","Current Month Charges","50% Charge Current Charge","Current Base","PIS AFUDC Monthly Equity Rate","PIS AFUDC Monthly  Debt Rate","PIS AFUDC Equity to be Recorded","PIS AFUDC Debt to be Recorded","AFUDC PIS Equity Reduction to record"]
[]
[2019,1,{"$f":"SUMIFS('CR CWIP query 062021 ISD'!$H:$H,'CR CWIP query 062021 ISD'!$L:$L,'062021 PIS Summary'!A9,'CR CWIP query 062021 ISD'!$K:$K,'062021 PIS Summary'!B9)","v":0},{"$f":"+D6+E6+J6+K6","v":0},{"$f":"C9","v":0},{"$f":"0.5*E9","v":0},{"$f":"+D9+F9","v":0},3.5608300000000001E-3,1.645E-3]
[2019,2,{"$f":"SUMIFS('CR CWIP query 062021 ISD'!$H:$H,'CR CWIP query 062021 ISD'!$L:$L,'062021 PIS Summary'!A10,'CR CWIP query 062021 ISD'!$K:$K,'062021 PIS Summary'!B10)","v":0},{"$f":"+D9+E9+J9+K9","v":0},0,{"$f":"0.5*E10","v":0},{"$f":"+D10+F10","v":0},3.5608300000000001E-3,1.645E-3]
[2019,3,{"$f":"SUMIFS('CR CWIP query 062021 ISD'!$H:$H,'CR CWIP query 062021 ISD'!$L:$L,'062021 PIS Summary'!A11,'CR CWIP query 062021 ISD'!$K:$K,'062021 PIS Summary'!B11)","v":0},0,0,0,0,3.5608300000000001E-3,1.645E-3]
[2019,4,{"$f":"SUMIFS('CR CWIP query 062021 ISD'!$H:$H,'CR CWIP query 062021 ISD'!$L:$L,'062021 PIS Summary'!A12,'CR CWIP query 062021 ISD'!$K:$K,'062021 PIS Summary'!B12)","v":0},0,{"$f":"C12","v":0},{"$f":"0.5*E12","v":0},{"$f":"+D12+F12","v":0},3.5608300000000001E-3,1.645E-3]
[2019,5,{"$f":"SUMIFS('CR CWIP query 062021 ISD'!$H:$H,'CR CWIP query 062021 ISD'!$L:$L,'062021 PIS Summary'!A13,'CR CWIP query 062021 ISD'!$K:$K,'062021 PIS Summary'!B13)","v":0},0,{"$f":"C13","v":0},{"$f":"0.5*E13","v":0},{"$f":"+D13+F13","v":0},3.5608300000000001E-3,1.645E-3]
[2019,6,{"$f":"SUMIFS('CR CWIP query 062021 ISD'!$H:$H,'CR CWIP query 062021 ISD'!$L:$L,'062021 PIS Summary'!A14,'CR CWIP query 062021 ISD'!$K:$K,'062021 PIS Summary'!B14)","v":0},0,0,0,0,3.5608300000000001E-3,1.645E-3]
[2019,7,{"$f":"SUMIFS('CR CWIP query 062021 ISD'!$H:$H,'CR CWIP query 062021 ISD'!$L:$L,'062021 PIS Summary'!A15,'CR CWIP query 062021 ISD'!$K:$K,'062021 PIS Summary'!B15)","v":0},0,0,0,0,3.5608300000000001E-3,1.645E-3]
[2019,8,{"$f":"SUMIFS('CR CWIP query 062021 ISD'!$H:$H,'CR CWIP query 062021 ISD'!$L:$L,'062021 PIS Summary'!A16,'CR CWIP query 062021 ISD'!$K:$K,'062021 PIS Summary'!B16)","v":0},0,0,0,0,3.5608300000000001E-3,1.645E-3]
[2019,9,{"$f":"SUMIFS('CR CWIP query 062021 ISD'!$H:$H,'CR CWIP query 062021 ISD'!$L:$L,'062021 PIS Summary'!A17,'CR CWIP query 062021 ISD'!$K:$K,'062021 PIS Summary'!B17)","v":0},0,0,0,0,3.5608300000000001E-3,1.645E-3]
[2019,10,{"$f":"SUMIFS('CR CWIP query 062021 ISD'!$H:$H,'CR CWIP query 062021 ISD'!$L:$L,'062021 PIS Summary'!A18,'CR CWIP query 062021 ISD'!$K:$K,'062021 PIS Summary'!B18)","v":0},0,0,0,0,3.5608300000000001E-3,1.645E-3]
[2019,11,{"$f":"SUMIFS('CR CWIP query 062021 ISD'!$H:$H,'CR CWIP query 062021 ISD'!$L:$L,'062021 PIS Summary'!A19,'CR CWIP query 062021 ISD'!$K:$K,'062021 PIS Summary'!B19)","v":0},0,0,0,0,3.5608300000000001E-3,1.645E-3]
[2019,12,{"$f":"SUMIFS('CR CWIP query 062021 ISD'!$H:$H,'CR CWIP query 062021 ISD'!$L:$L,'062021 PIS Summary'!A20,'CR CWIP query 062021 ISD'!$K:$K,'062021 PIS Summary'!B20)","v":0},0,{"$f":"C20","v":0},{"$f":"0.5*E20","v":0},{"$f":"+D20+F20","v":0},3.5608300000000001E-3,1.645E-3]
["19 Total",null,{"$f":"SUM(C9:C20)","v":0},null,{"$f":"SUM(E9:E20)","v":0},null,null,null,null,{"$f":"SUM(J9:J20)","v":0},{"$f":"SUM(K9:K20)","v":0},{"$f":"SUM(L9:L20)","v":0}]
[]
[2020,1,{"$f":"SUMIFS('CR CWIP query 062021 ISD'!$H:$H,'CR CWIP query 062021 ISD'!$L:$L,'062021 PIS Summary'!A23,'CR CWIP query 062021 ISD'!$K:$K,'062021 PIS Summary'!B23)","v":0},{"$f":"+D20+E20+J20+K20","v":0},{"$f":"C23","v":0},{"$f":"0.5*E23","v":0},{"$f":"+D23+F23","v":0},3.5608300000000001E-3,1.645E-3]
[2020,2,{"$f":"SUMIFS('CR CWIP query 062021 ISD'!$H:$H,'CR CWIP query 062021 ISD'!$L:$L,'062021 PIS Summary'!A24,'CR CWIP query 062021 ISD'!$K:$K,'062021 PIS Summary'!B24)","v":0},{"$f":"+D23+E23+J23+K23","v":0},0,{"$f":"0.5*E24","v":0},{"$f":"+D24+F24","v":0},3.5608300000000001E-3,1.645E-3]
[2020,3,{"$f":"SUMIFS('CR CWIP query 062021 ISD'!$H:$H,'CR CWIP query 062021 ISD'!$L:$L,'062021 PIS Summary'!A25,'CR CWIP query 062021 ISD'!$K:$K,'062021 PIS Summary'!B25)","v":0},0,0,0,0,3.5608300000000001E-3,1.645E-3]
[2020,4,{"$f":"SUMIFS('CR CWIP query 062021 ISD'!$H:$H,'CR CWIP query 062021 ISD'!$L:$L,'062021 PIS Summary'!A26,'CR CWIP query 062021 ISD'!$K:$K,'062021 PIS Summary'!B26)","v":0},0,{"$f":"C26","v":0},{"$f":"0.5*E26","v":0},{"$f":"+D26+F26","v":0},3.5608300000000001E-3,1.645E-3]
[2020,5,{"$f":"SUMIFS('CR CWIP query 062021 ISD'!$H:$H,'CR CWIP query 062021 ISD'!$L:$L,'062021 PIS Summary'!A27,'CR CWIP query 062021 ISD'!$K:$K,'062021 PIS Summary'!B27)","v":0},0,{"$f":"C27","v":0},{"$f":"0.5*E27","v":0},{"$f":"+D27+F27","v":0},3.5608300000000001E-3,1.645E-3]
[2020,6,{"$f":"SUMIFS('CR CWIP query 062021 ISD'!$H:$H,'CR CWIP query 062021 ISD'!$L:$L,'062021 PIS Summary'!A28,'CR CWIP query 062021 ISD'!$K:$K,'062021 PIS Summary'!B28)","v":0},0,0,0,0,3.5608300000000001E-3,1.645E-3]
[2020,7,{"$f":"SUMIFS('CR CWIP query 062021 ISD'!$H:$H,'CR CWIP query 062021 ISD'!$L:$L,'062021 PIS Summary'!A29,'CR CWIP query 062021 ISD'!$K:$K,'062021 PIS Summary'!B29)","v":134.59000000000003},0,134.59000000000003,67.295000000000016,67.295000000000016,3.5608300000000001E-3,1.645E-3]
[2020,8,{"$f":"SUMIFS('CR CWIP query 062021 ISD'!$H:$H,'CR CWIP query 062021 ISD'!$L:$L,'062021 PIS Summary'!A30,'CR CWIP query 062021 ISD'!$K:$K,'062021 PIS Summary'!B30)","v":3275.0699999999997},134.59000000000003,3275.0699999999997,1637.5349999999999,1772.125,3.5608300000000001E-3,1.645E-3]
[2020,9,{"$f":"SUMIFS('CR CWIP query 062021 ISD'!$H:$H,'CR CWIP query 062021 ISD'!$L:$L,'062021 PIS Summary'!A31,'CR CWIP query 062021 ISD'!$K:$K,'062021 PIS Summary'!B31)","v":4379.1500000000005},3409.66,4379.1500000000005,2189.5750000000003,5599.2350000000006,3.5608300000000001E-3,1.645E-3]
[2020,10,{"$f":"SUMIFS('CR CWIP query 062021 ISD'!$H:$H,'CR CWIP query 062021 ISD'!$L:$L,'062021 PIS Summary'!A32,'CR CWIP query 062021 ISD'!$K:$K,'062021 PIS Summary'!B32)","v":-253.13},7788.81,-253.13,-126.565,7662.2450000000008,3.5608300000000001E-3,1.645E-3]
[2020,11,{"$f":"SUMIFS('CR CWIP query 062021 ISD'!$H:$H,'CR CWIP query 062021 ISD'!$L:$L,'062021 PIS Summary'!A33,'CR CWIP query 062021 ISD'!$K:$K,'062021 PIS Summary'!B33)","v":3209.95},7535.68,3209.95,1604.9749999999999,9140.6550000000007,3.5608300000000001E-3,1.645E-3]
[2020,12,{"$f":"SUMIFS('CR CWIP query 062021 ISD'!$H:$H,'CR CWIP query 062021 ISD'!$L:$L,'062021 PIS Summary'!A34,'CR CWIP query 062021 ISD'!$K:$K,'062021 PIS Summary'!B34)","v":5753.8500000000013},10745.630000000001,{"$f":"C34","v":5753.8500000000013},{"$f":"0.5*E34","v":2876.9250000000006},{"$f":"+D34+F34","v":13622.555000000002},3.5608300000000001E-3,1.645E-3]
["20 Total",null,{"$f":"SUM(C23:C34)","v":16499.480000000003},null,{"$f":"SUM(E24:E34)","v":16499.480000000003},null,null,null,null,{"$f":"SUM(J23:J34)","v":0},{"$f":"SUM(K23:K34)","v":0},0]
[]
[2021,1,{"$f":"SUMIFS('CR CWIP query 062021 ISD'!$H:$H,'CR CWIP query 062021 ISD'!$L:$L,'062021 PIS Summary'!A37,'CR CWIP query 062021 ISD'!$K:$K,'062021 PIS Summary'!B37)","v":1847.5900000000001},{"$f":"+D34+E34+J34+K34","v":16499.480000000003},{"$f":"C37","v":1847.5900000000001},{"$f":"0.5*E37","v":923.79500000000007},{"$f":"+D37+F37","v":17423.275000000001},3.5608300000000001E-3,1.645E-3]
[2021,2,{"$f":"SUMIFS('CR CWIP query 062021 ISD'!$H:$H,'CR CWIP query 062021 ISD'!$L:$L,'062021 PIS Summary'!A38,'CR CWIP query 062021 ISD'!$K:$K,'062021 PIS Summary'!B38)","v":1585.0200000000002},{"$f":"+D37+E37+J37+K37","v":18347.070000000003},1585.0200000000002,{"$f":"0.5*E38","v":792.5100000000001},{"$f":"+D38+F38","v":19139.580000000002},3.5608300000000001E-3,1.645E-3]
[2021,3,{"$f":"SUMIFS('CR CWIP query 062021 ISD'!$H:$H,'CR CWIP query 062021 ISD'!$L:$L,'062021 PIS Summary'!A39,'CR CWIP query 062021 ISD'!$K:$K,'062021 PIS Summary'!B39)","v":2616.2699999999995},{"$f":"+D38+E38+J38+K38","v":19932.090000000004},2616.2699999999995,1308.1349999999998,21240.225000000002,3.5608300000000001E-3,1.645E-3]
[2021,4,{"$f":"SUMIFS('CR CWIP query 062021 ISD'!$H:$H,'CR CWIP query 062021 ISD'!$L:$L,'062021 PIS Summary'!A40,'CR CWIP query 062021 ISD'!$K:$K,'062021 PIS Summary'!B40)","v":1120.3599999999999},{"$f":"+D39+E39+J39+K39","v":22548.360000000004},1120.3599999999999,560.17999999999995,23108.540000000005,3.5608300000000001E-3,1.645E-3]
[2021,5,{"$f":"SUMIFS('CR CWIP query 062021 ISD'!$H:$H,'CR CWIP query 062021 ISD'!$L:$L,'062021 PIS Summary'!A41,'CR CWIP query 062021 ISD'!$K:$K,'062021 PIS Summary'!B41)","v":19.739999999999966},{"$f":"+D40+E40+J40+K40","v":23668.720000000005},19.739999999999966,9.8699999999999832,23678.590000000004,3.5608300000000001E-3,1.645E-3]
[2021,6,{"$f":"SUMIFS('CR CWIP query 062021 ISD'!$H:$H,'CR CWIP query 062021 ISD'!$L:$L,'062021 PIS Summary'!A42,'CR CWIP query 062021 ISD'!$K:$K,'062021 PIS Summary'!B42)","v":1659.7799999999997},23688.460000000006,1659.7799999999997,829.88999999999987,24518.350000000006,3.5608300000000001E-3,1.645E-3,{"$f":"ROUND($G42*H42,2)*0.5","v":43.655000000000001},{"$f":"ROUND($G42*I42,2)*0.5","v":20.164999999999999},{"$f":"+J42-K42","v":23.490000000000002}]
[2021,7,{"$f":"SUMIFS('CR CWIP query 062021 ISD'!$H:$H,'CR CWIP query 062021 ISD'!$L:$L,'062021 PIS Summary'!A43,'CR CWIP query 062021 ISD'!$K:$K,'062021 PIS Summary'!B43)","v":232.67},25412.060000000005,232.67,116.33499999999999,25528.395000000004,3.5608300000000001E-3,1.645E-3,{"$f":"ROUND($G43*H43,2)","v":90.9},{"$f":"ROUND($G43*I43,2)","v":41.99},{"$f":"+J43-K43","v":48.910000000000004}]
[2021,8,{"$f":"SUMIFS('CR CWIP query 062021 ISD'!$H:$H,'CR CWIP query 062021 ISD'!$L:$L,'062021 PIS Summary'!A44,'CR CWIP query 062021 ISD'!$K:$K,'062021 PIS Summary'!B44)","v":121.14},25777.620000000006,121.14,60.57,25838.190000000006,3.5608300000000001E-3,1.645E-3,92.01,42.5,49.510000000000005]
[2021,9,{"$f":"SUMIFS('CR CWIP query 062021 ISD'!$H:$H,'CR CWIP query 062021 ISD'!$L:$L,'062021 PIS Summary'!A45,'CR CWIP query 062021 ISD'!$K:$K,'062021 PIS Summary'!B45)","v":0},26033.270000000004,0,0,26033.270000000004,3.5608300000000001E-3,1.645E-3,92.7,42.82,49.88]
[2021,10,{"$f":"SUMIFS('CR CWIP query 062021 ISD'!$H:$H,'CR CWIP query 062021 ISD'!$L:$L,'062021 PIS Summary'!A46,'CR CWIP query 062021 ISD'!$K:$K,'062021 PIS Summary'!B46)","v":0},26168.790000000005,0,0,26168.790000000005,3.5608300000000001E-3,1.645E-3,93.18,43.05,50.13000000000001]
[2021,11,{"$f":"SUMIFS('CR CWIP query 062021 ISD'!$H:$H,'CR CWIP query 062021 ISD'!$L:$L,'062021 PIS Summary'!A47,'CR CWIP query 062021 ISD'!$K:$K,'062021 PIS Summary'!B47)","v":0},26305.020000000004,0,0,26305.020000000004,3.5608300000000001E-3,1.645E-3,93.67,43.27,50.4]
[2021,12,{"$f":"SUMIFS('CR CWIP query 062021 ISD'!$H:$H,'CR CWIP query 062021 ISD'!$L:$L,'062021 PIS Summary'!A48,'CR CWIP query 062021 ISD'!$K:$K,'062021 PIS Summary'!B48)","v":1389.45},26441.960000000003,1389.45,694.72500000000002,27136.685000000001,3.5608300000000001E-3,1.645E-3,96.63,44.64,51.989999999999995]
["21 Total",null,{"$f":"SUM(C37:C48)","v":10592.019999999999},null,{"$f":"SUM(E37:E48)","v":10592.019999999999},null,null,null,null,{"$f":"SUM(J37:J48)","v":602.745},{"$f":"SUM(K37:K48)","v":278.435},{"$f":"SUM(L37:L48)","v":324.31}]
[]
[2022,1,{"$f":"SUMIFS('CR CWIP query 062021 ISD'!$H:$H,'CR CWIP query 062021 ISD'!$L:$L,'062021 PIS Summary'!A51,'CR CWIP query 062021 ISD'!$K:$K,'062021 PIS Summary'!B51)","v":0},{"$f":"+D48+E48+J48+K48","v":27972.680000000004},{"$f":"C51","v":0},{"$f":"0.5*E51","v":0},{"$f":"+D51+F51","v":27972.680000000004},3.5608300000000001E-3,1.645E-3,{"$f":"ROUND($G51*H51,2)","v":99.61},{"$f":"ROUND($G51*I51,2)","v":46.02},{"$f":"+J51-K51","v":53.589999999999996}]
[2022,2,{"$f":"SUMIFS('CR CWIP query 062021 ISD'!$H:$H,'CR CWIP query 062021 ISD'!$L:$L,'062021 PIS Summary'!A52,'CR CWIP query 062021 ISD'!$K:$K,'062021 PIS Summary'!B52)","v":0},{"$f":"+D51+E51+J51+K51","v":28118.310000000005},0,{"$f":"0.5*E52","v":0},{"$f":"+D52+F52","v":28118.310000000005},3.5608300000000001E-3,1.645E-3,{"$f":"ROUND($G52*H52,2)","v":100.12},{"$f":"ROUND($G52*I52,2)","v":46.25},{"$f":"+J52-K52","v":53.870000000000005}]
[2022,3,{"$f":"SUMIFS('CR CWIP query 062021 ISD'!$H:$H,'CR CWIP query 062021 ISD'!$L:$L,'062021 PIS Summary'!A53,'CR CWIP query 062021 ISD'!$K:$K,'062021 PIS Summary'!B53)","v":0},{"$f":"+D52+E52+J52+K52","v":28264.680000000004},0,0,28264.680000000004,3.5608300000000001E-3,1.645E-3,{"$f":"ROUND($G53*H53,2)","v":100.65},{"$f":"ROUND($G53*I53,2)","v":46.5},54.150000000000006]
[2022,4,{"$f":"SUMIFS('CR CWIP query 062021 ISD'!$H:$H,'CR CWIP query 062021 ISD'!$L:$L,'062021 PIS Summary'!A54,'CR CWIP query 062021 ISD'!$K:$K,'062021 PIS Summary'!B54)","v":0},{"$f":"+D53+E53+J53+K53","v":28411.830000000005},0,0,28411.830000000005,3.5608300000000001E-3,1.645E-3,{"$f":"ROUND($G54*H54,2)","v":101.17},46.74,{"$f":"+J54-K54","v":54.43}]
[2022,5,{"$f":"SUMIFS('CR CWIP query 062021 ISD'!$H:$H,'CR CWIP query 062021 ISD'!$L:$L,'062021 PIS Summary'!A55,'CR CWIP query 062021 ISD'!$K:$K,'062021 PIS Summary'!B55)","v":0},{"$f":"+D54+E54+J54+K54","v":28559.740000000005},0,0,28559.740000000005,3.5608300000000001E-3,1.645E-3,101.7,46.98,54.720000000000006]
[2022,6,{"$f":"SUMIFS('CR CWIP query 062021 ISD'!$H:$H,'CR CWIP query 062021 ISD'!$L:$L,'062021 PIS Summary'!A56,'CR CWIP query 062021 ISD'!$K:$K,'062021 PIS Summary'!B56)","v":0},28708.420000000006,0,0,28708.420000000006,3.5608300000000001E-3,1.645E-3,102.23,47.23,55.000000000000007]
[2022,7,{"$f":"SUMIFS('CR CWIP query 062021 ISD'!$H:$H,'CR CWIP query 062021 ISD'!$L:$L,'062021 PIS Summary'!A57,'CR CWIP query 062021 ISD'!$K:$K,'062021 PIS Summary'!B57)","v":0},28857.880000000005,0,0,28857.880000000005,3.5608300000000001E-3,1.645E-3,102.76,47.47,55.290000000000006]
[2022,8,{"$f":"SUMIFS('CR CWIP query 062021 ISD'!$H:$H,'CR CWIP query 062021 ISD'!$L:$L,'062021 PIS Summary'!A58,'CR CWIP query 062021 ISD'!$K:$K,'062021 PIS Summary'!B58)","v":0},29008.110000000004,0,0,29008.110000000004,3.5608300000000001E-3,1.645E-3,{"$f":"ROUND($G58*H58,2)","v":103.29},{"$f":"ROUND($G58*I58,2)","v":47.72},{"$f":"+J58-K58","v":55.570000000000007}]
[2022,9,{"$f":"SUMIFS('CR CWIP query 062021 ISD'!$H:$H,'CR CWIP query 062021 ISD'!$L:$L,'062021 PIS Summary'!A59,'CR CWIP query 062021 ISD'!$K:$K,'062021 PIS Summary'!B59)","v":0},29159.120000000006,0,0,29159.120000000006,3.5608300000000001E-3,1.645E-3,103.83,47.97,55.86]
[2022,10,{"$f":"SUMIFS('CR CWIP query 062021 ISD'!$H:$H,'CR CWIP query 062021 ISD'!$L:$L,'062021 PIS Summary'!A60,'CR CWIP query 062021 ISD'!$K:$K,'062021 PIS Summary'!B60)","v":0},29310.920000000009,0,0,29310.920000000009,3.5608300000000001E-3,1.645E-3,104.37,48.22,56.150000000000006]
[2022,11,{"$f":"SUMIFS('CR CWIP query 062021 ISD'!$H:$H,'CR CWIP query 062021 ISD'!$L:$L,'062021 PIS Summary'!A61,'CR CWIP query 062021 ISD'!$K:$K,'062021 PIS Summary'!B61)","v":0},29463.510000000009,0,0,29463.510000000009,3.5608300000000001E-3,1.645E-3]
[2022,12,{"$f":"SUMIFS('CR CWIP query 062021 ISD'!$H:$H,'CR CWIP query 062021 ISD'!$L:$L,'062021 PIS Summary'!A62,'CR CWIP query 062021 ISD'!$K:$K,'062021 PIS Summary'!B62)","v":0},29463.510000000009,0,0,29463.510000000009,3.5608300000000001E-3,1.645E-3]
["22 Total",null,{"$f":"SUM(C51:C62)","v":0},null,{"$f":"SUM(E51:E62)","v":0},null,null,null,null,{"$f":"SUM(J51:J62)","v":1019.73},{"$f":"SUM(K51:K62)","v":471.10000000000014},{"$f":"SUM(L51:L62)","v":548.63000000000011}]

{"sheet":"CR query CWIP only all months","index":8,"n_rows":4021,"n_cols":30,"rows_kept":4021,"cut":false,"hidden":true,"merged":[]}
["Company","Cost Element","Work Order Number","In Service Dates","Account","Document Type","Month Number","Amount","AFUDC Debt Rate","AFUDC Equity Rate","month","year","Date","1st month PIS AFUDC",null,null,null,null,null,null,null,null,null,null,null,null,null,null,"R10-50Q1.20-P-0006,R10-50Q1.20-P-0004,R10-50Q1.20-P-0008,R10-50Q1.21-P-0012,R10-50Q1.21-P-0009,R10-50Q1.22-P-0004,R10-50Q1.22-P-0002,R10-70Q1.20-P-0022,R10-70Q1.20-P-0024,R10-70Q1.20-P-0004,R10-70Q1.21-P-0019,R10-70Q1.21-P-0018,R10-70Q1.20-P-0006,R10-70Q1.20-P-0011,R10-70Q1.21-P-0013,R10-70Q1.20-P-0018,R10-70Q1.20-P-0015,R10-70Q1.20-P-0012,R10-70Q1.22-P-0002,R10-70Q1.22-P-0006,R10-70Q1.22-P-0005,R10-70Q1.22-P-0016,R10-47Q1.21-P-0003,R10-47Q1.20-P-0015,R10-47Q1.20-P-0019,R10-47Q1.22-P-0004,R10-72Q1.21-P-0002,R10-72Q1.20-P-0005,R10-72Q1.20-P-0007,R10-72Q1.20-P-0006,R10-72Q1.21-P-0008,R10-72Q1.21-P-0004,R10-90Q1.21-P-0018,R10-90Q1.20-P-0010,R10-01L6.20-P-0015,R10-90Q1.21-P-0027,R10-90Q1.21-P-0023,R10-90Q1.20-P-0028,R10-90Q1.20-P-0033,R10-01L6.20-P-0010,R10-90Q1.20-P-0047,R10-10Q1.20-P-0062,R10-10Q1.21-P-0047,R10-01Q1.19-P-0012,R10-60Q1.21-P-0014,R10-60Q1.20-P-0022,R10-60Q1.20-P-0016,R10-60Q1.20-P-0031,R10-60Q1.21-P-0016,R10-60Q1.21-P-0003,R10-60Q1.21-P-0002,R10-60Q1.22-P-0010,R10-60Q1.21-P-0009,R10-60Q1.21-P-0008,R10-60Q1.20-P-0028,R10-60Q1.20-P-0040,R10-60Q1.20-P-0032,R10-60Q1.22-P-0011,R10-11L1.20-P-0003,R10-11Q1.20-P-0007,R10-11Q1.20-P-0005,R10-11Q1.20-P-0006,R10-11Q1.21-P-0002,R10-11Q1.21-P-0010,R10-11Q1.21-P-0013,R10-11Q1.21-P-0005,R10-11Q1.22-P-0002,R10-11Q1.22-P-0003,R10-45Q1.21-P-0006,R10-45Q1.22-P-0006,R10-46Q1.20-P-0003,R10-46Q1.20-P-0007,R10-01L1.20-P-0011,R10-46Q1.20-P-0010,R10-01Q1.20-P-0005,R10-80Q1.21-P-0008,R10-01Q1.21-P-0002,R10-75Q1.19-P-0003,R10-01Q1.20-P-0016,R10-75Q1.21-P-0006,R10-75Q1.20-P-0013,R10-75Q1.20-P-0008,R10-01M1.21-P-0019,R10-55Q1.20-P-0020,R10-55Q1.21-P-0002,R10-55Q1.20-P-0018,R10-55Q1.20-P-0019,R10-55Q1.20-P-0017,R10-58Q1.20-P-0008,R10-58Q1.20-P-0003,R10-58Q1.22-P-0004,R10-65Q1.20-P-0008,R10-65Q1.21-P-0003,R10-65Q1.21-P-0007,R10-65Q1.21-P-0008,R10-65Q1.21-P-0009,R10-65Q1.22-P-0004,R10-15Q1.20-P-0016,R10-15Q1.20-P-0014,R10-15Q1.22-P-0008,R10-15Q1.21-P-0007,R10-15Q1.21-P-0002,R10-15Q1.20-P-0002,R10-01Q1.21-P-0003,R10-15Q1.21-P-0005,R10-15Q1.20-P-0022,R10-15Q1.20-P-0004,R10-15Q1.21-P-0010,R10-15Q1.21-P-0018,R10-15Q1.21-P-0022,R10-01Q1.20-P-0014,R10-25Q1.21-P-0004,R10-25Q1.21-P-0002,R10-25Q1.20-P-0010,R10-01L3.19-P-0006,R10-25Q1.21-P-0011,R10-25Q1.20-P-0005,R10-25Q1.20-P-0012,R10-01L3.21-P-0002,R10-25Q1.21-P-0009"]
["1010","52801700","T10-0184-P-1000",{"$f":"VLOOKUP($C2,'SEI ISD'!$A$4:$B$124,2,0)","v":"2020-11-20"},"10700000","UZ",202103,24.41,1.645E-3,3.5608300000000001E-3,{"$f":"RIGHT(G2,2)","v":"03"},{"$f":"LEFT(G2,4)","v":"2021"},{"$f":"_xlfn.CONCAT(K2,\"/\",L2)","v":"03/2021"},{"$f":"EOMONTH(D2,0)","v":"2020-11-30"},null,null,null,null,null,null,null,null,null,null,null,null,null,null,"paste of these 120 WBS'"]
["1010","52801700","T10-0185-P-1000",{"$f":"VLOOKUP($C3,'SEI ISD'!$A$4:$B$124,2,0)","v":"2021-06-15"},"10700000","UZ",202103,231.92,1.645E-3,3.5608300000000001E-3,{"$f":"RIGHT(G3,2)","v":"03"},{"$f":"LEFT(G3,4)","v":"2021"},{"$f":"_xlfn.CONCAT(K3,\"/\",L3)","v":"03/2021"},{"$f":"EOMONTH(D3,0)","v":"2021-06-30"}]
["1010","52801700","T10-0185-P-1000",{"$f":"VLOOKUP($C4,'SEI ISD'!$A$4:$B$124,2,0)","v":"2021-06-15"},"10700000","UZ",202104,44.73,1.645E-3,3.5608300000000001E-3,"04","2021","04/2021","2021-06-30",null,null,null,null,null,null,null,null,null,null,null,null,null,null,"These are the transactions on the WBS settling to CWIP excluding accruals in 52801200.  Matches CWIP Transfer activity providing a check CR query is complete"]
["1010","52801700","T10-0185-P-1000",{"$f":"VLOOKUP($C5,'SEI ISD'!$A$4:$B$124,2,0)","v":"2021-06-15"},"10700000","UZ",202105,-3.75,1.645E-3,3.5608300000000001E-3,"05","2021","05/2021","2021-06-30"]
["1010","52801700","T10-0185-P-1000",{"$f":"VLOOKUP($C6,'SEI ISD'!$A$4:$B$124,2,0)","v":"2021-06-15"},"10700000","UZ",202106,119.62,1.645E-3,3.5608300000000001E-3,"06","2021","06/2021","2021-06-30",null,null,null,null,null,null,null,null,null,null,null,null,null,null,{"$f":"SUM(H:H)","v":302561.64999999979},"WIP side"]
["1010","52801700","T10-0185-P-1000",{"$f":"VLOOKUP($C7,'SEI ISD'!$A$4:$B$124,2,0)","v":"2021-06-15"},"10700000","UZ",202107,37.72,1.645E-3,3.5608300000000001E-3,"07","2021","07/2021","2021-06-30",null,null,null,null,null,null,null,null,null,null,null,null,null,null,{"$f":"SUM('Total Deferred Depr'!G:G)","v":302561.64999999997},"Addition activity doc types UP,UN which also match Asset 1200 report"]
["1010","52801700","T10-0185-P-1000",{"$f":"VLOOKUP($C8,'SEI ISD'!$A$4:$B$124,2,0)","v":"2021-06-15"},"10700000","UZ",202108,6.74,1.645E-3,3.5608300000000001E-3,"08","2021","08/2021","2021-06-30",null,null,null,null,null,null,null,null,null,null,null,null,null,null,{"$f":"+AC7-AC6","v":0},"immaterial var"]
["1010","53150000","T10-0185-P-1000",{"$f":"VLOOKUP($C9,'SEI ISD'!$A$4:$B$124,2,0)","v":"2021-06-15"},"10700000","UZ",202112,1389.45,1.645E-3,3.5608300000000001E-3,"12","2021","12/2021","2021-06-30"]
["1010","53481000","R10-01K3.19-P-4031",{"$f":"VLOOKUP($C10,'SEI ISD'!$A$4:$B$124,2,0)","v":"2021-03-01"},"10700000","UZ",201909,28.98,1.645E-3,3.5608300000000001E-3,"09","2019","09/2019","2021-03-31"]
["1010","53481000","R10-01K3.19-P-4031",{"$f":"VLOOKUP($C11,'SEI ISD'!$A$4:$B$124,2,0)","v":"2021-03-01"},"10700000","UZ",201910,-10.87,1.645E-3,3.5608300000000001E-3,"10","2019","10/2019","2021-03-31"]
["1010","53481000","R10-01K3.19-P-4031",{"$f":"VLOOKUP($C12,'SEI ISD'!$A$4:$B$124,2,0)","v":"2021-03-01"},"10700000","UZ",201911,337.54,1.645E-3,3.5608300000000001E-3,"11","2019","11/2019","2021-03-31"]
["1010","53481000","R10-01K3.19-P-4031",{"$f":"VLOOKUP($C13,'SEI ISD'!$A$4:$B$124,2,0)","v":"2021-03-01"},"10700000","UZ",201912,39.67,1.645E-3,3.5608300000000001E-3,"12","2019","12/2019","2021-03-31"]
["1010","53481000","R10-01K3.19-P-4031",{"$f":"VLOOKUP($C14,'SEI ISD'!$A$4:$B$124,2,0)","v":"2021-03-01"},"10700000","UZ",202001,840.95,1.645E-3,3.5608300000000001E-3,"01","2020","01/2020","2021-03-31"]
["1010","53481000","R10-01K3.19-P-4031",{"$f":"VLOOKUP($C15,'SEI ISD'!$A$4:$B$124,2,0)","v":"2021-03-01"},"10700000","UZ",202002,467.31,1.645E-3,3.5608300000000001E-3,"02","2020","02/2020","2021-03-31"]
["1010","53481000","R10-01K3.19-P-4031",{"$f":"VLOOKUP($C16,'SEI ISD'!$A$4:$B$124,2,0)","v":"2021-03-01"},"10700000","UZ",202003,1452.08,1.645E-3,3.5608300000000001E-3,"03","2020","03/2020","2021-03-31"]
["1010","53481000","R10-01K3.19-P-4031",{"$f":"VLOOKUP($C17,'SEI ISD'!$A$4:$B$124,2,0)","v":"2021-03-01"},"10700000","UZ",202004,511.73,1.645E-3,3.5608300000000001E-3,"04","2020","04/2020","2021-03-31"]
["1010","53481000","R10-01K3.19-P-4031",{"$f":"VLOOKUP($C18,'SEI ISD'!$A$4:$B$124,2,0)","v":"2021-03-01"},"10700000","UZ",202005,871.4,1.645E-3,3.5608300000000001E-3,"05","2020","05/2020","2021-03-31"]
["1010","53481000","R10-01K3.19-P-4031",{"$f":"VLOOKUP($C19,'SEI ISD'!$A$4:$B$124,2,0)","v":"2021-03-01"},"10700000","UZ",202006,699.92,1.645E-3,3.5608300000000001E-3,"06","2020","06/2020","2021-03-31"]
["1010","53481000","R10-01K3.19-P-4031",{"$f":"VLOOKUP($C20,'SEI ISD'!$A$4:$B$124,2,0)","v":"2021-03-01"},"10700000","UZ",202007,748.83,1.645E-3,3.5608300000000001E-3,"07","2020","07/2020","2021-03-31"]
["1010","53481000","R10-01K3.19-P-4031",{"$f":"VLOOKUP($C21,'SEI ISD'!$A$4:$B$124,2,0)","v":"2021-03-01"},"10700000","UZ",202008,1637.95,1.645E-3,3.5608300000000001E-3,"08","2020","08/2020","2021-03-31"]
["1010","53481000","R10-01K3.19-P-4031",{"$f":"VLOOKUP($C22,'SEI ISD'!$A$4:$B$124,2,0)","v":"2021-03-01"},"10700000","UZ",202009,1084.29,1.645E-3,3.5608300000000001E-3,"09","2020","09/2020","2021-03-31"]
["1010","53481000","R10-01K3.19-P-4031",{"$f":"VLOOKUP($C23,'SEI ISD'!$A$4:$B$124,2,0)","v":"2021-03-01"},"10700000","UZ",202010,669.66,1.645E-3,3.5608300000000001E-3,"10","2020","10/2020","2021-03-31"]
["1010","53481000","R10-01K3.19-P-4031",{"$f":"VLOOKUP($C24,'SEI ISD'!$A$4:$B$124,2,0)","v":"2021-03-01"},"10700000","UZ",202011,1315.04,1.645E-3,3.5608300000000001E-3,"11","2020","11/2020","2021-03-31"]
["1010","53481000","R10-01K3.19-P-4031",{"$f":"VLOOKUP($C25,'SEI ISD'!$A$4:$B$124,2,0)","v":"2021-03-01"},"10700000","UZ",202012,781.98,1.645E-3,3.5608300000000001E-3,"12","2020","12/2020","2021-03-31"]
["1010","53481000","R10-01K3.19-P-4031",{"$f":"VLOOKUP($C26,'SEI ISD'!$A$4:$B$124,2,0)","v":"2021-03-01"},"10700000","UZ",202101,-35.94,1.645E-3,3.5608300000000001E-3,"01","2021","01/2021","2021-03-31"]
["1010","53481000","R10-01K3.19-P-4031",{"$f":"VLOOKUP($C27,'SEI ISD'!$A$4:$B$124,2,0)","v":"2021-03-01"},"10700000","UZ",202102,222.46,1.645E-3,3.5608300000000001E-3,"02","2021","02/2021","2021-03-31"]
["1010","53481000","R10-01K3.19-P-4031",{"$f":"VLOOKUP($C28,'SEI ISD'!$A$4:$B$124,2,0)","v":"2021-03-01"},"10700000","UZ",202103,653.23,1.645E-3,3.5608300000000001E-3,"03","2021","03/2021","2021-03-31"]
["1010","53481000","T10-0184-P-1000",{"$f":"VLOOKUP($C29,'SEI ISD'!$A$4:$B$124,2,0)","v":"2020-11-20"},"10700000","UZ",202006,56.47,1.645E-3,3.5608300000000001E-3,"06","2020","06/2020","2020-11-30"]
["1010","53481000","T10-0184-P-1000",{"$f":"VLOOKUP($C30,'SEI ISD'!$A$4:$B$124,2,0)","v":"2020-11-20"},"10700000","UZ",202007,229.09,1.645E-3,3.5608300000000001E-3,"07","2020","07/2020","2020-11-30"]
["1010","53481000","T10-0184-P-1000",{"$f":"VLOOKUP($C31,'SEI ISD'!$A$4:$B$124,2,0)","v":"2020-11-20"},"10700000","UZ",202008,1209.3699999999999,1.645E-3,3.5608300000000001E-3,"08","2020","08/2020","2020-11-30"]
["1010","53481000","T10-0184-P-1000",{"$f":"VLOOKUP($C32,'SEI ISD'!$A$4:$B$124,2,0)","v":"2020-11-20"},"10700000","UZ",202009,470.28,1.645E-3,3.5608300000000001E-3,"09","2020","09/2020","2020-11-30"]
["1010","53481000","T10-0184-P-1000",{"$f":"VLOOKUP($C33,'SEI ISD'!$A$4:$B$124,2,0)","v":"2020-11-20"},"10700000","UZ",202010,1244.99,1.645E-3,3.5608300000000001E-3,"10","2020","10/2020","2020-11-30"]
["1010","53481000","T10-0184-P-1000",{"$f":"VLOOKUP($C34,'SEI ISD'!$A$4:$B$124,2,0)","v":"2020-11-20"},"10700000","UZ",202011,257.41000000000003,1.645E-3,3.5608300000000001E-3,"11","2020","11/2020","2020-11-30"]
["1010","53481000","T10-0184-P-1000",{"$f":"VLOOKUP($C35,'SEI ISD'!$A$4:$B$124,2,0)","v":"2020-11-20"},"10700000","UZ",202012,320.37,1.645E-3,3.5608300000000001E-3,"12","2020","12/2020","2020-11-30"]
["1010","53481000","T10-0184-P-1000",{"$f":"VLOOKUP($C36,'SEI ISD'!$A$4:$B$124,2,0)","v":"2020-11-20"},"10700000","UZ",202101,395.1,1.645E-3,3.5608300000000001E-3,"01","2021","01/2021","2020-11-30"]
["1010","53481000","T10-0184-P-1000",{"$f":"VLOOKUP($C37,'SEI ISD'!$A$4:$B$124,2,0)","v":"2020-11-20"},"10700000","UZ",202102,341.01,1.645E-3,3.5608300000000001E-3,"02","2021","02/2021","2020-11-30"]
["1010","53481000","T10-0184-P-1000",{"$f":"VLOOKUP($C38,'SEI ISD'!$A$4:$B$124,2,0)","v":"2020-11-20"},"10700000","UZ",202103,-435.08,1.645E-3,3.5608300000000001E-3,"03","2021","03/2021","2020-11-30"]
["1010","53481000","T10-0185-P-1000",{"$f":"VLOOKUP($C39,'SEI ISD'!$A$4:$B$124,2,0)","v":"2021-06-15"},"10700000","UZ",202007,88.44,1.645E-3,3.5608300000000001E-3,"07","2020","07/2020","2021-06-30"]
["1010","53481000","T10-0185-P-1000",{"$f":"VLOOKUP($C40,'SEI ISD'!$A$4:$B$124,2,0)","v":"2021-06-15"},"10700000","UZ",202009,53.06,1.645E-3,3.5608300000000001E-3,"09","2020","09/2020","2021-06-30"]
["1010","53481000","T10-0185-P-1000",{"$f":"VLOOKUP($C41,'SEI ISD'!$A$4:$B$124,2,0)","v":"2021-06-15"},"10700000","UZ",202010,-23.58,1.645E-3,3.5608300000000001E-3,"10","2020","10/2020","2021-06-30"]
["1010","53481000","T10-0185-P-1000",{"$f":"VLOOKUP($C42,'SEI ISD'!$A$4:$B$124,2,0)","v":"2021-06-15"},"10700000","UZ",202011,4.37,1.645E-3,3.5608300000000001E-3,"11","2020","11/2020","2021-06-30"]
["1010","53481000","T10-0185-P-1000",{"$f":"VLOOKUP($C43,'SEI ISD'!$A$4:$B$124,2,0)","v":"2021-06-15"},"10700000","UZ",202012,862.82,1.645E-3,3.5608300000000001E-3,"12","2020","12/2020","2021-06-30"]
["1010","53481000","T10-0185-P-1000",{"$f":"VLOOKUP($C44,'SEI ISD'!$A$4:$B$124,2,0)","v":"2021-06-15"},"10700000","UZ",202101,206.96,1.645E-3,3.5608300000000001E-3,"01","2021","01/2021","2021-06-30"]
["1010","53481000","T10-0185-P-1000",{"$f":"VLOOKUP($C45,'SEI ISD'!$A$4:$B$124,2,0)","v":"2021-06-15"},"10700000","UZ",202102,996.22,1.645E-3,3.5608300000000001E-3,"02","2021","02/2021","2021-06-30"]
["1010","53481000","T10-0185-P-1000",{"$f":"VLOOKUP($C46,'SEI ISD'!$A$4:$B$124,2,0)","v":"2021-06-15"},"10700000","UZ",202103,664.86,1.645E-3,3.5608300000000001E-3,"03","2021","03/2021","2021-06-30"]
["1010","53481000","T10-0185-P-1000",{"$f":"VLOOKUP($C47,'SEI ISD'!$A$4:$B$124,2,0)","v":"2021-06-15"},"10700000","UZ",202104,609.80999999999995,1.645E-3,3.5608300000000001E-3,"04","2021","04/2021","2021-06-30"]
["1010","53481000","T10-0185-P-1000",{"$f":"VLOOKUP($C48,'SEI ISD'!$A$4:$B$124,2,0)","v":"2021-06-15"},"10700000","UZ",202105,-273.47000000000003,1.645E-3,3.5608300000000001E-3,"05","2021","05/2021","2021-06-30"]
["1010","53481000","T10-0185-P-1000",{"$f":"VLOOKUP($C49,'SEI ISD'!$A$4:$B$124,2,0)","v":"2021-06-15"},"10700000","UZ",202106,728.71,1.645E-3,3.5608300000000001E-3,"06","2021","06/2021","2021-06-30"]
["1010","53481100","R10-01K3.19-P-4031",{"$f":"VLOOKUP($C50,'SEI ISD'!$A$4:$B$124,2,0)","v":"2021-03-01"},"10700000","UZ",201911,5.14,1.645E-3,3.5608300000000001E-3,"11","2019","11/2019","2021-03-31"]
["1010","53481100","R10-01K3.19-P-4031",{"$f":"VLOOKUP($C51,'SEI ISD'!$A$4:$B$124,2,0)","v":"2021-03-01"},"10700000","UZ",201912,1.67,1.645E-3,3.5608300000000001E-3,"12","2019","12/2019","2021-03-31"]
["1010","53481100","R10-01K3.19-P-4031",{"$f":"VLOOKUP($C52,'SEI ISD'!$A$4:$B$124,2,0)","v":"2021-03-01"},"10700000","UZ",202001,27.7,1.645E-3,3.5608300000000001E-3,"01","2020","01/2020","2021-03-31"]
["1010","53481100","R10-01K3.19-P-4031",{"$f":"VLOOKUP($C53,'SEI ISD'!$A$4:$B$124,2,0)","v":"2021-03-01"},"10700000","UZ",202002,14.78,1.645E-3,3.5608300000000001E-3,"02","2020","02/2020","2021-03-31"]
["1010","53481100","R10-01K3.19-P-4031",{"$f":"VLOOKUP($C54,'SEI ISD'!$A$4:$B$124,2,0)","v":"2021-03-01"},"10700000","UZ",202003,33.49,1.645E-3,3.5608300000000001E-3,"03","2020","03/2020","2021-03-31"]
["1010","53481100","R10-01K3.19-P-4031",{"$f":"VLOOKUP($C55,'SEI ISD'!$A$4:$B$124,2,0)","v":"2021-03-01"},"10700000","UZ",202004,12.52,1.645E-3,3.5608300000000001E-3,"04","2020","04/2020","2021-03-31"]
["1010","53481100","R10-01K3.19-P-4031",{"$f":"VLOOKUP($C56,'SEI ISD'!$A$4:$B$124,2,0)","v":"2021-03-01"},"10700000","UZ",202005,20.28,1.645E-3,3.5608300000000001E-3,"05","2020","05/2020","2021-03-31"]
["1010","53481100","R10-01K3.19-P-4031",{"$f":"VLOOKUP($C57,'SEI ISD'!$A$4:$B$124,2,0)","v":"2021-03-01"},"10700000","UZ",202006,-21.77,1.645E-3,3.5608300000000001E-3,"06","2020","06/2020","2021-03-31"]
["1010","53481100","R10-01K3.19-P-4031",{"$f":"VLOOKUP($C58,'SEI ISD'!$A$4:$B$124,2,0)","v":"2021-03-01"},"10700000","UZ",202007,7.62,1.645E-3,3.5608300000000001E-3,"07","2020","07/2020","2021-03-31"]
["1010","53481100","R10-01K3.19-P-4031",{"$f":"VLOOKUP($C59,'SEI ISD'!$A$4:$B$124,2,0)","v":"2021-03-01"},"10700000","UZ",202008,17.8,1.645E-3,3.5608300000000001E-3,"08","2020","08/2020","2021-03-31"]
["1010","53481100","R10-01K3.19-P-4031",{"$f":"VLOOKUP($C60,'SEI ISD'!$A$4:$B$124,2,0)","v":"2021-03-01"},"10700000","UZ",202009,11.44,1.645E-3,3.5608300000000001E-3,"09","2020","09/2020","2021-03-31"]
["1010","53481100","R10-01K3.19-P-4031",{"$f":"VLOOKUP($C61,'SEI ISD'!$A$4:$B$124,2,0)","v":"2021-03-01"},"10700000","UZ",202010,6.82,1.645E-3,3.5608300000000001E-3,"10","2020","10/2020","2021-03-31"]
["1010","53481100","R10-01K3.19-P-4031",{"$f":"VLOOKUP($C62,'SEI ISD'!$A$4:$B$124,2,0)","v":"2021-03-01"},"10700000","UZ",202011,15.22,1.645E-3,3.5608300000000001E-3,"11","2020","11/2020","2021-03-31"]
["1010","53481100","R10-01K3.19-P-4031",{"$f":"VLOOKUP($C63,'SEI ISD'!$A$4:$B$124,2,0)","v":"2021-03-01"},"10700000","UZ",202012,8.59,1.645E-3,3.5608300000000001E-3,"12","2020","12/2020","2021-03-31"]
["1010","53481100","R10-01K3.19-P-4031",{"$f":"VLOOKUP($C64,'SEI ISD'!$A$4:$B$124,2,0)","v":"2021-03-01"},"10700000","UZ",202102,2.98,1.645E-3,3.5608300000000001E-3,"02","2021","02/2021","2021-03-31"]
["1010","53481100","R10-01K3.19-P-4031",{"$f":"VLOOKUP($C65,'SEI ISD'!$A$4:$B$124,2,0)","v":"2021-03-01"},"10700000","UZ",202103,9.6999999999999993,1.645E-3,3.5608300000000001E-3,"03","2021",{"$f":"_xlfn.CONCAT(K65,\"/31/\",L65)","v":"03/31/2021"},"2021-03-31"]
["1010","53481100","T10-0184-P-1000",{"$f":"VLOOKUP($C66,'SEI ISD'!$A$4:$B$124,2,0)","v":"2020-11-20"},"10700000","UZ",202007,2.54,1.645E-3,3.5608300000000001E-3,"07","2020","07/2020","2020-11-30"]
["1010","53481100","T10-0184-P-1000",{"$f":"VLOOKUP($C67,'SEI ISD'!$A$4:$B$124,2,0)","v":"2020-11-20"},"10700000","UZ",202008,13.15,1.645E-3,3.5608300000000001E-3,{"$f":"RIGHT(G67,2)","v":"08"},{"$f":"LEFT(G67,4)","v":"2020"},{"$f":"_xlfn.CONCAT(K67,\"/\",L67)","v":"08/2020"},{"$f":"EOMONTH(D67,0)","v":"2020-11-30"}]
["1010","53481100","T10-0184-P-1000",{"$f":"VLOOKUP($C68,'SEI ISD'!$A$4:$B$124,2,0)","v":"2020-11-20"},"10700000","UZ",202009,4.9000000000000004,1.645E-3,3.5608300000000001E-3,"09","2020","09/2020","2020-11-30"]
["1010","53481100","T10-0184-P-1000",{"$f":"VLOOKUP($C69,'SEI ISD'!$A$4:$B$124,2,0)","v":"2020-11-20"},"10700000","UZ",202010,13.03,1.645E-3,3.5608300000000001E-3,"10","2020","10/2020","2020-11-30"]
["1010","53481100","T10-0184-P-1000",{"$f":"VLOOKUP($C70,'SEI ISD'!$A$4:$B$124,2,0)","v":"2020-11-20"},"10700000","UZ",202011,3.38,1.645E-3,3.5608300000000001E-3,"11","2020","11/2020","2020-11-30"]
["1010","53481100","T10-0184-P-1000",{"$f":"VLOOKUP($C71,'SEI ISD'!$A$4:$B$124,2,0)","v":"2020-11-20"},"10700000","UZ",202012,3.82,1.645E-3,3.5608300000000001E-3,"12","2020","12/2020","2020-11-30"]
["1010","53481100","T10-0184-P-1000",{"$f":"VLOOKUP($C72,'SEI ISD'!$A$4:$B$124,2,0)","v":"2020-11-20"},"10700000","UZ",202101,5.17,1.645E-3,3.5608300000000001E-3,"01","2021","01/2021","2020-11-30"]
["1010","53481100","T10-0184-P-1000",{"$f":"VLOOKUP($C73,'SEI ISD'!$A$4:$B$124,2,0)","v":"2020-11-20"},"10700000","UZ",202102,4.96,1.645E-3,3.5608300000000001E-3,"02","2021","02/2021","2020-11-30"]
["1010","53481100","T10-0185-P-1000",{"$f":"VLOOKUP($C74,'SEI ISD'!$A$4:$B$124,2,0)","v":"2021-06-15"},"10700000","UZ",202007,0.85,1.645E-3,3.5608300000000001E-3,"07","2020","07/2020","2021-06-30"]
["1010","53481100","T10-0185-P-1000",{"$f":"VLOOKUP($C75,'SEI ISD'!$A$4:$B$124,2,0)","v":"2021-06-15"},"10700000","UZ",202009,0.82,1.645E-3,3.5608300000000001E-3,"09","2020","09/2020","2021-06-30"]
["1010","53481100","T10-0185-P-1000",{"$f":"VLOOKUP($C76,'SEI ISD'!$A$4:$B$124,2,0)","v":"2021-06-15"},"10700000","UZ",202012,9.5500000000000007,1.645E-3,3.5608300000000001E-3,"12","2020","12/2020","2021-06-30"]
["1010","53481100","T10-0185-P-1000",{"$f":"VLOOKUP($C77,'SEI ISD'!$A$4:$B$124,2,0)","v":"2021-06-15"},"10700000","UZ",202101,2.87,1.645E-3,3.5608300000000001E-3,"01","2021","01/2021","2021-06-30"]
["1010","53481100","T10-0185-P-1000",{"$f":"VLOOKUP($C78,'SEI ISD'!$A$4:$B$124,2,0)","v":"2021-06-15"},"10700000","UZ",202102,40.42,1.645E-3,3.5608300000000001E-3,"02","2021","02/2021","2021-06-30"]
["1010","53481100","T10-0185-P-1000",{"$f":"VLOOKUP($C79,'SEI ISD'!$A$4:$B$124,2,0)","v":"2021-06-15"},"10700000","UZ",202103,22.85,1.645E-3,3.5608300000000001E-3,"03","2021","03/2021","2021-06-30"]
["1010","53481100","T10-0185-P-1000",{"$f":"VLOOKUP($C80,'SEI ISD'!$A$4:$B$124,2,0)","v":"2021-06-15"},"10700000","UZ",202104,20.73,1.645E-3,3.5608300000000001E-3,"04","2021","04/2021","2021-06-30"]
["1010","53481100","T10-0185-P-1000",{"$f":"VLOOKUP($C81,'SEI ISD'!$A$4:$B$124,2,0)","v":"2021-06-15"},"10700000","UZ",202106,25.63,1.645E-3,3.5608300000000001E-3,"06","2021","06/2021","2021-06-30"]
["1010","53481200","R10-01K3.19-P-4031",{"$f":"VLOOKUP($C82,'SEI ISD'!$A$4:$B$124,2,0)","v":"2021-03-01"},"10700000","UZ",201909,4.25,1.645E-3,3.5608300000000001E-3,"09","2019","09/2019","2021-03-31"]
["1010","53481200","R10-01K3.19-P-4031",{"$f":"VLOOKUP($C83,'SEI ISD'!$A$4:$B$124,2,0)","v":"2021-03-01"},"10700000","UZ",201910,-1.59,1.645E-3,3.5608300000000001E-3,"10","2019","10/2019","2021-03-31"]
["1010","53481200","R10-01K3.19-P-4031",{"$f":"VLOOKUP($C84,'SEI ISD'!$A$4:$B$124,2,0)","v":"2021-03-01"},"10700000","UZ",201911,48.66,1.645E-3,3.5608300000000001E-3,"11","2019","11/2019","2021-03-31"]
["1010","53481200","R10-01K3.19-P-4031",{"$f":"VLOOKUP($C85,'SEI ISD'!$A$4:$B$124,2,0)","v":"2021-03-01"},"10700000","UZ",201912,4.57,1.645E-3,3.5608300000000001E-3,"12","2019","12/2019","2021-03-31"]
["1010","53481200","R10-01K3.19-P-4031",{"$f":"VLOOKUP($C86,'SEI ISD'!$A$4:$B$124,2,0)","v":"2021-03-01"},"10700000","UZ",202001,138.94,1.645E-3,3.5608300000000001E-3,"01","2020","01/2020","2021-03-31"]
["1010","53481200","R10-01K3.19-P-4031",{"$f":"VLOOKUP($C87,'SEI ISD'!$A$4:$B$124,2,0)","v":"2021-03-01"},"10700000","UZ",202002,78.349999999999994,1.645E-3,3.5608300000000001E-3,"02","2020","02/2020","2021-03-31"]
["1010","53481200","R10-01K3.19-P-4031",{"$f":"VLOOKUP($C88,'SEI ISD'!$A$4:$B$124,2,0)","v":"2021-03-01"},"10700000","UZ",202003,270.82,1.645E-3,3.5608300000000001E-3,"03","2020","03/2020","2021-03-31"]
["1010","53481200","R10-01K3.19-P-4031",{"$f":"VLOOKUP($C89,'SEI ISD'!$A$4:$B$124,2,0)","v":"2021-03-01"},"10700000","UZ",202004,72.61,1.645E-3,3.5608300000000001E-3,"04","2020","04/2020","2021-03-31"]
["1010","53481200","R10-01K3.19-P-4031",{"$f":"VLOOKUP($C90,'SEI ISD'!$A$4:$B$124,2,0)","v":"2021-03-01"},"10700000","UZ",202005,141.34,1.645E-3,3.5608300000000001E-3,"05","2020","05/2020","2021-03-31"]
["1010","53481200","R10-01K3.19-P-4031",{"$f":"VLOOKUP($C91,'SEI ISD'!$A$4:$B$124,2,0)","v":"2021-03-01"},"10700000","UZ",202006,108.3,1.645E-3,3.5608300000000001E-3,"06","2020","06/2020","2021-03-31"]
["1010","53481200","R10-01K3.19-P-4031",{"$f":"VLOOKUP($C92,'SEI ISD'!$A$4:$B$124,2,0)","v":"2021-03-01"},"10700000","UZ",202007,140.18,1.645E-3,3.5608300000000001E-3,"07","2020","07/2020","2021-03-31"]
["1010","53481200","R10-01K3.19-P-4031",{"$f":"VLOOKUP($C93,'SEI ISD'!$A$4:$B$124,2,0)","v":"2021-03-01"},"10700000","UZ",202008,320.25,1.645E-3,3.5608300000000001E-3,"08","2020","08/2020","2021-03-31"]
["1010","53481200","R10-01K3.19-P-4031",{"$f":"VLOOKUP($C94,'SEI ISD'!$A$4:$B$124,2,0)","v":"2021-03-01"},"10700000","UZ",202009,116.25,1.645E-3,3.5608300000000001E-3,"09","2020","09/2020","2021-03-31"]
["1010","53481200","R10-01K3.19-P-4031",{"$f":"VLOOKUP($C95,'SEI ISD'!$A$4:$B$124,2,0)","v":"2021-03-01"},"10700000","UZ",202010,134.97999999999999,1.645E-3,3.5608300000000001E-3,"10","2020","10/2020","2021-03-31"]
["1010","53481200","R10-01K3.19-P-4031",{"$f":"VLOOKUP($C96,'SEI ISD'!$A$4:$B$124,2,0)","v":"2021-03-01"},"10700000","UZ",202011,283.98,1.645E-3,3.5608300000000001E-3,"11","2020","11/2020","2021-03-31"]
["1010","53481200","R10-01K3.19-P-4031",{"$f":"VLOOKUP($C97,'SEI ISD'!$A$4:$B$124,2,0)","v":"2021-03-01"},"10700000","UZ",202012,91.6,1.645E-3,3.5608300000000001E-3,"12","2020","12/2020","2021-03-31"]
["1010","53481200","R10-01K3.19-P-4031",{"$f":"VLOOKUP($C98,'SEI ISD'!$A$4:$B$124,2,0)","v":"2021-03-01"},"10700000","UZ",202101,-17.22,1.645E-3,3.5608300000000001E-3,"01","2021","01/2021","2021-03-31"]
["1010","53481200","R10-01K3.19-P-4031",{"$f":"VLOOKUP($C99,'SEI ISD'!$A$4:$B$124,2,0)","v":"2021-03-01"},"10700000","UZ",202102,37.94,1.645E-3,3.5608300000000001E-3,"02","2021","02/2021","2021-03-31"]
["1010","53481200","R10-01K3.19-P-4031",{"$f":"VLOOKUP($C100,'SEI ISD'!$A$4:$B$124,2,0)","v":"2021-03-01"},"10700000","UZ",202103,163.46,1.645E-3,3.5608300000000001E-3,"03","2021","03/2021","2021-03-31"]
["1010","53481200","T10-0184-P-1000",{"$f":"VLOOKUP($C101,'SEI ISD'!$A$4:$B$124,2,0)","v":"2020-11-20"},"10700000","UZ",202006,4.99,1.645E-3,3.5608300000000001E-3,"06","2020","06/2020","2020-11-30"]
["1010","53481200","T10-0184-P-1000",{"$f":"VLOOKUP($C102,'SEI ISD'!$A$4:$B$124,2,0)","v":"2020-11-20"},"10700000","UZ",202007,23.83,1.645E-3,3.5608300000000001E-3,"07","2020","07/2020","2020-11-30"]
["1010","53481200","T10-0184-P-1000",{"$f":"VLOOKUP($C103,'SEI ISD'!$A$4:$B$124,2,0)","v":"2020-11-20"},"10700000","UZ",202008,141.63,1.645E-3,3.5608300000000001E-3,"08","2020","08/2020","2020-11-30"]
["1010","53481200","T10-0184-P-1000",{"$f":"VLOOKUP($C104,'SEI ISD'!$A$4:$B$124,2,0)","v":"2020-11-20"},"10700000","UZ",202009,36.340000000000003,1.645E-3,3.5608300000000001E-3,"09","2020","09/2020","2020-11-30"]
["1010","53481200","T10-0184-P-1000",{"$f":"VLOOKUP($C105,'SEI ISD'!$A$4:$B$124,2,0)","v":"2020-11-20"},"10700000","UZ",202010,132.74,1.645E-3,3.5608300000000001E-3,"10","2020","10/2020","2020-11-30"]
["1010","53481200","T10-0184-P-1000",{"$f":"VLOOKUP($C106,'SEI ISD'!$A$4:$B$124,2,0)","v":"2020-11-20"},"10700000","UZ",202011,9.5299999999999994,1.645E-3,3.5608300000000001E-3,"11","2020","11/2020","2020-11-30"]
["1010","53481200","T10-0184-P-1000",{"$f":"VLOOKUP($C107,'SEI ISD'!$A$4:$B$124,2,0)","v":"2020-11-20"},"10700000","UZ",202012,12.57,1.645E-3,3.5608300000000001E-3,"12","2020","12/2020","2020-11-30"]
["1010","53481200","T10-0184-P-1000",{"$f":"VLOOKUP($C108,'SEI ISD'!$A$4:$B$124,2,0)","v":"2020-11-20"},"10700000","UZ",202101,64.16,1.645E-3,3.5608300000000001E-3,"01","2021","01/2021","2020-11-30"]
["1010","53481200","T10-0184-P-1000",{"$f":"VLOOKUP($C109,'SEI ISD'!$A$4:$B$124,2,0)","v":"2020-11-20"},"10700000","UZ",202102,29.25,1.645E-3,3.5608300000000001E-3,"02","2021","02/2021","2020-11-30"]
["1010","53481200","T10-0184-P-1000",{"$f":"VLOOKUP($C110,'SEI ISD'!$A$4:$B$124,2,0)","v":"2020-11-20"},"10700000","UZ",202103,-37.200000000000003,1.645E-3,3.5608300000000001E-3,"03","2021","03/2021","2020-11-30"]
["1010","53481200","T10-0185-P-1000",{"$f":"VLOOKUP($C111,'SEI ISD'!$A$4:$B$124,2,0)","v":"2021-06-15"},"10700000","UZ",202007,17.73,1.645E-3,3.5608300000000001E-3,"07","2020","07/2020","2021-06-30"]
["1010","53481200","T10-0185-P-1000",{"$f":"VLOOKUP($C112,'SEI ISD'!$A$4:$B$124,2,0)","v":"2021-06-15"},"10700000","UZ",202009,6.47,1.645E-3,3.5608300000000001E-3,"09","2020","09/2020","2021-06-30"]
["1010","53481200","T10-0185-P-1000",{"$f":"VLOOKUP($C113,'SEI ISD'!$A$4:$B$124,2,0)","v":"2021-06-15"},"10700000","UZ",202010,-2.86,1.645E-3,3.5608300000000001E-3,"10","2020","10/2020","2021-06-30"]
["1010","53481200","T10-0185-P-1000",{"$f":"VLOOKUP($C114,'SEI ISD'!$A$4:$B$124,2,0)","v":"2021-06-15"},"10700000","UZ",202011,0.39,1.645E-3,3.5608300000000001E-3,"11","2020","11/2020","2021-06-30"]
["1010","53481200","T10-0185-P-1000",{"$f":"VLOOKUP($C115,'SEI ISD'!$A$4:$B$124,2,0)","v":"2021-06-15"},"10700000","UZ",202012,180.19,1.645E-3,3.5608300000000001E-3,"12","2020","12/2020","2021-06-30"]
["1010","53481200","T10-0185-P-1000",{"$f":"VLOOKUP($C116,'SEI ISD'!$A$4:$B$124,2,0)","v":"2021-06-15"},"10700000","UZ",202101,12.62,1.645E-3,3.5608300000000001E-3,"01","2021","01/2021","2021-06-30"]
["1010","53481200","T10-0185-P-1000",{"$f":"VLOOKUP($C117,'SEI ISD'!$A$4:$B$124,2,0)","v":"2021-06-15"},"10700000","UZ",202102,218.21,1.645E-3,3.5608300000000001E-3,"02","2021","02/2021","2021-06-30"]
["1010","53481200","T10-0185-P-1000",{"$f":"VLOOKUP($C118,'SEI ISD'!$A$4:$B$124,2,0)","v":"2021-06-15"},"10700000","UZ",202103,143.69999999999999,1.645E-3,3.5608300000000001E-3,"03","2021","03/2021","2021-06-30"]
["1010","53481200","T10-0185-P-1000",{"$f":"VLOOKUP($C119,'SEI ISD'!$A$4:$B$124,2,0)","v":"2021-06-15"},"10700000","UZ",202104,131.27000000000001,1.645E-3,3.5608300000000001E-3,"04","2021","04/2021","2021-06-30"]
["1010","53481200","T10-0185-P-1000",{"$f":"VLOOKUP($C120,'SEI ISD'!$A$4:$B$124,2,0)","v":"2021-06-15"},"10700000","UZ",202105,-59.38,1.645E-3,3.5608300000000001E-3,"05","2021","05/2021","2021-06-30"]
["1010","53481200","T10-0185-P-1000",{"$f":"VLOOKUP($C121,'SEI ISD'!$A$4:$B$124,2,0)","v":"2021-06-15"},"10700000","UZ",202106,154.59,1.645E-3,3.5608300000000001E-3,"06","2021","06/2021","2021-06-30"]
["1010","53481300","R10-01K3.19-P-4031",{"$f":"VLOOKUP($C122,'SEI ISD'!$A$4:$B$124,2,0)","v":"2021-03-01"},"10700000","UZ",201909,1.52,1.645E-3,3.5608300000000001E-3,"09","2019","09/2019","2021-03-31"]
["1010","53481300","R10-01K3.19-P-4031",{"$f":"VLOOKUP($C123,'SEI ISD'!$A$4:$B$124,2,0)","v":"2021-03-01"},"10700000","UZ",201910,-0.56999999999999995,1.645E-3,3.5608300000000001E-3,"10","2019","10/2019","2021-03-31"]
["1010","53481300","R10-01K3.19-P-4031",{"$f":"VLOOKUP($C124,'SEI ISD'!$A$4:$B$124,2,0)","v":"2021-03-01"},"10700000","UZ",201911,18.28,1.645E-3,3.5608300000000001E-3,"11","2019","11/2019","2021-03-31"]
["1010","53481300","R10-01K3.19-P-4031",{"$f":"VLOOKUP($C125,'SEI ISD'!$A$4:$B$124,2,0)","v":"2021-03-01"},"10700000","UZ",201912,2.86,1.645E-3,3.5608300000000001E-3,"12","2019","12/2019","2021-03-31"]
["1010","53481300","R10-01K3.19-P-4031",{"$f":"VLOOKUP($C126,'SEI ISD'!$A$4:$B$124,2,0)","v":"2021-03-01"},"10700000","UZ",202001,47.46,1.645E-3,3.5608300000000001E-3,"01","2020","01/2020","2021-03-31"]
["1010","53481300","R10-01K3.19-P-4031",{"$f":"VLOOKUP($C127,'SEI ISD'!$A$4:$B$124,2,0)","v":"2021-03-01"},"10700000","UZ",202002,25.13,1.645E-3,3.5608300000000001E-3,"02","2020","02/2020","2021-03-31"]
["1010","53481300","R10-01K3.19-P-4031",{"$f":"VLOOKUP($C128,'SEI ISD'!$A$4:$B$124,2,0)","v":"2021-03-01"},"10700000","UZ",202003,86.84,1.645E-3,3.5608300000000001E-3,"03","2020","03/2020","2021-03-31"]
["1010","53481300","R10-01K3.19-P-4031",{"$f":"VLOOKUP($C129,'SEI ISD'!$A$4:$B$124,2,0)","v":"2021-03-01"},"10700000","UZ",202004,24.54,1.645E-3,3.5608300000000001E-3,"04","2020","04/2020","2021-03-31"]
["1010","53481300","R10-01K3.19-P-4031",{"$f":"VLOOKUP($C130,'SEI ISD'!$A$4:$B$124,2,0)","v":"2021-03-01"},"10700000","UZ",202005,46.59,1.645E-3,3.5608300000000001E-3,"05","2020","05/2020","2021-03-31"]
["1010","53481300","R10-01K3.19-P-4031",{"$f":"VLOOKUP($C131,'SEI ISD'!$A$4:$B$124,2,0)","v":"2021-03-01"},"10700000","UZ",202006,31.82,1.645E-3,3.5608300000000001E-3,{"$f":"RIGHT(G131,2)","v":"06"},{"$f":"LEFT(G131,4)","v":"2020"},{"$f":"_xlfn.CONCAT(K131,\"/\",L131)","v":"06/2020"},{"$f":"EOMONTH(D131,0)","v":"2021-03-31"}]
["1010","53481300","R10-01K3.19-P-4031",{"$f":"VLOOKUP($C132,'SEI ISD'!$A$4:$B$124,2,0)","v":"2021-03-01"},"10700000","UZ",202007,44.98,1.645E-3,3.5608300000000001E-3,"07","2020","07/2020","2021-03-31"]
["1010","53481300","R10-01K3.19-P-4031",{"$f":"VLOOKUP($C133,'SEI ISD'!$A$4:$B$124,2,0)","v":"2021-03-01"},"10700000","UZ",202008,102.6,1.645E-3,3.5608300000000001E-3,"08","2020","08/2020","2021-03-31"]
["1010","53481300","R10-01K3.19-P-4031",{"$f":"VLOOKUP($C134,'SEI ISD'!$A$4:$B$124,2,0)","v":"2021-03-01"},"10700000","UZ",202009,37.97,1.645E-3,3.5608300000000001E-3,"09","2020","09/2020","2021-03-31"]
["1010","53481300","R10-01K3.19-P-4031",{"$f":"VLOOKUP($C135,'SEI ISD'!$A$4:$B$124,2,0)","v":"2021-03-01"},"10700000","UZ",202010,42.99,1.645E-3,3.5608300000000001E-3,"10","2020","10/2020","2021-03-31"]
["1010","53481300","R10-01K3.19-P-4031",{"$f":"VLOOKUP($C136,'SEI ISD'!$A$4:$B$124,2,0)","v":"2021-03-01"},"10700000","UZ",202011,89.77,1.645E-3,3.5608300000000001E-3,"11","2020","11/2020","2021-03-31"]
["1010","53481300","R10-01K3.19-P-4031",{"$f":"VLOOKUP($C137,'SEI ISD'!$A$4:$B$124,2,0)","v":"2021-03-01"},"10700000","UZ",202012,49.11,1.645E-3,3.5608300000000001E-3,"12","2020","12/2020","2021-03-31"]
["1010","53481300","R10-01K3.19-P-4031",{"$f":"VLOOKUP($C138,'SEI ISD'!$A$4:$B$124,2,0)","v":"2021-03-01"},"10700000","UZ",202101,-3.3,1.645E-3,3.5608300000000001E-3,"01","2021","01/2021","2021-03-31"]
["1010","53481300","R10-01K3.19-P-4031",{"$f":"VLOOKUP($C139,'SEI ISD'!$A$4:$B$124,2,0)","v":"2021-03-01"},"10700000","UZ",202102,12.17,1.645E-3,3.5608300000000001E-3,"02","2021","02/2021","2021-03-31"]
["1010","53481300","R10-01K3.19-P-4031",{"$f":"VLOOKUP($C140,'SEI ISD'!$A$4:$B$124,2,0)","v":"2021-03-01"},"10700000","UZ",202103,62.87,1.645E-3,3.5608300000000001E-3,"03","2021","03/2021","2021-03-31"]
["1010","53481300","T10-0184-P-1000",{"$f":"VLOOKUP($C141,'SEI ISD'!$A$4:$B$124,2,0)","v":"2020-11-20"},"10700000","UZ",202006,4.99,1.645E-3,3.5608300000000001E-3,"06","2020","06/2020","2020-11-30"]
["1010","53481300","T10-0184-P-1000",{"$f":"VLOOKUP($C142,'SEI ISD'!$A$4:$B$124,2,0)","v":"2020-11-20"},"10700000","UZ",202007,18.22,1.645E-3,3.5608300000000001E-3,"07","2020","07/2020","2020-11-30"]
["1010","53481300","T10-0184-P-1000",{"$f":"VLOOKUP($C143,'SEI ISD'!$A$4:$B$124,2,0)","v":"2020-11-20"},"10700000","UZ",202008,104.21,1.645E-3,3.5608300000000001E-3,"08","2020","08/2020","2020-11-30"]
["1010","53481300","T10-0184-P-1000",{"$f":"VLOOKUP($C144,'SEI ISD'!$A$4:$B$124,2,0)","v":"2020-11-20"},"10700000","UZ",202009,46.84,1.645E-3,3.5608300000000001E-3,"09","2020","09/2020","2020-11-30"]
["1010","53481300","T10-0184-P-1000",{"$f":"VLOOKUP($C145,'SEI ISD'!$A$4:$B$124,2,0)","v":"2020-11-20"},"10700000","UZ",202010,115.88,1.645E-3,3.5608300000000001E-3,"10","2020","10/2020","2020-11-30"]
["1010","53481300","T10-0184-P-1000",{"$f":"VLOOKUP($C146,'SEI ISD'!$A$4:$B$124,2,0)","v":"2020-11-20"},"10700000","UZ",202011,23.48,1.645E-3,3.5608300000000001E-3,"11","2020","11/2020","2020-11-30"]
["1010","53481300","T10-0184-P-1000",{"$f":"VLOOKUP($C147,'SEI ISD'!$A$4:$B$124,2,0)","v":"2020-11-20"},"10700000","UZ",202012,28.38,1.645E-3,3.5608300000000001E-3,"12","2020","12/2020","2020-11-30"]
["1010","53481300","T10-0184-P-1000",{"$f":"VLOOKUP($C148,'SEI ISD'!$A$4:$B$124,2,0)","v":"2020-11-20"},"10700000","UZ",202101,37.11,1.645E-3,3.5608300000000001E-3,"01","2021","01/2021","2020-11-30"]
["1010","53481300","T10-0184-P-1000",{"$f":"VLOOKUP($C149,'SEI ISD'!$A$4:$B$124,2,0)","v":"2020-11-20"},"10700000","UZ",202102,31.69,1.645E-3,3.5608300000000001E-3,"02","2021","02/2021","2020-11-30"]
["1010","53481300","T10-0184-P-1000",{"$f":"VLOOKUP($C150,'SEI ISD'!$A$4:$B$124,2,0)","v":"2020-11-20"},"10700000","UZ",202103,-39.57,1.645E-3,3.5608300000000001E-3,"03","2021","03/2021","2020-11-30"]
["1010","53481300","T10-0185-P-1000",{"$f":"VLOOKUP($C151,'SEI ISD'!$A$4:$B$124,2,0)","v":"2021-06-15"},"10700000","UZ",202007,8.2200000000000006,1.645E-3,3.5608300000000001E-3,"07","2020","07/2020","2021-06-30"]
["1010","53481300","T10-0185-P-1000",{"$f":"VLOOKUP($C152,'SEI ISD'!$A$4:$B$124,2,0)","v":"2021-06-15"},"10700000","UZ",202009,4.9800000000000004,1.645E-3,3.5608300000000001E-3,"09","2020","09/2020","2021-06-30"]
["1010","53481300","T10-0185-P-1000",{"$f":"VLOOKUP($C153,'SEI ISD'!$A$4:$B$124,2,0)","v":"2021-06-15"},"10700000","UZ",202010,-2.1800000000000002,1.645E-3,3.5608300000000001E-3,"10","2020","10/2020","2021-06-30"]
["1010","53481300","T10-0185-P-1000",{"$f":"VLOOKUP($C154,'SEI ISD'!$A$4:$B$124,2,0)","v":"2021-06-15"},"10700000","UZ",202011,0.4,1.645E-3,3.5608300000000001E-3,"11","2020","11/2020","2021-06-30"]
["1010","53481300","T10-0185-P-1000",{"$f":"VLOOKUP($C155,'SEI ISD'!$A$4:$B$124,2,0)","v":"2021-06-15"},"10700000","UZ",202012,79.540000000000006,1.645E-3,3.5608300000000001E-3,"12","2020","12/2020","2021-06-30"]
["1010","53481300","T10-0185-P-1000",{"$f":"VLOOKUP($C156,'SEI ISD'!$A$4:$B$124,2,0)","v":"2021-06-15"},"10700000","UZ",202101,19.62,1.645E-3,3.5608300000000001E-3,"01","2021","01/2021","2021-06-30"]
["1010","53481300","T10-0185-P-1000",{"$f":"VLOOKUP($C157,'SEI ISD'!$A$4:$B$124,2,0)","v":"2021-06-15"},"10700000","UZ",202102,96.03,1.645E-3,3.5608300000000001E-3,"02","2021","02/2021","2021-06-30"]
["1010","53481300","T10-0185-P-1000",{"$f":"VLOOKUP($C158,'SEI ISD'!$A$4:$B$124,2,0)","v":"2021-06-15"},"10700000","UZ",202103,64.06,1.645E-3,3.5608300000000001E-3,"03","2021","03/2021","2021-06-30"]
["1010","53481300","T10-0185-P-1000",{"$f":"VLOOKUP($C159,'SEI ISD'!$A$4:$B$124,2,0)","v":"2021-06-15"},"10700000","UZ",202104,58.92,1.645E-3,3.5608300000000001E-3,"04","2021","04/2021","2021-06-30"]
["1010","53481300","T10-0185-P-1000",{"$f":"VLOOKUP($C160,'SEI ISD'!$A$4:$B$124,2,0)","v":"2021-06-15"},"10700000","UZ",202105,-25.3,1.645E-3,3.5608300000000001E-3,"05","2021","05/2021","2021-06-30"]
["1010","53481300","T10-0185-P-1000",{"$f":"VLOOKUP($C161,'SEI ISD'!$A$4:$B$124,2,0)","v":"2021-06-15"},"10700000","UZ",202106,68.569999999999993,1.645E-3,3.5608300000000001E-3,"06","2021","06/2021","2021-06-30"]
["1010","53481400","R10-01K3.19-P-4031",{"$f":"VLOOKUP($C162,'SEI ISD'!$A$4:$B$124,2,0)","v":"2021-03-01"},"10700000","UZ",201911,6.8,1.645E-3,3.5608300000000001E-3,"11","2019","11/2019","2021-03-31"]
["1010","53481400","R10-01K3.19-P-4031",{"$f":"VLOOKUP($C163,'SEI ISD'!$A$4:$B$124,2,0)","v":"2021-03-01"},"10700000","UZ",201912,17994.32,1.645E-3,3.5608300000000001E-3,"12","2019","12/2019","2021-03-31"]
["1010","53481400","R10-01K3.19-P-4031",{"$f":"VLOOKUP($C164,'SEI ISD'!$A$4:$B$124,2,0)","v":"2021-03-01"},"10700000","UZ",202001,25.9,1.645E-3,3.5608300000000001E-3,"01","2020","01/2020","2021-03-31"]
["1010","53481400","R10-01K3.19-P-4031",{"$f":"VLOOKUP($C165,'SEI ISD'!$A$4:$B$124,2,0)","v":"2021-03-01"},"10700000","UZ",202002,0.47,1.645E-3,3.5608300000000001E-3,"02","2020","02/2020","2021-03-31"]
["1010","53481400","R10-01K3.19-P-4031",{"$f":"VLOOKUP($C166,'SEI ISD'!$A$4:$B$124,2,0)","v":"2021-03-01"},"10700000","UZ",202003,0.09,1.645E-3,3.5608300000000001E-3,"03","2020","03/2020","2021-03-31"]
["1010","53481400","R10-01K3.19-P-4031",{"$f":"VLOOKUP($C167,'SEI ISD'!$A$4:$B$124,2,0)","v":"2021-03-01"},"10700000","UZ",202005,1.63,1.645E-3,3.5608300000000001E-3,"05","2020","05/2020","2021-03-31"]
["1010","53481400","R10-01K3.19-P-4031",{"$f":"VLOOKUP($C168,'SEI ISD'!$A$4:$B$124,2,0)","v":"2021-03-01"},"10700000","UZ",202006,5078.58,1.645E-3,3.5608300000000001E-3,"06","2020","06/2020","2021-03-31"]
["1010","53481400","R10-01K3.19-P-4031",{"$f":"VLOOKUP($C169,'SEI ISD'!$A$4:$B$124,2,0)","v":"2021-03-01"},"10700000","UZ",202007,12545.91,1.645E-3,3.5608300000000001E-3,"07","2020","07/2020","2021-03-31"]
["1010","53481400","R10-01K3.19-P-4031",{"$f":"VLOOKUP($C170,'SEI ISD'!$A$4:$B$124,2,0)","v":"2021-03-01"},"10700000","UZ",202008,0.79,1.645E-3,3.5608300000000001E-3,"08","2020","08/2020","2021-03-31"]
["1010","53481400","R10-01K3.19-P-4031",{"$f":"VLOOKUP($C171,'SEI ISD'!$A$4:$B$124,2,0)","v":"2021-03-01"},"10700000","UZ",202009,-0.79,1.645E-3,3.5608300000000001E-3,"09","2020","09/2020","2021-03-31"]
["1010","53481400","R10-01K3.19-P-4031",{"$f":"VLOOKUP($C172,'SEI ISD'!$A$4:$B$124,2,0)","v":"2021-03-01"},"10700000","UZ",202010,9857.2999999999993,1.645E-3,3.5608300000000001E-3,"10","2020","10/2020","2021-03-31"]
["1010","53481400","R10-01K3.19-P-4031",{"$f":"VLOOKUP($C173,'SEI ISD'!$A$4:$B$124,2,0)","v":"2021-03-01"},"10700000","UZ",202011,-0.37,1.645E-3,3.5608300000000001E-3,"11","2020","11/2020","2021-03-31"]
["1010","53481400","R10-01K3.19-P-4031",{"$f":"VLOOKUP($C174,'SEI ISD'!$A$4:$B$124,2,0)","v":"2021-03-01"},"10700000","UZ",202012,14915.14,1.645E-3,3.5608300000000001E-3,"12","2020","12/2020","2021-03-31"]
["1010","53481400","R10-01K3.19-P-4031",{"$f":"VLOOKUP($C175,'SEI ISD'!$A$4:$B$124,2,0)","v":"2021-03-01"},"10700000","UZ",202102,-27.13,1.645E-3,3.5608300000000001E-3,"02","2021","02/2021","2021-03-31"]
["1010","53481400","R10-01K3.19-P-4031",{"$f":"VLOOKUP($C176,'SEI ISD'!$A$4:$B$124,2,0)","v":"2021-03-01"},"10700000","UZ",202103,8.02,1.645E-3,3.5608300000000001E-3,"03","2021","03/2021","2021-03-31"]
["1010","53481400","T10-0184-P-1000",{"$f":"VLOOKUP($C177,'SEI ISD'!$A$4:$B$124,2,0)","v":"2020-11-20"},"10700000","UZ",202006,1885.68,1.645E-3,3.5608300000000001E-3,"06","2020","06/2020","2020-11-30"]
["1010","53481400","T10-0184-P-1000",{"$f":"VLOOKUP($C178,'SEI ISD'!$A$4:$B$124,2,0)","v":"2020-11-20"},"10700000","UZ",202007,0.12,1.645E-3,3.5608300000000001E-3,"07","2020","07/2020","2020-11-30"]
["1010","53481400","T10-0184-P-1000",{"$f":"VLOOKUP($C179,'SEI ISD'!$A$4:$B$124,2,0)","v":"2020-11-20"},"10700000","UZ",202008,0.57999999999999996,1.645E-3,3.5608300000000001E-3,"08","2020","08/2020","2020-11-30"]
["1010","53481400","T10-0184-P-1000",{"$f":"VLOOKUP($C180,'SEI ISD'!$A$4:$B$124,2,0)","v":"2020-11-20"},"10700000","UZ",202009,-0.34,1.645E-3,3.5608300000000001E-3,"09","2020","09/2020","2020-11-30"]
["1010","53481400","T10-0184-P-1000",{"$f":"VLOOKUP($C181,'SEI ISD'!$A$4:$B$124,2,0)","v":"2020-11-20"},"10700000","UZ",202010,10372.5,1.645E-3,3.5608300000000001E-3,"10","2020","10/2020","2020-11-30"]
["1010","53481400","T10-0184-P-1000",{"$f":"VLOOKUP($C182,'SEI ISD'!$A$4:$B$124,2,0)","v":"2020-11-20"},"10700000","UZ",202011,-0.08,1.645E-3,3.5608300000000001E-3,"11","2020","11/2020","2020-11-30"]
["1010","53481400","T10-0184-P-1000",{"$f":"VLOOKUP($C183,'SEI ISD'!$A$4:$B$124,2,0)","v":"2020-11-20"},"10700000","UZ",202012,16031.74,1.645E-3,3.5608300000000001E-3,"12","2020","12/2020","2020-11-30"]
["1010","53481400","T10-0184-P-1000",{"$f":"VLOOKUP($C184,'SEI ISD'!$A$4:$B$124,2,0)","v":"2020-11-20"},"10700000","UZ",202101,2.61,1.645E-3,3.5608300000000001E-3,"01","2021","01/2021","2020-11-30"]
["1010","53481400","T10-0184-P-1000",{"$f":"VLOOKUP($C185,'SEI ISD'!$A$4:$B$124,2,0)","v":"2020-11-20"},"10700000","UZ",202102,2.4,1.645E-3,3.5608300000000001E-3,"02","2021","02/2021","2020-11-30"]
["1010","53481400","T10-0185-P-1000",{"$f":"VLOOKUP($C186,'SEI ISD'!$A$4:$B$124,2,0)","v":"2021-06-15"},"10700000","UZ",202007,0.04,1.645E-3,3.5608300000000001E-3,"07","2020","07/2020","2021-06-30"]
["1010","53481400","T10-0185-P-1000",{"$f":"VLOOKUP($C187,'SEI ISD'!$A$4:$B$124,2,0)","v":"2021-06-15"},"10700000","UZ",202008,3274.37,1.645E-3,3.5608300000000001E-3,"08","2020","08/2020","2021-06-30"]
["1010","53481400","T10-0185-P-1000",{"$f":"VLOOKUP($C188,'SEI ISD'!$A$4:$B$124,2,0)","v":"2021-06-15"},"10700000","UZ",202009,4282.3100000000004,1.645E-3,3.5608300000000001E-3,"09","2020","09/2020","2021-06-30"]
["1010","53481400","T10-0185-P-1000",{"$f":"VLOOKUP($C189,'SEI ISD'!$A$4:$B$124,2,0)","v":"2021-06-15"},"10700000","UZ",202010,-263.23,1.645E-3,3.5608300000000001E-3,"10","2020","10/2020","2021-06-30"]
["1010","53481400","T10-0185-P-1000",{"$f":"VLOOKUP($C190,'SEI ISD'!$A$4:$B$124,2,0)","v":"2021-06-15"},"10700000","UZ",202011,3165.23,1.645E-3,3.5608300000000001E-3,"11","2020","11/2020","2021-06-30"]
["1010","53481400","T10-0185-P-1000",{"$f":"VLOOKUP($C191,'SEI ISD'!$A$4:$B$124,2,0)","v":"2021-06-15"},"10700000","UZ",202012,4372.0600000000004,1.645E-3,3.5608300000000001E-3,"12","2020","12/2020","2021-06-30"]
["1010","53481400","T10-0185-P-1000",{"$f":"VLOOKUP($C192,'SEI ISD'!$A$4:$B$124,2,0)","v":"2021-06-15"},"10700000","UZ",202101,1461.93,1.645E-3,3.5608300000000001E-3,"01","2021","01/2021","2021-06-30"]
["1010","53481400","T10-0185-P-1000",{"$f":"VLOOKUP($C193,'SEI ISD'!$A$4:$B$124,2,0)","v":"2021-06-15"},"10700000","UZ",202102,-71,1.645E-3,3.5608300000000001E-3,"02","2021","02/2021","2021-06-30"]
["1010","53481400","T10-0185-P-1000",{"$f":"VLOOKUP($C194,'SEI ISD'!$A$4:$B$124,2,0)","v":"2021-06-15"},"10700000","UZ",202103,1263.6400000000001,1.645E-3,3.5608300000000001E-3,"03","2021","03/2021","2021-06-30"]
["1010","53481400","T10-0185-P-1000",{"$f":"VLOOKUP($C195,'SEI ISD'!$A$4:$B$124,2,0)","v":"2021-06-15"},"10700000","UZ",202104,22.74,1.645E-3,3.5608300000000001E-3,{"$f":"RIGHT(G195,2)","v":"04"},{"$f":"LEFT(G195,4)","v":"2021"},{"$f":"_xlfn.CONCAT(K195,\"/\",L195)","v":"04/2021"},{"$f":"EOMONTH(D195,0)","v":"2021-06-30"}]
["1010","53481400","T10-0185-P-1000",{"$f":"VLOOKUP($C196,'SEI ISD'!$A$4:$B$124,2,0)","v":"2021-06-15"},"10700000","UZ",202105,278.62,1.645E-3,3.5608300000000001E-3,"05","2021","05/2021","2021-06-30"]
["1010","53481400","T10-0185-P-1000",{"$f":"VLOOKUP($C197,'SEI ISD'!$A$4:$B$124,2,0)","v":"2021-06-15"},"10700000","UZ",202106,359.31,1.645E-3,3.5608300000000001E-3,"06","2021","06/2021","2021-06-30"]
["1010","53481400","T10-0185-P-1000",{"$f":"VLOOKUP($C198,'SEI ISD'!$A$4:$B$124,2,0)","v":"2021-06-15"},"10700000","UZ",202107,194.95,1.645E-3,3.5608300000000001E-3,"07","2021","07/2021","2021-06-30"]
["1010","53481400","T10-0185-P-1000",{"$f":"VLOOKUP($C199,'SEI ISD'!$A$4:$B$124,2,0)","v":"2021-06-15"},"10700000","UZ",202108,114.4,1.645E-3,3.5608300000000001E-3,"08","2021","08/2021","2021-06-30"]
["1010","53481500","R10-01K3.19-P-4031",{"$f":"VLOOKUP($C200,'SEI ISD'!$A$4:$B$124,2,0)","v":"2021-03-01"},"10700000","UZ",201911,-0.15,1.645E-3,3.5608300000000001E-3,"11","2019","11/2019","2021-03-31"]
["1010","53481500","R10-01K3.19-P-4031",{"$f":"VLOOKUP($C201,'SEI ISD'!$A$4:$B$124,2,0)","v":"2021-03-01"},"10700000","UZ",201912,-0.02,1.645E-3,3.5608300000000001E-3,"12","2019","12/2019","2021-03-31"]
["1010","53481500","R10-01K3.19-P-4031",{"$f":"VLOOKUP($C202,'SEI ISD'!$A$4:$B$124,2,0)","v":"2021-03-01"},"10700000","UZ",202001,0.55000000000000004,1.645E-3,3.5608300000000001E-3,"01","2020","01/2020","2021-03-31"]
["1010","53481500","R10-01K3.19-P-4031",{"$f":"VLOOKUP($C203,'SEI ISD'!$A$4:$B$124,2,0)","v":"2021-03-01"},"10700000","UZ",202003,0.36,1.645E-3,3.5608300000000001E-3,"03","2020","03/2020","2021-03-31"]
["1010","53481500","R10-01K3.19-P-4031",{"$f":"VLOOKUP($C204,'SEI ISD'!$A$4:$B$124,2,0)","v":"2021-03-01"},"10700000","UZ",202103,0.06,1.645E-3,3.5608300000000001E-3,"03","2021","03/2021","2021-03-31"]
["1010","53481500","T10-0185-P-1000",{"$f":"VLOOKUP($C205,'SEI ISD'!$A$4:$B$124,2,0)","v":"2021-06-15"},"10700000","UZ",202102,0.13,1.645E-3,3.5608300000000001E-3,"02","2021","02/2021","2021-06-30"]
["1010","53481500","T10-0185-P-1000",{"$f":"VLOOKUP($C206,'SEI ISD'!$A$4:$B$124,2,0)","v":"2021-06-15"},"10700000","UZ",202103,-0.04,1.645E-3,3.5608300000000001E-3,"03","2021","03/2021","2021-06-30"]
["1010","53481500","T10-0185-P-1000",{"$f":"VLOOKUP($C207,'SEI ISD'!$A$4:$B$124,2,0)","v":"2021-06-15"},"10700000","UZ",202104,0.24,1.645E-3,3.5608300000000001E-3,"04","2021","04/2021","2021-06-30"]
["1010","53481500","T10-0185-P-1000",{"$f":"VLOOKUP($C208,'SEI ISD'!$A$4:$B$124,2,0)","v":"2021-06-15"},"10700000","UZ",202106,-0.28000000000000003,1.645E-3,3.5608300000000001E-3,"06","2021","06/2021","2021-06-30"]
["1010","53481700","R10-01K3.19-P-4031",{"$f":"VLOOKUP($C209,'SEI ISD'!$A$4:$B$124,2,0)","v":"2021-03-01"},"10700000","UZ",201911,12.81,1.645E-3,3.5608300000000001E-3,"11","2019","11/2019","2021-03-31"]
["1010","53481700","R10-01K3.19-P-4031",{"$f":"VLOOKUP($C210,'SEI ISD'!$A$4:$B$124,2,0)","v":"2021-03-01"},"10700000","UZ",201912,4.18,1.645E-3,3.5608300000000001E-3,"12","2019","12/2019","2021-03-31"]
["1010","53481700","R10-01K3.19-P-4031",{"$f":"VLOOKUP($C211,'SEI ISD'!$A$4:$B$124,2,0)","v":"2021-03-01"},"10700000","UZ",202001,49.35,1.645E-3,3.5608300000000001E-3,"01","2020","01/2020","2021-03-31"]
["1010","53481700","R10-01K3.19-P-4031",{"$f":"VLOOKUP($C212,'SEI ISD'!$A$4:$B$124,2,0)","v":"2021-03-01"},"10700000","UZ",202002,0.45,1.645E-3,3.5608300000000001E-3,"02","2020","02/2020","2021-03-31"]
["1010","53481700","R10-01K3.19-P-4031",{"$f":"VLOOKUP($C213,'SEI ISD'!$A$4:$B$124,2,0)","v":"2021-03-01"},"10700000","UZ",202003,1.02,1.645E-3,3.5608300000000001E-3,"03","2020","03/2020","2021-03-31"]
["1010","53481700","R10-01K3.19-P-4031",{"$f":"VLOOKUP($C214,'SEI ISD'!$A$4:$B$124,2,0)","v":"2021-03-01"},"10700000","UZ",202004,0.38,1.645E-3,3.5608300000000001E-3,"04","2020","04/2020","2021-03-31"]
["1010","53481700","R10-01K3.19-P-4031",{"$f":"VLOOKUP($C215,'SEI ISD'!$A$4:$B$124,2,0)","v":"2021-03-01"},"10700000","UZ",202005,0.62,1.645E-3,3.5608300000000001E-3,"05","2020","05/2020","2021-03-31"]
["1010","53481700","R10-01K3.19-P-4031",{"$f":"VLOOKUP($C216,'SEI ISD'!$A$4:$B$124,2,0)","v":"2021-03-01"},"10700000","UZ",202006,0.3,1.645E-3,3.5608300000000001E-3,"06","2020","06/2020","2021-03-31"]
["1010","53481700","R10-01K3.19-P-4031",{"$f":"VLOOKUP($C217,'SEI ISD'!$A$4:$B$124,2,0)","v":"2021-03-01"},"10700000","UZ",202007,0.5,1.645E-3,3.5608300000000001E-3,"07","2020","07/2020","2021-03-31"]
["1010","53481700","R10-01K3.19-P-4031",{"$f":"VLOOKUP($C218,'SEI ISD'!$A$4:$B$124,2,0)","v":"2021-03-01"},"10700000","UZ",202008,1.1599999999999999,1.645E-3,3.5608300000000001E-3,"08","2020","08/2020","2021-03-31"]
["1010","53481700","R10-01K3.19-P-4031",{"$f":"VLOOKUP($C219,'SEI ISD'!$A$4:$B$124,2,0)","v":"2021-03-01"},"10700000","UZ",202009,0.75,1.645E-3,3.5608300000000001E-3,"09","2020","09/2020","2021-03-31"]
["1010","53481700","R10-01K3.19-P-4031",{"$f":"VLOOKUP($C220,'SEI ISD'!$A$4:$B$124,2,0)","v":"2021-03-01"},"10700000","UZ",202010,0.44,1.645E-3,3.5608300000000001E-3,"10","2020","10/2020","2021-03-31"]
["1010","53481700","R10-01K3.19-P-4031",{"$f":"VLOOKUP($C221,'SEI ISD'!$A$4:$B$124,2,0)","v":"2021-03-01"},"10700000","UZ",202011,-8.09,1.645E-3,3.5608300000000001E-3,"11","2020","11/2020","2021-03-31"]
["1010","53481700","R10-01K3.19-P-4031",{"$f":"VLOOKUP($C222,'SEI ISD'!$A$4:$B$124,2,0)","v":"2021-03-01"},"10700000","UZ",202012,0.09,1.645E-3,3.5608300000000001E-3,"12","2020","12/2020","2021-03-31"]
["1010","53481700","R10-01K3.19-P-4031",{"$f":"VLOOKUP($C223,'SEI ISD'!$A$4:$B$124,2,0)","v":"2021-03-01"},"10700000","UZ",202102,0.03,1.645E-3,3.5608300000000001E-3,"02","2021","02/2021","2021-03-31"]
["1010","53481700","R10-01K3.19-P-4031",{"$f":"VLOOKUP($C224,'SEI ISD'!$A$4:$B$124,2,0)","v":"2021-03-01"},"10700000","UZ",202103,0.09,1.645E-3,3.5608300000000001E-3,"03","2021","03/2021","2021-03-31"]
["1010","53481700","T10-0184-P-1000",{"$f":"VLOOKUP($C225,'SEI ISD'!$A$4:$B$124,2,0)","v":"2020-11-20"},"10700000","UZ",202007,0.17,1.645E-3,3.5608300000000001E-3,"07","2020","07/2020","2020-11-30"]
["1010","53481700","T10-0184-P-1000",{"$f":"VLOOKUP($C226,'SEI ISD'!$A$4:$B$124,2,0)","v":"2020-11-20"},"10700000","UZ",202008,0.86,1.645E-3,3.5608300000000001E-3,"08","2020","08/2020","2020-11-30"]
["1010","53481700","T10-0184-P-1000",{"$f":"VLOOKUP($C227,'SEI ISD'!$A$4:$B$124,2,0)","v":"2020-11-20"},"10700000","UZ",202009,0.32,1.645E-3,3.5608300000000001E-3,"09","2020","09/2020","2020-11-30"]
["1010","53481700","T10-0184-P-1000",{"$f":"VLOOKUP($C228,'SEI ISD'!$A$4:$B$124,2,0)","v":"2020-11-20"},"10700000","UZ",202010,0.85,1.645E-3,3.5608300000000001E-3,"10","2020","10/2020","2020-11-30"]
["1010","53481700","T10-0184-P-1000",{"$f":"VLOOKUP($C229,'SEI ISD'!$A$4:$B$124,2,0)","v":"2020-11-20"},"10700000","UZ",202011,-1.8,1.645E-3,3.5608300000000001E-3,"11","2020","11/2020","2020-11-30"]
["1010","53481700","T10-0184-P-1000",{"$f":"VLOOKUP($C230,'SEI ISD'!$A$4:$B$124,2,0)","v":"2020-11-20"},"10700000","UZ",202012,0.04,1.645E-3,3.5608300000000001E-3,"12","2020","12/2020","2020-11-30"]
["1010","53481700","T10-0184-P-1000",{"$f":"VLOOKUP($C231,'SEI ISD'!$A$4:$B$124,2,0)","v":"2020-11-20"},"10700000","UZ",202101,0.05,1.645E-3,3.5608300000000001E-3,"01","2021","01/2021","2020-11-30"]
["1010","53481700","T10-0184-P-1000",{"$f":"VLOOKUP($C232,'SEI ISD'!$A$4:$B$124,2,0)","v":"2020-11-20"},"10700000","UZ",202102,0.05,1.645E-3,3.5608300000000001E-3,"02","2021","02/2021","2020-11-30"]
["1010","53481700","T10-0185-P-1000",{"$f":"VLOOKUP($C233,'SEI ISD'!$A$4:$B$124,2,0)","v":"2021-06-15"},"10700000","UZ",202007,0.06,1.645E-3,3.5608300000000001E-3,"07","2020","07/2020","2021-06-30"]
["1010","53481700","T10-0185-P-1000",{"$f":"VLOOKUP($C234,'SEI ISD'!$A$4:$B$124,2,0)","v":"2021-06-15"},"10700000","UZ",202009,0.05,1.645E-3,3.5608300000000001E-3,"09","2020","09/2020","2021-06-30"]
["1010","53481700","T10-0185-P-1000",{"$f":"VLOOKUP($C235,'SEI ISD'!$A$4:$B$124,2,0)","v":"2021-06-15"},"10700000","UZ",202012,0.1,1.645E-3,3.5608300000000001E-3,"12","2020","12/2020","2021-06-30"]
["1010","53481700","T10-0185-P-1000",{"$f":"VLOOKUP($C236,'SEI ISD'!$A$4:$B$124,2,0)","v":"2021-06-15"},"10700000","UZ",202101,0.03,1.645E-3,3.5608300000000001E-3,"01","2021","01/2021","2021-06-30"]
["1010","53481700","T10-0185-P-1000",{"$f":"VLOOKUP($C237,'SEI ISD'!$A$4:$B$124,2,0)","v":"2021-06-15"},"10700000","UZ",202102,81.53,1.645E-3,3.5608300000000001E-3,"02","2021","02/2021","2021-06-30"]
["1010","53481700","T10-0185-P-1000",{"$f":"VLOOKUP($C238,'SEI ISD'!$A$4:$B$124,2,0)","v":"2021-06-15"},"10700000","UZ",202103,46.13,1.645E-3,3.5608300000000001E-3,"03","2021","03/2021","2021-06-30"]
["1010","53481700","T10-0185-P-1000",{"$f":"VLOOKUP($C239,'SEI ISD'!$A$4:$B$124,2,0)","v":"2021-06-15"},"10700000","UZ",202104,41.77,1.645E-3,3.5608300000000001E-3,"04","2021","04/2021","2021-06-30"]
["1010","53481700","T10-0185-P-1000",{"$f":"VLOOKUP($C240,'SEI ISD'!$A$4:$B$124,2,0)","v":"2021-06-15"},"10700000","UZ",202106,51.74,1.645E-3,3.5608300000000001E-3,"06","2021","06/2021","2021-06-30"]
["1010","53481900","R10-01K3.19-P-4031",{"$f":"VLOOKUP($C241,'SEI ISD'!$A$4:$B$124,2,0)","v":"2021-03-01"},"10700000","UZ",201908,82320.62,1.645E-3,3.5608300000000001E-3,"08","2019","08/2019","2021-03-31"]
["1010","53481900","R10-01K3.19-P-4031",{"$f":"VLOOKUP($C242,'SEI ISD'!$A$4:$B$124,2,0)","v":"2021-03-01"},"10700000","UZ",202001,0.06,1.645E-3,3.5608300000000001E-3,"01","2020","01/2020","2021-03-31"]
["1010","53481900","R10-01K3.19-P-4031",{"$f":"VLOOKUP($C243,'SEI ISD'!$A$4:$B$124,2,0)","v":"2021-03-01"},"10700000","UZ",202002,0.25,1.645E-3,3.5608300000000001E-3,"02","2020","02/2020","2021-03-31"]
["1010","53481900","R10-01K3.19-P-4031",{"$f":"VLOOKUP($C244,'SEI ISD'!$A$4:$B$124,2,0)","v":"2021-03-01"},"10700000","UZ",202003,0.56999999999999995,1.645E-3,3.5608300000000001E-3,"03","2020","03/2020","2021-03-31"]
["1010","53481900","R10-01K3.19-P-4031",{"$f":"VLOOKUP($C245,'SEI ISD'!$A$4:$B$124,2,0)","v":"2021-03-01"},"10700000","UZ",202004,0.21,1.645E-3,3.5608300000000001E-3,"04","2020","04/2020","2021-03-31"]
["1010","53481900","R10-01K3.19-P-4031",{"$f":"VLOOKUP($C246,'SEI ISD'!$A$4:$B$124,2,0)","v":"2021-03-01"},"10700000","UZ",202005,0.35,1.645E-3,3.5608300000000001E-3,"05","2020","05/2020","2021-03-31"]
["1010","53481900","R10-01K3.19-P-4031",{"$f":"VLOOKUP($C247,'SEI ISD'!$A$4:$B$124,2,0)","v":"2021-03-01"},"10700000","UZ",202006,0.17,1.645E-3,3.5608300000000001E-3,"06","2020","06/2020","2021-03-31"]
["1010","53481900","R10-01K3.19-P-4031",{"$f":"VLOOKUP($C248,'SEI ISD'!$A$4:$B$124,2,0)","v":"2021-03-01"},"10700000","UZ",202007,-4.17,1.645E-3,3.5608300000000001E-3,"07","2020","07/2020","2021-03-31"]
["1010","53481900","R10-01K3.19-P-4031",{"$f":"VLOOKUP($C249,'SEI ISD'!$A$4:$B$124,2,0)","v":"2021-03-01"},"10700000","UZ",202009,1.22,1.645E-3,3.5608300000000001E-3,"09","2020","09/2020","2021-03-31"]
["1010","53481900","T10-0184-P-1000",{"$f":"VLOOKUP($C250,'SEI ISD'!$A$4:$B$124,2,0)","v":"2020-11-20"},"10700000","UZ",202007,-1.39,1.645E-3,3.5608300000000001E-3,"07","2020","07/2020","2020-11-30"]
["1010","53481900","T10-0184-P-1000",{"$f":"VLOOKUP($C251,'SEI ISD'!$A$4:$B$124,2,0)","v":"2020-11-20"},"10700000","UZ",202009,0.52,1.645E-3,3.5608300000000001E-3,"09","2020","09/2020","2020-11-30"]
["1010","53481900","T10-0185-P-1000",{"$f":"VLOOKUP($C252,'SEI ISD'!$A$4:$B$124,2,0)","v":"2021-06-15"},"10700000","UZ",202007,-0.46,1.645E-3,3.5608300000000001E-3,"07","2020","07/2020","2021-06-30"]
["1010","53481900","T10-0185-P-1000",{"$f":"VLOOKUP($C253,'SEI ISD'!$A$4:$B$124,2,0)","v":"2021-06-15"},"10700000","UZ",202009,0.09,1.645E-3,3.5608300000000001E-3,"09","2020","09/2020","2021-06-30"]
["1010","53481900","T10-0185-P-1000",{"$f":"VLOOKUP($C254,'SEI ISD'!$A$4:$B$124,2,0)","v":"2021-06-15"},"10700000","UZ",202103,0.57999999999999996,1.645E-3,3.5608300000000001E-3,"03","2021","03/2021","2021-06-30"]
["1010","53481900","T10-0185-P-1000",{"$f":"VLOOKUP($C255,'SEI ISD'!$A$4:$B$124,2,0)","v":"2021-06-15"},"10700000","UZ",202104,8.18,1.645E-3,3.5608300000000001E-3,"04","2021","04/2021","2021-06-30"]
["1010","53481900","T10-0185-P-1000",{"$f":"VLOOKUP($C256,'SEI ISD'!$A$4:$B$124,2,0)","v":"2021-06-15"},"10700000","UZ",202106,13.35,1.645E-3,3.5608300000000001E-3,"06","2021","06/2021","2021-06-30"]
["1010","53482100","R10-01K3.19-P-4031",{"$f":"VLOOKUP($C257,'SEI ISD'!$A$4:$B$124,2,0)","v":"2021-03-01"},"10700000","UZ",201911,5.46,1.645E-3,3.5608300000000001E-3,"11","2019","11/2019","2021-03-31"]
["1010","53482100","R10-01K3.19-P-4031",{"$f":"VLOOKUP($C258,'SEI ISD'!$A$4:$B$124,2,0)","v":"2021-03-01"},"10700000","UZ",201912,1.73,1.645E-3,3.5608300000000001E-3,"12","2019","12/2019","2021-03-31"]
["1010","53482100","R10-01K3.19-P-4031",{"$f":"VLOOKUP($C259,'SEI ISD'!$A$4:$B$124,2,0)","v":"2021-03-01"},"10700000","UZ",202001,44.06,1.645E-3,3.5608300000000001E-3,{"$f":"RIGHT(G259,2)","v":"01"},{"$f":"LEFT(G259,4)","v":"2020"},{"$f":"_xlfn.CONCAT(K259,\"/\",L259)","v":"01/2020"},{"$f":"EOMONTH(D259,0)","v":"2021-03-31"}]
["1010","53482100","R10-01K3.19-P-4031",{"$f":"VLOOKUP($C260,'SEI ISD'!$A$4:$B$124,2,0)","v":"2021-03-01"},"10700000","UZ",202002,76.61,1.645E-3,3.5608300000000001E-3,"02","2020","02/2020","2021-03-31"]
["1010","53482100","R10-01K3.19-P-4031",{"$f":"VLOOKUP($C261,'SEI ISD'!$A$4:$B$124,2,0)","v":"2021-03-01"},"10700000","UZ",202003,257.31,1.645E-3,3.5608300000000001E-3,"03","2020","03/2020","2021-03-31"]
["1010","53482100","R10-01K3.19-P-4031",{"$f":"VLOOKUP($C262,'SEI ISD'!$A$4:$B$124,2,0)","v":"2021-03-01"},"10700000","UZ",202004,78.400000000000006,1.645E-3,3.5608300000000001E-3,"04","2020","04/2020","2021-03-31"]
["1010","53482100","R10-01K3.19-P-4031",{"$f":"VLOOKUP($C263,'SEI ISD'!$A$4:$B$124,2,0)","v":"2021-03-01"},"10700000","UZ",202005,148.62,1.645E-3,3.5608300000000001E-3,"05","2020","05/2020","2021-03-31"]
["1010","53482100","R10-01K3.19-P-4031",{"$f":"VLOOKUP($C264,'SEI ISD'!$A$4:$B$124,2,0)","v":"2021-03-01"},"10700000","UZ",202006,65.760000000000005,1.645E-3,3.5608300000000001E-3,"06","2020","06/2020","2021-03-31"]
["1010","53482100","R10-01K3.19-P-4031",{"$f":"VLOOKUP($C265,'SEI ISD'!$A$4:$B$124,2,0)","v":"2021-03-01"},"10700000","UZ",202007,118.46,1.645E-3,3.5608300000000001E-3,"07","2020","07/2020","2021-03-31"]
["1010","53482100","R10-01K3.19-P-4031",{"$f":"VLOOKUP($C266,'SEI ISD'!$A$4:$B$124,2,0)","v":"2021-03-01"},"10700000","UZ",202008,290.72000000000003,1.645E-3,3.5608300000000001E-3,"08","2020","08/2020","2021-03-31"]
["1010","53482100","R10-01K3.19-P-4031",{"$f":"VLOOKUP($C267,'SEI ISD'!$A$4:$B$124,2,0)","v":"2021-03-01"},"10700000","UZ",202009,133.36000000000001,1.645E-3,3.5608300000000001E-3,"09","2020","09/2020","2021-03-31"]
["1010","53482100","R10-01K3.19-P-4031",{"$f":"VLOOKUP($C268,'SEI ISD'!$A$4:$B$124,2,0)","v":"2021-03-01"},"10700000","UZ",202010,118.63,1.645E-3,3.5608300000000001E-3,"10","2020","10/2020","2021-03-31"]
["1010","53482100","R10-01K3.19-P-4031",{"$f":"VLOOKUP($C269,'SEI ISD'!$A$4:$B$124,2,0)","v":"2021-03-01"},"10700000","UZ",202011,234.8,1.645E-3,3.5608300000000001E-3,"11","2020","11/2020","2021-03-31"]
["1010","53482100","R10-01K3.19-P-4031",{"$f":"VLOOKUP($C270,'SEI ISD'!$A$4:$B$124,2,0)","v":"2021-03-01"},"10700000","UZ",202012,116.83,1.645E-3,3.5608300000000001E-3,"12","2020","12/2020","2021-03-31"]
["1010","53482100","R10-01K3.19-P-4031",{"$f":"VLOOKUP($C271,'SEI ISD'!$A$4:$B$124,2,0)","v":"2021-03-01"},"10700000","UZ",202102,45.7,1.645E-3,3.5608300000000001E-3,"02","2021","02/2021","2021-03-31"]
["1010","53482100","R10-01K3.19-P-4031",{"$f":"VLOOKUP($C272,'SEI ISD'!$A$4:$B$124,2,0)","v":"2021-03-01"},"10700000","UZ",202103,131.02000000000001,1.645E-3,3.5608300000000001E-3,"03","2021","03/2021","2021-03-31"]
["1010","53482100","T10-0184-P-1000",{"$f":"VLOOKUP($C273,'SEI ISD'!$A$4:$B$124,2,0)","v":"2020-11-20"},"10700000","UZ",202006,66985.56,1.645E-3,3.5608300000000001E-3,"06","2020","06/2020","2020-11-30"]
["1010","53482100","T10-0184-P-1000",{"$f":"VLOOKUP($C274,'SEI ISD'!$A$4:$B$124,2,0)","v":"2020-11-20"},"10700000","UZ",202007,39.49,1.645E-3,3.5608300000000001E-3,"07","2020","07/2020","2020-11-30"]
["1010","53482100","T10-0184-P-1000",{"$f":"VLOOKUP($C275,'SEI ISD'!$A$4:$B$124,2,0)","v":"2020-11-20"},"10700000","UZ",202008,214.87,1.645E-3,3.5608300000000001E-3,"08","2020","08/2020","2020-11-30"]
["1010","53482100","T10-0184-P-1000",{"$f":"VLOOKUP($C276,'SEI ISD'!$A$4:$B$124,2,0)","v":"2020-11-20"},"10700000","UZ",202009,57.16,1.645E-3,3.5608300000000001E-3,"09","2020","09/2020","2020-11-30"]
["1010","53482100","T10-0184-P-1000",{"$f":"VLOOKUP($C277,'SEI ISD'!$A$4:$B$124,2,0)","v":"2020-11-20"},"10700000","UZ",202010,226.46,1.645E-3,3.5608300000000001E-3,"10","2020","10/2020","2020-11-30"]
["1010","53482100","T10-0184-P-1000",{"$f":"VLOOKUP($C278,'SEI ISD'!$A$4:$B$124,2,0)","v":"2020-11-20"},"10700000","UZ",202011,52.18,1.645E-3,3.5608300000000001E-3,"11","2020","11/2020","2020-11-30"]
["1010","53482100","T10-0184-P-1000",{"$f":"VLOOKUP($C279,'SEI ISD'!$A$4:$B$124,2,0)","v":"2020-11-20"},"10700000","UZ",202012,51.93,1.645E-3,3.5608300000000001E-3,"12","2020","12/2020","2020-11-30"]
["1010","53482100","T10-0184-P-1000",{"$f":"VLOOKUP($C280,'SEI ISD'!$A$4:$B$124,2,0)","v":"2020-11-20"},"10700000","UZ",202101,73.16,1.645E-3,3.5608300000000001E-3,"01","2021","01/2021","2020-11-30"]
["1010","53482100","T10-0184-P-1000",{"$f":"VLOOKUP($C281,'SEI ISD'!$A$4:$B$124,2,0)","v":"2020-11-20"},"10700000","UZ",202102,76.180000000000007,1.645E-3,3.5608300000000001E-3,"02","2021","02/2021","2020-11-30"]
["1010","53482100","T10-0185-P-1000",{"$f":"VLOOKUP($C282,'SEI ISD'!$A$4:$B$124,2,0)","v":"2021-06-15"},"10700000","UZ",202007,13.16,1.645E-3,3.5608300000000001E-3,"07","2020","07/2020","2021-06-30"]
["1010","53482100","T10-0185-P-1000",{"$f":"VLOOKUP($C283,'SEI ISD'!$A$4:$B$124,2,0)","v":"2021-06-15"},"10700000","UZ",202009,9.5299999999999994,1.645E-3,3.5608300000000001E-3,"09","2020","09/2020","2021-06-30"]
["1010","53482100","T10-0185-P-1000",{"$f":"VLOOKUP($C284,'SEI ISD'!$A$4:$B$124,2,0)","v":"2021-06-15"},"10700000","UZ",202012,129.81,1.645E-3,3.5608300000000001E-3,"12","2020","12/2020","2021-06-30"]
["1010","53482100","T10-0185-P-1000",{"$f":"VLOOKUP($C285,'SEI ISD'!$A$4:$B$124,2,0)","v":"2021-06-15"},"10700000","UZ",202101,40.64,1.645E-3,3.5608300000000001E-3,"01","2021","01/2021","2021-06-30"]
["1010","53482100","T10-0185-P-1000",{"$f":"VLOOKUP($C286,'SEI ISD'!$A$4:$B$124,2,0)","v":"2021-06-15"},"10700000","UZ",202102,42.22,1.645E-3,3.5608300000000001E-3,"02","2021","02/2021","2021-06-30"]
["1010","53482100","T10-0185-P-1000",{"$f":"VLOOKUP($C287,'SEI ISD'!$A$4:$B$124,2,0)","v":"2021-06-15"},"10700000","UZ",202103,25.71,1.645E-3,3.5608300000000001E-3,"03","2021","03/2021","2021-06-30"]
["1010","53482100","T10-0185-P-1000",{"$f":"VLOOKUP($C288,'SEI ISD'!$A$4:$B$124,2,0)","v":"2021-06-15"},"10700000","UZ",202104,20.239999999999998,1.645E-3,3.5608300000000001E-3,"04","2021","04/2021","2021-06-30"]
["1010","53482100","T10-0185-P-1000",{"$f":"VLOOKUP($C289,'SEI ISD'!$A$4:$B$124,2,0)","v":"2021-06-15"},"10700000","UZ",202106,25.07,1.645E-3,3.5608300000000001E-3,"06","2021","06/2021","2021-06-30"]
["1010","53482300","R10-01K3.19-P-4031",{"$f":"VLOOKUP($C290,'SEI ISD'!$A$4:$B$124,2,0)","v":"2021-03-01"},"10700000","UZ",201909,2.17,1.645E-3,3.5608300000000001E-3,"09","2019","09/2019","2021-03-31"]
["1010","53482300","R10-01K3.19-P-4031",{"$f":"VLOOKUP($C291,'SEI ISD'!$A$4:$B$124,2,0)","v":"2021-03-01"},"10700000","UZ",201910,-0.82,1.645E-3,3.5608300000000001E-3,"10","2019","10/2019","2021-03-31"]
["1010","53482300","R10-01K3.19-P-4031",{"$f":"VLOOKUP($C292,'SEI ISD'!$A$4:$B$124,2,0)","v":"2021-03-01"},"10700000","UZ",201911,24.77,1.645E-3,3.5608300000000001E-3,"11","2019","11/2019","2021-03-31"]
["1010","53482300","R10-01K3.19-P-4031",{"$f":"VLOOKUP($C293,'SEI ISD'!$A$4:$B$124,2,0)","v":"2021-03-01"},"10700000","UZ",201912,-1.58,1.645E-3,3.5608300000000001E-3,"12","2019","12/2019","2021-03-31"]
["1010","53482300","R10-01K3.19-P-4031",{"$f":"VLOOKUP($C294,'SEI ISD'!$A$4:$B$124,2,0)","v":"2021-03-01"},"10700000","UZ",202001,82.78,1.645E-3,3.5608300000000001E-3,"01","2020","01/2020","2021-03-31"]
["1010","53482300","R10-01K3.19-P-4031",{"$f":"VLOOKUP($C295,'SEI ISD'!$A$4:$B$124,2,0)","v":"2021-03-01"},"10700000","UZ",202002,40.54,1.645E-3,3.5608300000000001E-3,"02","2020","02/2020","2021-03-31"]
["1010","53482300","R10-01K3.19-P-4031",{"$f":"VLOOKUP($C296,'SEI ISD'!$A$4:$B$124,2,0)","v":"2021-03-01"},"10700000","UZ",202003,109.43,1.645E-3,3.5608300000000001E-3,"03","2020","03/2020","2021-03-31"]
["1010","53482300","R10-01K3.19-P-4031",{"$f":"VLOOKUP($C297,'SEI ISD'!$A$4:$B$124,2,0)","v":"2021-03-01"},"10700000","UZ",202004,38.43,1.645E-3,3.5608300000000001E-3,"04","2020","04/2020","2021-03-31"]
["1010","53482300","R10-01K3.19-P-4031",{"$f":"VLOOKUP($C298,'SEI ISD'!$A$4:$B$124,2,0)","v":"2021-03-01"},"10700000","UZ",202005,65.03,1.645E-3,3.5608300000000001E-3,"05","2020","05/2020","2021-03-31"]
["1010","53482300","R10-01K3.19-P-4031",{"$f":"VLOOKUP($C299,'SEI ISD'!$A$4:$B$124,2,0)","v":"2021-03-01"},"10700000","UZ",202006,54.23,1.645E-3,3.5608300000000001E-3,"06","2020","06/2020","2021-03-31"]
["1010","53482300","R10-01K3.19-P-4031",{"$f":"VLOOKUP($C300,'SEI ISD'!$A$4:$B$124,2,0)","v":"2021-03-01"},"10700000","UZ",202007,54.32,1.645E-3,3.5608300000000001E-3,"07","2020","07/2020","2021-03-31"]
["1010","53482300","R10-01K3.19-P-4031",{"$f":"VLOOKUP($C301,'SEI ISD'!$A$4:$B$124,2,0)","v":"2021-03-01"},"10700000","UZ",202008,120.9,1.645E-3,3.5608300000000001E-3,"08","2020","08/2020","2021-03-31"]
["1010","53482300","R10-01K3.19-P-4031",{"$f":"VLOOKUP($C302,'SEI ISD'!$A$4:$B$124,2,0)","v":"2021-03-01"},"10700000","UZ",202009,82.11,1.645E-3,3.5608300000000001E-3,"09","2020","09/2020","2021-03-31"]
["1010","53482300","R10-01K3.19-P-4031",{"$f":"VLOOKUP($C303,'SEI ISD'!$A$4:$B$124,2,0)","v":"2021-03-01"},"10700000","UZ",202010,48.72,1.645E-3,3.5608300000000001E-3,"10","2020","10/2020","2021-03-31"]
["1010","53482300","R10-01K3.19-P-4031",{"$f":"VLOOKUP($C304,'SEI ISD'!$A$4:$B$124,2,0)","v":"2021-03-01"},"10700000","UZ",202011,96.42,1.645E-3,3.5608300000000001E-3,"11","2020","11/2020","2021-03-31"]
["1010","53482300","R10-01K3.19-P-4031",{"$f":"VLOOKUP($C305,'SEI ISD'!$A$4:$B$124,2,0)","v":"2021-03-01"},"10700000","UZ",202012,35.869999999999997,1.645E-3,3.5608300000000001E-3,"12","2020","12/2020","2021-03-31"]
["1010","53482300","R10-01K3.19-P-4031",{"$f":"VLOOKUP($C306,'SEI ISD'!$A$4:$B$124,2,0)","v":"2021-03-01"},"10700000","UZ",202101,4.2,1.645E-3,3.5608300000000001E-3,"01","2021","01/2021","2021-03-31"]
["1010","53482300","R10-01K3.19-P-4031",{"$f":"VLOOKUP($C307,'SEI ISD'!$A$4:$B$124,2,0)","v":"2021-03-01"},"10700000","UZ",202102,19.68,1.645E-3,3.5608300000000001E-3,"02","2021","02/2021","2021-03-31"]
["1010","53482300","R10-01K3.19-P-4031",{"$f":"VLOOKUP($C308,'SEI ISD'!$A$4:$B$124,2,0)","v":"2021-03-01"},"10700000","UZ",202103,58.49,1.645E-3,3.5608300000000001E-3,"03","2021","03/2021","2021-03-31"]
["1010","53482300","T10-0184-P-1000",{"$f":"VLOOKUP($C309,'SEI ISD'!$A$4:$B$124,2,0)","v":"2020-11-20"},"10700000","UZ",202006,4.6100000000000003,1.645E-3,3.5608300000000001E-3,"06","2020","06/2020","2020-11-30"]
["1010","53482300","T10-0184-P-1000",{"$f":"VLOOKUP($C310,'SEI ISD'!$A$4:$B$124,2,0)","v":"2020-11-20"},"10700000","UZ",202007,15.93,1.645E-3,3.5608300000000001E-3,"07","2020","07/2020","2020-11-30"]
["1010","53482300","T10-0184-P-1000",{"$f":"VLOOKUP($C311,'SEI ISD'!$A$4:$B$124,2,0)","v":"2020-11-20"},"10700000","UZ",202008,91.2,1.645E-3,3.5608300000000001E-3,"08","2020","08/2020","2020-11-30"]
["1010","53482300","T10-0184-P-1000",{"$f":"VLOOKUP($C312,'SEI ISD'!$A$4:$B$124,2,0)","v":"2020-11-20"},"10700000","UZ",202009,37.81,1.645E-3,3.5608300000000001E-3,"09","2020","09/2020","2020-11-30"]
["1010","53482300","T10-0184-P-1000",{"$f":"VLOOKUP($C313,'SEI ISD'!$A$4:$B$124,2,0)","v":"2020-11-20"},"10700000","UZ",202010,93,1.645E-3,3.5608300000000001E-3,"10","2020","10/2020","2020-11-30"]
["1010","53482300","T10-0184-P-1000",{"$f":"VLOOKUP($C314,'SEI ISD'!$A$4:$B$124,2,0)","v":"2020-11-20"},"10700000","UZ",202011,19.579999999999998,1.645E-3,3.5608300000000001E-3,"11","2020","11/2020","2020-11-30"]
["1010","53482300","T10-0184-P-1000",{"$f":"VLOOKUP($C315,'SEI ISD'!$A$4:$B$124,2,0)","v":"2020-11-20"},"10700000","UZ",202012,24.8,1.645E-3,3.5608300000000001E-3,"12","2020","12/2020","2020-11-30"]
["1010","53482300","T10-0184-P-1000",{"$f":"VLOOKUP($C316,'SEI ISD'!$A$4:$B$124,2,0)","v":"2020-11-20"},"10700000","UZ",202101,38.5,1.645E-3,3.5608300000000001E-3,"01","2021","01/2021","2020-11-30"]
["1010","53482300","T10-0184-P-1000",{"$f":"VLOOKUP($C317,'SEI ISD'!$A$4:$B$124,2,0)","v":"2020-11-20"},"10700000","UZ",202102,32.130000000000003,1.645E-3,3.5608300000000001E-3,"02","2021","02/2021","2020-11-30"]
["1010","53482300","T10-0184-P-1000",{"$f":"VLOOKUP($C318,'SEI ISD'!$A$4:$B$124,2,0)","v":"2020-11-20"},"10700000","UZ",202103,-39.35,1.645E-3,3.5608300000000001E-3,"03","2021","03/2021","2020-11-30"]
["1010","53482300","T10-0185-P-1000",{"$f":"VLOOKUP($C319,'SEI ISD'!$A$4:$B$124,2,0)","v":"2021-06-15"},"10700000","UZ",202007,6.55,1.645E-3,3.5608300000000001E-3,"07","2020","07/2020","2021-06-30"]
["1010","53482300","T10-0185-P-1000",{"$f":"VLOOKUP($C320,'SEI ISD'!$A$4:$B$124,2,0)","v":"2021-06-15"},"10700000","UZ",202009,4.09,1.645E-3,3.5608300000000001E-3,"09","2020","09/2020","2021-06-30"]
["1010","53482300","T10-0185-P-1000",{"$f":"VLOOKUP($C321,'SEI ISD'!$A$4:$B$124,2,0)","v":"2021-06-15"},"10700000","UZ",202010,-1.82,1.645E-3,3.5608300000000001E-3,"10","2020","10/2020","2021-06-30"]
["1010","53482300","T10-0185-P-1000",{"$f":"VLOOKUP($C322,'SEI ISD'!$A$4:$B$124,2,0)","v":"2021-06-15"},"10700000","UZ",202011,0.33,1.645E-3,3.5608300000000001E-3,"11","2020","11/2020","2021-06-30"]
["1010","53482300","T10-0185-P-1000",{"$f":"VLOOKUP($C323,'SEI ISD'!$A$4:$B$124,2,0)","v":"2021-06-15"},"10700000","UZ",202012,63.84,1.645E-3,3.5608300000000001E-3,{"$f":"RIGHT(G323,2)","v":"12"},{"$f":"LEFT(G323,4)","v":"2020"},{"$f":"_xlfn.CONCAT(K323,\"/\",L323)","v":"12/2020"},{"$f":"EOMONTH(D323,0)","v":"2021-06-30"}]
["1010","53482300","T10-0185-P-1000",{"$f":"VLOOKUP($C324,'SEI ISD'!$A$4:$B$124,2,0)","v":"2021-06-15"},"10700000","UZ",202101,17.03,1.645E-3,3.5608300000000001E-3,"01","2021","01/2021","2021-06-30"]
["1010","53482300","T10-0185-P-1000",{"$f":"VLOOKUP($C325,'SEI ISD'!$A$4:$B$124,2,0)","v":"2021-06-15"},"10700000","UZ",202102,89.39,1.645E-3,3.5608300000000001E-3,"02","2021","02/2021","2021-06-30"]
["1010","53482300","T10-0185-P-1000",{"$f":"VLOOKUP($C326,'SEI ISD'!$A$4:$B$124,2,0)","v":"2021-06-15"},"10700000","UZ",202103,50.92,1.645E-3,3.5608300000000001E-3,"03","2021","03/2021","2021-06-30"]
["1010","53482300","T10-0185-P-1000",{"$f":"VLOOKUP($C327,'SEI ISD'!$A$4:$B$124,2,0)","v":"2021-06-15"},"10700000","UZ",202104,45.9,1.645E-3,3.5608300000000001E-3,"04","2021","04/2021","2021-06-30"]
["1010","53482300","T10-0185-P-1000",{"$f":"VLOOKUP($C328,'SEI ISD'!$A$4:$B$124,2,0)","v":"2021-06-15"},"10700000","UZ",202105,-20.2,1.645E-3,3.5608300000000001E-3,"05","2021","05/2021","2021-06-30"]
["1010","53482300","T10-0185-P-1000",{"$f":"VLOOKUP($C329,'SEI ISD'!$A$4:$B$124,2,0)","v":"2021-06-15"},"10700000","UZ",202106,53.59,1.645E-3,3.5608300000000001E-3,"06","2021","06/2021","2021-06-30"]
["1010","53482400","R10-01K3.19-P-4031",{"$f":"VLOOKUP($C330,'SEI ISD'!$A$4:$B$124,2,0)","v":"2021-03-01"},"10700000","UZ",201911,-5.89,1.645E-3,3.5608300000000001E-3,"11","2019","11/2019","2021-03-31"]
["1010","53482400","R10-01K3.19-P-4031",{"$f":"VLOOKUP($C331,'SEI ISD'!$A$4:$B$124,2,0)","v":"2021-03-01"},"10700000","UZ",201912,-2.15,1.645E-3,3.5608300000000001E-3,"12","2019","12/2019","2021-03-31"]
["1010","53482400","R10-01K3.19-P-4031",{"$f":"VLOOKUP($C332,'SEI ISD'!$A$4:$B$124,2,0)","v":"2021-03-01"},"10700000","UZ",202001,-31.72,1.645E-3,3.5608300000000001E-3,"01","2020","01/2020","2021-03-31"]
["1010","53482400","T10-0185-P-1000",{"$f":"VLOOKUP($C333,'SEI ISD'!$A$4:$B$124,2,0)","v":"2021-06-15"},"10700000","UZ",202102,-3.64,1.645E-3,3.5608300000000001E-3,"02","2021","02/2021","2021-06-30"]
["1010","53482400","T10-0185-P-1000",{"$f":"VLOOKUP($C334,'SEI ISD'!$A$4:$B$124,2,0)","v":"2021-06-15"},"10700000","UZ",202103,-1.82,1.645E-3,3.5608300000000001E-3,"03","2021","03/2021","2021-06-30"]
["1010","53482400","T10-0185-P-1000",{"$f":"VLOOKUP($C335,'SEI ISD'!$A$4:$B$124,2,0)","v":"2021-06-15"},"10700000","UZ",202104,-1.55,1.645E-3,3.5608300000000001E-3,"04","2021","04/2021","2021-06-30"]
["1010","53482400","T10-0185-P-1000",{"$f":"VLOOKUP($C336,'SEI ISD'!$A$4:$B$124,2,0)","v":"2021-06-15"},"10700000","UZ",202106,-1.78,1.645E-3,3.5608300000000001E-3,"06","2021","06/2021","2021-06-30"]
["1010","70510000","R10-01K3.19-P-4031",{"$f":"VLOOKUP($C337,'SEI ISD'!$A$4:$B$124,2,0)","v":"2021-03-01"},"10700000","UZ",201909,288.26,1.645E-3,3.5608300000000001E-3,"09","2019","09/2019","2021-03-31"]
["1010","70510000","R10-01K3.19-P-4031",{"$f":"VLOOKUP($C338,'SEI ISD'!$A$4:$B$124,2,0)","v":"2021-03-01"},"10700000","UZ",201910,289.87,1.645E-3,3.5608300000000001E-3,"10","2019","10/2019","2021-03-31"]
["1010","70510000","R10-01K3.19-P-4031",{"$f":"VLOOKUP($C339,'SEI ISD'!$A$4:$B$124,2,0)","v":"2021-03-01"},"10700000","UZ",201911,291.31,1.645E-3,3.5608300000000001E-3,"11","2019","11/2019","2021-03-31"]
["1010","70510000","R10-01K3.19-P-4031",{"$f":"VLOOKUP($C340,'SEI ISD'!$A$4:$B$124,2,0)","v":"2021-03-01"},"10700000","UZ",201912,294.39999999999998,1.645E-3,3.5608300000000001E-3,"12","2019","12/2019","2021-03-31"]
["1010","70510000","R10-01K3.19-P-4031",{"$f":"VLOOKUP($C341,'SEI ISD'!$A$4:$B$124,2,0)","v":"2021-03-01"},"10700000","UZ",202001,359.1,1.645E-3,3.5608300000000001E-3,"01","2020","01/2020","2021-03-31"]
["1010","70510000","R10-01K3.19-P-4031",{"$f":"VLOOKUP($C342,'SEI ISD'!$A$4:$B$124,2,0)","v":"2021-03-01"},"10700000","UZ",202002,365.24,1.645E-3,3.5608300000000001E-3,"02","2020","02/2020","2021-03-31"]
["1010","70510000","R10-01K3.19-P-4031",{"$f":"VLOOKUP($C343,'SEI ISD'!$A$4:$B$124,2,0)","v":"2021-03-01"},"10700000","UZ",202003,369.58,1.645E-3,3.5608300000000001E-3,"03","2020","03/2020","2021-03-31"]
["1010","70510000","R10-01K3.19-P-4031",{"$f":"VLOOKUP($C344,'SEI ISD'!$A$4:$B$124,2,0)","v":"2021-03-01"},"10700000","UZ",202004,379.23,1.645E-3,3.5608300000000001E-3,"04","2020","04/2020","2021-03-31"]
["1010","70510000","R10-01K3.19-P-4031",{"$f":"VLOOKUP($C345,'SEI ISD'!$A$4:$B$124,2,0)","v":"2021-03-01"},"10700000","UZ",202005,390.25,1.645E-3,3.5608300000000001E-3,"05","2020","05/2020","2021-03-31"]
["1010","70510000","R10-01K3.19-P-4031",{"$f":"VLOOKUP($C346,'SEI ISD'!$A$4:$B$124,2,0)","v":"2021-03-01"},"10700000","UZ",202006,396.9,1.645E-3,3.5608300000000001E-3,"06","2020","06/2020","2021-03-31"]
["1010","70510000","R10-01K3.19-P-4031",{"$f":"VLOOKUP($C347,'SEI ISD'!$A$4:$B$124,2,0)","v":"2021-03-01"},"10700000","UZ",202007,420.39,1.645E-3,3.5608300000000001E-3,"07","2020","07/2020","2021-03-31"]
["1010","70510000","R10-01K3.19-P-4031",{"$f":"VLOOKUP($C348,'SEI ISD'!$A$4:$B$124,2,0)","v":"2021-03-01"},"10700000","UZ",202008,471.21,1.645E-3,3.5608300000000001E-3,"08","2020","08/2020","2021-03-31"]
["1010","70510000","R10-01K3.19-P-4031",{"$f":"VLOOKUP($C349,'SEI ISD'!$A$4:$B$124,2,0)","v":"2021-03-01"},"10700000","UZ",202009,482.53,1.645E-3,3.5608300000000001E-3,"09","2020","09/2020","2021-03-31"]
["1010","70510000","R10-01K3.19-P-4031",{"$f":"VLOOKUP($C350,'SEI ISD'!$A$4:$B$124,2,0)","v":"2021-03-01"},"10700000","UZ",202010,490.27,1.645E-3,3.5608300000000001E-3,"10","2020","10/2020","2021-03-31"]
["1010","70510000","R10-01K3.19-P-4031",{"$f":"VLOOKUP($C351,'SEI ISD'!$A$4:$B$124,2,0)","v":"2021-03-01"},"10700000","UZ",202011,531.55999999999995,1.645E-3,3.5608300000000001E-3,"11","2020","11/2020","2021-03-31"]
["1010","70510000","R10-01K3.19-P-4031",{"$f":"VLOOKUP($C352,'SEI ISD'!$A$4:$B$124,2,0)","v":"2021-03-01"},"10700000","UZ",202012,541.54,1.645E-3,3.5608300000000001E-3,"12","2020","12/2020","2021-03-31"]
["1010","70510000","R10-01K3.19-P-4031",{"$f":"VLOOKUP($C353,'SEI ISD'!$A$4:$B$124,2,0)","v":"2021-03-01"},"10700000","UZ",202101,601.33000000000004,1.645E-3,3.5608300000000001E-3,"01","2021","01/2021","2021-03-31"]
["1010","70510000","R10-01K3.19-P-4031",{"$f":"VLOOKUP($C354,'SEI ISD'!$A$4:$B$124,2,0)","v":"2021-03-01"},"10700000","UZ",202102,604.28,1.645E-3,3.5608300000000001E-3,"02","2021","02/2021","2021-03-31"]
["1010","70510000","R10-01K3.19-P-4031",{"$f":"VLOOKUP($C355,'SEI ISD'!$A$4:$B$124,2,0)","v":"2021-03-01"},"10700000","UZ",202103,304.27,1.645E-3,3.5608300000000001E-3,"03","2021","03/2021","2021-03-31"]
["1010","70510000","T10-0184-P-1000",{"$f":"VLOOKUP($C356,'SEI ISD'!$A$4:$B$124,2,0)","v":"2020-11-20"},"10700000","UZ",202007,245.49,1.645E-3,3.5608300000000001E-3,"07","2020","07/2020","2020-11-30"]
["1010","70510000","T10-0184-P-1000",{"$f":"VLOOKUP($C357,'SEI ISD'!$A$4:$B$124,2,0)","v":"2020-11-20"},"10700000","UZ",202008,247.94,1.645E-3,3.5608300000000001E-3,"08","2020","08/2020","2020-11-30"]
["1010","70510000","T10-0184-P-1000",{"$f":"VLOOKUP($C358,'SEI ISD'!$A$4:$B$124,2,0)","v":"2020-11-20"},"10700000","UZ",202009,255.55,1.645E-3,3.5608300000000001E-3,"09","2020","09/2020","2020-11-30"]
["1010","70510000","T10-0184-P-1000",{"$f":"VLOOKUP($C359,'SEI ISD'!$A$4:$B$124,2,0)","v":"2020-11-20"},"10700000","UZ",202010,259.20999999999998,1.645E-3,3.5608300000000001E-3,"10","2020","10/2020","2020-11-30"]
["1010","70510000","T10-0184-P-1000",{"$f":"VLOOKUP($C360,'SEI ISD'!$A$4:$B$124,2,0)","v":"2020-11-20"},"10700000","UZ",202011,152,1.645E-3,3.5608300000000001E-3,"11","2020","11/2020","2020-11-30"]
["1010","70510000","T10-0185-P-1000",{"$f":"VLOOKUP($C361,'SEI ISD'!$A$4:$B$124,2,0)","v":"2021-06-15"},"10700000","UZ",202008,0.48,1.645E-3,3.5608300000000001E-3,"08","2020","08/2020","2021-06-30"]
["1010","70510000","T10-0185-P-1000",{"$f":"VLOOKUP($C362,'SEI ISD'!$A$4:$B$124,2,0)","v":"2021-06-15"},"10700000","UZ",202009,12.14,1.645E-3,3.5608300000000001E-3,"09","2020","09/2020","2021-06-30"]
["1010","70510000","T10-0185-P-1000",{"$f":"VLOOKUP($C363,'SEI ISD'!$A$4:$B$124,2,0)","v":"2021-06-15"},"10700000","UZ",202010,27.73,1.645E-3,3.5608300000000001E-3,"10","2020","10/2020","2021-06-30"]
["1010","70510000","T10-0185-P-1000",{"$f":"VLOOKUP($C364,'SEI ISD'!$A$4:$B$124,2,0)","v":"2021-06-15"},"10700000","UZ",202011,26.83,1.645E-3,3.5608300000000001E-3,"11","2020","11/2020","2021-06-30"]
["1010","70510000","T10-0185-P-1000",{"$f":"VLOOKUP($C365,'SEI ISD'!$A$4:$B$124,2,0)","v":"2021-06-15"},"10700000","UZ",202012,38.26,1.645E-3,3.5608300000000001E-3,"12","2020","12/2020","2021-06-30"]
["1010","70510000","T10-0185-P-1000",{"$f":"VLOOKUP($C366,'SEI ISD'!$A$4:$B$124,2,0)","v":"2021-06-15"},"10700000","UZ",202101,58.75,1.645E-3,3.5608300000000001E-3,"01","2021","01/2021","2021-06-30"]
["1010","70510000","T10-0185-P-1000",{"$f":"VLOOKUP($C367,'SEI ISD'!$A$4:$B$124,2,0)","v":"2021-06-15"},"10700000","UZ",202102,65.33,1.645E-3,3.5608300000000001E-3,"02","2021","02/2021","2021-06-30"]
["1010","70510000","T10-0185-P-1000",{"$f":"VLOOKUP($C368,'SEI ISD'!$A$4:$B$124,2,0)","v":"2021-06-15"},"10700000","UZ",202103,70.97,1.645E-3,3.5608300000000001E-3,"03","2021","03/2021","2021-06-30"]
["1010","70510000","T10-0185-P-1000",{"$f":"VLOOKUP($C369,'SEI ISD'!$A$4:$B$124,2,0)","v":"2021-06-15"},"10700000","UZ",202104,80.290000000000006,1.645E-3,3.5608300000000001E-3,"04","2021","04/2021","2021-06-30"]
["1010","70510000","T10-0185-P-1000",{"$f":"VLOOKUP($C370,'SEI ISD'!$A$4:$B$124,2,0)","v":"2021-06-15"},"10700000","UZ",202105,84.28,1.645E-3,3.5608300000000001E-3,"05","2021","05/2021","2021-06-30"]
["1010","70510000","T10-0185-P-1000",{"$f":"VLOOKUP($C371,'SEI ISD'!$A$4:$B$124,2,0)","v":"2021-06-15"},"10700000","UZ",202106,42.18,1.645E-3,3.5608300000000001E-3,"06","2021","06/2021","2021-06-30"]
["1010","85000000","R10-01K3.19-P-4031",{"$f":"VLOOKUP($C372,'SEI ISD'!$A$4:$B$124,2,0)","v":"2021-03-01"},"10700000","UZ",201909,135.01,1.645E-3,3.5608300000000001E-3,"09","2019","09/2019","2021-03-31"]
["1010","85000000","R10-01K3.19-P-4031",{"$f":"VLOOKUP($C373,'SEI ISD'!$A$4:$B$124,2,0)","v":"2021-03-01"},"10700000","UZ",201910,135.76,1.645E-3,3.5608300000000001E-3,"10","2019","10/2019","2021-03-31"]
["1010","85000000","R10-01K3.19-P-4031",{"$f":"VLOOKUP($C374,'SEI ISD'!$A$4:$B$124,2,0)","v":"2021-03-01"},"10700000","UZ",201911,136.44,1.645E-3,3.5608300000000001E-3,"11","2019","11/2019","2021-03-31"]
["1010","85000000","R10-01K3.19-P-4031",{"$f":"VLOOKUP($C375,'SEI ISD'!$A$4:$B$124,2,0)","v":"2021-03-01"},"10700000","UZ",201912,137.88,1.645E-3,3.5608300000000001E-3,"12","2019","12/2019","2021-03-31"]
["1010","85000000","R10-01K3.19-P-4031",{"$f":"VLOOKUP($C376,'SEI ISD'!$A$4:$B$124,2,0)","v":"2021-03-01"},"10700000","UZ",202001,168.18,1.645E-3,3.5608300000000001E-3,"01","2020","01/2020","2021-03-31"]
["1010","85000000","R10-01K3.19-P-4031",{"$f":"VLOOKUP($C377,'SEI ISD'!$A$4:$B$124,2,0)","v":"2021-03-01"},"10700000","UZ",202002,171.06,1.645E-3,3.5608300000000001E-3,"02","2020","02/2020","2021-03-31"]
["1010","85000000","R10-01K3.19-P-4031",{"$f":"VLOOKUP($C378,'SEI ISD'!$A$4:$B$124,2,0)","v":"2021-03-01"},"10700000","UZ",202003,173.09,1.645E-3,3.5608300000000001E-3,"03","2020","03/2020","2021-03-31"]
["1010","85000000","R10-01K3.19-P-4031",{"$f":"VLOOKUP($C379,'SEI ISD'!$A$4:$B$124,2,0)","v":"2021-03-01"},"10700000","UZ",202004,177.61,1.645E-3,3.5608300000000001E-3,"04","2020","04/2020","2021-03-31"]
["1010","85000000","R10-01K3.19-P-4031",{"$f":"VLOOKUP($C380,'SEI ISD'!$A$4:$B$124,2,0)","v":"2021-03-01"},"10700000","UZ",202005,180.28,1.645E-3,3.5608300000000001E-3,"05","2020","05/2020","2021-03-31"]
["1010","85000000","R10-01K3.19-P-4031",{"$f":"VLOOKUP($C381,'SEI ISD'!$A$4:$B$124,2,0)","v":"2021-03-01"},"10700000","UZ",202006,183.35,1.645E-3,3.5608300000000001E-3,"06","2020","06/2020","2021-03-31"]
["1010","85000000","R10-01K3.19-P-4031",{"$f":"VLOOKUP($C382,'SEI ISD'!$A$4:$B$124,2,0)","v":"2021-03-01"},"10700000","UZ",202007,194.21,1.645E-3,3.5608300000000001E-3,"07","2020","07/2020","2021-03-31"]
["1010","85000000","R10-01K3.19-P-4031",{"$f":"VLOOKUP($C383,'SEI ISD'!$A$4:$B$124,2,0)","v":"2021-03-01"},"10700000","UZ",202008,217.68,1.645E-3,3.5608300000000001E-3,"08","2020","08/2020","2021-03-31"]
["1010","85000000","R10-01K3.19-P-4031",{"$f":"VLOOKUP($C384,'SEI ISD'!$A$4:$B$124,2,0)","v":"2021-03-01"},"10700000","UZ",202009,222.92,1.645E-3,3.5608300000000001E-3,"09","2020","09/2020","2021-03-31"]
["1010","85000000","R10-01K3.19-P-4031",{"$f":"VLOOKUP($C385,'SEI ISD'!$A$4:$B$124,2,0)","v":"2021-03-01"},"10700000","UZ",202010,226.49,1.645E-3,3.5608300000000001E-3,"10","2020","10/2020","2021-03-31"]
["1010","85000000","R10-01K3.19-P-4031",{"$f":"VLOOKUP($C386,'SEI ISD'!$A$4:$B$124,2,0)","v":"2021-03-01"},"10700000","UZ",202011,245.57,1.645E-3,3.5608300000000001E-3,"11","2020","11/2020","2021-03-31"]
["1010","85000000","R10-01K3.19-P-4031",{"$f":"VLOOKUP($C387,'SEI ISD'!$A$4:$B$124,2,0)","v":"2021-03-01"},"10700000","UZ",202012,250.18,1.645E-3,3.5608300000000001E-3,{"$f":"RIGHT(G387,2)","v":"12"},{"$f":"LEFT(G387,4)","v":"2020"},{"$f":"_xlfn.CONCAT(K387,\"/\",L387)","v":"12/2020"},{"$f":"EOMONTH(D387,0)","v":"2021-03-31"}]
["1010","85000000","R10-01K3.19-P-4031",{"$f":"VLOOKUP($C388,'SEI ISD'!$A$4:$B$124,2,0)","v":"2021-03-01"},"10700000","UZ",202101,277.8,1.645E-3,3.5608300000000001E-3,"01","2021","01/2021","2021-03-31"]
["1010","85000000","R10-01K3.19-P-4031",{"$f":"VLOOKUP($C389,'SEI ISD'!$A$4:$B$124,2,0)","v":"2021-03-01"},"10700000","UZ",202102,279.16000000000003,1.645E-3,3.5608300000000001E-3,"02","2021","02/2021","2021-03-31"]
["1010","85000000","R10-01K3.19-P-4031",{"$f":"VLOOKUP($C390,'SEI ISD'!$A$4:$B$124,2,0)","v":"2021-03-01"},"10700000","UZ",202103,140.56,1.645E-3,3.5608300000000001E-3,"03","2021","03/2021","2021-03-31"]
["1010","85000000","T10-0184-P-1000",{"$f":"VLOOKUP($C391,'SEI ISD'!$A$4:$B$124,2,0)","v":"2020-11-20"},"10700000","UZ",202007,113.41,1.645E-3,3.5608300000000001E-3,"07","2020","07/2020","2020-11-30"]
["1010","85000000","T10-0184-P-1000",{"$f":"VLOOKUP($C392,'SEI ISD'!$A$4:$B$124,2,0)","v":"2020-11-20"},"10700000","UZ",202008,114.54,1.645E-3,3.5608300000000001E-3,"08","2020","08/2020","2020-11-30"]
["1010","85000000","T10-0184-P-1000",{"$f":"VLOOKUP($C393,'SEI ISD'!$A$4:$B$124,2,0)","v":"2020-11-20"},"10700000","UZ",202009,118.06,1.645E-3,3.5608300000000001E-3,"09","2020","09/2020","2020-11-30"]
["1010","85000000","T10-0184-P-1000",{"$f":"VLOOKUP($C394,'SEI ISD'!$A$4:$B$124,2,0)","v":"2020-11-20"},"10700000","UZ",202010,119.75,1.645E-3,3.5608300000000001E-3,"10","2020","10/2020","2020-11-30"]
["1010","85000000","T10-0184-P-1000",{"$f":"VLOOKUP($C395,'SEI ISD'!$A$4:$B$124,2,0)","v":"2020-11-20"},"10700000","UZ",202011,70.22,1.645E-3,3.5608300000000001E-3,"11","2020","11/2020","2020-11-30"]
["1010","85000000","T10-0185-P-1000",{"$f":"VLOOKUP($C396,'SEI ISD'!$A$4:$B$124,2,0)","v":"2021-06-15"},"10700000","UZ",202008,0.22,1.645E-3,3.5608300000000001E-3,"08","2020","08/2020","2021-06-30"]
["1010","85000000","T10-0185-P-1000",{"$f":"VLOOKUP($C397,'SEI ISD'!$A$4:$B$124,2,0)","v":"2021-06-15"},"10700000","UZ",202009,5.61,1.645E-3,3.5608300000000001E-3,"09","2020","09/2020","2021-06-30"]
["1010","85000000","T10-0185-P-1000",{"$f":"VLOOKUP($C398,'SEI ISD'!$A$4:$B$124,2,0)","v":"2021-06-15"},"10700000","UZ",202010,12.81,1.645E-3,3.5608300000000001E-3,"10","2020","10/2020","2021-06-30"]
["1010","85000000","T10-0185-P-1000",{"$f":"VLOOKUP($C399,'SEI ISD'!$A$4:$B$124,2,0)","v":"2021-06-15"},"10700000","UZ",202011,12.4,1.645E-3,3.5608300000000001E-3,"11","2020","11/2020","2021-06-30"]
["1010","85000000","T10-0185-P-1000",{"$f":"VLOOKUP($C400,'SEI ISD'!$A$4:$B$124,2,0)","v":"2021-06-15"},"10700000","UZ",202012,17.68,1.645E-3,3.5608300000000001E-3,"12","2020","12/2020","2021-06-30"]
["1010","85000000","T10-0185-P-1000",{"$f":"VLOOKUP($C401,'SEI ISD'!$A$4:$B$124,2,0)","v":"2021-06-15"},"10700000","UZ",202101,27.14,1.645E-3,3.5608300000000001E-3,"01","2021","01/2021","2021-06-30"]
["1010","85000000","T10-0185-P-1000",{"$f":"VLOOKUP($C402,'SEI ISD'!$A$4:$B$124,2,0)","v":"2021-06-15"},"10700000","UZ",202102,30.18,1.645E-3,3.5608300000000001E-3,"02","2021","02/2021","2021-06-30"]
["1010","85000000","T10-0185-P-1000",{"$f":"VLOOKUP($C403,'SEI ISD'!$A$4:$B$124,2,0)","v":"2021-06-15"},"10700000","UZ",202103,32.79,1.645E-3,3.5608300000000001E-3,"03","2021","03/2021","2021-06-30"]
["1010","85000000","T10-0185-P-1000",{"$f":"VLOOKUP($C404,'SEI ISD'!$A$4:$B$124,2,0)","v":"2021-06-15"},"10700000","UZ",202104,37.090000000000003,1.645E-3,3.5608300000000001E-3,"04","2021","04/2021","2021-06-30"]
["1010","85000000","T10-0185-P-1000",{"$f":"VLOOKUP($C405,'SEI ISD'!$A$4:$B$124,2,0)","v":"2021-06-15"},"10700000","UZ",202105,38.94,1.645E-3,3.5608300000000001E-3,"05","2021","05/2021","2021-06-30"]
["1010","85000000","T10-0185-P-1000",{"$f":"VLOOKUP($C406,'SEI ISD'!$A$4:$B$124,2,0)","v":"2021-06-15"},"10700000","UZ",202106,19.48,1.645E-3,3.5608300000000001E-3,"06","2021","06/2021","2021-06-30"]
[null,null,null,{"$f":"VLOOKUP($C407,'SEI ISD'!$A$4:$B$124,2,0)","v":{"$error":"#N/A"}},null,null,null,null,1.645E-3,3.5608300000000001E-3,"","","/",{"$error":"#N/A"}]
[null,null,null,{"$f":"VLOOKUP($C408,'SEI ISD'!$A$4:$B$124,2,0)","v":{"$error":"#N/A"}},null,null,null,null,1.645E-3,3.5608300000000001E-3,"","","/",{"$error":"#N/A"}]
[null,null,null,{"$f":"VLOOKUP($C409,'SEI ISD'!$A$4:$B$124,2,0)","v":{"$error":"#N/A"}},null,null,null,null,1.645E-3,3.5608300000000001E-3,"","","/",{"$error":"#N/A"}]
[null,null,null,{"$f":"VLOOKUP($C410,'SEI ISD'!$A$4:$B$124,2,0)","v":{"$error":"#N/A"}},null,null,null,null,1.645E-3,3.5608300000000001E-3,"","","/",{"$error":"#N/A"}]
[null,null,null,{"$f":"VLOOKUP($C411,'SEI ISD'!$A$4:$B$124,2,0)","v":{"$error":"#N/A"}},null,null,null,null,1.645E-3,3.5608300000000001E-3,"","","/",{"$error":"#N/A"}]
[null,null,null,{"$f":"VLOOKUP($C412,'SEI ISD'!$A$4:$B$124,2,0)","v":{"$error":"#N/A"}},null,null,null,null,1.645E-3,3.5608300000000001E-3,"","","/",{"$error":"#N/A"}]
[null,null,null,{"$f":"VLOOKUP($C413,'SEI ISD'!$A$4:$B$124,2,0)","v":{"$error":"#N/A"}},null,null,null,null,1.645E-3,3.5608300000000001E-3,"","","/",{"$error":"#N/A"}]
[null,null,null,{"$f":"VLOOKUP($C414,'SEI ISD'!$A$4:$B$124,2,0)","v":{"$error":"#N/A"}},null,null,null,null,1.645E-3,3.5608300000000001E-3,"","","/",{"$error":"#N/A"}]
[null,null,null,{"$f":"VLOOKUP($C415,'SEI ISD'!$A$4:$B$124,2,0)","v":{"$error":"#N/A"}},null,null,null,null,1.645E-3,3.5608300000000001E-3,"","","/",{"$error":"#N/A"}]
[null,null,null,{"$f":"VLOOKUP($C416,'SEI ISD'!$A$4:$B$124,2,0)","v":{"$error":"#N/A"}},null,null,null,null,1.645E-3,3.5608300000000001E-3,"","","/",{"$error":"#N/A"}]
[null,null,null,{"$f":"VLOOKUP($C417,'SEI ISD'!$A$4:$B$124,2,0)","v":{"$error":"#N/A"}},null,null,null,null,1.645E-3,3.5608300000000001E-3,"","","/",{"$error":"#N/A"}]
[null,null,null,{"$f":"VLOOKUP($C418,'SEI ISD'!$A$4:$B$124,2,0)","v":{"$error":"#N/A"}},null,null,null,null,1.645E-3,3.5608300000000001E-3,"","","/",{"$error":"#N/A"}]
[null,null,null,{"$f":"VLOOKUP($C419,'SEI ISD'!$A$4:$B$124,2,0)","v":{"$error":"#N/A"}},null,null,null,null,1.645E-3,3.5608300000000001E-3,"","","/",{"$error":"#N/A"}]
[null,null,null,{"$f":"VLOOKUP($C420,'SEI ISD'!$A$4:$B$124,2,0)","v":{"$error":"#N/A"}},null,null,null,null,1.645E-3,3.5608300000000001E-3,"","","/",{"$error":"#N/A"}]
[null,null,null,{"$f":"VLOOKUP($C421,'SEI ISD'!$A$4:$B$124,2,0)","v":{"$error":"#N/A"}},null,null,null,null,1.645E-3,3.5608300000000001E-3,"","","/",{"$error":"#N/A"}]
[null,null,null,{"$f":"VLOOKUP($C422,'SEI ISD'!$A$4:$B$124,2,0)","v":{"$error":"#N/A"}},null,null,null,null,1.645E-3,3.5608300000000001E-3,"","","/",{"$error":"#N/A"}]
[null,null,null,{"$f":"VLOOKUP($C423,'SEI ISD'!$A$4:$B$124,2,0)","v":{"$error":"#N/A"}},null,null,null,null,1.645E-3,3.5608300000000001E-3,"","","/",{"$error":"#N/A"}]
[null,null,null,{"$f":"VLOOKUP($C424,'SEI ISD'!$A$4:$B$124,2,0)","v":{"$error":"#N/A"}},null,null,null,null,1.645E-3,3.5608300000000001E-3,"","","/",{"$error":"#N/A"}]
[null,null,null,{"$f":"VLOOKUP($C425,'SEI ISD'!$A$4:$B$124,2,0)","v":{"$error":"#N/A"}},null,null,null,null,1.645E-3,3.5608300000000001E-3,"","","/",{"$error":"#N/A"}]
[null,null,null,{"$f":"VLOOKUP($C426,'SEI ISD'!$A$4:$B$124,2,0)","v":{"$error":"#N/A"}},null,null,null,null,1.645E-3,3.5608300000000001E-3,"","","/",{"$error":"#N/A"}]
[null,null,null,{"$f":"VLOOKUP($C427,'SEI ISD'!$A$4:$B$124,2,0)","v":{"$error":"#N/A"}},null,null,null,null,1.645E-3,3.5608300000000001E-3,"","","/",{"$error":"#N/A"}]
[null,null,null,{"$f":"VLOOKUP($C428,'SEI ISD'!$A$4:$B$124,2,0)","v":{"$error":"#N/A"}},null,null,null,null,1.645E-3,3.5608300000000001E-3,"","","/",{"$error":"#N/A"}]
[null,null,null,{"$f":"VLOOKUP($C429,'SEI ISD'!$A$4:$B$124,2,0)","v":{"$error":"#N/A"}},null,null,null,null,1.645E-3,3.5608300000000001E-3,"","","/",{"$error":"#N/A"}]
[null,null,null,{"$f":"VLOOKUP($C430,'SEI ISD'!$A$4:$B$124,2,0)","v":{"$error":"#N/A"}},null,null,null,null,1.645E-3,3.5608300000000001E-3,"","","/",{"$error":"#N/A"}]
[null,null,null,{"$f":"VLOOKUP($C431,'SEI ISD'!$A$4:$B$124,2,0)","v":{"$error":"#N/A"}},null,null,null,null,1.645E-3,3.5608300000000001E-3,"","","/",{"$error":"#N/A"}]
[null,null,null,{"$f":"VLOOKUP($C432,'SEI ISD'!$A$4:$B$124,2,0)","v":{"$error":"#N/A"}},null,null,null,null,1.645E-3,3.5608300000000001E-3,"","","/",{"$error":"#N/A"}]
[null,null,null,{"$f":"VLOOKUP($C433,'SEI ISD'!$A$4:$B$124,2,0)","v":{"$error":"#N/A"}},null,null,null,null,1.645E-3,3.5608300000000001E-3,"","","/",{"$error":"#N/A"}]
[null,null,null,{"$f":"VLOOKUP($C434,'SEI ISD'!$A$4:$B$124,2,0)","v":{"$error":"#N/A"}},null,null,null,null,1.645E-3,3.5608300000000001E-3,"","","/",{"$error":"#N/A"}]
[null,null,null,{"$f":"VLOOKUP($C435,'SEI ISD'!$A$4:$B$124,2,0)","v":{"$error":"#N/A"}},null,null,null,null,1.645E-3,3.5608300000000001E-3,"","","/",{"$error":"#N/A"}]
[null,null,null,{"$f":"VLOOKUP($C436,'SEI ISD'!$A$4:$B$124,2,0)","v":{"$error":"#N/A"}},null,null,null,null,1.645E-3,3.5608300000000001E-3,"","","/",{"$error":"#N/A"}]
[null,null,null,{"$f":"VLOOKUP($C437,'SEI ISD'!$A$4:$B$124,2,0)","v":{"$error":"#N/A"}},null,null,null,null,1.645E-3,3.5608300000000001E-3,"","","/",{"$error":"#N/A"}]
[null,null,null,{"$f":"VLOOKUP($C438,'SEI ISD'!$A$4:$B$124,2,0)","v":{"$error":"#N/A"}},null,null,null,null,1.645E-3,3.5608300000000001E-3,"","","/",{"$error":"#N/A"}]
[null,null,null,{"$f":"VLOOKUP($C439,'SEI ISD'!$A$4:$B$124,2,0)","v":{"$error":"#N/A"}},null,null,null,null,1.645E-3,3.5608300000000001E-3,"","","/",{"$error":"#N/A"}]
[null,null,null,{"$f":"VLOOKUP($C440,'SEI ISD'!$A$4:$B$124,2,0)","v":{"$error":"#N/A"}},null,null,null,null,1.645E-3,3.5608300000000001E-3,"","","/",{"$error":"#N/A"}]
[null,null,null,{"$f":"VLOOKUP($C441,'SEI ISD'!$A$4:$B$124,2,0)","v":{"$error":"#N/A"}},null,null,null,null,1.645E-3,3.5608300000000001E-3,"","","/",{"$error":"#N/A"}]
[null,null,null,{"$f":"VLOOKUP($C442,'SEI ISD'!$A$4:$B$124,2,0)","v":{"$error":"#N/A"}},null,null,null,null,1.645E-3,3.5608300000000001E-3,"","","/",{"$error":"#N/A"}]
[null,null,null,{"$f":"VLOOKUP($C443,'SEI ISD'!$A$4:$B$124,2,0)","v":{"$error":"#N/A"}},null,null,null,null,1.645E-3,3.5608300000000001E-3,"","","/",{"$error":"#N/A"}]
[null,null,null,{"$f":"VLOOKUP($C444,'SEI ISD'!$A$4:$B$124,2,0)","v":{"$error":"#N/A"}},null,null,null,null,1.645E-3,3.5608300000000001E-3,"","","/",{"$error":"#N/A"}]
[null,null,null,{"$f":"VLOOKUP($C445,'SEI ISD'!$A$4:$B$124,2,0)","v":{"$error":"#N/A"}},null,null,null,null,1.645E-3,3.5608300000000001E-3,"","","/",{"$error":"#N/A"}]
[null,null,null,{"$f":"VLOOKUP($C446,'SEI ISD'!$A$4:$B$124,2,0)","v":{"$error":"#N/A"}},null,null,null,null,1.645E-3,3.5608300000000001E-3,"","","/",{"$error":"#N/A"}]
[null,null,null,{"$f":"VLOOKUP($C447,'SEI ISD'!$A$4:$B$124,2,0)","v":{"$error":"#N/A"}},null,null,null,null,1.645E-3,3.5608300000000001E-3,"","","/",{"$error":"#N/A"}]
[null,null,null,{"$f":"VLOOKUP($C448,'SEI ISD'!$A$4:$B$124,2,0)","v":{"$error":"#N/A"}},null,null,null,null,1.645E-3,3.5608300000000001E-3,"","","/",{"$error":"#N/A"}]
[null,null,null,{"$f":"VLOOKUP($C449,'SEI ISD'!$A$4:$B$124,2,0)","v":{"$error":"#N/A"}},null,null,null,null,1.645E-3,3.5608300000000001E-3,"","","/",{"$error":"#N/A"}]
[null,null,null,{"$f":"VLOOKUP($C450,'SEI ISD'!$A$4:$B$124,2,0)","v":{"$error":"#N/A"}},null,null,null,null,1.645E-3,3.5608300000000001E-3,"","","/",{"$error":"#N/A"}]
[null,null,null,{"$f":"VLOOKUP($C451,'SEI ISD'!$A$4:$B$124,2,0)","v":{"$error":"#N/A"}},null,null,null,null,1.645E-3,3.5608300000000001E-3,{"$f":"RIGHT(G451,2)","v":""},{"$f":"LEFT(G451,4)","v":""},{"$f":"_xlfn.CONCAT(K451,\"/\",L451)","v":"/"},{"$f":"EOMONTH(D451,0)","v":{"$error":"#N/A"}}]
[null,null,null,{"$f":"VLOOKUP($C452,'SEI ISD'!$A$4:$B$124,2,0)","v":{"$error":"#N/A"}},null,null,null,null,1.645E-3,3.5608300000000001E-3,"","","/",{"$error":"#N/A"}]
[null,null,null,{"$f":"VLOOKUP($C453,'SEI ISD'!$A$4:$B$124,2,0)","v":{"$error":"#N/A"}},null,null,null,null,1.645E-3,3.5608300000000001E-3,"","","/",{"$error":"#N/A"}]
[null,null,null,{"$f":"VLOOKUP($C454,'SEI ISD'!$A$4:$B$124,2,0)","v":{"$error":"#N/A"}},null,null,null,null,1.645E-3,3.5608300000000001E-3,"","","/",{"$error":"#N/A"}]
[null,null,null,{"$f":"VLOOKUP($C455,'SEI ISD'!$A$4:$B$124,2,0)","v":{"$error":"#N/A"}},null,null,null,null,1.645E-3,3.5608300000000001E-3,"","","/",{"$error":"#N/A"}]
[null,null,null,{"$f":"VLOOKUP($C456,'SEI ISD'!$A$4:$B$124,2,0)","v":{"$error":"#N/A"}},null,null,null,null,1.645E-3,3.5608300000000001E-3,"","","/",{"$error":"#N/A"}]
[null,null,null,{"$f":"VLOOKUP($C457,'SEI ISD'!$A$4:$B$124,2,0)","v":{"$error":"#N/A"}},null,null,null,null,1.645E-3,3.5608300000000001E-3,"","","/",{"$error":"#N/A"}]
[null,null,null,{"$f":"VLOOKUP($C458,'SEI ISD'!$A$4:$B$124,2,0)","v":{"$error":"#N/A"}},null,null,null,null,1.645E-3,3.5608300000000001E-3,"","","/",{"$error":"#N/A"}]
[null,null,null,{"$f":"VLOOKUP($C459,'SEI ISD'!$A$4:$B$124,2,0)","v":{"$error":"#N/A"}},null,null,null,null,1.645E-3,3.5608300000000001E-3,"","","/",{"$error":"#N/A"}]
[null,null,null,{"$f":"VLOOKUP($C460,'SEI ISD'!$A$4:$B$124,2,0)","v":{"$error":"#N/A"}},null,null,null,null,1.645E-3,3.5608300000000001E-3,"","","/",{"$error":"#N/A"}]
[null,null,null,{"$f":"VLOOKUP($C461,'SEI ISD'!$A$4:$B$124,2,0)","v":{"$error":"#N/A"}},null,null,null,null,1.645E-3,3.5608300000000001E-3,"","","/",{"$error":"#N/A"}]
[null,null,null,{"$f":"VLOOKUP($C462,'SEI ISD'!$A$4:$B$124,2,0)","v":{"$error":"#N/A"}},null,null,null,null,1.645E-3,3.5608300000000001E-3,"","","/",{"$error":"#N/A"}]
[null,null,null,{"$f":"VLOOKUP($C463,'SEI ISD'!$A$4:$B$124,2,0)","v":{"$error":"#N/A"}},null,null,null,null,1.645E-3,3.5608300000000001E-3,"","","/",{"$error":"#N/A"}]
[null,null,null,{"$f":"VLOOKUP($C464,'SEI ISD'!$A$4:$B$124,2,0)","v":{"$error":"#N/A"}},null,null,null,null,1.645E-3,3.5608300000000001E-3,"","","/",{"$error":"#N/A"}]
[null,null,null,{"$f":"VLOOKUP($C465,'SEI ISD'!$A$4:$B$124,2,0)","v":{"$error":"#N/A"}},null,null,null,null,1.645E-3,3.5608300000000001E-3,"","","/",{"$error":"#N/A"}]
[null,null,null,{"$f":"VLOOKUP($C466,'SEI ISD'!$A$4:$B$124,2,0)","v":{"$error":"#N/A"}},null,null,null,null,1.645E-3,3.5608300000000001E-3,"","","/",{"$error":"#N/A"}]
[null,null,null,{"$f":"VLOOKUP($C467,'SEI ISD'!$A$4:$B$124,2,0)","v":{"$error":"#N/A"}},null,null,null,null,1.645E-3,3.5608300000000001E-3,"","","/",{"$error":"#N/A"}]
[null,null,null,{"$f":"VLOOKUP($C468,'SEI ISD'!$A$4:$B$124,2,0)","v":{"$error":"#N/A"}},null,null,null,null,1.645E-3,3.5608300000000001E-3,"","","/",{"$error":"#N/A"}]
[null,null,null,{"$f":"VLOOKUP($C469,'SEI ISD'!$A$4:$B$124,2,0)","v":{"$error":"#N/A"}},null,null,null,null,1.645E-3,3.5608300000000001E-3,"","","/",{"$error":"#N/A"}]
[null,null,null,{"$f":"VLOOKUP($C470,'SEI ISD'!$A$4:$B$124,2,0)","v":{"$error":"#N/A"}},null,null,null,null,1.645E-3,3.5608300000000001E-3,"","","/",{"$error":"#N/A"}]
[null,null,null,{"$f":"VLOOKUP($C471,'SEI ISD'!$A$4:$B$124,2,0)","v":{"$error":"#N/A"}},null,null,null,null,1.645E-3,3.5608300000000001E-3,"","","/",{"$error":"#N/A"}]
[null,null,null,{"$f":"VLOOKUP($C472,'SEI ISD'!$A$4:$B$124,2,0)","v":{"$error":"#N/A"}},null,null,null,null,1.645E-3,3.5608300000000001E-3,"","","/",{"$error":"#N/A"}]
[null,null,null,{"$f":"VLOOKUP($C473,'SEI ISD'!$A$4:$B$124,2,0)","v":{"$error":"#N/A"}},null,null,null,null,1.645E-3,3.5608300000000001E-3,"","","/",{"$error":"#N/A"}]
[null,null,null,{"$f":"VLOOKUP($C474,'SEI ISD'!$A$4:$B$124,2,0)","v":{"$error":"#N/A"}},null,null,null,null,1.645E-3,3.5608300000000001E-3,"","","/",{"$error":"#N/A"}]
[null,null,null,{"$f":"VLOOKUP($C475,'SEI ISD'!$A$4:$B$124,2,0)","v":{"$error":"#N/A"}},null,null,null,null,1.645E-3,3.5608300000000001E-3,"","","/",{"$error":"#N/A"}]
[null,null,null,{"$f":"VLOOKUP($C476,'SEI ISD'!$A$4:$B$124,2,0)","v":{"$error":"#N/A"}},null,null,null,null,1.645E-3,3.5608300000000001E-3,"","","/",{"$error":"#N/A"}]
[null,null,null,{"$f":"VLOOKUP($C477,'SEI ISD'!$A$4:$B$124,2,0)","v":{"$error":"#N/A"}},null,null,null,null,1.645E-3,3.5608300000000001E-3,"","","/",{"$error":"#N/A"}]
[null,null,null,{"$f":"VLOOKUP($C478,'SEI ISD'!$A$4:$B$124,2,0)","v":{"$error":"#N/A"}},null,null,null,null,1.645E-3,3.5608300000000001E-3,"","","/",{"$error":"#N/A"}]
[null,null,null,{"$f":"VLOOKUP($C479,'SEI ISD'!$A$4:$B$124,2,0)","v":{"$error":"#N/A"}},null,null,null,null,1.645E-3,3.5608300000000001E-3,"","","/",{"$error":"#N/A"}]
[null,null,null,{"$f":"VLOOKUP($C480,'SEI ISD'!$A$4:$B$124,2,0)","v":{"$error":"#N/A"}},null,null,null,null,1.645E-3,3.5608300000000001E-3,"","","/",{"$error":"#N/A"}]
[null,null,null,{"$f":"VLOOKUP($C481,'SEI ISD'!$A$4:$B$124,2,0)","v":{"$error":"#N/A"}},null,null,null,null,1.645E-3,3.5608300000000001E-3,"","","/",{"$error":"#N/A"}]
[null,null,null,{"$f":"VLOOKUP($C482,'SEI ISD'!$A$4:$B$124,2,0)","v":{"$error":"#N/A"}},null,null,null,null,1.645E-3,3.5608300000000001E-3,"","","/",{"$error":"#N/A"}]
[null,null,null,{"$f":"VLOOKUP($C483,'SEI ISD'!$A$4:$B$124,2,0)","v":{"$error":"#N/A"}},null,null,null,null,1.645E-3,3.5608300000000001E-3,"","","/",{"$error":"#N/A"}]
[null,null,null,{"$f":"VLOOKUP($C484,'SEI ISD'!$A$4:$B$124,2,0)","v":{"$error":"#N/A"}},null,null,null,null,1.645E-3,3.5608300000000001E-3,"","","/",{"$error":"#N/A"}]
[null,null,null,{"$f":"VLOOKUP($C485,'SEI ISD'!$A$4:$B$124,2,0)","v":{"$error":"#N/A"}},null,null,null,null,1.645E-3,3.5608300000000001E-3,"","","/",{"$error":"#N/A"}]
[null,null,null,{"$f":"VLOOKUP($C486,'SEI ISD'!$A$4:$B$124,2,0)","v":{"$error":"#N/A"}},null,null,null,null,1.645E-3,3.5608300000000001E-3,"","","/",{"$error":"#N/A"}]
[null,null,null,{"$f":"VLOOKUP($C487,'SEI ISD'!$A$4:$B$124,2,0)","v":{"$error":"#N/A"}},null,null,null,null,1.645E-3,3.5608300000000001E-3,"","","/",{"$error":"#N/A"}]
[null,null,null,{"$f":"VLOOKUP($C488,'SEI ISD'!$A$4:$B$124,2,0)","v":{"$error":"#N/A"}},null,null,null,null,1.645E-3,3.5608300000000001E-3,"","","/",{"$error":"#N/A"}]
[null,null,null,{"$f":"VLOOKUP($C489,'SEI ISD'!$A$4:$B$124,2,0)","v":{"$error":"#N/A"}},null,null,null,null,1.645E-3,3.5608300000000001E-3,"","","/",{"$error":"#N/A"}]
[null,null,null,{"$f":"VLOOKUP($C490,'SEI ISD'!$A$4:$B$124,2,0)","v":{"$error":"#N/A"}},null,null,null,null,1.645E-3,3.5608300000000001E-3,"","","/",{"$error":"#N/A"}]
[null,null,null,{"$f":"VLOOKUP($C491,'SEI ISD'!$A$4:$B$124,2,0)","v":{"$error":"#N/A"}},null,null,null,null,1.645E-3,3.5608300000000001E-3,"","","/",{"$error":"#N/A"}]
[null,null,null,{"$f":"VLOOKUP($C492,'SEI ISD'!$A$4:$B$124,2,0)","v":{"$error":"#N/A"}},null,null,null,null,1.645E-3,3.5608300000000001E-3,"","","/",{"$error":"#N/A"}]
[null,null,null,{"$f":"VLOOKUP($C493,'SEI ISD'!$A$4:$B$124,2,0)","v":{"$error":"#N/A"}},null,null,null,null,1.645E-3,3.5608300000000001E-3,"","","/",{"$error":"#N/A"}]
[null,null,null,{"$f":"VLOOKUP($C494,'SEI ISD'!$A$4:$B$124,2,0)","v":{"$error":"#N/A"}},null,null,null,null,1.645E-3,3.5608300000000001E-3,"","","/",{"$error":"#N/A"}]
[null,null,null,{"$f":"VLOOKUP($C495,'SEI ISD'!$A$4:$B$124,2,0)","v":{"$error":"#N/A"}},null,null,null,null,1.645E-3,3.5608300000000001E-3,"","","/",{"$error":"#N/A"}]
[null,null,null,{"$f":"VLOOKUP($C496,'SEI ISD'!$A$4:$B$124,2,0)","v":{"$error":"#N/A"}},null,null,null,null,1.645E-3,3.5608300000000001E-3,"","","/",{"$error":"#N/A"}]
[null,null,null,{"$f":"VLOOKUP($C497,'SEI ISD'!$A$4:$B$124,2,0)","v":{"$error":"#N/A"}},null,null,null,null,1.645E-3,3.5608300000000001E-3,"","","/",{"$error":"#N/A"}]
[null,null,null,{"$f":"VLOOKUP($C498,'SEI ISD'!$A$4:$B$124,2,0)","v":{"$error":"#N/A"}},null,null,null,null,1.645E-3,3.5608300000000001E-3,"","","/",{"$error":"#N/A"}]
[null,null,null,{"$f":"VLOOKUP($C499,'SEI ISD'!$A$4:$B$124,2,0)","v":{"$error":"#N/A"}},null,null,null,null,1.645E-3,3.5608300000000001E-3,"","","/",{"$error":"#N/A"}]
[null,null,null,{"$f":"VLOOKUP($C500,'SEI ISD'!$A$4:$B$124,2,0)","v":{"$error":"#N/A"}},null,null,null,null,1.645E-3,3.5608300000000001E-3,"","","/",{"$error":"#N/A"}]
[null,null,null,{"$f":"VLOOKUP($C501,'SEI ISD'!$A$4:$B$124,2,0)","v":{"$error":"#N/A"}},null,null,null,null,1.645E-3,3.5608300000000001E-3,"","","/",{"$error":"#N/A"}]
[null,null,null,{"$f":"VLOOKUP($C502,'SEI ISD'!$A$4:$B$124,2,0)","v":{"$error":"#N/A"}},null,null,null,null,1.645E-3,3.5608300000000001E-3,"","","/",{"$error":"#N/A"}]
[null,null,null,{"$f":"VLOOKUP($C503,'SEI ISD'!$A$4:$B$124,2,0)","v":{"$error":"#N/A"}},null,null,null,null,1.645E-3,3.5608300000000001E-3,"","","/",{"$error":"#N/A"}]
[null,null,null,{"$f":"VLOOKUP($C504,'SEI ISD'!$A$4:$B$124,2,0)","v":{"$error":"#N/A"}},null,null,null,null,1.645E-3,3.5608300000000001E-3,"","","/",{"$error":"#N/A"}]
[null,null,null,{"$f":"VLOOKUP($C505,'SEI ISD'!$A$4:$B$124,2,0)","v":{"$error":"#N/A"}},null,null,null,null,1.645E-3,3.5608300000000001E-3,"","","/",{"$error":"#N/A"}]
[null,null,null,{"$f":"VLOOKUP($C506,'SEI ISD'!$A$4:$B$124,2,0)","v":{"$error":"#N/A"}},null,null,null,null,1.645E-3,3.5608300000000001E-3,"","","/",{"$error":"#N/A"}]
[null,null,null,{"$f":"VLOOKUP($C507,'SEI ISD'!$A$4:$B$124,2,0)","v":{"$error":"#N/A"}},null,null,null,null,1.645E-3,3.5608300000000001E-3,"","","/",{"$error":"#N/A"}]
[null,null,null,{"$f":"VLOOKUP($C508,'SEI ISD'!$A$4:$B$124,2,0)","v":{"$error":"#N/A"}},null,null,null,null,1.645E-3,3.5608300000000001E-3,"","","/",{"$error":"#N/A"}]
[null,null,null,{"$f":"VLOOKUP($C509,'SEI ISD'!$A$4:$B$124,2,0)","v":{"$error":"#N/A"}},null,null,null,null,1.645E-3,3.5608300000000001E-3,"","","/",{"$error":"#N/A"}]
[null,null,null,{"$f":"VLOOKUP($C510,'SEI ISD'!$A$4:$B$124,2,0)","v":{"$error":"#N/A"}},null,null,null,null,1.645E-3,3.5608300000000001E-3,"","","/",{"$error":"#N/A"}]
[null,null,null,{"$f":"VLOOKUP($C511,'SEI ISD'!$A$4:$B$124,2,0)","v":{"$error":"#N/A"}},null,null,null,null,1.645E-3,3.5608300000000001E-3,"","","/",{"$error":"#N/A"}]
[null,null,null,{"$f":"VLOOKUP($C512,'SEI ISD'!$A$4:$B$124,2,0)","v":{"$error":"#N/A"}},null,null,null,null,1.645E-3,3.5608300000000001E-3,"","","/",{"$error":"#N/A"}]
[null,null,null,{"$f":"VLOOKUP($C513,'SEI ISD'!$A$4:$B$124,2,0)","v":{"$error":"#N/A"}},null,null,null,null,1.645E-3,3.5608300000000001E-3,"","","/",{"$error":"#N/A"}]
[null,null,null,{"$f":"VLOOKUP($C514,'SEI ISD'!$A$4:$B$124,2,0)","v":{"$error":"#N/A"}},null,null,null,null,1.645E-3,3.5608300000000001E-3,"","","/",{"$error":"#N/A"}]
[null,null,null,{"$f":"VLOOKUP($C515,'SEI ISD'!$A$4:$B$124,2,0)","v":{"$error":"#N/A"}},null,null,null,null,1.645E-3,3.5608300000000001E-3,{"$f":"RIGHT(G515,2)","v":""},{"$f":"LEFT(G515,4)","v":""},{"$f":"_xlfn.CONCAT(K515,\"/\",L515)","v":"/"},{"$f":"EOMONTH(D515,0)","v":{"$error":"#N/A"}}]
[null,null,null,{"$f":"VLOOKUP($C516,'SEI ISD'!$A$4:$B$124,2,0)","v":{"$error":"#N/A"}},null,null,null,null,1.645E-3,3.5608300000000001E-3,"","","/",{"$error":"#N/A"}]
[null,null,null,{"$f":"VLOOKUP($C517,'SEI ISD'!$A$4:$B$124,2,0)","v":{"$error":"#N/A"}},null,null,null,null,1.645E-3,3.5608300000000001E-3,"","","/",{"$error":"#N/A"}]
[null,null,null,{"$f":"VLOOKUP($C518,'SEI ISD'!$A$4:$B$124,2,0)","v":{"$error":"#N/A"}},null,null,null,null,1.645E-3,3.5608300000000001E-3,"","","/",{"$error":"#N/A"}]
[null,null,null,{"$f":"VLOOKUP($C519,'SEI ISD'!$A$4:$B$124,2,0)","v":{"$error":"#N/A"}},null,null,null,null,1.645E-3,3.5608300000000001E-3,"","","/",{"$error":"#N/A"}]
[null,null,null,{"$f":"VLOOKUP($C520,'SEI ISD'!$A$4:$B$124,2,0)","v":{"$error":"#N/A"}},null,null,null,null,1.645E-3,3.5608300000000001E-3,"","","/",{"$error":"#N/A"}]
[null,null,null,{"$f":"VLOOKUP($C521,'SEI ISD'!$A$4:$B$124,2,0)","v":{"$error":"#N/A"}},null,null,null,null,1.645E-3,3.5608300000000001E-3,"","","/",{"$error":"#N/A"}]
[null,null,null,{"$f":"VLOOKUP($C522,'SEI ISD'!$A$4:$B$124,2,0)","v":{"$error":"#N/A"}},null,null,null,null,1.645E-3,3.5608300000000001E-3,"","","/",{"$error":"#N/A"}]
[null,null,null,{"$f":"VLOOKUP($C523,'SEI ISD'!$A$4:$B$124,2,0)","v":{"$error":"#N/A"}},null,null,null,null,1.645E-3,3.5608300000000001E-3,"","","/",{"$error":"#N/A"}]
[null,null,null,{"$f":"VLOOKUP($C524,'SEI ISD'!$A$4:$B$124,2,0)","v":{"$error":"#N/A"}},null,null,null,null,1.645E-3,3.5608300000000001E-3,"","","/",{"$error":"#N/A"}]
[null,null,null,{"$f":"VLOOKUP($C525,'SEI ISD'!$A$4:$B$124,2,0)","v":{"$error":"#N/A"}},null,null,null,null,1.645E-3,3.5608300000000001E-3,"","","/",{"$error":"#N/A"}]
[null,null,null,{"$f":"VLOOKUP($C526,'SEI ISD'!$A$4:$B$124,2,0)","v":{"$error":"#N/A"}},null,null,null,null,1.645E-3,3.5608300000000001E-3,"","","/",{"$error":"#N/A"}]
[null,null,null,{"$f":"VLOOKUP($C527,'SEI ISD'!$A$4:$B$124,2,0)","v":{"$error":"#N/A"}},null,null,null,null,1.645E-3,3.5608300000000001E-3,"","","/",{"$error":"#N/A"}]
[null,null,null,{"$f":"VLOOKUP($C528,'SEI ISD'!$A$4:$B$124,2,0)","v":{"$error":"#N/A"}},null,null,null,null,1.645E-3,3.5608300000000001E-3,"","","/",{"$error":"#N/A"}]
[null,null,null,{"$f":"VLOOKUP($C529,'SEI ISD'!$A$4:$B$124,2,0)","v":{"$error":"#N/A"}},null,null,null,null,1.645E-3,3.5608300000000001E-3,"","","/",{"$error":"#N/A"}]
[null,null,null,{"$f":"VLOOKUP($C530,'SEI ISD'!$A$4:$B$124,2,0)","v":{"$error":"#N/A"}},null,null,null,null,1.645E-3,3.5608300000000001E-3,"","","/",{"$error":"#N/A"}]
[null,null,null,{"$f":"VLOOKUP($C531,'SEI ISD'!$A$4:$B$124,2,0)","v":{"$error":"#N/A"}},null,null,null,null,1.645E-3,3.5608300000000001E-3,"","","/",{"$error":"#N/A"}]
[null,null,null,{"$f":"VLOOKUP($C532,'SEI ISD'!$A$4:$B$124,2,0)","v":{"$error":"#N/A"}},null,null,null,null,1.645E-3,3.5608300000000001E-3,"","","/",{"$error":"#N/A"}]
[null,null,null,{"$f":"VLOOKUP($C533,'SEI ISD'!$A$4:$B$124,2,0)","v":{"$error":"#N/A"}},null,null,null,null,1.645E-3,3.5608300000000001E-3,"","","/",{"$error":"#N/A"}]
[null,null,null,{"$f":"VLOOKUP($C534,'SEI ISD'!$A$4:$B$124,2,0)","v":{"$error":"#N/A"}},null,null,null,null,1.645E-3,3.5608300000000001E-3,"","","/",{"$error":"#N/A"}]
[null,null,null,{"$f":"VLOOKUP($C535,'SEI ISD'!$A$4:$B$124,2,0)","v":{"$error":"#N/A"}},null,null,null,null,1.645E-3,3.5608300000000001E-3,"","","/",{"$error":"#N/A"}]
[null,null,null,{"$f":"VLOOKUP($C536,'SEI ISD'!$A$4:$B$124,2,0)","v":{"$error":"#N/A"}},null,null,null,null,1.645E-3,3.5608300000000001E-3,"","","/",{"$error":"#N/A"}]
[null,null,null,{"$f":"VLOOKUP($C537,'SEI ISD'!$A$4:$B$124,2,0)","v":{"$error":"#N/A"}},null,null,null,null,1.645E-3,3.5608300000000001E-3,"","","/",{"$error":"#N/A"}]
[null,null,null,{"$f":"VLOOKUP($C538,'SEI ISD'!$A$4:$B$124,2,0)","v":{"$error":"#N/A"}},null,null,null,null,1.645E-3,3.5608300000000001E-3,"","","/",{"$error":"#N/A"}]
[null,null,null,{"$f":"VLOOKUP($C539,'SEI ISD'!$A$4:$B$124,2,0)","v":{"$error":"#N/A"}},null,null,null,null,1.645E-3,3.5608300000000001E-3,"","","/",{"$error":"#N/A"}]
[null,null,null,{"$f":"VLOOKUP($C540,'SEI ISD'!$A$4:$B$124,2,0)","v":{"$error":"#N/A"}},null,null,null,null,1.645E-3,3.5608300000000001E-3,"","","/",{"$error":"#N/A"}]
[null,null,null,{"$f":"VLOOKUP($C541,'SEI ISD'!$A$4:$B$124,2,0)","v":{"$error":"#N/A"}},null,null,null,null,1.645E-3,3.5608300000000001E-3,"","","/",{"$error":"#N/A"}]
[null,null,null,{"$f":"VLOOKUP($C542,'SEI ISD'!$A$4:$B$124,2,0)","v":{"$error":"#N/A"}},null,null,null,null,1.645E-3,3.5608300000000001E-3,"","","/",{"$error":"#N/A"}]
[null,null,null,{"$f":"VLOOKUP($C543,'SEI ISD'!$A$4:$B$124,2,0)","v":{"$error":"#N/A"}},null,null,null,null,1.645E-3,3.5608300000000001E-3,"","","/",{"$error":"#N/A"}]
[null,null,null,{"$f":"VLOOKUP($C544,'SEI ISD'!$A$4:$B$124,2,0)","v":{"$error":"#N/A"}},null,null,null,null,1.645E-3,3.5608300000000001E-3,"","","/",{"$error":"#N/A"}]
[null,null,null,{"$f":"VLOOKUP($C545,'SEI ISD'!$A$4:$B$124,2,0)","v":{"$error":"#N/A"}},null,null,null,null,1.645E-3,3.5608300000000001E-3,"","","/",{"$error":"#N/A"}]
[null,null,null,{"$f":"VLOOKUP($C546,'SEI ISD'!$A$4:$B$124,2,0)","v":{"$error":"#N/A"}},null,null,null,null,1.645E-3,3.5608300000000001E-3,"","","/",{"$error":"#N/A"}]
[null,null,null,{"$f":"VLOOKUP($C547,'SEI ISD'!$A$4:$B$124,2,0)","v":{"$error":"#N/A"}},null,null,null,null,1.645E-3,3.5608300000000001E-3,"","","/",{"$error":"#N/A"}]
[null,null,null,{"$f":"VLOOKUP($C548,'SEI ISD'!$A$4:$B$124,2,0)","v":{"$error":"#N/A"}},null,null,null,null,1.645E-3,3.5608300000000001E-3,"","","/",{"$error":"#N/A"}]
[null,null,null,{"$f":"VLOOKUP($C549,'SEI ISD'!$A$4:$B$124,2,0)","v":{"$error":"#N/A"}},null,null,null,null,1.645E-3,3.5608300000000001E-3,"","","/",{"$error":"#N/A"}]
[null,null,null,{"$f":"VLOOKUP($C550,'SEI ISD'!$A$4:$B$124,2,0)","v":{"$error":"#N/A"}},null,null,null,null,1.645E-3,3.5608300000000001E-3,"","","/",{"$error":"#N/A"}]
[null,null,null,{"$f":"VLOOKUP($C551,'SEI ISD'!$A$4:$B$124,2,0)","v":{"$error":"#N/A"}},null,null,null,null,1.645E-3,3.5608300000000001E-3,"","","/",{"$error":"#N/A"}]
[null,null,null,{"$f":"VLOOKUP($C552,'SEI ISD'!$A$4:$B$124,2,0)","v":{"$error":"#N/A"}},null,null,null,null,1.645E-3,3.5608300000000001E-3,"","","/",{"$error":"#N/A"}]
[null,null,null,{"$f":"VLOOKUP($C553,'SEI ISD'!$A$4:$B$124,2,0)","v":{"$error":"#N/A"}},null,null,null,null,1.645E-3,3.5608300000000001E-3,"","","/",{"$error":"#N/A"}]
[null,null,null,{"$f":"VLOOKUP($C554,'SEI ISD'!$A$4:$B$124,2,0)","v":{"$error":"#N/A"}},null,null,null,null,1.645E-3,3.5608300000000001E-3,"","","/",{"$error":"#N/A"}]
[null,null,null,{"$f":"VLOOKUP($C555,'SEI ISD'!$A$4:$B$124,2,0)","v":{"$error":"#N/A"}},null,null,null,null,1.645E-3,3.5608300000000001E-3,"","","/",{"$error":"#N/A"}]
[null,null,null,{"$f":"VLOOKUP($C556,'SEI ISD'!$A$4:$B$124,2,0)","v":{"$error":"#N/A"}},null,null,null,null,1.645E-3,3.5608300000000001E-3,"","","/",{"$error":"#N/A"}]
[null,null,null,{"$f":"VLOOKUP($C557,'SEI ISD'!$A$4:$B$124,2,0)","v":{"$error":"#N/A"}},null,null,null,null,1.645E-3,3.5608300000000001E-3,"","","/",{"$error":"#N/A"}]
[null,null,null,{"$f":"VLOOKUP($C558,'SEI ISD'!$A$4:$B$124,2,0)","v":{"$error":"#N/A"}},null,null,null,null,1.645E-3,3.5608300000000001E-3,"","","/",{"$error":"#N/A"}]
[null,null,null,{"$f":"VLOOKUP($C559,'SEI ISD'!$A$4:$B$124,2,0)","v":{"$error":"#N/A"}},null,null,null,null,1.645E-3,3.5608300000000001E-3,"","","/",{"$error":"#N/A"}]
[null,null,null,{"$f":"VLOOKUP($C560,'SEI ISD'!$A$4:$B$124,2,0)","v":{"$error":"#N/A"}},null,null,null,null,1.645E-3,3.5608300000000001E-3,"","","/",{"$error":"#N/A"}]
[null,null,null,{"$f":"VLOOKUP($C561,'SEI ISD'!$A$4:$B$124,2,0)","v":{"$error":"#N/A"}},null,null,null,null,1.645E-3,3.5608300000000001E-3,"","","/",{"$error":"#N/A"}]
[null,null,null,{"$f":"VLOOKUP($C562,'SEI ISD'!$A$4:$B$124,2,0)","v":{"$error":"#N/A"}},null,null,null,null,1.645E-3,3.5608300000000001E-3,"","","/",{"$error":"#N/A"}]
[null,null,null,{"$f":"VLOOKUP($C563,'SEI ISD'!$A$4:$B$124,2,0)","v":{"$error":"#N/A"}},null,null,null,null,1.645E-3,3.5608300000000001E-3,"","","/",{"$error":"#N/A"}]
[null,null,null,{"$f":"VLOOKUP($C564,'SEI ISD'!$A$4:$B$124,2,0)","v":{"$error":"#N/A"}},null,null,null,null,1.645E-3,3.5608300000000001E-3,"","","/",{"$error":"#N/A"}]
[null,null,null,{"$f":"VLOOKUP($C565,'SEI ISD'!$A$4:$B$124,2,0)","v":{"$error":"#N/A"}},null,null,null,null,1.645E-3,3.5608300000000001E-3,"","","/",{"$error":"#N/A"}]
[null,null,null,{"$f":"VLOOKUP($C566,'SEI ISD'!$A$4:$B$124,2,0)","v":{"$error":"#N/A"}},null,null,null,null,1.645E-3,3.5608300000000001E-3,"","","/",{"$error":"#N/A"}]
[null,null,null,{"$f":"VLOOKUP($C567,'SEI ISD'!$A$4:$B$124,2,0)","v":{"$error":"#N/A"}},null,null,null,null,1.645E-3,3.5608300000000001E-3,"","","/",{"$error":"#N/A"}]
[null,null,null,{"$f":"VLOOKUP($C568,'SEI ISD'!$A$4:$B$124,2,0)","v":{"$error":"#N/A"}},null,null,null,null,1.645E-3,3.5608300000000001E-3,"","","/",{"$error":"#N/A"}]
[null,null,null,{"$f":"VLOOKUP($C569,'SEI ISD'!$A$4:$B$124,2,0)","v":{"$error":"#N/A"}},null,null,null,null,1.645E-3,3.5608300000000001E-3,"","","/",{"$error":"#N/A"}]
[null,null,null,{"$f":"VLOOKUP($C570,'SEI ISD'!$A$4:$B$124,2,0)","v":{"$error":"#N/A"}},null,null,null,null,1.645E-3,3.5608300000000001E-3,"","","/",{"$error":"#N/A"}]
[null,null,null,{"$f":"VLOOKUP($C571,'SEI ISD'!$A$4:$B$124,2,0)","v":{"$error":"#N/A"}},null,null,null,null,1.645E-3,3.5608300000000001E-3,"","","/",{"$error":"#N/A"}]
[null,null,null,{"$f":"VLOOKUP($C572,'SEI ISD'!$A$4:$B$124,2,0)","v":{"$error":"#N/A"}},null,null,null,null,1.645E-3,3.5608300000000001E-3,"","","/",{"$error":"#N/A"}]
[null,null,null,{"$f":"VLOOKUP($C573,'SEI ISD'!$A$4:$B$124,2,0)","v":{"$error":"#N/A"}},null,null,null,null,1.645E-3,3.5608300000000001E-3,"","","/",{"$error":"#N/A"}]
[null,null,null,{"$f":"VLOOKUP($C574,'SEI ISD'!$A$4:$B$124,2,0)","v":{"$error":"#N/A"}},null,null,null,null,1.645E-3,3.5608300000000001E-3,"","","/",{"$error":"#N/A"}]
[null,null,null,{"$f":"VLOOKUP($C575,'SEI ISD'!$A$4:$B$124,2,0)","v":{"$error":"#N/A"}},null,null,null,null,1.645E-3,3.5608300000000001E-3,"","","/",{"$error":"#N/A"}]
[null,null,null,{"$f":"VLOOKUP($C576,'SEI ISD'!$A$4:$B$124,2,0)","v":{"$error":"#N/A"}},null,null,null,null,1.645E-3,3.5608300000000001E-3,"","","/",{"$error":"#N/A"}]
[null,null,null,{"$f":"VLOOKUP($C577,'SEI ISD'!$A$4:$B$124,2,0)","v":{"$error":"#N/A"}},null,null,null,null,1.645E-3,3.5608300000000001E-3,"","","/",{"$error":"#N/A"}]
[null,null,null,{"$f":"VLOOKUP($C578,'SEI ISD'!$A$4:$B$124,2,0)","v":{"$error":"#N/A"}},null,null,null,null,1.645E-3,3.5608300000000001E-3,"","","/",{"$error":"#N/A"}]
[null,null,null,{"$f":"VLOOKUP($C579,'SEI ISD'!$A$4:$B$124,2,0)","v":{"$error":"#N/A"}},null,null,null,null,1.645E-3,3.5608300000000001E-3,{"$f":"RIGHT(G579,2)","v":""},{"$f":"LEFT(G579,4)","v":""},{"$f":"_xlfn.CONCAT(K579,\"/\",L579)","v":"/"},{"$f":"EOMONTH(D579,0)","v":{"$error":"#N/A"}}]
[null,null,null,{"$f":"VLOOKUP($C580,'SEI ISD'!$A$4:$B$124,2,0)","v":{"$error":"#N/A"}},null,null,null,null,1.645E-3,3.5608300000000001E-3,"","","/",{"$error":"#N/A"}]
[null,null,null,{"$f":"VLOOKUP($C581,'SEI ISD'!$A$4:$B$124,2,0)","v":{"$error":"#N/A"}},null,null,null,null,1.645E-3,3.5608300000000001E-3,"","","/",{"$error":"#N/A"}]
[null,null,null,{"$f":"VLOOKUP($C582,'SEI ISD'!$A$4:$B$124,2,0)","v":{"$error":"#N/A"}},null,null,null,null,1.645E-3,3.5608300000000001E-3,"","","/",{"$error":"#N/A"}]
[null,null,null,{"$f":"VLOOKUP($C583,'SEI ISD'!$A$4:$B$124,2,0)","v":{"$error":"#N/A"}},null,null,null,null,1.645E-3,3.5608300000000001E-3,"","","/",{"$error":"#N/A"}]
[null,null,null,{"$f":"VLOOKUP($C584,'SEI ISD'!$A$4:$B$124,2,0)","v":{"$error":"#N/A"}},null,null,null,null,1.645E-3,3.5608300000000001E-3,"","","/",{"$error":"#N/A"}]
[null,null,null,{"$f":"VLOOKUP($C585,'SEI ISD'!$A$4:$B$124,2,0)","v":{"$error":"#N/A"}},null,null,null,null,1.645E-3,3.5608300000000001E-3,"","","/",{"$error":"#N/A"}]
[null,null,null,{"$f":"VLOOKUP($C586,'SEI ISD'!$A$4:$B$124,2,0)","v":{"$error":"#N/A"}},null,null,null,null,1.645E-3,3.5608300000000001E-3,"","","/",{"$error":"#N/A"}]
[null,null,null,{"$f":"VLOOKUP($C587,'SEI ISD'!$A$4:$B$124,2,0)","v":{"$error":"#N/A"}},null,null,null,null,1.645E-3,3.5608300000000001E-3,"","","/",{"$error":"#N/A"}]
[null,null,null,{"$f":"VLOOKUP($C588,'SEI ISD'!$A$4:$B$124,2,0)","v":{"$error":"#N/A"}},null,null,null,null,1.645E-3,3.5608300000000001E-3,"","","/",{"$error":"#N/A"}]
[null,null,null,{"$f":"VLOOKUP($C589,'SEI ISD'!$A$4:$B$124,2,0)","v":{"$error":"#N/A"}},null,null,null,null,1.645E-3,3.5608300000000001E-3,"","","/",{"$error":"#N/A"}]
[null,null,null,{"$f":"VLOOKUP($C590,'SEI ISD'!$A$4:$B$124,2,0)","v":{"$error":"#N/A"}},null,null,null,null,1.645E-3,3.5608300000000001E-3,"","","/",{"$error":"#N/A"}]
[null,null,null,{"$f":"VLOOKUP($C591,'SEI ISD'!$A$4:$B$124,2,0)","v":{"$error":"#N/A"}},null,null,null,null,1.645E-3,3.5608300000000001E-3,"","","/",{"$error":"#N/A"}]
[null,null,null,{"$f":"VLOOKUP($C592,'SEI ISD'!$A$4:$B$124,2,0)","v":{"$error":"#N/A"}},null,null,null,null,1.645E-3,3.5608300000000001E-3,"","","/",{"$error":"#N/A"}]
[null,null,null,{"$f":"VLOOKUP($C593,'SEI ISD'!$A$4:$B$124,2,0)","v":{"$error":"#N/A"}},null,null,null,null,1.645E-3,3.5608300000000001E-3,"","","/",{"$error":"#N/A"}]
[null,null,null,{"$f":"VLOOKUP($C594,'SEI ISD'!$A$4:$B$124,2,0)","v":{"$error":"#N/A"}},null,null,null,null,1.645E-3,3.5608300000000001E-3,"","","/",{"$error":"#N/A"}]
[null,null,null,{"$f":"VLOOKUP($C595,'SEI ISD'!$A$4:$B$124,2,0)","v":{"$error":"#N/A"}},null,null,null,null,1.645E-3,3.5608300000000001E-3,"","","/",{"$error":"#N/A"}]
[null,null,null,{"$f":"VLOOKUP($C596,'SEI ISD'!$A$4:$B$124,2,0)","v":{"$error":"#N/A"}},null,null,null,null,1.645E-3,3.5608300000000001E-3,"","","/",{"$error":"#N/A"}]
[null,null,null,{"$f":"VLOOKUP($C597,'SEI ISD'!$A$4:$B$124,2,0)","v":{"$error":"#N/A"}},null,null,null,null,1.645E-3,3.5608300000000001E-3,"","","/",{"$error":"#N/A"}]
[null,null,null,{"$f":"VLOOKUP($C598,'SEI ISD'!$A$4:$B$124,2,0)","v":{"$error":"#N/A"}},null,null,null,null,1.645E-3,3.5608300000000001E-3,"","","/",{"$error":"#N/A"}]
[null,null,null,{"$f":"VLOOKUP($C599,'SEI ISD'!$A$4:$B$124,2,0)","v":{"$error":"#N/A"}},null,null,null,null,1.645E-3,3.5608300000000001E-3,"","","/",{"$error":"#N/A"}]
[null,null,null,{"$f":"VLOOKUP($C600,'SEI ISD'!$A$4:$B$124,2,0)","v":{"$error":"#N/A"}},null,null,null,null,1.645E-3,3.5608300000000001E-3,"","","/",{"$error":"#N/A"}]
[null,null,null,{"$f":"VLOOKUP($C601,'SEI ISD'!$A$4:$B$124,2,0)","v":{"$error":"#N/A"}},null,null,null,null,1.645E-3,3.5608300000000001E-3,"","","/",{"$error":"#N/A"}]
[null,null,null,{"$f":"VLOOKUP($C602,'SEI ISD'!$A$4:$B$124,2,0)","v":{"$error":"#N/A"}},null,null,null,null,1.645E-3,3.5608300000000001E-3,"","","/",{"$error":"#N/A"}]
[null,null,null,{"$f":"VLOOKUP($C603,'SEI ISD'!$A$4:$B$124,2,0)","v":{"$error":"#N/A"}},null,null,null,null,1.645E-3,3.5608300000000001E-3,"","","/",{"$error":"#N/A"}]
[null,null,null,{"$f":"VLOOKUP($C604,'SEI ISD'!$A$4:$B$124,2,0)","v":{"$error":"#N/A"}},null,null,null,null,1.645E-3,3.5608300000000001E-3,"","","/",{"$error":"#N/A"}]
[null,null,null,{"$f":"VLOOKUP($C605,'SEI ISD'!$A$4:$B$124,2,0)","v":{"$error":"#N/A"}},null,null,null,null,1.645E-3,3.5608300000000001E-3,"","","/",{"$error":"#N/A"}]
[null,null,null,{"$f":"VLOOKUP($C606,'SEI ISD'!$A$4:$B$124,2,0)","v":{"$error":"#N/A"}},null,null,null,null,1.645E-3,3.5608300000000001E-3,"","","/",{"$error":"#N/A"}]
[null,null,null,{"$f":"VLOOKUP($C607,'SEI ISD'!$A$4:$B$124,2,0)","v":{"$error":"#N/A"}},null,null,null,null,1.645E-3,3.5608300000000001E-3,"","","/",{"$error":"#N/A"}]
[null,null,null,{"$f":"VLOOKUP($C608,'SEI ISD'!$A$4:$B$124,2,0)","v":{"$error":"#N/A"}},null,null,null,null,1.645E-3,3.5608300000000001E-3,"","","/",{"$error":"#N/A"}]
[null,null,null,{"$f":"VLOOKUP($C609,'SEI ISD'!$A$4:$B$124,2,0)","v":{"$error":"#N/A"}},null,null,null,null,1.645E-3,3.5608300000000001E-3,"","","/",{"$error":"#N/A"}]
[null,null,null,{"$f":"VLOOKUP($C610,'SEI ISD'!$A$4:$B$124,2,0)","v":{"$error":"#N/A"}},null,null,null,null,1.645E-3,3.5608300000000001E-3,"","","/",{"$error":"#N/A"}]
[null,null,null,{"$f":"VLOOKUP($C611,'SEI ISD'!$A$4:$B$124,2,0)","v":{"$error":"#N/A"}},null,null,null,null,1.645E-3,3.5608300000000001E-3,"","","/",{"$error":"#N/A"}]
[null,null,null,{"$f":"VLOOKUP($C612,'SEI ISD'!$A$4:$B$124,2,0)","v":{"$error":"#N/A"}},null,null,null,null,1.645E-3,3.5608300000000001E-3,"","","/",{"$error":"#N/A"}]
[null,null,null,{"$f":"VLOOKUP($C613,'SEI ISD'!$A$4:$B$124,2,0)","v":{"$error":"#N/A"}},null,null,null,null,1.645E-3,3.5608300000000001E-3,"","","/",{"$error":"#N/A"}]
[null,null,null,{"$f":"VLOOKUP($C614,'SEI ISD'!$A$4:$B$124,2,0)","v":{"$error":"#N/A"}},null,null,null,null,1.645E-3,3.5608300000000001E-3,"","","/",{"$error":"#N/A"}]
[null,null,null,{"$f":"VLOOKUP($C615,'SEI ISD'!$A$4:$B$124,2,0)","v":{"$error":"#N/A"}},null,null,null,null,1.645E-3,3.5608300000000001E-3,"","","/",{"$error":"#N/A"}]
[null,null,null,{"$f":"VLOOKUP($C616,'SEI ISD'!$A$4:$B$124,2,0)","v":{"$error":"#N/A"}},null,null,null,null,1.645E-3,3.5608300000000001E-3,"","","/",{"$error":"#N/A"}]
[null,null,null,{"$f":"VLOOKUP($C617,'SEI ISD'!$A$4:$B$124,2,0)","v":{"$error":"#N/A"}},null,null,null,null,1.645E-3,3.5608300000000001E-3,"","","/",{"$error":"#N/A"}]
[null,null,null,{"$f":"VLOOKUP($C618,'SEI ISD'!$A$4:$B$124,2,0)","v":{"$error":"#N/A"}},null,null,null,null,1.645E-3,3.5608300000000001E-3,"","","/",{"$error":"#N/A"}]
[null,null,null,{"$f":"VLOOKUP($C619,'SEI ISD'!$A$4:$B$124,2,0)","v":{"$error":"#N/A"}},null,null,null,null,1.645E-3,3.5608300000000001E-3,"","","/",{"$error":"#N/A"}]
[null,null,null,{"$f":"VLOOKUP($C620,'SEI ISD'!$A$4:$B$124,2,0)","v":{"$error":"#N/A"}},null,null,null,null,1.645E-3,3.5608300000000001E-3,"","","/",{"$error":"#N/A"}]
[null,null,null,{"$f":"VLOOKUP($C621,'SEI ISD'!$A$4:$B$124,2,0)","v":{"$error":"#N/A"}},null,null,null,null,1.645E-3,3.5608300000000001E-3,"","","/",{"$error":"#N/A"}]
[null,null,null,{"$f":"VLOOKUP($C622,'SEI ISD'!$A$4:$B$124,2,0)","v":{"$error":"#N/A"}},null,null,null,null,1.645E-3,3.5608300000000001E-3,"","","/",{"$error":"#N/A"}]
[null,null,null,{"$f":"VLOOKUP($C623,'SEI ISD'!$A$4:$B$124,2,0)","v":{"$error":"#N/A"}},null,null,null,null,1.645E-3,3.5608300000000001E-3,"","","/",{"$error":"#N/A"}]
[null,null,null,{"$f":"VLOOKUP($C624,'SEI ISD'!$A$4:$B$124,2,0)","v":{"$error":"#N/A"}},null,null,null,null,1.645E-3,3.5608300000000001E-3,"","","/",{"$error":"#N/A"}]
[null,null,null,{"$f":"VLOOKUP($C625,'SEI ISD'!$A$4:$B$124,2,0)","v":{"$error":"#N/A"}},null,null,null,null,1.645E-3,3.5608300000000001E-3,"","","/",{"$error":"#N/A"}]
[null,null,null,{"$f":"VLOOKUP($C626,'SEI ISD'!$A$4:$B$124,2,0)","v":{"$error":"#N/A"}},null,null,null,null,1.645E-3,3.5608300000000001E-3,"","","/",{"$error":"#N/A"},null,null,null,null,null,7]
[null,null,null,{"$f":"VLOOKUP($C627,'SEI ISD'!$A$4:$B$124,2,0)","v":{"$error":"#N/A"}},null,null,null,null,1.645E-3,3.5608300000000001E-3,"","","/",{"$error":"#N/A"},null,null,null,null,null,2]
[null,null,null,{"$f":"VLOOKUP($C628,'SEI ISD'!$A$4:$B$124,2,0)","v":{"$error":"#N/A"}},null,null,null,null,1.645E-3,3.5608300000000001E-3,"","","/",{"$error":"#N/A"},null,null,null,null,null,0.5]
[null,null,null,{"$f":"VLOOKUP($C629,'SEI ISD'!$A$4:$B$124,2,0)","v":{"$error":"#N/A"}},null,null,null,null,1.645E-3,3.5608300000000001E-3,"","","/",{"$error":"#N/A"}]
[null,null,null,{"$f":"VLOOKUP($C630,'SEI ISD'!$A$4:$B$124,2,0)","v":{"$error":"#N/A"}},null,null,null,null,1.645E-3,3.5608300000000001E-3,"","","/",{"$error":"#N/A"}]
[null,null,null,{"$f":"VLOOKUP($C631,'SEI ISD'!$A$4:$B$124,2,0)","v":{"$error":"#N/A"}},null,null,null,null,1.645E-3,3.5608300000000001E-3,"","","/",{"$error":"#N/A"}]
[null,null,null,{"$f":"VLOOKUP($C632,'SEI ISD'!$A$4:$B$124,2,0)","v":{"$error":"#N/A"}},null,null,null,null,1.645E-3,3.5608300000000001E-3,"","","/",{"$error":"#N/A"}]
[null,null,null,{"$f":"VLOOKUP($C633,'SEI ISD'!$A$4:$B$124,2,0)","v":{"$error":"#N/A"}},null,null,null,null,1.645E-3,3.5608300000000001E-3,"","","/",{"$error":"#N/A"}]
[null,null,null,{"$f":"VLOOKUP($C634,'SEI ISD'!$A$4:$B$124,2,0)","v":{"$error":"#N/A"}},null,null,null,null,1.645E-3,3.5608300000000001E-3,"","","/",{"$error":"#N/A"}]
[null,null,null,{"$f":"VLOOKUP($C635,'SEI ISD'!$A$4:$B$124,2,0)","v":{"$error":"#N/A"}},null,null,null,null,1.645E-3,3.5608300000000001E-3,"","","/",{"$error":"#N/A"}]
[null,null,null,{"$f":"VLOOKUP($C636,'SEI ISD'!$A$4:$B$124,2,0)","v":{"$error":"#N/A"}},null,null,null,null,1.645E-3,3.5608300000000001E-3,"","","/",{"$error":"#N/A"}]
[null,null,null,{"$f":"VLOOKUP($C637,'SEI ISD'!$A$4:$B$124,2,0)","v":{"$error":"#N/A"}},null,null,null,null,1.645E-3,3.5608300000000001E-3,"","","/",{"$error":"#N/A"}]
[null,null,null,{"$f":"VLOOKUP($C638,'SEI ISD'!$A$4:$B$124,2,0)","v":{"$error":"#N/A"}},null,null,null,null,1.645E-3,3.5608300000000001E-3,"","","/",{"$error":"#N/A"}]
[null,null,null,{"$f":"VLOOKUP($C639,'SEI ISD'!$A$4:$B$124,2,0)","v":{"$error":"#N/A"}},null,null,null,null,1.645E-3,3.5608300000000001E-3,"","","/",{"$error":"#N/A"}]
[null,null,null,{"$f":"VLOOKUP($C640,'SEI ISD'!$A$4:$B$124,2,0)","v":{"$error":"#N/A"}},null,null,null,null,1.645E-3,3.5608300000000001E-3,"","","/",{"$error":"#N/A"}]
[null,null,null,{"$f":"VLOOKUP($C641,'SEI ISD'!$A$4:$B$124,2,0)","v":{"$error":"#N/A"}},null,null,null,null,1.645E-3,3.5608300000000001E-3,"","","/",{"$error":"#N/A"}]
[null,null,null,{"$f":"VLOOKUP($C642,'SEI ISD'!$A$4:$B$124,2,0)","v":{"$error":"#N/A"}},null,null,null,null,1.645E-3,3.5608300000000001E-3,"","","/",{"$error":"#N/A"}]
[null,null,null,{"$f":"VLOOKUP($C643,'SEI ISD'!$A$4:$B$124,2,0)","v":{"$error":"#N/A"}},null,null,null,null,1.645E-3,3.5608300000000001E-3,{"$f":"RIGHT(G643,2)","v":""},{"$f":"LEFT(G643,4)","v":""},{"$f":"_xlfn.CONCAT(K643,\"/\",L643)","v":"/"},{"$f":"EOMONTH(D643,0)","v":{"$error":"#N/A"}}]
[null,null,null,{"$f":"VLOOKUP($C644,'SEI ISD'!$A$4:$B$124,2,0)","v":{"$error":"#N/A"}},null,null,null,null,1.645E-3,3.5608300000000001E-3,"","","/",{"$error":"#N/A"}]
[null,null,null,{"$f":"VLOOKUP($C645,'SEI ISD'!$A$4:$B$124,2,0)","v":{"$error":"#N/A"}},null,null,null,null,1.645E-3,3.5608300000000001E-3,"","","/",{"$error":"#N/A"}]
[null,null,null,{"$f":"VLOOKUP($C646,'SEI ISD'!$A$4:$B$124,2,0)","v":{"$error":"#N/A"}},null,null,null,null,1.645E-3,3.5608300000000001E-3,"","","/",{"$error":"#N/A"}]
[null,null,null,{"$f":"VLOOKUP($C647,'SEI ISD'!$A$4:$B$124,2,0)","v":{"$error":"#N/A"}},null,null,null,null,1.645E-3,3.5608300000000001E-3,"","","/",{"$error":"#N/A"}]
[null,null,null,{"$f":"VLOOKUP($C648,'SEI ISD'!$A$4:$B$124,2,0)","v":{"$error":"#N/A"}},null,null,null,null,1.645E-3,3.5608300000000001E-3,"","","/",{"$error":"#N/A"}]
[null,null,null,{"$f":"VLOOKUP($C649,'SEI ISD'!$A$4:$B$124,2,0)","v":{"$error":"#N/A"}},null,null,null,null,1.645E-3,3.5608300000000001E-3,"","","/",{"$error":"#N/A"}]
[null,null,null,{"$f":"VLOOKUP($C650,'SEI ISD'!$A$4:$B$124,2,0)","v":{"$error":"#N/A"}},null,null,null,null,1.645E-3,3.5608300000000001E-3,"","","/",{"$error":"#N/A"}]
[null,null,null,{"$f":"VLOOKUP($C651,'SEI ISD'!$A$4:$B$124,2,0)","v":{"$error":"#N/A"}},null,null,null,null,1.645E-3,3.5608300000000001E-3,"","","/",{"$error":"#N/A"}]
[null,null,null,{"$f":"VLOOKUP($C652,'SEI ISD'!$A$4:$B$124,2,0)","v":{"$error":"#N/A"}},null,null,null,null,1.645E-3,3.5608300000000001E-3,"","","/",{"$error":"#N/A"}]
[null,null,null,{"$f":"VLOOKUP($C653,'SEI ISD'!$A$4:$B$124,2,0)","v":{"$error":"#N/A"}},null,null,null,null,1.645E-3,3.5608300000000001E-3,"","","/",{"$error":"#N/A"}]
[null,null,null,{"$f":"VLOOKUP($C654,'SEI ISD'!$A$4:$B$124,2,0)","v":{"$error":"#N/A"}},null,null,null,null,1.645E-3,3.5608300000000001E-3,"","","/",{"$error":"#N/A"}]
[null,null,null,{"$f":"VLOOKUP($C655,'SEI ISD'!$A$4:$B$124,2,0)","v":{"$error":"#N/A"}},null,null,null,null,1.645E-3,3.5608300000000001E-3,"","","/",{"$error":"#N/A"}]
[null,null,null,{"$f":"VLOOKUP($C656,'SEI ISD'!$A$4:$B$124,2,0)","v":{"$error":"#N/A"}},null,null,null,null,1.645E-3,3.5608300000000001E-3,"","","/",{"$error":"#N/A"}]
[null,null,null,{"$f":"VLOOKUP($C657,'SEI ISD'!$A$4:$B$124,2,0)","v":{"$error":"#N/A"}},null,null,null,null,1.645E-3,3.5608300000000001E-3,"","","/",{"$error":"#N/A"}]
[null,null,null,{"$f":"VLOOKUP($C658,'SEI ISD'!$A$4:$B$124,2,0)","v":{"$error":"#N/A"}},null,null,null,null,1.645E-3,3.5608300000000001E-3,"","","/",{"$error":"#N/A"}]
[null,null,null,{"$f":"VLOOKUP($C659,'SEI ISD'!$A$4:$B$124,2,0)","v":{"$error":"#N/A"}},null,null,null,null,1.645E-3,3.5608300000000001E-3,"","","/",{"$error":"#N/A"}]
[null,null,null,{"$f":"VLOOKUP($C660,'SEI ISD'!$A$4:$B$124,2,0)","v":{"$error":"#N/A"}},null,null,null,null,1.645E-3,3.5608300000000001E-3,"","","/",{"$error":"#N/A"}]
[null,null,null,{"$f":"VLOOKUP($C661,'SEI ISD'!$A$4:$B$124,2,0)","v":{"$error":"#N/A"}},null,null,null,null,1.645E-3,3.5608300000000001E-3,"","","/",{"$error":"#N/A"}]
[null,null,null,{"$f":"VLOOKUP($C662,'SEI ISD'!$A$4:$B$124,2,0)","v":{"$error":"#N/A"}},null,null,null,null,1.645E-3,3.5608300000000001E-3,"","","/",{"$error":"#N/A"}]
[null,null,null,{"$f":"VLOOKUP($C663,'SEI ISD'!$A$4:$B$124,2,0)","v":{"$error":"#N/A"}},null,null,null,null,1.645E-3,3.5608300000000001E-3,"","","/",{"$error":"#N/A"}]
[null,null,null,{"$f":"VLOOKUP($C664,'SEI ISD'!$A$4:$B$124,2,0)","v":{"$error":"#N/A"}},null,null,null,null,1.645E-3,3.5608300000000001E-3,"","","/",{"$error":"#N/A"}]
[null,null,null,{"$f":"VLOOKUP($C665,'SEI ISD'!$A$4:$B$124,2,0)","v":{"$error":"#N/A"}},null,null,null,null,1.645E-3,3.5608300000000001E-3,"","","/",{"$error":"#N/A"}]
[null,null,null,{"$f":"VLOOKUP($C666,'SEI ISD'!$A$4:$B$124,2,0)","v":{"$error":"#N/A"}},null,null,null,null,1.645E-3,3.5608300000000001E-3,"","","/",{"$error":"#N/A"}]
[null,null,null,{"$f":"VLOOKUP($C667,'SEI ISD'!$A$4:$B$124,2,0)","v":{"$error":"#N/A"}},null,null,null,null,1.645E-3,3.5608300000000001E-3,"","","/",{"$error":"#N/A"}]
[null,null,null,{"$f":"VLOOKUP($C668,'SEI ISD'!$A$4:$B$124,2,0)","v":{"$error":"#N/A"}},null,null,null,null,1.645E-3,3.5608300000000001E-3,"","","/",{"$error":"#N/A"}]
[null,null,null,{"$f":"VLOOKUP($C669,'SEI ISD'!$A$4:$B$124,2,0)","v":{"$error":"#N/A"}},null,null,null,null,1.645E-3,3.5608300000000001E-3,"","","/",{"$error":"#N/A"}]
[null,null,null,{"$f":"VLOOKUP($C670,'SEI ISD'!$A$4:$B$124,2,0)","v":{"$error":"#N/A"}},null,null,null,null,1.645E-3,3.5608300000000001E-3,"","","/",{"$error":"#N/A"}]
[null,null,null,{"$f":"VLOOKUP($C671,'SEI ISD'!$A$4:$B$124,2,0)","v":{"$error":"#N/A"}},null,null,null,null,1.645E-3,3.5608300000000001E-3,"","","/",{"$error":"#N/A"}]
[null,null,null,{"$f":"VLOOKUP($C672,'SEI ISD'!$A$4:$B$124,2,0)","v":{"$error":"#N/A"}},null,null,null,null,1.645E-3,3.5608300000000001E-3,"","","/",{"$error":"#N/A"}]
[null,null,null,{"$f":"VLOOKUP($C673,'SEI ISD'!$A$4:$B$124,2,0)","v":{"$error":"#N/A"}},null,null,null,null,1.645E-3,3.5608300000000001E-3,"","","/",{"$error":"#N/A"}]
[null,null,null,{"$f":"VLOOKUP($C674,'SEI ISD'!$A$4:$B$124,2,0)","v":{"$error":"#N/A"}},null,null,null,null,1.645E-3,3.5608300000000001E-3,"","","/",{"$error":"#N/A"}]
[null,null,null,{"$f":"VLOOKUP($C675,'SEI ISD'!$A$4:$B$124,2,0)","v":{"$error":"#N/A"}},null,null,null,null,1.645E-3,3.5608300000000001E-3,"","","/",{"$error":"#N/A"}]
[null,null,null,{"$f":"VLOOKUP($C676,'SEI ISD'!$A$4:$B$124,2,0)","v":{"$error":"#N/A"}},null,null,null,null,1.645E-3,3.5608300000000001E-3,"","","/",{"$error":"#N/A"}]
[null,null,null,{"$f":"VLOOKUP($C677,'SEI ISD'!$A$4:$B$124,2,0)","v":{"$error":"#N/A"}},null,null,null,null,1.645E-3,3.5608300000000001E-3,"","","/",{"$error":"#N/A"}]
[null,null,null,{"$f":"VLOOKUP($C678,'SEI ISD'!$A$4:$B$124,2,0)","v":{"$error":"#N/A"}},null,null,null,null,1.645E-3,3.5608300000000001E-3,"","","/",{"$error":"#N/A"}]
[null,null,null,{"$f":"VLOOKUP($C679,'SEI ISD'!$A$4:$B$124,2,0)","v":{"$error":"#N/A"}},null,null,null,null,1.645E-3,3.5608300000000001E-3,"","","/",{"$error":"#N/A"}]
[null,null,null,{"$f":"VLOOKUP($C680,'SEI ISD'!$A$4:$B$124,2,0)","v":{"$error":"#N/A"}},null,null,null,null,1.645E-3,3.5608300000000001E-3,"","","/",{"$error":"#N/A"}]
[null,null,null,{"$f":"VLOOKUP($C681,'SEI ISD'!$A$4:$B$124,2,0)","v":{"$error":"#N/A"}},null,null,null,null,1.645E-3,3.5608300000000001E-3,"","","/",{"$error":"#N/A"}]
[null,null,null,{"$f":"VLOOKUP($C682,'SEI ISD'!$A$4:$B$124,2,0)","v":{"$error":"#N/A"}},null,null,null,null,1.645E-3,3.5608300000000001E-3,"","","/",{"$error":"#N/A"}]
[null,null,null,{"$f":"VLOOKUP($C683,'SEI ISD'!$A$4:$B$124,2,0)","v":{"$error":"#N/A"}},null,null,null,null,1.645E-3,3.5608300000000001E-3,"","","/",{"$error":"#N/A"}]
[null,null,null,{"$f":"VLOOKUP($C684,'SEI ISD'!$A$4:$B$124,2,0)","v":{"$error":"#N/A"}},null,null,null,null,1.645E-3,3.5608300000000001E-3,"","","/",{"$error":"#N/A"}]
[null,null,null,{"$f":"VLOOKUP($C685,'SEI ISD'!$A$4:$B$124,2,0)","v":{"$error":"#N/A"}},null,null,null,null,1.645E-3,3.5608300000000001E-3,"","","/",{"$error":"#N/A"}]
[null,null,null,{"$f":"VLOOKUP($C686,'SEI ISD'!$A$4:$B$124,2,0)","v":{"$error":"#N/A"}},null,null,null,null,1.645E-3,3.5608300000000001E-3,"","","/",{"$error":"#N/A"}]
[null,null,null,{"$f":"VLOOKUP($C687,'SEI ISD'!$A$4:$B$124,2,0)","v":{"$error":"#N/A"}},null,null,null,null,1.645E-3,3.5608300000000001E-3,"","","/",{"$error":"#N/A"}]
[null,null,null,{"$f":"VLOOKUP($C688,'SEI ISD'!$A$4:$B$124,2,0)","v":{"$error":"#N/A"}},null,null,null,null,1.645E-3,3.5608300000000001E-3,"","","/",{"$error":"#N/A"}]
[null,null,null,{"$f":"VLOOKUP($C689,'SEI ISD'!$A$4:$B$124,2,0)","v":{"$error":"#N/A"}},null,null,null,null,1.645E-3,3.5608300000000001E-3,"","","/",{"$error":"#N/A"}]
[null,null,null,{"$f":"VLOOKUP($C690,'SEI ISD'!$A$4:$B$124,2,0)","v":{"$error":"#N/A"}},null,null,null,null,1.645E-3,3.5608300000000001E-3,"","","/",{"$error":"#N/A"}]
[null,null,null,{"$f":"VLOOKUP($C691,'SEI ISD'!$A$4:$B$124,2,0)","v":{"$error":"#N/A"}},null,null,null,null,1.645E-3,3.5608300000000001E-3,"","","/",{"$error":"#N/A"}]
[null,null,null,{"$f":"VLOOKUP($C692,'SEI ISD'!$A$4:$B$124,2,0)","v":{"$error":"#N/A"}},null,null,null,null,1.645E-3,3.5608300000000001E-3,"","","/",{"$error":"#N/A"}]
[null,null,null,{"$f":"VLOOKUP($C693,'SEI ISD'!$A$4:$B$124,2,0)","v":{"$error":"#N/A"}},null,null,null,null,1.645E-3,3.5608300000000001E-3,"","","/",{"$error":"#N/A"}]
[null,null,null,{"$f":"VLOOKUP($C694,'SEI ISD'!$A$4:$B$124,2,0)","v":{"$error":"#N/A"}},null,null,null,null,1.645E-3,3.5608300000000001E-3,"","","/",{"$error":"#N/A"}]
[null,null,null,{"$f":"VLOOKUP($C695,'SEI ISD'!$A$4:$B$124,2,0)","v":{"$error":"#N/A"}},null,null,null,null,1.645E-3,3.5608300000000001E-3,"","","/",{"$error":"#N/A"}]
[null,null,null,{"$f":"VLOOKUP($C696,'SEI ISD'!$A$4:$B$124,2,0)","v":{"$error":"#N/A"}},null,null,null,null,1.645E-3,3.5608300000000001E-3,"","","/",{"$error":"#N/A"}]
[null,null,null,{"$f":"VLOOKUP($C697,'SEI ISD'!$A$4:$B$124,2,0)","v":{"$error":"#N/A"}},null,null,null,null,1.645E-3,3.5608300000000001E-3,"","","/",{"$error":"#N/A"}]
[null,null,null,{"$f":"VLOOKUP($C698,'SEI ISD'!$A$4:$B$124,2,0)","v":{"$error":"#N/A"}},null,null,null,null,1.645E-3,3.5608300000000001E-3,"","","/",{"$error":"#N/A"}]
[null,null,null,{"$f":"VLOOKUP($C699,'SEI ISD'!$A$4:$B$124,2,0)","v":{"$error":"#N/A"}},null,null,null,null,1.645E-3,3.5608300000000001E-3,"","","/",{"$error":"#N/A"}]
[null,null,null,{"$f":"VLOOKUP($C700,'SEI ISD'!$A$4:$B$124,2,0)","v":{"$error":"#N/A"}},null,null,null,null,1.645E-3,3.5608300000000001E-3,"","","/",{"$error":"#N/A"}]
[null,null,null,{"$f":"VLOOKUP($C701,'SEI ISD'!$A$4:$B$124,2,0)","v":{"$error":"#N/A"}},null,null,null,null,1.645E-3,3.5608300000000001E-3,"","","/",{"$error":"#N/A"}]
[null,null,null,{"$f":"VLOOKUP($C702,'SEI ISD'!$A$4:$B$124,2,0)","v":{"$error":"#N/A"}},null,null,null,null,1.645E-3,3.5608300000000001E-3,"","","/",{"$error":"#N/A"}]
[null,null,null,{"$f":"VLOOKUP($C703,'SEI ISD'!$A$4:$B$124,2,0)","v":{"$error":"#N/A"}},null,null,null,null,1.645E-3,3.5608300000000001E-3,"","","/",{"$error":"#N/A"}]
[null,null,null,{"$f":"VLOOKUP($C704,'SEI ISD'!$A$4:$B$124,2,0)","v":{"$error":"#N/A"}},null,null,null,null,1.645E-3,3.5608300000000001E-3,"","","/",{"$error":"#N/A"}]
[null,null,null,{"$f":"VLOOKUP($C705,'SEI ISD'!$A$4:$B$124,2,0)","v":{"$error":"#N/A"}},null,null,null,null,1.645E-3,3.5608300000000001E-3,"","","/",{"$error":"#N/A"}]
[null,null,null,{"$f":"VLOOKUP($C706,'SEI ISD'!$A$4:$B$124,2,0)","v":{"$error":"#N/A"}},null,null,null,null,1.645E-3,3.5608300000000001E-3,"","","/",{"$error":"#N/A"}]
[null,null,null,{"$f":"VLOOKUP($C707,'SEI ISD'!$A$4:$B$124,2,0)","v":{"$error":"#N/A"}},null,null,null,null,1.645E-3,3.5608300000000001E-3,{"$f":"RIGHT(G707,2)","v":""},{"$f":"LEFT(G707,4)","v":""},{"$f":"_xlfn.CONCAT(K707,\"/\",L707)","v":"/"},{"$f":"EOMONTH(D707,0)","v":{"$error":"#N/A"}}]
[null,null,null,{"$f":"VLOOKUP($C708,'SEI ISD'!$A$4:$B$124,2,0)","v":{"$error":"#N/A"}},null,null,null,null,1.645E-3,3.5608300000000001E-3,"","","/",{"$error":"#N/A"}]
[null,null,null,{"$f":"VLOOKUP($C709,'SEI ISD'!$A$4:$B$124,2,0)","v":{"$error":"#N/A"}},null,null,null,null,1.645E-3,3.5608300000000001E-3,"","","/",{"$error":"#N/A"}]
[null,null,null,{"$f":"VLOOKUP($C710,'SEI ISD'!$A$4:$B$124,2,0)","v":{"$error":"#N/A"}},null,null,null,null,1.645E-3,3.5608300000000001E-3,"","","/",{"$error":"#N/A"}]
[null,null,null,{"$f":"VLOOKUP($C711,'SEI ISD'!$A$4:$B$124,2,0)","v":{"$error":"#N/A"}},null,null,null,null,1.645E-3,3.5608300000000001E-3,"","","/",{"$error":"#N/A"}]
[null,null,null,{"$f":"VLOOKUP($C712,'SEI ISD'!$A$4:$B$124,2,0)","v":{"$error":"#N/A"}},null,null,null,null,1.645E-3,3.5608300000000001E-3,"","","/",{"$error":"#N/A"}]
[null,null,null,{"$f":"VLOOKUP($C713,'SEI ISD'!$A$4:$B$124,2,0)","v":{"$error":"#N/A"}},null,null,null,null,1.645E-3,3.5608300000000001E-3,"","","/",{"$error":"#N/A"}]
[null,null,null,{"$f":"VLOOKUP($C714,'SEI ISD'!$A$4:$B$124,2,0)","v":{"$error":"#N/A"}},null,null,null,null,1.645E-3,3.5608300000000001E-3,"","","/",{"$error":"#N/A"}]
[null,null,null,{"$f":"VLOOKUP($C715,'SEI ISD'!$A$4:$B$124,2,0)","v":{"$error":"#N/A"}},null,null,null,null,1.645E-3,3.5608300000000001E-3,"","","/",{"$error":"#N/A"}]
[null,null,null,{"$f":"VLOOKUP($C716,'SEI ISD'!$A$4:$B$124,2,0)","v":{"$error":"#N/A"}},null,null,null,null,1.645E-3,3.5608300000000001E-3,"","","/",{"$error":"#N/A"}]
[null,null,null,{"$f":"VLOOKUP($C717,'SEI ISD'!$A$4:$B$124,2,0)","v":{"$error":"#N/A"}},null,null,null,null,1.645E-3,3.5608300000000001E-3,"","","/",{"$error":"#N/A"}]
[null,null,null,{"$f":"VLOOKUP($C718,'SEI ISD'!$A$4:$B$124,2,0)","v":{"$error":"#N/A"}},null,null,null,null,1.645E-3,3.5608300000000001E-3,"","","/",{"$error":"#N/A"}]
[null,null,null,{"$f":"VLOOKUP($C719,'SEI ISD'!$A$4:$B$124,2,0)","v":{"$error":"#N/A"}},null,null,null,null,1.645E-3,3.5608300000000001E-3,"","","/",{"$error":"#N/A"}]
[null,null,null,{"$f":"VLOOKUP($C720,'SEI ISD'!$A$4:$B$124,2,0)","v":{"$error":"#N/A"}},null,null,null,null,1.645E-3,3.5608300000000001E-3,"","","/",{"$error":"#N/A"}]
[null,null,null,{"$f":"VLOOKUP($C721,'SEI ISD'!$A$4:$B$124,2,0)","v":{"$error":"#N/A"}},null,null,null,null,1.645E-3,3.5608300000000001E-3,"","","/",{"$error":"#N/A"}]
[null,null,null,{"$f":"VLOOKUP($C722,'SEI ISD'!$A$4:$B$124,2,0)","v":{"$error":"#N/A"}},null,null,null,null,1.645E-3,3.5608300000000001E-3,"","","/",{"$error":"#N/A"}]
[null,null,null,{"$f":"VLOOKUP($C723,'SEI ISD'!$A$4:$B$124,2,0)","v":{"$error":"#N/A"}},null,null,null,null,1.645E-3,3.5608300000000001E-3,"","","/",{"$error":"#N/A"}]
[null,null,null,{"$f":"VLOOKUP($C724,'SEI ISD'!$A$4:$B$124,2,0)","v":{"$error":"#N/A"}},null,null,null,null,1.645E-3,3.5608300000000001E-3,"","","/",{"$error":"#N/A"}]
[null,null,null,{"$f":"VLOOKUP($C725,'SEI ISD'!$A$4:$B$124,2,0)","v":{"$error":"#N/A"}},null,null,null,null,1.645E-3,3.5608300000000001E-3,"","","/",{"$error":"#N/A"}]
[null,null,null,{"$f":"VLOOKUP($C726,'SEI ISD'!$A$4:$B$124,2,0)","v":{"$error":"#N/A"}},null,null,null,null,1.645E-3,3.5608300000000001E-3,"","","/",{"$error":"#N/A"}]
[null,null,null,{"$f":"VLOOKUP($C727,'SEI ISD'!$A$4:$B$124,2,0)","v":{"$error":"#N/A"}},null,null,null,null,1.645E-3,3.5608300000000001E-3,"","","/",{"$error":"#N/A"}]
[null,null,null,{"$f":"VLOOKUP($C728,'SEI ISD'!$A$4:$B$124,2,0)","v":{"$error":"#N/A"}},null,null,null,null,1.645E-3,3.5608300000000001E-3,"","","/",{"$error":"#N/A"}]
[null,null,null,{"$f":"VLOOKUP($C729,'SEI ISD'!$A$4:$B$124,2,0)","v":{"$error":"#N/A"}},null,null,null,null,1.645E-3,3.5608300000000001E-3,"","","/",{"$error":"#N/A"}]
[null,null,null,{"$f":"VLOOKUP($C730,'SEI ISD'!$A$4:$B$124,2,0)","v":{"$error":"#N/A"}},null,null,null,null,1.645E-3,3.5608300000000001E-3,"","","/",{"$error":"#N/A"}]
[null,null,null,{"$f":"VLOOKUP($C731,'SEI ISD'!$A$4:$B$124,2,0)","v":{"$error":"#N/A"}},null,null,null,null,1.645E-3,3.5608300000000001E-3,"","","/",{"$error":"#N/A"}]
[null,null,null,{"$f":"VLOOKUP($C732,'SEI ISD'!$A$4:$B$124,2,0)","v":{"$error":"#N/A"}},null,null,null,null,1.645E-3,3.5608300000000001E-3,"","","/",{"$error":"#N/A"}]
[null,null,null,{"$f":"VLOOKUP($C733,'SEI ISD'!$A$4:$B$124,2,0)","v":{"$error":"#N/A"}},null,null,null,null,1.645E-3,3.5608300000000001E-3,"","","/",{"$error":"#N/A"}]
[null,null,null,{"$f":"VLOOKUP($C734,'SEI ISD'!$A$4:$B$124,2,0)","v":{"$error":"#N/A"}},null,null,null,null,1.645E-3,3.5608300000000001E-3,"","","/",{"$error":"#N/A"}]
[null,null,null,{"$f":"VLOOKUP($C735,'SEI ISD'!$A$4:$B$124,2,0)","v":{"$error":"#N/A"}},null,null,null,null,1.645E-3,3.5608300000000001E-3,"","","/",{"$error":"#N/A"}]
[null,null,null,{"$f":"VLOOKUP($C736,'SEI ISD'!$A$4:$B$124,2,0)","v":{"$error":"#N/A"}},null,null,null,null,1.645E-3,3.5608300000000001E-3,"","","/",{"$error":"#N/A"}]
[null,null,null,{"$f":"VLOOKUP($C737,'SEI ISD'!$A$4:$B$124,2,0)","v":{"$error":"#N/A"}},null,null,null,null,1.645E-3,3.5608300000000001E-3,"","","/",{"$error":"#N/A"}]
[null,null,null,{"$f":"VLOOKUP($C738,'SEI ISD'!$A$4:$B$124,2,0)","v":{"$error":"#N/A"}},null,null,null,null,1.645E-3,3.5608300000000001E-3,"","","/",{"$error":"#N/A"}]
[null,null,null,{"$f":"VLOOKUP($C739,'SEI ISD'!$A$4:$B$124,2,0)","v":{"$error":"#N/A"}},null,null,null,null,1.645E-3,3.5608300000000001E-3,"","","/",{"$error":"#N/A"}]
[null,null,null,{"$f":"VLOOKUP($C740,'SEI ISD'!$A$4:$B$124,2,0)","v":{"$error":"#N/A"}},null,null,null,null,1.645E-3,3.5608300000000001E-3,"","","/",{"$error":"#N/A"}]
[null,null,null,{"$f":"VLOOKUP($C741,'SEI ISD'!$A$4:$B$124,2,0)","v":{"$error":"#N/A"}},null,null,null,null,1.645E-3,3.5608300000000001E-3,"","","/",{"$error":"#N/A"}]
[null,null,null,{"$f":"VLOOKUP($C742,'SEI ISD'!$A$4:$B$124,2,0)","v":{"$error":"#N/A"}},null,null,null,null,1.645E-3,3.5608300000000001E-3,"","","/",{"$error":"#N/A"}]
[null,null,null,{"$f":"VLOOKUP($C743,'SEI ISD'!$A$4:$B$124,2,0)","v":{"$error":"#N/A"}},null,null,null,null,1.645E-3,3.5608300000000001E-3,"","","/",{"$error":"#N/A"}]
[null,null,null,{"$f":"VLOOKUP($C744,'SEI ISD'!$A$4:$B$124,2,0)","v":{"$error":"#N/A"}},null,null,null,null,1.645E-3,3.5608300000000001E-3,"","","/",{"$error":"#N/A"}]
[null,null,null,{"$f":"VLOOKUP($C745,'SEI ISD'!$A$4:$B$124,2,0)","v":{"$error":"#N/A"}},null,null,null,null,1.645E-3,3.5608300000000001E-3,"","","/",{"$error":"#N/A"}]
[null,null,null,{"$f":"VLOOKUP($C746,'SEI ISD'!$A$4:$B$124,2,0)","v":{"$error":"#N/A"}},null,null,null,null,1.645E-3,3.5608300000000001E-3,"","","/",{"$error":"#N/A"}]
[null,null,null,{"$f":"VLOOKUP($C747,'SEI ISD'!$A$4:$B$124,2,0)","v":{"$error":"#N/A"}},null,null,null,null,1.645E-3,3.5608300000000001E-3,"","","/",{"$error":"#N/A"}]
[null,null,null,{"$f":"VLOOKUP($C748,'SEI ISD'!$A$4:$B$124,2,0)","v":{"$error":"#N/A"}},null,null,null,null,1.645E-3,3.5608300000000001E-3,"","","/",{"$error":"#N/A"}]
[null,null,null,{"$f":"VLOOKUP($C749,'SEI ISD'!$A$4:$B$124,2,0)","v":{"$error":"#N/A"}},null,null,null,null,1.645E-3,3.5608300000000001E-3,"","","/",{"$error":"#N/A"}]
[null,null,null,{"$f":"VLOOKUP($C750,'SEI ISD'!$A$4:$B$124,2,0)","v":{"$error":"#N/A"}},null,null,null,null,1.645E-3,3.5608300000000001E-3,"","","/",{"$error":"#N/A"}]
[null,null,null,{"$f":"VLOOKUP($C751,'SEI ISD'!$A$4:$B$124,2,0)","v":{"$error":"#N/A"}},null,null,null,null,1.645E-3,3.5608300000000001E-3,"","","/",{"$error":"#N/A"}]
[null,null,null,{"$f":"VLOOKUP($C752,'SEI ISD'!$A$4:$B$124,2,0)","v":{"$error":"#N/A"}},null,null,null,null,1.645E-3,3.5608300000000001E-3,"","","/",{"$error":"#N/A"}]
[null,null,null,{"$f":"VLOOKUP($C753,'SEI ISD'!$A$4:$B$124,2,0)","v":{"$error":"#N/A"}},null,null,null,null,1.645E-3,3.5608300000000001E-3,"","","/",{"$error":"#N/A"}]
[null,null,null,{"$f":"VLOOKUP($C754,'SEI ISD'!$A$4:$B$124,2,0)","v":{"$error":"#N/A"}},null,null,null,null,1.645E-3,3.5608300000000001E-3,"","","/",{"$error":"#N/A"}]
[null,null,null,{"$f":"VLOOKUP($C755,'SEI ISD'!$A$4:$B$124,2,0)","v":{"$error":"#N/A"}},null,null,null,null,1.645E-3,3.5608300000000001E-3,"","","/",{"$error":"#N/A"}]
[null,null,null,{"$f":"VLOOKUP($C756,'SEI ISD'!$A$4:$B$124,2,0)","v":{"$error":"#N/A"}},null,null,null,null,1.645E-3,3.5608300000000001E-3,"","","/",{"$error":"#N/A"}]
[null,null,null,{"$f":"VLOOKUP($C757,'SEI ISD'!$A$4:$B$124,2,0)","v":{"$error":"#N/A"}},null,null,null,null,1.645E-3,3.5608300000000001E-3,"","","/",{"$error":"#N/A"}]
[null,null,null,{"$f":"VLOOKUP($C758,'SEI ISD'!$A$4:$B$124,2,0)","v":{"$error":"#N/A"}},null,null,null,null,1.645E-3,3.5608300000000001E-3,"","","/",{"$error":"#N/A"}]
[null,null,null,{"$f":"VLOOKUP($C759,'SEI ISD'!$A$4:$B$124,2,0)","v":{"$error":"#N/A"}},null,null,null,null,1.645E-3,3.5608300000000001E-3,"","","/",{"$error":"#N/A"}]
[null,null,null,{"$f":"VLOOKUP($C760,'SEI ISD'!$A$4:$B$124,2,0)","v":{"$error":"#N/A"}},null,null,null,null,1.645E-3,3.5608300000000001E-3,"","","/",{"$error":"#N/A"}]
[null,null,null,{"$f":"VLOOKUP($C761,'SEI ISD'!$A$4:$B$124,2,0)","v":{"$error":"#N/A"}},null,null,null,null,1.645E-3,3.5608300000000001E-3,"","","/",{"$error":"#N/A"}]
[null,null,null,{"$f":"VLOOKUP($C762,'SEI ISD'!$A$4:$B$124,2,0)","v":{"$error":"#N/A"}},null,null,null,null,1.645E-3,3.5608300000000001E-3,"","","/",{"$error":"#N/A"}]
[null,null,null,{"$f":"VLOOKUP($C763,'SEI ISD'!$A$4:$B$124,2,0)","v":{"$error":"#N/A"}},null,null,null,null,1.645E-3,3.5608300000000001E-3,"","","/",{"$error":"#N/A"}]
[null,null,null,{"$f":"VLOOKUP($C764,'SEI ISD'!$A$4:$B$124,2,0)","v":{"$error":"#N/A"}},null,null,null,null,1.645E-3,3.5608300000000001E-3,"","","/",{"$error":"#N/A"}]
[null,null,null,{"$f":"VLOOKUP($C765,'SEI ISD'!$A$4:$B$124,2,0)","v":{"$error":"#N/A"}},null,null,null,null,1.645E-3,3.5608300000000001E-3,"","","/",{"$error":"#N/A"}]
[null,null,null,{"$f":"VLOOKUP($C766,'SEI ISD'!$A$4:$B$124,2,0)","v":{"$error":"#N/A"}},null,null,null,null,1.645E-3,3.5608300000000001E-3,"","","/",{"$error":"#N/A"}]
[null,null,null,{"$f":"VLOOKUP($C767,'SEI ISD'!$A$4:$B$124,2,0)","v":{"$error":"#N/A"}},null,null,null,null,1.645E-3,3.5608300000000001E-3,"","","/",{"$error":"#N/A"}]
[null,null,null,{"$f":"VLOOKUP($C768,'SEI ISD'!$A$4:$B$124,2,0)","v":{"$error":"#N/A"}},null,null,null,null,1.645E-3,3.5608300000000001E-3,"","","/",{"$error":"#N/A"}]
[null,null,null,{"$f":"VLOOKUP($C769,'SEI ISD'!$A$4:$B$124,2,0)","v":{"$error":"#N/A"}},null,null,null,null,1.645E-3,3.5608300000000001E-3,"","","/",{"$error":"#N/A"}]
[null,null,null,{"$f":"VLOOKUP($C770,'SEI ISD'!$A$4:$B$124,2,0)","v":{"$error":"#N/A"}},null,null,null,null,1.645E-3,3.5608300000000001E-3,"","","/",{"$error":"#N/A"}]
[null,null,null,{"$f":"VLOOKUP($C771,'SEI ISD'!$A$4:$B$124,2,0)","v":{"$error":"#N/A"}},null,null,null,null,1.645E-3,3.5608300000000001E-3,{"$f":"RIGHT(G771,2)","v":""},{"$f":"LEFT(G771,4)","v":""},{"$f":"_xlfn.CONCAT(K771,\"/\",L771)","v":"/"},{"$f":"EOMONTH(D771,0)","v":{"$error":"#N/A"}}]
[null,null,null,{"$f":"VLOOKUP($C772,'SEI ISD'!$A$4:$B$124,2,0)","v":{"$error":"#N/A"}},null,null,null,null,1.645E-3,3.5608300000000001E-3,"","","/",{"$error":"#N/A"}]
[null,null,null,{"$f":"VLOOKUP($C773,'SEI ISD'!$A$4:$B$124,2,0)","v":{"$error":"#N/A"}},null,null,null,null,1.645E-3,3.5608300000000001E-3,"","","/",{"$error":"#N/A"}]
[null,null,null,{"$f":"VLOOKUP($C774,'SEI ISD'!$A$4:$B$124,2,0)","v":{"$error":"#N/A"}},null,null,null,null,1.645E-3,3.5608300000000001E-3,"","","/",{"$error":"#N/A"}]
[null,null,null,{"$f":"VLOOKUP($C775,'SEI ISD'!$A$4:$B$124,2,0)","v":{"$error":"#N/A"}},null,null,null,null,1.645E-3,3.5608300000000001E-3,"","","/",{"$error":"#N/A"}]
[null,null,null,{"$f":"VLOOKUP($C776,'SEI ISD'!$A$4:$B$124,2,0)","v":{"$error":"#N/A"}},null,null,null,null,1.645E-3,3.5608300000000001E-3,"","","/",{"$error":"#N/A"}]
[null,null,null,{"$f":"VLOOKUP($C777,'SEI ISD'!$A$4:$B$124,2,0)","v":{"$error":"#N/A"}},null,null,null,null,1.645E-3,3.5608300000000001E-3,"","","/",{"$error":"#N/A"}]
[null,null,null,{"$f":"VLOOKUP($C778,'SEI ISD'!$A$4:$B$124,2,0)","v":{"$error":"#N/A"}},null,null,null,null,1.645E-3,3.5608300000000001E-3,"","","/",{"$error":"#N/A"}]
[null,null,null,{"$f":"VLOOKUP($C779,'SEI ISD'!$A$4:$B$124,2,0)","v":{"$error":"#N/A"}},null,null,null,null,1.645E-3,3.5608300000000001E-3,"","","/",{"$error":"#N/A"}]
[null,null,null,{"$f":"VLOOKUP($C780,'SEI ISD'!$A$4:$B$124,2,0)","v":{"$error":"#N/A"}},null,null,null,null,1.645E-3,3.5608300000000001E-3,"","","/",{"$error":"#N/A"}]
[null,null,null,{"$f":"VLOOKUP($C781,'SEI ISD'!$A$4:$B$124,2,0)","v":{"$error":"#N/A"}},null,null,null,null,1.645E-3,3.5608300000000001E-3,"","","/",{"$error":"#N/A"}]
[null,null,null,{"$f":"VLOOKUP($C782,'SEI ISD'!$A$4:$B$124,2,0)","v":{"$error":"#N/A"}},null,null,null,null,1.645E-3,3.5608300000000001E-3,"","","/",{"$error":"#N/A"}]
[null,null,null,{"$f":"VLOOKUP($C783,'SEI ISD'!$A$4:$B$124,2,0)","v":{"$error":"#N/A"}},null,null,null,null,1.645E-3,3.5608300000000001E-3,"","","/",{"$error":"#N/A"}]
[null,null,null,{"$f":"VLOOKUP($C784,'SEI ISD'!$A$4:$B$124,2,0)","v":{"$error":"#N/A"}},null,null,null,null,1.645E-3,3.5608300000000001E-3,"","","/",{"$error":"#N/A"}]
[null,null,null,{"$f":"VLOOKUP($C785,'SEI ISD'!$A$4:$B$124,2,0)","v":{"$error":"#N/A"}},null,null,null,null,1.645E-3,3.5608300000000001E-3,"","","/",{"$error":"#N/A"}]
[null,null,null,{"$f":"VLOOKUP($C786,'SEI ISD'!$A$4:$B$124,2,0)","v":{"$error":"#N/A"}},null,null,null,null,1.645E-3,3.5608300000000001E-3,"","","/",{"$error":"#N/A"}]
[null,null,null,{"$f":"VLOOKUP($C787,'SEI ISD'!$A$4:$B$124,2,0)","v":{"$error":"#N/A"}},null,null,null,null,1.645E-3,3.5608300000000001E-3,"","","/",{"$error":"#N/A"}]
[null,null,null,{"$f":"VLOOKUP($C788,'SEI ISD'!$A$4:$B$124,2,0)","v":{"$error":"#N/A"}},null,null,null,null,1.645E-3,3.5608300000000001E-3,"","","/",{"$error":"#N/A"}]
[null,null,null,{"$f":"VLOOKUP($C789,'SEI ISD'!$A$4:$B$124,2,0)","v":{"$error":"#N/A"}},null,null,null,null,1.645E-3,3.5608300000000001E-3,"","","/",{"$error":"#N/A"}]
[null,null,null,{"$f":"VLOOKUP($C790,'SEI ISD'!$A$4:$B$124,2,0)","v":{"$error":"#N/A"}},null,null,null,null,1.645E-3,3.5608300000000001E-3,"","","/",{"$error":"#N/A"}]
[null,null,null,{"$f":"VLOOKUP($C791,'SEI ISD'!$A$4:$B$124,2,0)","v":{"$error":"#N/A"}},null,null,null,null,1.645E-3,3.5608300000000001E-3,"","","/",{"$error":"#N/A"}]
[null,null,null,{"$f":"VLOOKUP($C792,'SEI ISD'!$A$4:$B$124,2,0)","v":{"$error":"#N/A"}},null,null,null,null,1.645E-3,3.5608300000000001E-3,"","","/",{"$error":"#N/A"}]
[null,null,null,{"$f":"VLOOKUP($C793,'SEI ISD'!$A$4:$B$124,2,0)","v":{"$error":"#N/A"}},null,null,null,null,1.645E-3,3.5608300000000001E-3,"","","/",{"$error":"#N/A"}]
[null,null,null,{"$f":"VLOOKUP($C794,'SEI ISD'!$A$4:$B$124,2,0)","v":{"$error":"#N/A"}},null,null,null,null,1.645E-3,3.5608300000000001E-3,"","","/",{"$error":"#N/A"}]
[null,null,null,{"$f":"VLOOKUP($C795,'SEI ISD'!$A$4:$B$124,2,0)","v":{"$error":"#N/A"}},null,null,null,null,1.645E-3,3.5608300000000001E-3,"","","/",{"$error":"#N/A"}]
[null,null,null,{"$f":"VLOOKUP($C796,'SEI ISD'!$A$4:$B$124,2,0)","v":{"$error":"#N/A"}},null,null,null,null,1.645E-3,3.5608300000000001E-3,"","","/",{"$error":"#N/A"}]
[null,null,null,{"$f":"VLOOKUP($C797,'SEI ISD'!$A$4:$B$124,2,0)","v":{"$error":"#N/A"}},null,null,null,null,1.645E-3,3.5608300000000001E-3,"","","/",{"$error":"#N/A"}]
[null,null,null,{"$f":"VLOOKUP($C798,'SEI ISD'!$A$4:$B$124,2,0)","v":{"$error":"#N/A"}},null,null,null,null,1.645E-3,3.5608300000000001E-3,"","","/",{"$error":"#N/A"}]
[null,null,null,{"$f":"VLOOKUP($C799,'SEI ISD'!$A$4:$B$124,2,0)","v":{"$error":"#N/A"}},null,null,null,null,1.645E-3,3.5608300000000001E-3,"","","/",{"$error":"#N/A"}]
[null,null,null,{"$f":"VLOOKUP($C800,'SEI ISD'!$A$4:$B$124,2,0)","v":{"$error":"#N/A"}},null,null,null,null,1.645E-3,3.5608300000000001E-3,"","","/",{"$error":"#N/A"}]
[null,null,null,{"$f":"VLOOKUP($C801,'SEI ISD'!$A$4:$B$124,2,0)","v":{"$error":"#N/A"}},null,null,null,null,1.645E-3,3.5608300000000001E-3,"","","/",{"$error":"#N/A"}]
[null,null,null,{"$f":"VLOOKUP($C802,'SEI ISD'!$A$4:$B$124,2,0)","v":{"$error":"#N/A"}},null,null,null,null,1.645E-3,3.5608300000000001E-3,"","","/",{"$error":"#N/A"}]
[null,null,null,{"$f":"VLOOKUP($C803,'SEI ISD'!$A$4:$B$124,2,0)","v":{"$error":"#N/A"}},null,null,null,null,1.645E-3,3.5608300000000001E-3,"","","/",{"$error":"#N/A"}]
[null,null,null,{"$f":"VLOOKUP($C804,'SEI ISD'!$A$4:$B$124,2,0)","v":{"$error":"#N/A"}},null,null,null,null,1.645E-3,3.5608300000000001E-3,"","","/",{"$error":"#N/A"}]
[null,null,null,{"$f":"VLOOKUP($C805,'SEI ISD'!$A$4:$B$124,2,0)","v":{"$error":"#N/A"}},null,null,null,null,1.645E-3,3.5608300000000001E-3,"","","/",{"$error":"#N/A"}]
[null,null,null,{"$f":"VLOOKUP($C806,'SEI ISD'!$A$4:$B$124,2,0)","v":{"$error":"#N/A"}},null,null,null,null,1.645E-3,3.5608300000000001E-3,"","","/",{"$error":"#N/A"}]
[null,null,null,{"$f":"VLOOKUP($C807,'SEI ISD'!$A$4:$B$124,2,0)","v":{"$error":"#N/A"}},null,null,null,null,1.645E-3,3.5608300000000001E-3,"","","/",{"$error":"#N/A"}]
[null,null,null,{"$f":"VLOOKUP($C808,'SEI ISD'!$A$4:$B$124,2,0)","v":{"$error":"#N/A"}},null,null,null,null,1.645E-3,3.5608300000000001E-3,"","","/",{"$error":"#N/A"}]
[null,null,null,{"$f":"VLOOKUP($C809,'SEI ISD'!$A$4:$B$124,2,0)","v":{"$error":"#N/A"}},null,null,null,null,1.645E-3,3.5608300000000001E-3,"","","/",{"$error":"#N/A"}]
[null,null,null,{"$f":"VLOOKUP($C810,'SEI ISD'!$A$4:$B$124,2,0)","v":{"$error":"#N/A"}},null,null,null,null,1.645E-3,3.5608300000000001E-3,"","","/",{"$error":"#N/A"}]
[null,null,null,{"$f":"VLOOKUP($C811,'SEI ISD'!$A$4:$B$124,2,0)","v":{"$error":"#N/A"}},null,null,null,null,1.645E-3,3.5608300000000001E-3,"","","/",{"$error":"#N/A"}]
[null,null,null,{"$f":"VLOOKUP($C812,'SEI ISD'!$A$4:$B$124,2,0)","v":{"$error":"#N/A"}},null,null,null,null,1.645E-3,3.5608300000000001E-3,"","","/",{"$error":"#N/A"}]
[null,null,null,{"$f":"VLOOKUP($C813,'SEI ISD'!$A$4:$B$124,2,0)","v":{"$error":"#N/A"}},null,null,null,null,1.645E-3,3.5608300000000001E-3,"","","/",{"$error":"#N/A"}]
[null,null,null,{"$f":"VLOOKUP($C814,'SEI ISD'!$A$4:$B$124,2,0)","v":{"$error":"#N/A"}},null,null,null,null,1.645E-3,3.5608300000000001E-3,"","","/",{"$error":"#N/A"}]
[null,null,null,{"$f":"VLOOKUP($C815,'SEI ISD'!$A$4:$B$124,2,0)","v":{"$error":"#N/A"}},null,null,null,null,1.645E-3,3.5608300000000001E-3,"","","/",{"$error":"#N/A"}]
[null,null,null,{"$f":"VLOOKUP($C816,'SEI ISD'!$A$4:$B$124,2,0)","v":{"$error":"#N/A"}},null,null,null,null,1.645E-3,3.5608300000000001E-3,"","","/",{"$error":"#N/A"}]
[null,null,null,{"$f":"VLOOKUP($C817,'SEI ISD'!$A$4:$B$124,2,0)","v":{"$error":"#N/A"}},null,null,null,null,1.645E-3,3.5608300000000001E-3,"","","/",{"$error":"#N/A"}]
[null,null,null,{"$f":"VLOOKUP($C818,'SEI ISD'!$A$4:$B$124,2,0)","v":{"$error":"#N/A"}},null,null,null,null,1.645E-3,3.5608300000000001E-3,"","","/",{"$error":"#N/A"}]
[null,null,null,{"$f":"VLOOKUP($C819,'SEI ISD'!$A$4:$B$124,2,0)","v":{"$error":"#N/A"}},null,null,null,null,1.645E-3,3.5608300000000001E-3,"","","/",{"$error":"#N/A"}]
[null,null,null,{"$f":"VLOOKUP($C820,'SEI ISD'!$A$4:$B$124,2,0)","v":{"$error":"#N/A"}},null,null,null,null,1.645E-3,3.5608300000000001E-3,"","","/",{"$error":"#N/A"}]
[null,null,null,{"$f":"VLOOKUP($C821,'SEI ISD'!$A$4:$B$124,2,0)","v":{"$error":"#N/A"}},null,null,null,null,1.645E-3,3.5608300000000001E-3,"","","/",{"$error":"#N/A"}]
[null,null,null,{"$f":"VLOOKUP($C822,'SEI ISD'!$A$4:$B$124,2,0)","v":{"$error":"#N/A"}},null,null,null,null,1.645E-3,3.5608300000000001E-3,"","","/",{"$error":"#N/A"}]
[null,null,null,{"$f":"VLOOKUP($C823,'SEI ISD'!$A$4:$B$124,2,0)","v":{"$error":"#N/A"}},null,null,null,null,1.645E-3,3.5608300000000001E-3,"","","/",{"$error":"#N/A"}]
[null,null,null,{"$f":"VLOOKUP($C824,'SEI ISD'!$A$4:$B$124,2,0)","v":{"$error":"#N/A"}},null,null,null,null,1.645E-3,3.5608300000000001E-3,"","","/",{"$error":"#N/A"}]
[null,null,null,{"$f":"VLOOKUP($C825,'SEI ISD'!$A$4:$B$124,2,0)","v":{"$error":"#N/A"}},null,null,null,null,1.645E-3,3.5608300000000001E-3,"","","/",{"$error":"#N/A"}]
[null,null,null,{"$f":"VLOOKUP($C826,'SEI ISD'!$A$4:$B$124,2,0)","v":{"$error":"#N/A"}},null,null,null,null,1.645E-3,3.5608300000000001E-3,"","","/",{"$error":"#N/A"}]
[null,null,null,{"$f":"VLOOKUP($C827,'SEI ISD'!$A$4:$B$124,2,0)","v":{"$error":"#N/A"}},null,null,null,null,1.645E-3,3.5608300000000001E-3,"","","/",{"$error":"#N/A"}]
[null,null,null,{"$f":"VLOOKUP($C828,'SEI ISD'!$A$4:$B$124,2,0)","v":{"$error":"#N/A"}},null,null,null,null,1.645E-3,3.5608300000000001E-3,"","","/",{"$error":"#N/A"}]
[null,null,null,{"$f":"VLOOKUP($C829,'SEI ISD'!$A$4:$B$124,2,0)","v":{"$error":"#N/A"}},null,null,null,null,1.645E-3,3.5608300000000001E-3,"","","/",{"$error":"#N/A"}]
[null,null,null,{"$f":"VLOOKUP($C830,'SEI ISD'!$A$4:$B$124,2,0)","v":{"$error":"#N/A"}},null,null,null,null,1.645E-3,3.5608300000000001E-3,"","","/",{"$error":"#N/A"}]
[null,null,null,{"$f":"VLOOKUP($C831,'SEI ISD'!$A$4:$B$124,2,0)","v":{"$error":"#N/A"}},null,null,null,null,1.645E-3,3.5608300000000001E-3,"","","/",{"$error":"#N/A"}]
[null,null,null,{"$f":"VLOOKUP($C832,'SEI ISD'!$A$4:$B$124,2,0)","v":{"$error":"#N/A"}},null,null,null,null,1.645E-3,3.5608300000000001E-3,"","","/",{"$error":"#N/A"}]
[null,null,null,{"$f":"VLOOKUP($C833,'SEI ISD'!$A$4:$B$124,2,0)","v":{"$error":"#N/A"}},null,null,null,null,1.645E-3,3.5608300000000001E-3,"","","/",{"$error":"#N/A"}]
[null,null,null,{"$f":"VLOOKUP($C834,'SEI ISD'!$A$4:$B$124,2,0)","v":{"$error":"#N/A"}},null,null,null,null,1.645E-3,3.5608300000000001E-3,"","","/",{"$error":"#N/A"}]
[null,null,null,{"$f":"VLOOKUP($C835,'SEI ISD'!$A$4:$B$124,2,0)","v":{"$error":"#N/A"}},null,null,null,null,1.645E-3,3.5608300000000001E-3,{"$f":"RIGHT(G835,2)","v":""},{"$f":"LEFT(G835,4)","v":""},{"$f":"_xlfn.CONCAT(K835,\"/\",L835)","v":"/"},{"$f":"EOMONTH(D835,0)","v":{"$error":"#N/A"}}]
[null,null,null,{"$f":"VLOOKUP($C836,'SEI ISD'!$A$4:$B$124,2,0)","v":{"$error":"#N/A"}},null,null,null,null,1.645E-3,3.5608300000000001E-3,"","","/",{"$error":"#N/A"}]
[null,null,null,{"$f":"VLOOKUP($C837,'SEI ISD'!$A$4:$B$124,2,0)","v":{"$error":"#N/A"}},null,null,null,null,1.645E-3,3.5608300000000001E-3,"","","/",{"$error":"#N/A"}]
[null,null,null,{"$f":"VLOOKUP($C838,'SEI ISD'!$A$4:$B$124,2,0)","v":{"$error":"#N/A"}},null,null,null,null,1.645E-3,3.5608300000000001E-3,"","","/",{"$error":"#N/A"}]
[null,null,null,{"$f":"VLOOKUP($C839,'SEI ISD'!$A$4:$B$124,2,0)","v":{"$error":"#N/A"}},null,null,null,null,1.645E-3,3.5608300000000001E-3,"","","/",{"$error":"#N/A"}]
[null,null,null,{"$f":"VLOOKUP($C840,'SEI ISD'!$A$4:$B$124,2,0)","v":{"$error":"#N/A"}},null,null,null,null,1.645E-3,3.5608300000000001E-3,"","","/",{"$error":"#N/A"}]
[null,null,null,{"$f":"VLOOKUP($C841,'SEI ISD'!$A$4:$B$124,2,0)","v":{"$error":"#N/A"}},null,null,null,null,1.645E-3,3.5608300000000001E-3,"","","/",{"$error":"#N/A"}]
[null,null,null,{"$f":"VLOOKUP($C842,'SEI ISD'!$A$4:$B$124,2,0)","v":{"$error":"#N/A"}},null,null,null,null,1.645E-3,3.5608300000000001E-3,"","","/",{"$error":"#N/A"}]
[null,null,null,{"$f":"VLOOKUP($C843,'SEI ISD'!$A$4:$B$124,2,0)","v":{"$error":"#N/A"}},null,null,null,null,1.645E-3,3.5608300000000001E-3,"","","/",{"$error":"#N/A"}]
[null,null,null,{"$f":"VLOOKUP($C844,'SEI ISD'!$A$4:$B$124,2,0)","v":{"$error":"#N/A"}},null,null,null,null,1.645E-3,3.5608300000000001E-3,"","","/",{"$error":"#N/A"}]
[null,null,null,{"$f":"VLOOKUP($C845,'SEI ISD'!$A$4:$B$124,2,0)","v":{"$error":"#N/A"}},null,null,null,null,1.645E-3,3.5608300000000001E-3,"","","/",{"$error":"#N/A"}]
[null,null,null,{"$f":"VLOOKUP($C846,'SEI ISD'!$A$4:$B$124,2,0)","v":{"$error":"#N/A"}},null,null,null,null,1.645E-3,3.5608300000000001E-3,"","","/",{"$error":"#N/A"}]
[null,null,null,{"$f":"VLOOKUP($C847,'SEI ISD'!$A$4:$B$124,2,0)","v":{"$error":"#N/A"}},null,null,null,null,1.645E-3,3.5608300000000001E-3,"","","/",{"$error":"#N/A"}]
[null,null,null,{"$f":"VLOOKUP($C848,'SEI ISD'!$A$4:$B$124,2,0)","v":{"$error":"#N/A"}},null,null,null,null,1.645E-3,3.5608300000000001E-3,"","","/",{"$error":"#N/A"}]
[null,null,null,{"$f":"VLOOKUP($C849,'SEI ISD'!$A$4:$B$124,2,0)","v":{"$error":"#N/A"}},null,null,null,null,1.645E-3,3.5608300000000001E-3,"","","/",{"$error":"#N/A"}]
[null,null,null,{"$f":"VLOOKUP($C850,'SEI ISD'!$A$4:$B$124,2,0)","v":{"$error":"#N/A"}},null,null,null,null,1.645E-3,3.5608300000000001E-3,"","","/",{"$error":"#N/A"}]
[null,null,null,{"$f":"VLOOKUP($C851,'SEI ISD'!$A$4:$B$124,2,0)","v":{"$error":"#N/A"}},null,null,null,null,1.645E-3,3.5608300000000001E-3,"","","/",{"$error":"#N/A"}]
[null,null,null,{"$f":"VLOOKUP($C852,'SEI ISD'!$A$4:$B$124,2,0)","v":{"$error":"#N/A"}},null,null,null,null,1.645E-3,3.5608300000000001E-3,"","","/",{"$error":"#N/A"}]
[null,null,null,{"$f":"VLOOKUP($C853,'SEI ISD'!$A$4:$B$124,2,0)","v":{"$error":"#N/A"}},null,null,null,null,1.645E-3,3.5608300000000001E-3,"","","/",{"$error":"#N/A"}]
[null,null,null,{"$f":"VLOOKUP($C854,'SEI ISD'!$A$4:$B$124,2,0)","v":{"$error":"#N/A"}},null,null,null,null,1.645E-3,3.5608300000000001E-3,"","","/",{"$error":"#N/A"}]
[null,null,null,{"$f":"VLOOKUP($C855,'SEI ISD'!$A$4:$B$124,2,0)","v":{"$error":"#N/A"}},null,null,null,null,1.645E-3,3.5608300000000001E-3,"","","/",{"$error":"#N/A"}]
[null,null,null,{"$f":"VLOOKUP($C856,'SEI ISD'!$A$4:$B$124,2,0)","v":{"$error":"#N/A"}},null,null,null,null,1.645E-3,3.5608300000000001E-3,"","","/",{"$error":"#N/A"}]
[null,null,null,{"$f":"VLOOKUP($C857,'SEI ISD'!$A$4:$B$124,2,0)","v":{"$error":"#N/A"}},null,null,null,null,1.645E-3,3.5608300000000001E-3,"","","/",{"$error":"#N/A"}]
[null,null,null,{"$f":"VLOOKUP($C858,'SEI ISD'!$A$4:$B$124,2,0)","v":{"$error":"#N/A"}},null,null,null,null,1.645E-3,3.5608300000000001E-3,"","","/",{"$error":"#N/A"}]
[null,null,null,{"$f":"VLOOKUP($C859,'SEI ISD'!$A$4:$B$124,2,0)","v":{"$error":"#N/A"}},null,null,null,null,1.645E-3,3.5608300000000001E-3,"","","/",{"$error":"#N/A"}]
[null,null,null,{"$f":"VLOOKUP($C860,'SEI ISD'!$A$4:$B$124,2,0)","v":{"$error":"#N/A"}},null,null,null,null,1.645E-3,3.5608300000000001E-3,"","","/",{"$error":"#N/A"}]
[null,null,null,{"$f":"VLOOKUP($C861,'SEI ISD'!$A$4:$B$124,2,0)","v":{"$error":"#N/A"}},null,null,null,null,1.645E-3,3.5608300000000001E-3,"","","/",{"$error":"#N/A"}]
[null,null,null,{"$f":"VLOOKUP($C862,'SEI ISD'!$A$4:$B$124,2,0)","v":{"$error":"#N/A"}},null,null,null,null,1.645E-3,3.5608300000000001E-3,"","","/",{"$error":"#N/A"}]
[null,null,null,{"$f":"VLOOKUP($C863,'SEI ISD'!$A$4:$B$124,2,0)","v":{"$error":"#N/A"}},null,null,null,null,1.645E-3,3.5608300000000001E-3,"","","/",{"$error":"#N/A"}]
[null,null,null,{"$f":"VLOOKUP($C864,'SEI ISD'!$A$4:$B$124,2,0)","v":{"$error":"#N/A"}},null,null,null,null,1.645E-3,3.5608300000000001E-3,"","","/",{"$error":"#N/A"}]
[null,null,null,{"$f":"VLOOKUP($C865,'SEI ISD'!$A$4:$B$124,2,0)","v":{"$error":"#N/A"}},null,null,null,null,1.645E-3,3.5608300000000001E-3,"","","/",{"$error":"#N/A"}]
[null,null,null,{"$f":"VLOOKUP($C866,'SEI ISD'!$A$4:$B$124,2,0)","v":{"$error":"#N/A"}},null,null,null,null,1.645E-3,3.5608300000000001E-3,"","","/",{"$error":"#N/A"}]
[null,null,null,{"$f":"VLOOKUP($C867,'SEI ISD'!$A$4:$B$124,2,0)","v":{"$error":"#N/A"}},null,null,null,null,1.645E-3,3.5608300000000001E-3,"","","/",{"$error":"#N/A"}]
[null,null,null,{"$f":"VLOOKUP($C868,'SEI ISD'!$A$4:$B$124,2,0)","v":{"$error":"#N/A"}},null,null,null,null,1.645E-3,3.5608300000000001E-3,"","","/",{"$error":"#N/A"}]
[null,null,null,{"$f":"VLOOKUP($C869,'SEI ISD'!$A$4:$B$124,2,0)","v":{"$error":"#N/A"}},null,null,null,null,1.645E-3,3.5608300000000001E-3,"","","/",{"$error":"#N/A"}]
[null,null,null,{"$f":"VLOOKUP($C870,'SEI ISD'!$A$4:$B$124,2,0)","v":{"$error":"#N/A"}},null,null,null,null,1.645E-3,3.5608300000000001E-3,"","","/",{"$error":"#N/A"}]
[null,null,null,{"$f":"VLOOKUP($C871,'SEI ISD'!$A$4:$B$124,2,0)","v":{"$error":"#N/A"}},null,null,null,null,1.645E-3,3.5608300000000001E-3,"","","/",{"$error":"#N/A"}]
[null,null,null,{"$f":"VLOOKUP($C872,'SEI ISD'!$A$4:$B$124,2,0)","v":{"$error":"#N/A"}},null,null,null,null,1.645E-3,3.5608300000000001E-3,"","","/",{"$error":"#N/A"}]
[null,null,null,{"$f":"VLOOKUP($C873,'SEI ISD'!$A$4:$B$124,2,0)","v":{"$error":"#N/A"}},null,null,null,null,1.645E-3,3.5608300000000001E-3,"","","/",{"$error":"#N/A"}]
[null,null,null,{"$f":"VLOOKUP($C874,'SEI ISD'!$A$4:$B$124,2,0)","v":{"$error":"#N/A"}},null,null,null,null,1.645E-3,3.5608300000000001E-3,"","","/",{"$error":"#N/A"}]
[null,null,null,{"$f":"VLOOKUP($C875,'SEI ISD'!$A$4:$B$124,2,0)","v":{"$error":"#N/A"}},null,null,null,null,1.645E-3,3.5608300000000001E-3,"","","/",{"$error":"#N/A"}]
[null,null,null,{"$f":"VLOOKUP($C876,'SEI ISD'!$A$4:$B$124,2,0)","v":{"$error":"#N/A"}},null,null,null,null,1.645E-3,3.5608300000000001E-3,"","","/",{"$error":"#N/A"}]
[null,null,null,{"$f":"VLOOKUP($C877,'SEI ISD'!$A$4:$B$124,2,0)","v":{"$error":"#N/A"}},null,null,null,null,1.645E-3,3.5608300000000001E-3,"","","/",{"$error":"#N/A"}]
[null,null,null,{"$f":"VLOOKUP($C878,'SEI ISD'!$A$4:$B$124,2,0)","v":{"$error":"#N/A"}},null,null,null,null,1.645E-3,3.5608300000000001E-3,"","","/",{"$error":"#N/A"}]
[null,null,null,{"$f":"VLOOKUP($C879,'SEI ISD'!$A$4:$B$124,2,0)","v":{"$error":"#N/A"}},null,null,null,null,1.645E-3,3.5608300000000001E-3,"","","/",{"$error":"#N/A"}]
[null,null,null,{"$f":"VLOOKUP($C880,'SEI ISD'!$A$4:$B$124,2,0)","v":{"$error":"#N/A"}},null,null,null,null,1.645E-3,3.5608300000000001E-3,"","","/",{"$error":"#N/A"}]
[null,null,null,{"$f":"VLOOKUP($C881,'SEI ISD'!$A$4:$B$124,2,0)","v":{"$error":"#N/A"}},null,null,null,null,1.645E-3,3.5608300000000001E-3,"","","/",{"$error":"#N/A"}]
[null,null,null,{"$f":"VLOOKUP($C882,'SEI ISD'!$A$4:$B$124,2,0)","v":{"$error":"#N/A"}},null,null,null,null,1.645E-3,3.5608300000000001E-3,"","","/",{"$error":"#N/A"}]
[null,null,null,{"$f":"VLOOKUP($C883,'SEI ISD'!$A$4:$B$124,2,0)","v":{"$error":"#N/A"}},null,null,null,null,1.645E-3,3.5608300000000001E-3,"","","/",{"$error":"#N/A"}]
[null,null,null,{"$f":"VLOOKUP($C884,'SEI ISD'!$A$4:$B$124,2,0)","v":{"$error":"#N/A"}},null,null,null,null,1.645E-3,3.5608300000000001E-3,"","","/",{"$error":"#N/A"}]
[null,null,null,{"$f":"VLOOKUP($C885,'SEI ISD'!$A$4:$B$124,2,0)","v":{"$error":"#N/A"}},null,null,null,null,1.645E-3,3.5608300000000001E-3,"","","/",{"$error":"#N/A"}]
[null,null,null,{"$f":"VLOOKUP($C886,'SEI ISD'!$A$4:$B$124,2,0)","v":{"$error":"#N/A"}},null,null,null,null,1.645E-3,3.5608300000000001E-3,"","","/",{"$error":"#N/A"}]
[null,null,null,{"$f":"VLOOKUP($C887,'SEI ISD'!$A$4:$B$124,2,0)","v":{"$error":"#N/A"}},null,null,null,null,1.645E-3,3.5608300000000001E-3,"","","/",{"$error":"#N/A"}]
[null,null,null,{"$f":"VLOOKUP($C888,'SEI ISD'!$A$4:$B$124,2,0)","v":{"$error":"#N/A"}},null,null,null,null,1.645E-3,3.5608300000000001E-3,"","","/",{"$error":"#N/A"}]
[null,null,null,{"$f":"VLOOKUP($C889,'SEI ISD'!$A$4:$B$124,2,0)","v":{"$error":"#N/A"}},null,null,null,null,1.645E-3,3.5608300000000001E-3,"","","/",{"$error":"#N/A"}]
[null,null,null,{"$f":"VLOOKUP($C890,'SEI ISD'!$A$4:$B$124,2,0)","v":{"$error":"#N/A"}},null,null,null,null,1.645E-3,3.5608300000000001E-3,"","","/",{"$error":"#N/A"}]
[null,null,null,{"$f":"VLOOKUP($C891,'SEI ISD'!$A$4:$B$124,2,0)","v":{"$error":"#N/A"}},null,null,null,null,1.645E-3,3.5608300000000001E-3,"","","/",{"$error":"#N/A"}]
[null,null,null,{"$f":"VLOOKUP($C892,'SEI ISD'!$A$4:$B$124,2,0)","v":{"$error":"#N/A"}},null,null,null,null,1.645E-3,3.5608300000000001E-3,"","","/",{"$error":"#N/A"}]
[null,null,null,{"$f":"VLOOKUP($C893,'SEI ISD'!$A$4:$B$124,2,0)","v":{"$error":"#N/A"}},null,null,null,null,1.645E-3,3.5608300000000001E-3,"","","/",{"$error":"#N/A"}]
[null,null,null,{"$f":"VLOOKUP($C894,'SEI ISD'!$A$4:$B$124,2,0)","v":{"$error":"#N/A"}},null,null,null,null,1.645E-3,3.5608300000000001E-3,"","","/",{"$error":"#N/A"}]
[null,null,null,{"$f":"VLOOKUP($C895,'SEI ISD'!$A$4:$B$124,2,0)","v":{"$error":"#N/A"}},null,null,null,null,1.645E-3,3.5608300000000001E-3,"","","/",{"$error":"#N/A"}]
[null,null,null,{"$f":"VLOOKUP($C896,'SEI ISD'!$A$4:$B$124,2,0)","v":{"$error":"#N/A"}},null,null,null,null,1.645E-3,3.5608300000000001E-3,"","","/",{"$error":"#N/A"}]
[null,null,null,{"$f":"VLOOKUP($C897,'SEI ISD'!$A$4:$B$124,2,0)","v":{"$error":"#N/A"}},null,null,null,null,1.645E-3,3.5608300000000001E-3,"","","/",{"$error":"#N/A"}]
[null,null,null,{"$f":"VLOOKUP($C898,'SEI ISD'!$A$4:$B$124,2,0)","v":{"$error":"#N/A"}},null,null,null,null,1.645E-3,3.5608300000000001E-3,"","","/",{"$error":"#N/A"}]
[null,null,null,{"$f":"VLOOKUP($C899,'SEI ISD'!$A$4:$B$124,2,0)","v":{"$error":"#N/A"}},null,null,null,null,1.645E-3,3.5608300000000001E-3,{"$f":"RIGHT(G899,2)","v":""},{"$f":"LEFT(G899,4)","v":""},{"$f":"_xlfn.CONCAT(K899,\"/\",L899)","v":"/"},{"$f":"EOMONTH(D899,0)","v":{"$error":"#N/A"}}]
[null,null,null,{"$f":"VLOOKUP($C900,'SEI ISD'!$A$4:$B$124,2,0)","v":{"$error":"#N/A"}},null,null,null,null,1.645E-3,3.5608300000000001E-3,"","","/",{"$error":"#N/A"}]
[null,null,null,{"$f":"VLOOKUP($C901,'SEI ISD'!$A$4:$B$124,2,0)","v":{"$error":"#N/A"}},null,null,null,null,1.645E-3,3.5608300000000001E-3,"","","/",{"$error":"#N/A"}]
[null,null,null,{"$f":"VLOOKUP($C902,'SEI ISD'!$A$4:$B$124,2,0)","v":{"$error":"#N/A"}},null,null,null,null,1.645E-3,3.5608300000000001E-3,"","","/",{"$error":"#N/A"}]
[null,null,null,{"$f":"VLOOKUP($C903,'SEI ISD'!$A$4:$B$124,2,0)","v":{"$error":"#N/A"}},null,null,null,null,1.645E-3,3.5608300000000001E-3,"","","/",{"$error":"#N/A"}]
[null,null,null,{"$f":"VLOOKUP($C904,'SEI ISD'!$A$4:$B$124,2,0)","v":{"$error":"#N/A"}},null,null,null,null,1.645E-3,3.5608300000000001E-3,"","","/",{"$error":"#N/A"}]
[null,null,null,{"$f":"VLOOKUP($C905,'SEI ISD'!$A$4:$B$124,2,0)","v":{"$error":"#N/A"}},null,null,null,null,1.645E-3,3.5608300000000001E-3,"","","/",{"$error":"#N/A"}]
[null,null,null,{"$f":"VLOOKUP($C906,'SEI ISD'!$A$4:$B$124,2,0)","v":{"$error":"#N/A"}},null,null,null,null,1.645E-3,3.5608300000000001E-3,"","","/",{"$error":"#N/A"}]
[null,null,null,{"$f":"VLOOKUP($C907,'SEI ISD'!$A$4:$B$124,2,0)","v":{"$error":"#N/A"}},null,null,null,null,1.645E-3,3.5608300000000001E-3,"","","/",{"$error":"#N/A"}]
[null,null,null,{"$f":"VLOOKUP($C908,'SEI ISD'!$A$4:$B$124,2,0)","v":{"$error":"#N/A"}},null,null,null,null,1.645E-3,3.5608300000000001E-3,"","","/",{"$error":"#N/A"}]
[null,null,null,{"$f":"VLOOKUP($C909,'SEI ISD'!$A$4:$B$124,2,0)","v":{"$error":"#N/A"}},null,null,null,null,1.645E-3,3.5608300000000001E-3,"","","/",{"$error":"#N/A"}]
[null,null,null,{"$f":"VLOOKUP($C910,'SEI ISD'!$A$4:$B$124,2,0)","v":{"$error":"#N/A"}},null,null,null,null,1.645E-3,3.5608300000000001E-3,"","","/",{"$error":"#N/A"}]
[null,null,null,{"$f":"VLOOKUP($C911,'SEI ISD'!$A$4:$B$124,2,0)","v":{"$error":"#N/A"}},null,null,null,null,1.645E-3,3.5608300000000001E-3,"","","/",{"$error":"#N/A"}]
[null,null,null,{"$f":"VLOOKUP($C912,'SEI ISD'!$A$4:$B$124,2,0)","v":{"$error":"#N/A"}},null,null,null,null,1.645E-3,3.5608300000000001E-3,"","","/",{"$error":"#N/A"}]
[null,null,null,{"$f":"VLOOKUP($C913,'SEI ISD'!$A$4:$B$124,2,0)","v":{"$error":"#N/A"}},null,null,null,null,1.645E-3,3.5608300000000001E-3,"","","/",{"$error":"#N/A"}]
[null,null,null,{"$f":"VLOOKUP($C914,'SEI ISD'!$A$4:$B$124,2,0)","v":{"$error":"#N/A"}},null,null,null,null,1.645E-3,3.5608300000000001E-3,"","","/",{"$error":"#N/A"}]
[null,null,null,{"$f":"VLOOKUP($C915,'SEI ISD'!$A$4:$B$124,2,0)","v":{"$error":"#N/A"}},null,null,null,null,1.645E-3,3.5608300000000001E-3,"","","/",{"$error":"#N/A"}]
[null,null,null,{"$f":"VLOOKUP($C916,'SEI ISD'!$A$4:$B$124,2,0)","v":{"$error":"#N/A"}},null,null,null,null,1.645E-3,3.5608300000000001E-3,"","","/",{"$error":"#N/A"}]
[null,null,null,{"$f":"VLOOKUP($C917,'SEI ISD'!$A$4:$B$124,2,0)","v":{"$error":"#N/A"}},null,null,null,null,1.645E-3,3.5608300000000001E-3,"","","/",{"$error":"#N/A"}]
[null,null,null,{"$f":"VLOOKUP($C918,'SEI ISD'!$A$4:$B$124,2,0)","v":{"$error":"#N/A"}},null,null,null,null,1.645E-3,3.5608300000000001E-3,"","","/",{"$error":"#N/A"}]
[null,null,null,{"$f":"VLOOKUP($C919,'SEI ISD'!$A$4:$B$124,2,0)","v":{"$error":"#N/A"}},null,null,null,null,1.645E-3,3.5608300000000001E-3,"","","/",{"$error":"#N/A"}]
[null,null,null,{"$f":"VLOOKUP($C920,'SEI ISD'!$A$4:$B$124,2,0)","v":{"$error":"#N/A"}},null,null,null,null,1.645E-3,3.5608300000000001E-3,"","","/",{"$error":"#N/A"}]
[null,null,null,{"$f":"VLOOKUP($C921,'SEI ISD'!$A$4:$B$124,2,0)","v":{"$error":"#N/A"}},null,null,null,null,1.645E-3,3.5608300000000001E-3,"","","/",{"$error":"#N/A"}]
[null,null,null,{"$f":"VLOOKUP($C922,'SEI ISD'!$A$4:$B$124,2,0)","v":{"$error":"#N/A"}},null,null,null,null,1.645E-3,3.5608300000000001E-3,"","","/",{"$error":"#N/A"}]
[null,null,null,{"$f":"VLOOKUP($C923,'SEI ISD'!$A$4:$B$124,2,0)","v":{"$error":"#N/A"}},null,null,null,null,1.645E-3,3.5608300000000001E-3,"","","/",{"$error":"#N/A"}]
[null,null,null,{"$f":"VLOOKUP($C924,'SEI ISD'!$A$4:$B$124,2,0)","v":{"$error":"#N/A"}},null,null,null,null,1.645E-3,3.5608300000000001E-3,"","","/",{"$error":"#N/A"}]
[null,null,null,{"$f":"VLOOKUP($C925,'SEI ISD'!$A$4:$B$124,2,0)","v":{"$error":"#N/A"}},null,null,null,null,1.645E-3,3.5608300000000001E-3,"","","/",{"$error":"#N/A"}]
[null,null,null,{"$f":"VLOOKUP($C926,'SEI ISD'!$A$4:$B$124,2,0)","v":{"$error":"#N/A"}},null,null,null,null,1.645E-3,3.5608300000000001E-3,"","","/",{"$error":"#N/A"}]
[null,null,null,{"$f":"VLOOKUP($C927,'SEI ISD'!$A$4:$B$124,2,0)","v":{"$error":"#N/A"}},null,null,null,null,1.645E-3,3.5608300000000001E-3,"","","/",{"$error":"#N/A"}]
[null,null,null,{"$f":"VLOOKUP($C928,'SEI ISD'!$A$4:$B$124,2,0)","v":{"$error":"#N/A"}},null,null,null,null,1.645E-3,3.5608300000000001E-3,"","","/",{"$error":"#N/A"}]
[null,null,null,{"$f":"VLOOKUP($C929,'SEI ISD'!$A$4:$B$124,2,0)","v":{"$error":"#N/A"}},null,null,null,null,1.645E-3,3.5608300000000001E-3,"","","/",{"$error":"#N/A"}]
[null,null,null,{"$f":"VLOOKUP($C930,'SEI ISD'!$A$4:$B$124,2,0)","v":{"$error":"#N/A"}},null,null,null,null,1.645E-3,3.5608300000000001E-3,"","","/",{"$error":"#N/A"}]
[null,null,null,{"$f":"VLOOKUP($C931,'SEI ISD'!$A$4:$B$124,2,0)","v":{"$error":"#N/A"}},null,null,null,null,1.645E-3,3.5608300000000001E-3,"","","/",{"$error":"#N/A"}]
[null,null,null,{"$f":"VLOOKUP($C932,'SEI ISD'!$A$4:$B$124,2,0)","v":{"$error":"#N/A"}},null,null,null,null,1.645E-3,3.5608300000000001E-3,"","","/",{"$error":"#N/A"}]
[null,null,null,{"$f":"VLOOKUP($C933,'SEI ISD'!$A$4:$B$124,2,0)","v":{"$error":"#N/A"}},null,null,null,null,1.645E-3,3.5608300000000001E-3,"","","/",{"$error":"#N/A"}]
[null,null,null,{"$f":"VLOOKUP($C934,'SEI ISD'!$A$4:$B$124,2,0)","v":{"$error":"#N/A"}},null,null,null,null,1.645E-3,3.5608300000000001E-3,"","","/",{"$error":"#N/A"}]
[null,null,null,{"$f":"VLOOKUP($C935,'SEI ISD'!$A$4:$B$124,2,0)","v":{"$error":"#N/A"}},null,null,null,null,1.645E-3,3.5608300000000001E-3,"","","/",{"$error":"#N/A"}]
[null,null,null,{"$f":"VLOOKUP($C936,'SEI ISD'!$A$4:$B$124,2,0)","v":{"$error":"#N/A"}},null,null,null,null,1.645E-3,3.5608300000000001E-3,"","","/",{"$error":"#N/A"}]
[null,null,null,{"$f":"VLOOKUP($C937,'SEI ISD'!$A$4:$B$124,2,0)","v":{"$error":"#N/A"}},null,null,null,null,1.645E-3,3.5608300000000001E-3,"","","/",{"$error":"#N/A"}]
[null,null,null,{"$f":"VLOOKUP($C938,'SEI ISD'!$A$4:$B$124,2,0)","v":{"$error":"#N/A"}},null,null,null,null,1.645E-3,3.5608300000000001E-3,"","","/",{"$error":"#N/A"}]
[null,null,null,{"$f":"VLOOKUP($C939,'SEI ISD'!$A$4:$B$124,2,0)","v":{"$error":"#N/A"}},null,null,null,null,1.645E-3,3.5608300000000001E-3,"","","/",{"$error":"#N/A"}]
[null,null,null,{"$f":"VLOOKUP($C940,'SEI ISD'!$A$4:$B$124,2,0)","v":{"$error":"#N/A"}},null,null,null,null,1.645E-3,3.5608300000000001E-3,"","","/",{"$error":"#N/A"}]
[null,null,null,{"$f":"VLOOKUP($C941,'SEI ISD'!$A$4:$B$124,2,0)","v":{"$error":"#N/A"}},null,null,null,null,1.645E-3,3.5608300000000001E-3,"","","/",{"$error":"#N/A"}]
[null,null,null,{"$f":"VLOOKUP($C942,'SEI ISD'!$A$4:$B$124,2,0)","v":{"$error":"#N/A"}},null,null,null,null,1.645E-3,3.5608300000000001E-3,"","","/",{"$error":"#N/A"}]
[null,null,null,{"$f":"VLOOKUP($C943,'SEI ISD'!$A$4:$B$124,2,0)","v":{"$error":"#N/A"}},null,null,null,null,1.645E-3,3.5608300000000001E-3,"","","/",{"$error":"#N/A"}]
[null,null,null,{"$f":"VLOOKUP($C944,'SEI ISD'!$A$4:$B$124,2,0)","v":{"$error":"#N/A"}},null,null,null,null,1.645E-3,3.5608300000000001E-3,"","","/",{"$error":"#N/A"}]
[null,null,null,{"$f":"VLOOKUP($C945,'SEI ISD'!$A$4:$B$124,2,0)","v":{"$error":"#N/A"}},null,null,null,null,1.645E-3,3.5608300000000001E-3,"","","/",{"$error":"#N/A"}]
[null,null,null,{"$f":"VLOOKUP($C946,'SEI ISD'!$A$4:$B$124,2,0)","v":{"$error":"#N/A"}},null,null,null,null,1.645E-3,3.5608300000000001E-3,"","","/",{"$error":"#N/A"}]
[null,null,null,{"$f":"VLOOKUP($C947,'SEI ISD'!$A$4:$B$124,2,0)","v":{"$error":"#N/A"}},null,null,null,null,1.645E-3,3.5608300000000001E-3,"","","/",{"$error":"#N/A"}]
[null,null,null,{"$f":"VLOOKUP($C948,'SEI ISD'!$A$4:$B$124,2,0)","v":{"$error":"#N/A"}},null,null,null,null,1.645E-3,3.5608300000000001E-3,"","","/",{"$error":"#N/A"}]
[null,null,null,{"$f":"VLOOKUP($C949,'SEI ISD'!$A$4:$B$124,2,0)","v":{"$error":"#N/A"}},null,null,null,null,1.645E-3,3.5608300000000001E-3,"","","/",{"$error":"#N/A"}]
[null,null,null,{"$f":"VLOOKUP($C950,'SEI ISD'!$A$4:$B$124,2,0)","v":{"$error":"#N/A"}},null,null,null,null,1.645E-3,3.5608300000000001E-3,"","","/",{"$error":"#N/A"}]
[null,null,null,{"$f":"VLOOKUP($C951,'SEI ISD'!$A$4:$B$124,2,0)","v":{"$error":"#N/A"}},null,null,null,null,1.645E-3,3.5608300000000001E-3,"","","/",{"$error":"#N/A"}]
[null,null,null,{"$f":"VLOOKUP($C952,'SEI ISD'!$A$4:$B$124,2,0)","v":{"$error":"#N/A"}},null,null,null,null,1.645E-3,3.5608300000000001E-3,"","","/",{"$error":"#N/A"}]
[null,null,null,{"$f":"VLOOKUP($C953,'SEI ISD'!$A$4:$B$124,2,0)","v":{"$error":"#N/A"}},null,null,null,null,1.645E-3,3.5608300000000001E-3,"","","/",{"$error":"#N/A"}]
[null,null,null,{"$f":"VLOOKUP($C954,'SEI ISD'!$A$4:$B$124,2,0)","v":{"$error":"#N/A"}},null,null,null,null,1.645E-3,3.5608300000000001E-3,"","","/",{"$error":"#N/A"}]
[null,null,null,{"$f":"VLOOKUP($C955,'SEI ISD'!$A$4:$B$124,2,0)","v":{"$error":"#N/A"}},null,null,null,null,1.645E-3,3.5608300000000001E-3,"","","/",{"$error":"#N/A"}]
[null,null,null,{"$f":"VLOOKUP($C956,'SEI ISD'!$A$4:$B$124,2,0)","v":{"$error":"#N/A"}},null,null,null,null,1.645E-3,3.5608300000000001E-3,"","","/",{"$error":"#N/A"}]
[null,null,null,{"$f":"VLOOKUP($C957,'SEI ISD'!$A$4:$B$124,2,0)","v":{"$error":"#N/A"}},null,null,null,null,1.645E-3,3.5608300000000001E-3,"","","/",{"$error":"#N/A"}]
[null,null,null,{"$f":"VLOOKUP($C958,'SEI ISD'!$A$4:$B$124,2,0)","v":{"$error":"#N/A"}},null,null,null,null,1.645E-3,3.5608300000000001E-3,"","","/",{"$error":"#N/A"}]
[null,null,null,{"$f":"VLOOKUP($C959,'SEI ISD'!$A$4:$B$124,2,0)","v":{"$error":"#N/A"}},null,null,null,null,1.645E-3,3.5608300000000001E-3,"","","/",{"$error":"#N/A"}]
[null,null,null,{"$f":"VLOOKUP($C960,'SEI ISD'!$A$4:$B$124,2,0)","v":{"$error":"#N/A"}},null,null,null,null,1.645E-3,3.5608300000000001E-3,"","","/",{"$error":"#N/A"}]
[null,null,null,{"$f":"VLOOKUP($C961,'SEI ISD'!$A$4:$B$124,2,0)","v":{"$error":"#N/A"}},null,null,null,null,1.645E-3,3.5608300000000001E-3,"","","/",{"$error":"#N/A"}]
[null,null,null,{"$f":"VLOOKUP($C962,'SEI ISD'!$A$4:$B$124,2,0)","v":{"$error":"#N/A"}},null,null,null,null,1.645E-3,3.5608300000000001E-3,"","","/",{"$error":"#N/A"}]
[null,null,null,{"$f":"VLOOKUP($C963,'SEI ISD'!$A$4:$B$124,2,0)","v":{"$error":"#N/A"}},null,null,null,null,1.645E-3,3.5608300000000001E-3,{"$f":"RIGHT(G963,2)","v":""},{"$f":"LEFT(G963,4)","v":""},{"$f":"_xlfn.CONCAT(K963,\"/\",L963)","v":"/"},{"$f":"EOMONTH(D963,0)","v":{"$error":"#N/A"}}]
[null,null,null,{"$f":"VLOOKUP($C964,'SEI ISD'!$A$4:$B$124,2,0)","v":{"$error":"#N/A"}},null,null,null,null,1.645E-3,3.5608300000000001E-3,"","","/",{"$error":"#N/A"}]
[null,null,null,{"$f":"VLOOKUP($C965,'SEI ISD'!$A$4:$B$124,2,0)","v":{"$error":"#N/A"}},null,null,null,null,1.645E-3,3.5608300000000001E-3,"","","/",{"$error":"#N/A"}]
[null,null,null,{"$f":"VLOOKUP($C966,'SEI ISD'!$A$4:$B$124,2,0)","v":{"$error":"#N/A"}},null,null,null,null,1.645E-3,3.5608300000000001E-3,"","","/",{"$error":"#N/A"}]
[null,null,null,{"$f":"VLOOKUP($C967,'SEI ISD'!$A$4:$B$124,2,0)","v":{"$error":"#N/A"}},null,null,null,null,1.645E-3,3.5608300000000001E-3,"","","/",{"$error":"#N/A"}]
[null,null,null,{"$f":"VLOOKUP($C968,'SEI ISD'!$A$4:$B$124,2,0)","v":{"$error":"#N/A"}},null,null,null,null,1.645E-3,3.5608300000000001E-3,"","","/",{"$error":"#N/A"}]
[null,null,null,{"$f":"VLOOKUP($C969,'SEI ISD'!$A$4:$B$124,2,0)","v":{"$error":"#N/A"}},null,null,null,null,1.645E-3,3.5608300000000001E-3,"","","/",{"$error":"#N/A"}]
[null,null,null,{"$f":"VLOOKUP($C970,'SEI ISD'!$A$4:$B$124,2,0)","v":{"$error":"#N/A"}},null,null,null,null,1.645E-3,3.5608300000000001E-3,"","","/",{"$error":"#N/A"}]
[null,null,null,{"$f":"VLOOKUP($C971,'SEI ISD'!$A$4:$B$124,2,0)","v":{"$error":"#N/A"}},null,null,null,null,1.645E-3,3.5608300000000001E-3,"","","/",{"$error":"#N/A"}]
[null,null,null,{"$f":"VLOOKUP($C972,'SEI ISD'!$A$4:$B$124,2,0)","v":{"$error":"#N/A"}},null,null,null,null,1.645E-3,3.5608300000000001E-3,"","","/",{"$error":"#N/A"}]
[null,null,null,{"$f":"VLOOKUP($C973,'SEI ISD'!$A$4:$B$124,2,0)","v":{"$error":"#N/A"}},null,null,null,null,1.645E-3,3.5608300000000001E-3,"","","/",{"$error":"#N/A"}]
[null,null,null,{"$f":"VLOOKUP($C974,'SEI ISD'!$A$4:$B$124,2,0)","v":{"$error":"#N/A"}},null,null,null,null,1.645E-3,3.5608300000000001E-3,"","","/",{"$error":"#N/A"}]
[null,null,null,{"$f":"VLOOKUP($C975,'SEI ISD'!$A$4:$B$124,2,0)","v":{"$error":"#N/A"}},null,null,null,null,1.645E-3,3.5608300000000001E-3,"","","/",{"$error":"#N/A"}]
[null,null,null,{"$f":"VLOOKUP($C976,'SEI ISD'!$A$4:$B$124,2,0)","v":{"$error":"#N/A"}},null,null,null,null,1.645E-3,3.5608300000000001E-3,"","","/",{"$error":"#N/A"}]
[null,null,null,{"$f":"VLOOKUP($C977,'SEI ISD'!$A$4:$B$124,2,0)","v":{"$error":"#N/A"}},null,null,null,null,1.645E-3,3.5608300000000001E-3,"","","/",{"$error":"#N/A"}]
[null,null,null,{"$f":"VLOOKUP($C978,'SEI ISD'!$A$4:$B$124,2,0)","v":{"$error":"#N/A"}},null,null,null,null,1.645E-3,3.5608300000000001E-3,"","","/",{"$error":"#N/A"}]
[null,null,null,{"$f":"VLOOKUP($C979,'SEI ISD'!$A$4:$B$124,2,0)","v":{"$error":"#N/A"}},null,null,null,null,1.645E-3,3.5608300000000001E-3,"","","/",{"$error":"#N/A"}]
[null,null,null,{"$f":"VLOOKUP($C980,'SEI ISD'!$A$4:$B$124,2,0)","v":{"$error":"#N/A"}},null,null,null,null,1.645E-3,3.5608300000000001E-3,"","","/",{"$error":"#N/A"}]
[null,null,null,{"$f":"VLOOKUP($C981,'SEI ISD'!$A$4:$B$124,2,0)","v":{"$error":"#N/A"}},null,null,null,null,1.645E-3,3.5608300000000001E-3,"","","/",{"$error":"#N/A"}]
[null,null,null,{"$f":"VLOOKUP($C982,'SEI ISD'!$A$4:$B$124,2,0)","v":{"$error":"#N/A"}},null,null,null,null,1.645E-3,3.5608300000000001E-3,"","","/",{"$error":"#N/A"}]
[null,null,null,{"$f":"VLOOKUP($C983,'SEI ISD'!$A$4:$B$124,2,0)","v":{"$error":"#N/A"}},null,null,null,null,1.645E-3,3.5608300000000001E-3,"","","/",{"$error":"#N/A"}]
[null,null,null,{"$f":"VLOOKUP($C984,'SEI ISD'!$A$4:$B$124,2,0)","v":{"$error":"#N/A"}},null,null,null,null,1.645E-3,3.5608300000000001E-3,"","","/",{"$error":"#N/A"}]
[null,null,null,{"$f":"VLOOKUP($C985,'SEI ISD'!$A$4:$B$124,2,0)","v":{"$error":"#N/A"}},null,null,null,null,1.645E-3,3.5608300000000001E-3,"","","/",{"$error":"#N/A"}]
[null,null,null,{"$f":"VLOOKUP($C986,'SEI ISD'!$A$4:$B$124,2,0)","v":{"$error":"#N/A"}},null,null,null,null,1.645E-3,3.5608300000000001E-3,"","","/",{"$error":"#N/A"}]
[null,null,null,{"$f":"VLOOKUP($C987,'SEI ISD'!$A$4:$B$124,2,0)","v":{"$error":"#N/A"}},null,null,null,null,1.645E-3,3.5608300000000001E-3,"","","/",{"$error":"#N/A"}]
[null,null,null,{"$f":"VLOOKUP($C988,'SEI ISD'!$A$4:$B$124,2,0)","v":{"$error":"#N/A"}},null,null,null,null,1.645E-3,3.5608300000000001E-3,"","","/",{"$error":"#N/A"}]
[null,null,null,{"$f":"VLOOKUP($C989,'SEI ISD'!$A$4:$B$124,2,0)","v":{"$error":"#N/A"}},null,null,null,null,1.645E-3,3.5608300000000001E-3,"","","/",{"$error":"#N/A"}]
[null,null,null,{"$f":"VLOOKUP($C990,'SEI ISD'!$A$4:$B$124,2,0)","v":{"$error":"#N/A"}},null,null,null,null,1.645E-3,3.5608300000000001E-3,"","","/",{"$error":"#N/A"}]
[null,null,null,{"$f":"VLOOKUP($C991,'SEI ISD'!$A$4:$B$124,2,0)","v":{"$error":"#N/A"}},null,null,null,null,1.645E-3,3.5608300000000001E-3,"","","/",{"$error":"#N/A"}]
[null,null,null,{"$f":"VLOOKUP($C992,'SEI ISD'!$A$4:$B$124,2,0)","v":{"$error":"#N/A"}},null,null,null,null,1.645E-3,3.5608300000000001E-3,"","","/",{"$error":"#N/A"}]
[null,null,null,{"$f":"VLOOKUP($C993,'SEI ISD'!$A$4:$B$124,2,0)","v":{"$error":"#N/A"}},null,null,null,null,1.645E-3,3.5608300000000001E-3,"","","/",{"$error":"#N/A"}]
[null,null,null,{"$f":"VLOOKUP($C994,'SEI ISD'!$A$4:$B$124,2,0)","v":{"$error":"#N/A"}},null,null,null,null,1.645E-3,3.5608300000000001E-3,"","","/",{"$error":"#N/A"}]
[null,null,null,{"$f":"VLOOKUP($C995,'SEI ISD'!$A$4:$B$124,2,0)","v":{"$error":"#N/A"}},null,null,null,null,1.645E-3,3.5608300000000001E-3,"","","/",{"$error":"#N/A"}]
[null,null,null,{"$f":"VLOOKUP($C996,'SEI ISD'!$A$4:$B$124,2,0)","v":{"$error":"#N/A"}},null,null,null,null,1.645E-3,3.5608300000000001E-3,"","","/",{"$error":"#N/A"}]
[null,null,null,{"$f":"VLOOKUP($C997,'SEI ISD'!$A$4:$B$124,2,0)","v":{"$error":"#N/A"}},null,null,null,null,1.645E-3,3.5608300000000001E-3,"","","/",{"$error":"#N/A"}]
[null,null,null,{"$f":"VLOOKUP($C998,'SEI ISD'!$A$4:$B$124,2,0)","v":{"$error":"#N/A"}},null,null,null,null,1.645E-3,3.5608300000000001E-3,"","","/",{"$error":"#N/A"}]
[null,null,null,{"$f":"VLOOKUP($C999,'SEI ISD'!$A$4:$B$124,2,0)","v":{"$error":"#N/A"}},null,null,null,null,1.645E-3,3.5608300000000001E-3,"","","/",{"$error":"#N/A"}]
[null,null,null,{"$f":"VLOOKUP($C1000,'SEI ISD'!$A$4:$B$124,2,0)","v":{"$error":"#N/A"}},null,null,null,null,1.645E-3,3.5608300000000001E-3,"","","/",{"$error":"#N/A"}]
[null,null,null,{"$f":"VLOOKUP($C1001,'SEI ISD'!$A$4:$B$124,2,0)","v":{"$error":"#N/A"}},null,null,null,null,1.645E-3,3.5608300000000001E-3,"","","/",{"$error":"#N/A"}]
[null,null,null,{"$f":"VLOOKUP($C1002,'SEI ISD'!$A$4:$B$124,2,0)","v":{"$error":"#N/A"}},null,null,null,null,1.645E-3,3.5608300000000001E-3,"","","/",{"$error":"#N/A"}]
[null,null,null,{"$f":"VLOOKUP($C1003,'SEI ISD'!$A$4:$B$124,2,0)","v":{"$error":"#N/A"}},null,null,null,null,1.645E-3,3.5608300000000001E-3,"","","/",{"$error":"#N/A"}]
[null,null,null,{"$f":"VLOOKUP($C1004,'SEI ISD'!$A$4:$B$124,2,0)","v":{"$error":"#N/A"}},null,null,null,null,1.645E-3,3.5608300000000001E-3,"","","/",{"$error":"#N/A"}]
[null,null,null,{"$f":"VLOOKUP($C1005,'SEI ISD'!$A$4:$B$124,2,0)","v":{"$error":"#N/A"}},null,null,null,null,1.645E-3,3.5608300000000001E-3,"","","/",{"$error":"#N/A"}]
[null,null,null,{"$f":"VLOOKUP($C1006,'SEI ISD'!$A$4:$B$124,2,0)","v":{"$error":"#N/A"}},null,null,null,null,1.645E-3,3.5608300000000001E-3,"","","/",{"$error":"#N/A"}]
[null,null,null,{"$f":"VLOOKUP($C1007,'SEI ISD'!$A$4:$B$124,2,0)","v":{"$error":"#N/A"}},null,null,null,null,1.645E-3,3.5608300000000001E-3,"","","/",{"$error":"#N/A"}]
[null,null,null,{"$f":"VLOOKUP($C1008,'SEI ISD'!$A$4:$B$124,2,0)","v":{"$error":"#N/A"}},null,null,null,null,1.645E-3,3.5608300000000001E-3,"","","/",{"$error":"#N/A"}]
[null,null,null,{"$f":"VLOOKUP($C1009,'SEI ISD'!$A$4:$B$124,2,0)","v":{"$error":"#N/A"}},null,null,null,null,1.645E-3,3.5608300000000001E-3,"","","/",{"$error":"#N/A"}]
[null,null,null,{"$f":"VLOOKUP($C1010,'SEI ISD'!$A$4:$B$124,2,0)","v":{"$error":"#N/A"}},null,null,null,null,1.645E-3,3.5608300000000001E-3,"","","/",{"$error":"#N/A"}]
[null,null,null,{"$f":"VLOOKUP($C1011,'SEI ISD'!$A$4:$B$124,2,0)","v":{"$error":"#N/A"}},null,null,null,null,1.645E-3,3.5608300000000001E-3,"","","/",{"$error":"#N/A"}]
[null,null,null,{"$f":"VLOOKUP($C1012,'SEI ISD'!$A$4:$B$124,2,0)","v":{"$error":"#N/A"}},null,null,null,null,1.645E-3,3.5608300000000001E-3,"","","/",{"$error":"#N/A"}]
[null,null,null,{"$f":"VLOOKUP($C1013,'SEI ISD'!$A$4:$B$124,2,0)","v":{"$error":"#N/A"}},null,null,null,null,1.645E-3,3.5608300000000001E-3,"","","/",{"$error":"#N/A"}]
[null,null,null,{"$f":"VLOOKUP($C1014,'SEI ISD'!$A$4:$B$124,2,0)","v":{"$error":"#N/A"}},null,null,null,null,1.645E-3,3.5608300000000001E-3,"","","/",{"$error":"#N/A"}]
[null,null,null,{"$f":"VLOOKUP($C1015,'SEI ISD'!$A$4:$B$124,2,0)","v":{"$error":"#N/A"}},null,null,null,null,1.645E-3,3.5608300000000001E-3,"","","/",{"$error":"#N/A"}]
[null,null,null,{"$f":"VLOOKUP($C1016,'SEI ISD'!$A$4:$B$124,2,0)","v":{"$error":"#N/A"}},null,null,null,null,1.645E-3,3.5608300000000001E-3,"","","/",{"$error":"#N/A"}]
[null,null,null,{"$f":"VLOOKUP($C1017,'SEI ISD'!$A$4:$B$124,2,0)","v":{"$error":"#N/A"}},null,null,null,null,1.645E-3,3.5608300000000001E-3,"","","/",{"$error":"#N/A"}]
[null,null,null,{"$f":"VLOOKUP($C1018,'SEI ISD'!$A$4:$B$124,2,0)","v":{"$error":"#N/A"}},null,null,null,null,1.645E-3,3.5608300000000001E-3,"","","/",{"$error":"#N/A"}]
[null,null,null,{"$f":"VLOOKUP($C1019,'SEI ISD'!$A$4:$B$124,2,0)","v":{"$error":"#N/A"}},null,null,null,null,1.645E-3,3.5608300000000001E-3,"","","/",{"$error":"#N/A"}]
[null,null,null,{"$f":"VLOOKUP($C1020,'SEI ISD'!$A$4:$B$124,2,0)","v":{"$error":"#N/A"}},null,null,null,null,1.645E-3,3.5608300000000001E-3,"","","/",{"$error":"#N/A"}]
[null,null,null,{"$f":"VLOOKUP($C1021,'SEI ISD'!$A$4:$B$124,2,0)","v":{"$error":"#N/A"}},null,null,null,null,1.645E-3,3.5608300000000001E-3,"","","/",{"$error":"#N/A"}]
[null,null,null,{"$f":"VLOOKUP($C1022,'SEI ISD'!$A$4:$B$124,2,0)","v":{"$error":"#N/A"}},null,null,null,null,1.645E-3,3.5608300000000001E-3,"","","/",{"$error":"#N/A"}]
[null,null,null,{"$f":"VLOOKUP($C1023,'SEI ISD'!$A$4:$B$124,2,0)","v":{"$error":"#N/A"}},null,null,null,null,1.645E-3,3.5608300000000001E-3,"","","/",{"$error":"#N/A"}]
[null,null,null,{"$f":"VLOOKUP($C1024,'SEI ISD'!$A$4:$B$124,2,0)","v":{"$error":"#N/A"}},null,null,null,null,1.645E-3,3.5608300000000001E-3,"","","/",{"$error":"#N/A"}]
[null,null,null,{"$f":"VLOOKUP($C1025,'SEI ISD'!$A$4:$B$124,2,0)","v":{"$error":"#N/A"}},null,null,null,null,1.645E-3,3.5608300000000001E-3,"","","/",{"$error":"#N/A"}]
[null,null,null,{"$f":"VLOOKUP($C1026,'SEI ISD'!$A$4:$B$124,2,0)","v":{"$error":"#N/A"}},null,null,null,null,1.645E-3,3.5608300000000001E-3,"","","/",{"$error":"#N/A"}]
[null,null,null,{"$f":"VLOOKUP($C1027,'SEI ISD'!$A$4:$B$124,2,0)","v":{"$error":"#N/A"}},null,null,null,null,1.645E-3,3.5608300000000001E-3,{"$f":"RIGHT(G1027,2)","v":""},{"$f":"LEFT(G1027,4)","v":""},{"$f":"_xlfn.CONCAT(K1027,\"/\",L1027)","v":"/"},{"$f":"EOMONTH(D1027,0)","v":{"$error":"#N/A"}}]
[null,null,null,{"$f":"VLOOKUP($C1028,'SEI ISD'!$A$4:$B$124,2,0)","v":{"$error":"#N/A"}},null,null,null,null,1.645E-3,3.5608300000000001E-3,"","","/",{"$error":"#N/A"}]
[null,null,null,{"$f":"VLOOKUP($C1029,'SEI ISD'!$A$4:$B$124,2,0)","v":{"$error":"#N/A"}},null,null,null,null,1.645E-3,3.5608300000000001E-3,"","","/",{"$error":"#N/A"}]
[null,null,null,{"$f":"VLOOKUP($C1030,'SEI ISD'!$A$4:$B$124,2,0)","v":{"$error":"#N/A"}},null,null,null,null,1.645E-3,3.5608300000000001E-3,"","","/",{"$error":"#N/A"}]
[null,null,null,{"$f":"VLOOKUP($C1031,'SEI ISD'!$A$4:$B$124,2,0)","v":{"$error":"#N/A"}},null,null,null,null,1.645E-3,3.5608300000000001E-3,"","","/",{"$error":"#N/A"}]
[null,null,null,{"$f":"VLOOKUP($C1032,'SEI ISD'!$A$4:$B$124,2,0)","v":{"$error":"#N/A"}},null,null,null,null,1.645E-3,3.5608300000000001E-3,"","","/",{"$error":"#N/A"}]
[null,null,null,{"$f":"VLOOKUP($C1033,'SEI ISD'!$A$4:$B$124,2,0)","v":{"$error":"#N/A"}},null,null,null,null,1.645E-3,3.5608300000000001E-3,"","","/",{"$error":"#N/A"}]
[null,null,null,{"$f":"VLOOKUP($C1034,'SEI ISD'!$A$4:$B$124,2,0)","v":{"$error":"#N/A"}},null,null,null,null,1.645E-3,3.5608300000000001E-3,"","","/",{"$error":"#N/A"}]
[null,null,null,{"$f":"VLOOKUP($C1035,'SEI ISD'!$A$4:$B$124,2,0)","v":{"$error":"#N/A"}},null,null,null,null,1.645E-3,3.5608300000000001E-3,"","","/",{"$error":"#N/A"}]
[null,null,null,{"$f":"VLOOKUP($C1036,'SEI ISD'!$A$4:$B$124,2,0)","v":{"$error":"#N/A"}},null,null,null,null,1.645E-3,3.5608300000000001E-3,"","","/",{"$error":"#N/A"}]
[null,null,null,{"$f":"VLOOKUP($C1037,'SEI ISD'!$A$4:$B$124,2,0)","v":{"$error":"#N/A"}},null,null,null,null,1.645E-3,3.5608300000000001E-3,"","","/",{"$error":"#N/A"}]
[null,null,null,{"$f":"VLOOKUP($C1038,'SEI ISD'!$A$4:$B$124,2,0)","v":{"$error":"#N/A"}},null,null,null,null,1.645E-3,3.5608300000000001E-3,"","","/",{"$error":"#N/A"}]
[null,null,null,{"$f":"VLOOKUP($C1039,'SEI ISD'!$A$4:$B$124,2,0)","v":{"$error":"#N/A"}},null,null,null,null,1.645E-3,3.5608300000000001E-3,"","","/",{"$error":"#N/A"}]
[null,null,null,{"$f":"VLOOKUP($C1040,'SEI ISD'!$A$4:$B$124,2,0)","v":{"$error":"#N/A"}},null,null,null,null,1.645E-3,3.5608300000000001E-3,"","","/",{"$error":"#N/A"}]
[null,null,null,{"$f":"VLOOKUP($C1041,'SEI ISD'!$A$4:$B$124,2,0)","v":{"$error":"#N/A"}},null,null,null,null,1.645E-3,3.5608300000000001E-3,"","","/",{"$error":"#N/A"}]
[null,null,null,{"$f":"VLOOKUP($C1042,'SEI ISD'!$A$4:$B$124,2,0)","v":{"$error":"#N/A"}},null,null,null,null,1.645E-3,3.5608300000000001E-3,"","","/",{"$error":"#N/A"}]
[null,null,null,{"$f":"VLOOKUP($C1043,'SEI ISD'!$A$4:$B$124,2,0)","v":{"$error":"#N/A"}},null,null,null,null,1.645E-3,3.5608300000000001E-3,"","","/",{"$error":"#N/A"}]
[null,null,null,{"$f":"VLOOKUP($C1044,'SEI ISD'!$A$4:$B$124,2,0)","v":{"$error":"#N/A"}},null,null,null,null,1.645E-3,3.5608300000000001E-3,"","","/",{"$error":"#N/A"}]
[null,null,null,{"$f":"VLOOKUP($C1045,'SEI ISD'!$A$4:$B$124,2,0)","v":{"$error":"#N/A"}},null,null,null,null,1.645E-3,3.5608300000000001E-3,"","","/",{"$error":"#N/A"}]
[null,null,null,{"$f":"VLOOKUP($C1046,'SEI ISD'!$A$4:$B$124,2,0)","v":{"$error":"#N/A"}},null,null,null,null,1.645E-3,3.5608300000000001E-3,"","","/",{"$error":"#N/A"}]
[null,null,null,{"$f":"VLOOKUP($C1047,'SEI ISD'!$A$4:$B$124,2,0)","v":{"$error":"#N/A"}},null,null,null,null,1.645E-3,3.5608300000000001E-3,"","","/",{"$error":"#N/A"}]
[null,null,null,{"$f":"VLOOKUP($C1048,'SEI ISD'!$A$4:$B$124,2,0)","v":{"$error":"#N/A"}},null,null,null,null,1.645E-3,3.5608300000000001E-3,"","","/",{"$error":"#N/A"}]
[null,null,null,{"$f":"VLOOKUP($C1049,'SEI ISD'!$A$4:$B$124,2,0)","v":{"$error":"#N/A"}},null,null,null,null,1.645E-3,3.5608300000000001E-3,"","","/",{"$error":"#N/A"}]
[null,null,null,{"$f":"VLOOKUP($C1050,'SEI ISD'!$A$4:$B$124,2,0)","v":{"$error":"#N/A"}},null,null,null,null,1.645E-3,3.5608300000000001E-3,"","","/",{"$error":"#N/A"}]
[null,null,null,{"$f":"VLOOKUP($C1051,'SEI ISD'!$A$4:$B$124,2,0)","v":{"$error":"#N/A"}},null,null,null,null,1.645E-3,3.5608300000000001E-3,"","","/",{"$error":"#N/A"}]
[null,null,null,{"$f":"VLOOKUP($C1052,'SEI ISD'!$A$4:$B$124,2,0)","v":{"$error":"#N/A"}},null,null,null,null,1.645E-3,3.5608300000000001E-3,"","","/",{"$error":"#N/A"}]
[null,null,null,{"$f":"VLOOKUP($C1053,'SEI ISD'!$A$4:$B$124,2,0)","v":{"$error":"#N/A"}},null,null,null,null,1.645E-3,3.5608300000000001E-3,"","","/",{"$error":"#N/A"}]
[null,null,null,{"$f":"VLOOKUP($C1054,'SEI ISD'!$A$4:$B$124,2,0)","v":{"$error":"#N/A"}},null,null,null,null,1.645E-3,3.5608300000000001E-3,"","","/",{"$error":"#N/A"}]
[null,null,null,{"$f":"VLOOKUP($C1055,'SEI ISD'!$A$4:$B$124,2,0)","v":{"$error":"#N/A"}},null,null,null,null,1.645E-3,3.5608300000000001E-3,"","","/",{"$error":"#N/A"}]
[null,null,null,{"$f":"VLOOKUP($C1056,'SEI ISD'!$A$4:$B$124,2,0)","v":{"$error":"#N/A"}},null,null,null,null,1.645E-3,3.5608300000000001E-3,"","","/",{"$error":"#N/A"}]
[null,null,null,{"$f":"VLOOKUP($C1057,'SEI ISD'!$A$4:$B$124,2,0)","v":{"$error":"#N/A"}},null,null,null,null,1.645E-3,3.5608300000000001E-3,"","","/",{"$error":"#N/A"}]
[null,null,null,{"$f":"VLOOKUP($C1058,'SEI ISD'!$A$4:$B$124,2,0)","v":{"$error":"#N/A"}},null,null,null,null,1.645E-3,3.5608300000000001E-3,"","","/",{"$error":"#N/A"}]
[null,null,null,{"$f":"VLOOKUP($C1059,'SEI ISD'!$A$4:$B$124,2,0)","v":{"$error":"#N/A"}},null,null,null,null,1.645E-3,3.5608300000000001E-3,"","","/",{"$error":"#N/A"}]
[null,null,null,{"$f":"VLOOKUP($C1060,'SEI ISD'!$A$4:$B$124,2,0)","v":{"$error":"#N/A"}},null,null,null,null,1.645E-3,3.5608300000000001E-3,"","","/",{"$error":"#N/A"}]
[null,null,null,{"$f":"VLOOKUP($C1061,'SEI ISD'!$A$4:$B$124,2,0)","v":{"$error":"#N/A"}},null,null,null,null,1.645E-3,3.5608300000000001E-3,"","","/",{"$error":"#N/A"}]
[null,null,null,{"$f":"VLOOKUP($C1062,'SEI ISD'!$A$4:$B$124,2,0)","v":{"$error":"#N/A"}},null,null,null,null,1.645E-3,3.5608300000000001E-3,"","","/",{"$error":"#N/A"}]
[null,null,null,{"$f":"VLOOKUP($C1063,'SEI ISD'!$A$4:$B$124,2,0)","v":{"$error":"#N/A"}},null,null,null,null,1.645E-3,3.5608300000000001E-3,"","","/",{"$error":"#N/A"}]
[null,null,null,{"$f":"VLOOKUP($C1064,'SEI ISD'!$A$4:$B$124,2,0)","v":{"$error":"#N/A"}},null,null,null,null,1.645E-3,3.5608300000000001E-3,"","","/",{"$error":"#N/A"}]
[null,null,null,{"$f":"VLOOKUP($C1065,'SEI ISD'!$A$4:$B$124,2,0)","v":{"$error":"#N/A"}},null,null,null,null,1.645E-3,3.5608300000000001E-3,"","","/",{"$error":"#N/A"}]
[null,null,null,{"$f":"VLOOKUP($C1066,'SEI ISD'!$A$4:$B$124,2,0)","v":{"$error":"#N/A"}},null,null,null,null,1.645E-3,3.5608300000000001E-3,"","","/",{"$error":"#N/A"}]
[null,null,null,{"$f":"VLOOKUP($C1067,'SEI ISD'!$A$4:$B$124,2,0)","v":{"$error":"#N/A"}},null,null,null,null,1.645E-3,3.5608300000000001E-3,"","","/",{"$error":"#N/A"}]
[null,null,null,{"$f":"VLOOKUP($C1068,'SEI ISD'!$A$4:$B$124,2,0)","v":{"$error":"#N/A"}},null,null,null,null,1.645E-3,3.5608300000000001E-3,"","","/",{"$error":"#N/A"}]
[null,null,null,{"$f":"VLOOKUP($C1069,'SEI ISD'!$A$4:$B$124,2,0)","v":{"$error":"#N/A"}},null,null,null,null,1.645E-3,3.5608300000000001E-3,"","","/",{"$error":"#N/A"}]
[null,null,null,{"$f":"VLOOKUP($C1070,'SEI ISD'!$A$4:$B$124,2,0)","v":{"$error":"#N/A"}},null,null,null,null,1.645E-3,3.5608300000000001E-3,"","","/",{"$error":"#N/A"}]
[null,null,null,{"$f":"VLOOKUP($C1071,'SEI ISD'!$A$4:$B$124,2,0)","v":{"$error":"#N/A"}},null,null,null,null,1.645E-3,3.5608300000000001E-3,"","","/",{"$error":"#N/A"}]
[null,null,null,{"$f":"VLOOKUP($C1072,'SEI ISD'!$A$4:$B$124,2,0)","v":{"$error":"#N/A"}},null,null,null,null,1.645E-3,3.5608300000000001E-3,"","","/",{"$error":"#N/A"}]
[null,null,null,{"$f":"VLOOKUP($C1073,'SEI ISD'!$A$4:$B$124,2,0)","v":{"$error":"#N/A"}},null,null,null,null,1.645E-3,3.5608300000000001E-3,"","","/",{"$error":"#N/A"}]
[null,null,null,{"$f":"VLOOKUP($C1074,'SEI ISD'!$A$4:$B$124,2,0)","v":{"$error":"#N/A"}},null,null,null,null,1.645E-3,3.5608300000000001E-3,"","","/",{"$error":"#N/A"}]
[null,null,null,{"$f":"VLOOKUP($C1075,'SEI ISD'!$A$4:$B$124,2,0)","v":{"$error":"#N/A"}},null,null,null,null,1.645E-3,3.5608300000000001E-3,"","","/",{"$error":"#N/A"}]
[null,null,null,{"$f":"VLOOKUP($C1076,'SEI ISD'!$A$4:$B$124,2,0)","v":{"$error":"#N/A"}},null,null,null,null,1.645E-3,3.5608300000000001E-3,"","","/",{"$error":"#N/A"}]
[null,null,null,{"$f":"VLOOKUP($C1077,'SEI ISD'!$A$4:$B$124,2,0)","v":{"$error":"#N/A"}},null,null,null,null,1.645E-3,3.5608300000000001E-3,"","","/",{"$error":"#N/A"}]
[null,null,null,{"$f":"VLOOKUP($C1078,'SEI ISD'!$A$4:$B$124,2,0)","v":{"$error":"#N/A"}},null,null,null,null,1.645E-3,3.5608300000000001E-3,"","","/",{"$error":"#N/A"}]
[null,null,null,{"$f":"VLOOKUP($C1079,'SEI ISD'!$A$4:$B$124,2,0)","v":{"$error":"#N/A"}},null,null,null,null,1.645E-3,3.5608300000000001E-3,"","","/",{"$error":"#N/A"}]
[null,null,null,{"$f":"VLOOKUP($C1080,'SEI ISD'!$A$4:$B$124,2,0)","v":{"$error":"#N/A"}},null,null,null,null,1.645E-3,3.5608300000000001E-3,"","","/",{"$error":"#N/A"}]
[null,null,null,{"$f":"VLOOKUP($C1081,'SEI ISD'!$A$4:$B$124,2,0)","v":{"$error":"#N/A"}},null,null,null,null,1.645E-3,3.5608300000000001E-3,"","","/",{"$error":"#N/A"}]
[null,null,null,{"$f":"VLOOKUP($C1082,'SEI ISD'!$A$4:$B$124,2,0)","v":{"$error":"#N/A"}},null,null,null,null,1.645E-3,3.5608300000000001E-3,"","","/",{"$error":"#N/A"}]
[null,null,null,{"$f":"VLOOKUP($C1083,'SEI ISD'!$A$4:$B$124,2,0)","v":{"$error":"#N/A"}},null,null,null,null,1.645E-3,3.5608300000000001E-3,"","","/",{"$error":"#N/A"}]
[null,null,null,{"$f":"VLOOKUP($C1084,'SEI ISD'!$A$4:$B$124,2,0)","v":{"$error":"#N/A"}},null,null,null,null,1.645E-3,3.5608300000000001E-3,"","","/",{"$error":"#N/A"}]
[null,null,null,{"$f":"VLOOKUP($C1085,'SEI ISD'!$A$4:$B$124,2,0)","v":{"$error":"#N/A"}},null,null,null,null,1.645E-3,3.5608300000000001E-3,"","","/",{"$error":"#N/A"}]
[null,null,null,{"$f":"VLOOKUP($C1086,'SEI ISD'!$A$4:$B$124,2,0)","v":{"$error":"#N/A"}},null,null,null,null,1.645E-3,3.5608300000000001E-3,"","","/",{"$error":"#N/A"}]
[null,null,null,{"$f":"VLOOKUP($C1087,'SEI ISD'!$A$4:$B$124,2,0)","v":{"$error":"#N/A"}},null,null,null,null,1.645E-3,3.5608300000000001E-3,"","","/",{"$error":"#N/A"}]
[null,null,null,{"$f":"VLOOKUP($C1088,'SEI ISD'!$A$4:$B$124,2,0)","v":{"$error":"#N/A"}},null,null,null,null,1.645E-3,3.5608300000000001E-3,"","","/",{"$error":"#N/A"}]
[null,null,null,{"$f":"VLOOKUP($C1089,'SEI ISD'!$A$4:$B$124,2,0)","v":{"$error":"#N/A"}},null,null,null,null,1.645E-3,3.5608300000000001E-3,"","","/",{"$error":"#N/A"}]
[null,null,null,{"$f":"VLOOKUP($C1090,'SEI ISD'!$A$4:$B$124,2,0)","v":{"$error":"#N/A"}},null,null,null,null,1.645E-3,3.5608300000000001E-3,"","","/",{"$error":"#N/A"}]
[null,null,null,{"$f":"VLOOKUP($C1091,'SEI ISD'!$A$4:$B$124,2,0)","v":{"$error":"#N/A"}},null,null,null,null,1.645E-3,3.5608300000000001E-3,{"$f":"RIGHT(G1091,2)","v":""},{"$f":"LEFT(G1091,4)","v":""},{"$f":"_xlfn.CONCAT(K1091,\"/\",L1091)","v":"/"},{"$f":"EOMONTH(D1091,0)","v":{"$error":"#N/A"}}]
[null,null,null,{"$f":"VLOOKUP($C1092,'SEI ISD'!$A$4:$B$124,2,0)","v":{"$error":"#N/A"}},null,null,null,null,1.645E-3,3.5608300000000001E-3,"","","/",{"$error":"#N/A"}]
[null,null,null,{"$f":"VLOOKUP($C1093,'SEI ISD'!$A$4:$B$124,2,0)","v":{"$error":"#N/A"}},null,null,null,null,1.645E-3,3.5608300000000001E-3,"","","/",{"$error":"#N/A"}]
[null,null,null,{"$f":"VLOOKUP($C1094,'SEI ISD'!$A$4:$B$124,2,0)","v":{"$error":"#N/A"}},null,null,null,null,1.645E-3,3.5608300000000001E-3,"","","/",{"$error":"#N/A"}]
[null,null,null,{"$f":"VLOOKUP($C1095,'SEI ISD'!$A$4:$B$124,2,0)","v":{"$error":"#N/A"}},null,null,null,null,1.645E-3,3.5608300000000001E-3,"","","/",{"$error":"#N/A"}]
[null,null,null,{"$f":"VLOOKUP($C1096,'SEI ISD'!$A$4:$B$124,2,0)","v":{"$error":"#N/A"}},null,null,null,null,1.645E-3,3.5608300000000001E-3,"","","/",{"$error":"#N/A"}]
[null,null,null,{"$f":"VLOOKUP($C1097,'SEI ISD'!$A$4:$B$124,2,0)","v":{"$error":"#N/A"}},null,null,null,null,1.645E-3,3.5608300000000001E-3,"","","/",{"$error":"#N/A"}]
[null,null,null,{"$f":"VLOOKUP($C1098,'SEI ISD'!$A$4:$B$124,2,0)","v":{"$error":"#N/A"}},null,null,null,null,1.645E-3,3.5608300000000001E-3,"","","/",{"$error":"#N/A"}]
[null,null,null,{"$f":"VLOOKUP($C1099,'SEI ISD'!$A$4:$B$124,2,0)","v":{"$error":"#N/A"}},null,null,null,null,1.645E-3,3.5608300000000001E-3,"","","/",{"$error":"#N/A"}]
[null,null,null,{"$f":"VLOOKUP($C1100,'SEI ISD'!$A$4:$B$124,2,0)","v":{"$error":"#N/A"}},null,null,null,null,1.645E-3,3.5608300000000001E-3,"","","/",{"$error":"#N/A"}]
[null,null,null,{"$f":"VLOOKUP($C1101,'SEI ISD'!$A$4:$B$124,2,0)","v":{"$error":"#N/A"}},null,null,null,null,1.645E-3,3.5608300000000001E-3,"","","/",{"$error":"#N/A"}]
[null,null,null,{"$f":"VLOOKUP($C1102,'SEI ISD'!$A$4:$B$124,2,0)","v":{"$error":"#N/A"}},null,null,null,null,1.645E-3,3.5608300000000001E-3,"","","/",{"$error":"#N/A"}]
[null,null,null,{"$f":"VLOOKUP($C1103,'SEI ISD'!$A$4:$B$124,2,0)","v":{"$error":"#N/A"}},null,null,null,null,1.645E-3,3.5608300000000001E-3,"","","/",{"$error":"#N/A"}]
[null,null,null,{"$f":"VLOOKUP($C1104,'SEI ISD'!$A$4:$B$124,2,0)","v":{"$error":"#N/A"}},null,null,null,null,1.645E-3,3.5608300000000001E-3,"","","/",{"$error":"#N/A"}]
[null,null,null,{"$f":"VLOOKUP($C1105,'SEI ISD'!$A$4:$B$124,2,0)","v":{"$error":"#N/A"}},null,null,null,null,1.645E-3,3.5608300000000001E-3,"","","/",{"$error":"#N/A"}]
[null,null,null,{"$f":"VLOOKUP($C1106,'SEI ISD'!$A$4:$B$124,2,0)","v":{"$error":"#N/A"}},null,null,null,null,1.645E-3,3.5608300000000001E-3,"","","/",{"$error":"#N/A"}]
[null,null,null,{"$f":"VLOOKUP($C1107,'SEI ISD'!$A$4:$B$124,2,0)","v":{"$error":"#N/A"}},null,null,null,null,1.645E-3,3.5608300000000001E-3,"","","/",{"$error":"#N/A"}]
[null,null,null,{"$f":"VLOOKUP($C1108,'SEI ISD'!$A$4:$B$124,2,0)","v":{"$error":"#N/A"}},null,null,null,null,1.645E-3,3.5608300000000001E-3,"","","/",{"$error":"#N/A"}]
[null,null,null,{"$f":"VLOOKUP($C1109,'SEI ISD'!$A$4:$B$124,2,0)","v":{"$error":"#N/A"}},null,null,null,null,1.645E-3,3.5608300000000001E-3,"","","/",{"$error":"#N/A"}]
[null,null,null,{"$f":"VLOOKUP($C1110,'SEI ISD'!$A$4:$B$124,2,0)","v":{"$error":"#N/A"}},null,null,null,null,1.645E-3,3.5608300000000001E-3,"","","/",{"$error":"#N/A"}]
[null,null,null,{"$f":"VLOOKUP($C1111,'SEI ISD'!$A$4:$B$124,2,0)","v":{"$error":"#N/A"}},null,null,null,null,1.645E-3,3.5608300000000001E-3,"","","/",{"$error":"#N/A"}]
[null,null,null,{"$f":"VLOOKUP($C1112,'SEI ISD'!$A$4:$B$124,2,0)","v":{"$error":"#N/A"}},null,null,null,null,1.645E-3,3.5608300000000001E-3,"","","/",{"$error":"#N/A"}]
[null,null,null,{"$f":"VLOOKUP($C1113,'SEI ISD'!$A$4:$B$124,2,0)","v":{"$error":"#N/A"}},null,null,null,null,1.645E-3,3.5608300000000001E-3,"","","/",{"$error":"#N/A"}]
[null,null,null,{"$f":"VLOOKUP($C1114,'SEI ISD'!$A$4:$B$124,2,0)","v":{"$error":"#N/A"}},null,null,null,null,1.645E-3,3.5608300000000001E-3,"","","/",{"$error":"#N/A"}]
[null,null,null,{"$f":"VLOOKUP($C1115,'SEI ISD'!$A$4:$B$124,2,0)","v":{"$error":"#N/A"}},null,null,null,null,1.645E-3,3.5608300000000001E-3,"","","/",{"$error":"#N/A"}]
[null,null,null,{"$f":"VLOOKUP($C1116,'SEI ISD'!$A$4:$B$124,2,0)","v":{"$error":"#N/A"}},null,null,null,null,1.645E-3,3.5608300000000001E-3,"","","/",{"$error":"#N/A"}]
[null,null,null,{"$f":"VLOOKUP($C1117,'SEI ISD'!$A$4:$B$124,2,0)","v":{"$error":"#N/A"}},null,null,null,null,1.645E-3,3.5608300000000001E-3,"","","/",{"$error":"#N/A"}]
[null,null,null,{"$f":"VLOOKUP($C1118,'SEI ISD'!$A$4:$B$124,2,0)","v":{"$error":"#N/A"}},null,null,null,null,1.645E-3,3.5608300000000001E-3,"","","/",{"$error":"#N/A"}]
[null,null,null,{"$f":"VLOOKUP($C1119,'SEI ISD'!$A$4:$B$124,2,0)","v":{"$error":"#N/A"}},null,null,null,null,1.645E-3,3.5608300000000001E-3,"","","/",{"$error":"#N/A"}]
[null,null,null,{"$f":"VLOOKUP($C1120,'SEI ISD'!$A$4:$B$124,2,0)","v":{"$error":"#N/A"}},null,null,null,null,1.645E-3,3.5608300000000001E-3,"","","/",{"$error":"#N/A"}]
[null,null,null,{"$f":"VLOOKUP($C1121,'SEI ISD'!$A$4:$B$124,2,0)","v":{"$error":"#N/A"}},null,null,null,null,1.645E-3,3.5608300000000001E-3,"","","/",{"$error":"#N/A"}]
[null,null,null,{"$f":"VLOOKUP($C1122,'SEI ISD'!$A$4:$B$124,2,0)","v":{"$error":"#N/A"}},null,null,null,null,1.645E-3,3.5608300000000001E-3,"","","/",{"$error":"#N/A"}]
[null,null,null,{"$f":"VLOOKUP($C1123,'SEI ISD'!$A$4:$B$124,2,0)","v":{"$error":"#N/A"}},null,null,null,null,1.645E-3,3.5608300000000001E-3,"","","/",{"$error":"#N/A"}]
[null,null,null,{"$f":"VLOOKUP($C1124,'SEI ISD'!$A$4:$B$124,2,0)","v":{"$error":"#N/A"}},null,null,null,null,1.645E-3,3.5608300000000001E-3,"","","/",{"$error":"#N/A"}]
[null,null,null,{"$f":"VLOOKUP($C1125,'SEI ISD'!$A$4:$B$124,2,0)","v":{"$error":"#N/A"}},null,null,null,null,1.645E-3,3.5608300000000001E-3,"","","/",{"$error":"#N/A"}]
[null,null,null,{"$f":"VLOOKUP($C1126,'SEI ISD'!$A$4:$B$124,2,0)","v":{"$error":"#N/A"}},null,null,null,null,1.645E-3,3.5608300000000001E-3,"","","/",{"$error":"#N/A"}]
[null,null,null,{"$f":"VLOOKUP($C1127,'SEI ISD'!$A$4:$B$124,2,0)","v":{"$error":"#N/A"}},null,null,null,null,1.645E-3,3.5608300000000001E-3,"","","/",{"$error":"#N/A"}]
[null,null,null,{"$f":"VLOOKUP($C1128,'SEI ISD'!$A$4:$B$124,2,0)","v":{"$error":"#N/A"}},null,null,null,null,1.645E-3,3.5608300000000001E-3,"","","/",{"$error":"#N/A"}]
[null,null,null,{"$f":"VLOOKUP($C1129,'SEI ISD'!$A$4:$B$124,2,0)","v":{"$error":"#N/A"}},null,null,null,null,1.645E-3,3.5608300000000001E-3,"","","/",{"$error":"#N/A"}]
[null,null,null,{"$f":"VLOOKUP($C1130,'SEI ISD'!$A$4:$B$124,2,0)","v":{"$error":"#N/A"}},null,null,null,null,1.645E-3,3.5608300000000001E-3,"","","/",{"$error":"#N/A"}]
[null,null,null,{"$f":"VLOOKUP($C1131,'SEI ISD'!$A$4:$B$124,2,0)","v":{"$error":"#N/A"}},null,null,null,null,1.645E-3,3.5608300000000001E-3,"","","/",{"$error":"#N/A"}]
[null,null,null,{"$f":"VLOOKUP($C1132,'SEI ISD'!$A$4:$B$124,2,0)","v":{"$error":"#N/A"}},null,null,null,null,1.645E-3,3.5608300000000001E-3,"","","/",{"$error":"#N/A"}]
[null,null,null,{"$f":"VLOOKUP($C1133,'SEI ISD'!$A$4:$B$124,2,0)","v":{"$error":"#N/A"}},null,null,null,null,1.645E-3,3.5608300000000001E-3,"","","/",{"$error":"#N/A"}]
[null,null,null,{"$f":"VLOOKUP($C1134,'SEI ISD'!$A$4:$B$124,2,0)","v":{"$error":"#N/A"}},null,null,null,null,1.645E-3,3.5608300000000001E-3,"","","/",{"$error":"#N/A"}]
[null,null,null,{"$f":"VLOOKUP($C1135,'SEI ISD'!$A$4:$B$124,2,0)","v":{"$error":"#N/A"}},null,null,null,null,1.645E-3,3.5608300000000001E-3,"","","/",{"$error":"#N/A"}]
[null,null,null,{"$f":"VLOOKUP($C1136,'SEI ISD'!$A$4:$B$124,2,0)","v":{"$error":"#N/A"}},null,null,null,null,1.645E-3,3.5608300000000001E-3,"","","/",{"$error":"#N/A"}]
[null,null,null,{"$f":"VLOOKUP($C1137,'SEI ISD'!$A$4:$B$124,2,0)","v":{"$error":"#N/A"}},null,null,null,null,1.645E-3,3.5608300000000001E-3,"","","/",{"$error":"#N/A"}]
[null,null,null,{"$f":"VLOOKUP($C1138,'SEI ISD'!$A$4:$B$124,2,0)","v":{"$error":"#N/A"}},null,null,null,null,1.645E-3,3.5608300000000001E-3,"","","/",{"$error":"#N/A"}]
[null,null,null,{"$f":"VLOOKUP($C1139,'SEI ISD'!$A$4:$B$124,2,0)","v":{"$error":"#N/A"}},null,null,null,null,1.645E-3,3.5608300000000001E-3,"","","/",{"$error":"#N/A"}]
[null,null,null,{"$f":"VLOOKUP($C1140,'SEI ISD'!$A$4:$B$124,2,0)","v":{"$error":"#N/A"}},null,null,null,null,1.645E-3,3.5608300000000001E-3,"","","/",{"$error":"#N/A"}]
[null,null,null,{"$f":"VLOOKUP($C1141,'SEI ISD'!$A$4:$B$124,2,0)","v":{"$error":"#N/A"}},null,null,null,null,1.645E-3,3.5608300000000001E-3,"","","/",{"$error":"#N/A"}]
[null,null,null,{"$f":"VLOOKUP($C1142,'SEI ISD'!$A$4:$B$124,2,0)","v":{"$error":"#N/A"}},null,null,null,null,1.645E-3,3.5608300000000001E-3,"","","/",{"$error":"#N/A"}]
[null,null,null,{"$f":"VLOOKUP($C1143,'SEI ISD'!$A$4:$B$124,2,0)","v":{"$error":"#N/A"}},null,null,null,null,1.645E-3,3.5608300000000001E-3,"","","/",{"$error":"#N/A"}]
[null,null,null,{"$f":"VLOOKUP($C1144,'SEI ISD'!$A$4:$B$124,2,0)","v":{"$error":"#N/A"}},null,null,null,null,1.645E-3,3.5608300000000001E-3,"","","/",{"$error":"#N/A"}]
[null,null,null,{"$f":"VLOOKUP($C1145,'SEI ISD'!$A$4:$B$124,2,0)","v":{"$error":"#N/A"}},null,null,null,null,1.645E-3,3.5608300000000001E-3,"","","/",{"$error":"#N/A"}]
[null,null,null,{"$f":"VLOOKUP($C1146,'SEI ISD'!$A$4:$B$124,2,0)","v":{"$error":"#N/A"}},null,null,null,null,1.645E-3,3.5608300000000001E-3,"","","/",{"$error":"#N/A"}]
[null,null,null,{"$f":"VLOOKUP($C1147,'SEI ISD'!$A$4:$B$124,2,0)","v":{"$error":"#N/A"}},null,null,null,null,1.645E-3,3.5608300000000001E-3,"","","/",{"$error":"#N/A"}]
[null,null,null,{"$f":"VLOOKUP($C1148,'SEI ISD'!$A$4:$B$124,2,0)","v":{"$error":"#N/A"}},null,null,null,null,1.645E-3,3.5608300000000001E-3,"","","/",{"$error":"#N/A"}]
[null,null,null,{"$f":"VLOOKUP($C1149,'SEI ISD'!$A$4:$B$124,2,0)","v":{"$error":"#N/A"}},null,null,null,null,1.645E-3,3.5608300000000001E-3,"","","/",{"$error":"#N/A"}]
[null,null,null,{"$f":"VLOOKUP($C1150,'SEI ISD'!$A$4:$B$124,2,0)","v":{"$error":"#N/A"}},null,null,null,null,1.645E-3,3.5608300000000001E-3,"","","/",{"$error":"#N/A"}]
[null,null,null,{"$f":"VLOOKUP($C1151,'SEI ISD'!$A$4:$B$124,2,0)","v":{"$error":"#N/A"}},null,null,null,null,1.645E-3,3.5608300000000001E-3,"","","/",{"$error":"#N/A"}]
[null,null,null,{"$f":"VLOOKUP($C1152,'SEI ISD'!$A$4:$B$124,2,0)","v":{"$error":"#N/A"}},null,null,null,null,1.645E-3,3.5608300000000001E-3,"","","/",{"$error":"#N/A"}]
[null,null,null,{"$f":"VLOOKUP($C1153,'SEI ISD'!$A$4:$B$124,2,0)","v":{"$error":"#N/A"}},null,null,null,null,1.645E-3,3.5608300000000001E-3,"","","/",{"$error":"#N/A"}]
[null,null,null,{"$f":"VLOOKUP($C1154,'SEI ISD'!$A$4:$B$124,2,0)","v":{"$error":"#N/A"}},null,null,null,null,1.645E-3,3.5608300000000001E-3,"","","/",{"$error":"#N/A"}]
[null,null,null,{"$f":"VLOOKUP($C1155,'SEI ISD'!$A$4:$B$124,2,0)","v":{"$error":"#N/A"}},null,null,null,null,1.645E-3,3.5608300000000001E-3,{"$f":"RIGHT(G1155,2)","v":""},{"$f":"LEFT(G1155,4)","v":""},{"$f":"_xlfn.CONCAT(K1155,\"/\",L1155)","v":"/"},{"$f":"EOMONTH(D1155,0)","v":{"$error":"#N/A"}}]
[null,null,null,{"$f":"VLOOKUP($C1156,'SEI ISD'!$A$4:$B$124,2,0)","v":{"$error":"#N/A"}},null,null,null,null,1.645E-3,3.5608300000000001E-3,"","","/",{"$error":"#N/A"}]
[null,null,null,{"$f":"VLOOKUP($C1157,'SEI ISD'!$A$4:$B$124,2,0)","v":{"$error":"#N/A"}},null,null,null,null,1.645E-3,3.5608300000000001E-3,"","","/",{"$error":"#N/A"}]
[null,null,null,{"$f":"VLOOKUP($C1158,'SEI ISD'!$A$4:$B$124,2,0)","v":{"$error":"#N/A"}},null,null,null,null,1.645E-3,3.5608300000000001E-3,"","","/",{"$error":"#N/A"}]
[null,null,null,{"$f":"VLOOKUP($C1159,'SEI ISD'!$A$4:$B$124,2,0)","v":{"$error":"#N/A"}},null,null,null,null,1.645E-3,3.5608300000000001E-3,"","","/",{"$error":"#N/A"}]
[null,null,null,{"$f":"VLOOKUP($C1160,'SEI ISD'!$A$4:$B$124,2,0)","v":{"$error":"#N/A"}},null,null,null,null,1.645E-3,3.5608300000000001E-3,"","","/",{"$error":"#N/A"}]
[null,null,null,{"$f":"VLOOKUP($C1161,'SEI ISD'!$A$4:$B$124,2,0)","v":{"$error":"#N/A"}},null,null,null,null,1.645E-3,3.5608300000000001E-3,"","","/",{"$error":"#N/A"}]
[null,null,null,{"$f":"VLOOKUP($C1162,'SEI ISD'!$A$4:$B$124,2,0)","v":{"$error":"#N/A"}},null,null,null,null,1.645E-3,3.5608300000000001E-3,"","","/",{"$error":"#N/A"}]
[null,null,null,{"$f":"VLOOKUP($C1163,'SEI ISD'!$A$4:$B$124,2,0)","v":{"$error":"#N/A"}},null,null,null,null,1.645E-3,3.5608300000000001E-3,"","","/",{"$error":"#N/A"}]
[null,null,null,{"$f":"VLOOKUP($C1164,'SEI ISD'!$A$4:$B$124,2,0)","v":{"$error":"#N/A"}},null,null,null,null,1.645E-3,3.5608300000000001E-3,"","","/",{"$error":"#N/A"}]
[null,null,null,{"$f":"VLOOKUP($C1165,'SEI ISD'!$A$4:$B$124,2,0)","v":{"$error":"#N/A"}},null,null,null,null,1.645E-3,3.5608300000000001E-3,"","","/",{"$error":"#N/A"}]
[null,null,null,{"$f":"VLOOKUP($C1166,'SEI ISD'!$A$4:$B$124,2,0)","v":{"$error":"#N/A"}},null,null,null,null,1.645E-3,3.5608300000000001E-3,"","","/",{"$error":"#N/A"}]
[null,null,null,{"$f":"VLOOKUP($C1167,'SEI ISD'!$A$4:$B$124,2,0)","v":{"$error":"#N/A"}},null,null,null,null,1.645E-3,3.5608300000000001E-3,"","","/",{"$error":"#N/A"}]
[null,null,null,{"$f":"VLOOKUP($C1168,'SEI ISD'!$A$4:$B$124,2,0)","v":{"$error":"#N/A"}},null,null,null,null,1.645E-3,3.5608300000000001E-3,"","","/",{"$error":"#N/A"}]
[null,null,null,{"$f":"VLOOKUP($C1169,'SEI ISD'!$A$4:$B$124,2,0)","v":{"$error":"#N/A"}},null,null,null,null,1.645E-3,3.5608300000000001E-3,"","","/",{"$error":"#N/A"}]
[null,null,null,{"$f":"VLOOKUP($C1170,'SEI ISD'!$A$4:$B$124,2,0)","v":{"$error":"#N/A"}},null,null,null,null,1.645E-3,3.5608300000000001E-3,"","","/",{"$error":"#N/A"}]
[null,null,null,{"$f":"VLOOKUP($C1171,'SEI ISD'!$A$4:$B$124,2,0)","v":{"$error":"#N/A"}},null,null,null,null,1.645E-3,3.5608300000000001E-3,"","","/",{"$error":"#N/A"}]
[null,null,null,{"$f":"VLOOKUP($C1172,'SEI ISD'!$A$4:$B$124,2,0)","v":{"$error":"#N/A"}},null,null,null,null,1.645E-3,3.5608300000000001E-3,"","","/",{"$error":"#N/A"}]
[null,null,null,{"$f":"VLOOKUP($C1173,'SEI ISD'!$A$4:$B$124,2,0)","v":{"$error":"#N/A"}},null,null,null,null,1.645E-3,3.5608300000000001E-3,"","","/",{"$error":"#N/A"}]
[null,null,null,{"$f":"VLOOKUP($C1174,'SEI ISD'!$A$4:$B$124,2,0)","v":{"$error":"#N/A"}},null,null,null,null,1.645E-3,3.5608300000000001E-3,"","","/",{"$error":"#N/A"}]
[null,null,null,{"$f":"VLOOKUP($C1175,'SEI ISD'!$A$4:$B$124,2,0)","v":{"$error":"#N/A"}},null,null,null,null,1.645E-3,3.5608300000000001E-3,"","","/",{"$error":"#N/A"}]
[null,null,null,{"$f":"VLOOKUP($C1176,'SEI ISD'!$A$4:$B$124,2,0)","v":{"$error":"#N/A"}},null,null,null,null,1.645E-3,3.5608300000000001E-3,"","","/",{"$error":"#N/A"}]
[null,null,null,{"$f":"VLOOKUP($C1177,'SEI ISD'!$A$4:$B$124,2,0)","v":{"$error":"#N/A"}},null,null,null,null,1.645E-3,3.5608300000000001E-3,"","","/",{"$error":"#N/A"}]
[null,null,null,{"$f":"VLOOKUP($C1178,'SEI ISD'!$A$4:$B$124,2,0)","v":{"$error":"#N/A"}},null,null,null,null,1.645E-3,3.5608300000000001E-3,"","","/",{"$error":"#N/A"}]
[null,null,null,{"$f":"VLOOKUP($C1179,'SEI ISD'!$A$4:$B$124,2,0)","v":{"$error":"#N/A"}},null,null,null,null,1.645E-3,3.5608300000000001E-3,"","","/",{"$error":"#N/A"}]
[null,null,null,{"$f":"VLOOKUP($C1180,'SEI ISD'!$A$4:$B$124,2,0)","v":{"$error":"#N/A"}},null,null,null,null,1.645E-3,3.5608300000000001E-3,"","","/",{"$error":"#N/A"}]
[null,null,null,{"$f":"VLOOKUP($C1181,'SEI ISD'!$A$4:$B$124,2,0)","v":{"$error":"#N/A"}},null,null,null,null,1.645E-3,3.5608300000000001E-3,"","","/",{"$error":"#N/A"}]
[null,null,null,{"$f":"VLOOKUP($C1182,'SEI ISD'!$A$4:$B$124,2,0)","v":{"$error":"#N/A"}},null,null,null,null,1.645E-3,3.5608300000000001E-3,"","","/",{"$error":"#N/A"}]
[null,null,null,{"$f":"VLOOKUP($C1183,'SEI ISD'!$A$4:$B$124,2,0)","v":{"$error":"#N/A"}},null,null,null,null,1.645E-3,3.5608300000000001E-3,"","","/",{"$error":"#N/A"}]
[null,null,null,{"$f":"VLOOKUP($C1184,'SEI ISD'!$A$4:$B$124,2,0)","v":{"$error":"#N/A"}},null,null,null,null,1.645E-3,3.5608300000000001E-3,"","","/",{"$error":"#N/A"}]
[null,null,null,{"$f":"VLOOKUP($C1185,'SEI ISD'!$A$4:$B$124,2,0)","v":{"$error":"#N/A"}},null,null,null,null,1.645E-3,3.5608300000000001E-3,"","","/",{"$error":"#N/A"}]
[null,null,null,{"$f":"VLOOKUP($C1186,'SEI ISD'!$A$4:$B$124,2,0)","v":{"$error":"#N/A"}},null,null,null,null,1.645E-3,3.5608300000000001E-3,"","","/",{"$error":"#N/A"}]
[null,null,null,{"$f":"VLOOKUP($C1187,'SEI ISD'!$A$4:$B$124,2,0)","v":{"$error":"#N/A"}},null,null,null,null,1.645E-3,3.5608300000000001E-3,"","","/",{"$error":"#N/A"}]
[null,null,null,{"$f":"VLOOKUP($C1188,'SEI ISD'!$A$4:$B$124,2,0)","v":{"$error":"#N/A"}},null,null,null,null,1.645E-3,3.5608300000000001E-3,"","","/",{"$error":"#N/A"}]
[null,null,null,{"$f":"VLOOKUP($C1189,'SEI ISD'!$A$4:$B$124,2,0)","v":{"$error":"#N/A"}},null,null,null,null,1.645E-3,3.5608300000000001E-3,"","","/",{"$error":"#N/A"}]
[null,null,null,{"$f":"VLOOKUP($C1190,'SEI ISD'!$A$4:$B$124,2,0)","v":{"$error":"#N/A"}},null,null,null,null,1.645E-3,3.5608300000000001E-3,"","","/",{"$error":"#N/A"}]
[null,null,null,{"$f":"VLOOKUP($C1191,'SEI ISD'!$A$4:$B$124,2,0)","v":{"$error":"#N/A"}},null,null,null,null,1.645E-3,3.5608300000000001E-3,"","","/",{"$error":"#N/A"}]
[null,null,null,{"$f":"VLOOKUP($C1192,'SEI ISD'!$A$4:$B$124,2,0)","v":{"$error":"#N/A"}},null,null,null,null,1.645E-3,3.5608300000000001E-3,"","","/",{"$error":"#N/A"}]
[null,null,null,{"$f":"VLOOKUP($C1193,'SEI ISD'!$A$4:$B$124,2,0)","v":{"$error":"#N/A"}},null,null,null,null,1.645E-3,3.5608300000000001E-3,"","","/",{"$error":"#N/A"}]
[null,null,null,{"$f":"VLOOKUP($C1194,'SEI ISD'!$A$4:$B$124,2,0)","v":{"$error":"#N/A"}},null,null,null,null,1.645E-3,3.5608300000000001E-3,"","","/",{"$error":"#N/A"}]
[null,null,null,{"$f":"VLOOKUP($C1195,'SEI ISD'!$A$4:$B$124,2,0)","v":{"$error":"#N/A"}},null,null,null,null,1.645E-3,3.5608300000000001E-3,"","","/",{"$error":"#N/A"}]
[null,null,null,{"$f":"VLOOKUP($C1196,'SEI ISD'!$A$4:$B$124,2,0)","v":{"$error":"#N/A"}},null,null,null,null,1.645E-3,3.5608300000000001E-3,"","","/",{"$error":"#N/A"}]
[null,null,null,{"$f":"VLOOKUP($C1197,'SEI ISD'!$A$4:$B$124,2,0)","v":{"$error":"#N/A"}},null,null,null,null,1.645E-3,3.5608300000000001E-3,"","","/",{"$error":"#N/A"}]
[null,null,null,{"$f":"VLOOKUP($C1198,'SEI ISD'!$A$4:$B$124,2,0)","v":{"$error":"#N/A"}},null,null,null,null,1.645E-3,3.5608300000000001E-3,"","","/",{"$error":"#N/A"}]
[null,null,null,{"$f":"VLOOKUP($C1199,'SEI ISD'!$A$4:$B$124,2,0)","v":{"$error":"#N/A"}},null,null,null,null,1.645E-3,3.5608300000000001E-3,"","","/",{"$error":"#N/A"}]
[null,null,null,{"$f":"VLOOKUP($C1200,'SEI ISD'!$A$4:$B$124,2,0)","v":{"$error":"#N/A"}},null,null,null,null,1.645E-3,3.5608300000000001E-3,"","","/",{"$error":"#N/A"}]
[null,null,null,{"$f":"VLOOKUP($C1201,'SEI ISD'!$A$4:$B$124,2,0)","v":{"$error":"#N/A"}},null,null,null,null,1.645E-3,3.5608300000000001E-3,"","","/",{"$error":"#N/A"}]
[null,null,null,{"$f":"VLOOKUP($C1202,'SEI ISD'!$A$4:$B$124,2,0)","v":{"$error":"#N/A"}},null,null,null,null,1.645E-3,3.5608300000000001E-3,"","","/",{"$error":"#N/A"}]
[null,null,null,{"$f":"VLOOKUP($C1203,'SEI ISD'!$A$4:$B$124,2,0)","v":{"$error":"#N/A"}},null,null,null,null,1.645E-3,3.5608300000000001E-3,"","","/",{"$error":"#N/A"}]
[null,null,null,{"$f":"VLOOKUP($C1204,'SEI ISD'!$A$4:$B$124,2,0)","v":{"$error":"#N/A"}},null,null,null,null,1.645E-3,3.5608300000000001E-3,"","","/",{"$error":"#N/A"}]
[null,null,null,{"$f":"VLOOKUP($C1205,'SEI ISD'!$A$4:$B$124,2,0)","v":{"$error":"#N/A"}},null,null,null,null,1.645E-3,3.5608300000000001E-3,"","","/",{"$error":"#N/A"}]
[null,null,null,{"$f":"VLOOKUP($C1206,'SEI ISD'!$A$4:$B$124,2,0)","v":{"$error":"#N/A"}},null,null,null,null,1.645E-3,3.5608300000000001E-3,"","","/",{"$error":"#N/A"}]
[null,null,null,{"$f":"VLOOKUP($C1207,'SEI ISD'!$A$4:$B$124,2,0)","v":{"$error":"#N/A"}},null,null,null,null,1.645E-3,3.5608300000000001E-3,"","","/",{"$error":"#N/A"}]
[null,null,null,{"$f":"VLOOKUP($C1208,'SEI ISD'!$A$4:$B$124,2,0)","v":{"$error":"#N/A"}},null,null,null,null,1.645E-3,3.5608300000000001E-3,"","","/",{"$error":"#N/A"}]
[null,null,null,{"$f":"VLOOKUP($C1209,'SEI ISD'!$A$4:$B$124,2,0)","v":{"$error":"#N/A"}},null,null,null,null,1.645E-3,3.5608300000000001E-3,"","","/",{"$error":"#N/A"}]
[null,null,null,{"$f":"VLOOKUP($C1210,'SEI ISD'!$A$4:$B$124,2,0)","v":{"$error":"#N/A"}},null,null,null,null,1.645E-3,3.5608300000000001E-3,"","","/",{"$error":"#N/A"}]
[null,null,null,{"$f":"VLOOKUP($C1211,'SEI ISD'!$A$4:$B$124,2,0)","v":{"$error":"#N/A"}},null,null,null,null,1.645E-3,3.5608300000000001E-3,"","","/",{"$error":"#N/A"}]
[null,null,null,{"$f":"VLOOKUP($C1212,'SEI ISD'!$A$4:$B$124,2,0)","v":{"$error":"#N/A"}},null,null,null,null,1.645E-3,3.5608300000000001E-3,"","","/",{"$error":"#N/A"}]
[null,null,null,{"$f":"VLOOKUP($C1213,'SEI ISD'!$A$4:$B$124,2,0)","v":{"$error":"#N/A"}},null,null,null,null,1.645E-3,3.5608300000000001E-3,"","","/",{"$error":"#N/A"}]
[null,null,null,{"$f":"VLOOKUP($C1214,'SEI ISD'!$A$4:$B$124,2,0)","v":{"$error":"#N/A"}},null,null,null,null,1.645E-3,3.5608300000000001E-3,"","","/",{"$error":"#N/A"}]
[null,null,null,{"$f":"VLOOKUP($C1215,'SEI ISD'!$A$4:$B$124,2,0)","v":{"$error":"#N/A"}},null,null,null,null,1.645E-3,3.5608300000000001E-3,"","","/",{"$error":"#N/A"}]
[null,null,null,{"$f":"VLOOKUP($C1216,'SEI ISD'!$A$4:$B$124,2,0)","v":{"$error":"#N/A"}},null,null,null,null,1.645E-3,3.5608300000000001E-3,"","","/",{"$error":"#N/A"}]
[null,null,null,{"$f":"VLOOKUP($C1217,'SEI ISD'!$A$4:$B$124,2,0)","v":{"$error":"#N/A"}},null,null,null,null,1.645E-3,3.5608300000000001E-3,"","","/",{"$error":"#N/A"}]
[null,null,null,{"$f":"VLOOKUP($C1218,'SEI ISD'!$A$4:$B$124,2,0)","v":{"$error":"#N/A"}},null,null,null,null,1.645E-3,3.5608300000000001E-3,"","","/",{"$error":"#N/A"}]
[null,null,null,{"$f":"VLOOKUP($C1219,'SEI ISD'!$A$4:$B$124,2,0)","v":{"$error":"#N/A"}},null,null,null,null,1.645E-3,3.5608300000000001E-3,{"$f":"RIGHT(G1219,2)","v":""},{"$f":"LEFT(G1219,4)","v":""},{"$f":"_xlfn.CONCAT(K1219,\"/\",L1219)","v":"/"},{"$f":"EOMONTH(D1219,0)","v":{"$error":"#N/A"}}]
[null,null,null,{"$f":"VLOOKUP($C1220,'SEI ISD'!$A$4:$B$124,2,0)","v":{"$error":"#N/A"}},null,null,null,null,1.645E-3,3.5608300000000001E-3,"","","/",{"$error":"#N/A"}]
[null,null,null,{"$f":"VLOOKUP($C1221,'SEI ISD'!$A$4:$B$124,2,0)","v":{"$error":"#N/A"}},null,null,null,null,1.645E-3,3.5608300000000001E-3,"","","/",{"$error":"#N/A"}]
[null,null,null,{"$f":"VLOOKUP($C1222,'SEI ISD'!$A$4:$B$124,2,0)","v":{"$error":"#N/A"}},null,null,null,null,1.645E-3,3.5608300000000001E-3,"","","/",{"$error":"#N/A"}]
[null,null,null,{"$f":"VLOOKUP($C1223,'SEI ISD'!$A$4:$B$124,2,0)","v":{"$error":"#N/A"}},null,null,null,null,1.645E-3,3.5608300000000001E-3,"","","/",{"$error":"#N/A"}]
[null,null,null,{"$f":"VLOOKUP($C1224,'SEI ISD'!$A$4:$B$124,2,0)","v":{"$error":"#N/A"}},null,null,null,null,1.645E-3,3.5608300000000001E-3,"","","/",{"$error":"#N/A"}]
[null,null,null,{"$f":"VLOOKUP($C1225,'SEI ISD'!$A$4:$B$124,2,0)","v":{"$error":"#N/A"}},null,null,null,null,1.645E-3,3.5608300000000001E-3,"","","/",{"$error":"#N/A"}]
[null,null,null,{"$f":"VLOOKUP($C1226,'SEI ISD'!$A$4:$B$124,2,0)","v":{"$error":"#N/A"}},null,null,null,null,1.645E-3,3.5608300000000001E-3,"","","/",{"$error":"#N/A"}]
[null,null,null,{"$f":"VLOOKUP($C1227,'SEI ISD'!$A$4:$B$124,2,0)","v":{"$error":"#N/A"}},null,null,null,null,1.645E-3,3.5608300000000001E-3,"","","/",{"$error":"#N/A"}]
[null,null,null,{"$f":"VLOOKUP($C1228,'SEI ISD'!$A$4:$B$124,2,0)","v":{"$error":"#N/A"}},null,null,null,null,1.645E-3,3.5608300000000001E-3,"","","/",{"$error":"#N/A"}]
[null,null,null,{"$f":"VLOOKUP($C1229,'SEI ISD'!$A$4:$B$124,2,0)","v":{"$error":"#N/A"}},null,null,null,null,1.645E-3,3.5608300000000001E-3,"","","/",{"$error":"#N/A"}]
[null,null,null,{"$f":"VLOOKUP($C1230,'SEI ISD'!$A$4:$B$124,2,0)","v":{"$error":"#N/A"}},null,null,null,null,1.645E-3,3.5608300000000001E-3,"","","/",{"$error":"#N/A"}]
[null,null,null,{"$f":"VLOOKUP($C1231,'SEI ISD'!$A$4:$B$124,2,0)","v":{"$error":"#N/A"}},null,null,null,null,1.645E-3,3.5608300000000001E-3,"","","/",{"$error":"#N/A"}]
[null,null,null,{"$f":"VLOOKUP($C1232,'SEI ISD'!$A$4:$B$124,2,0)","v":{"$error":"#N/A"}},null,null,null,null,1.645E-3,3.5608300000000001E-3,"","","/",{"$error":"#N/A"}]
[null,null,null,{"$f":"VLOOKUP($C1233,'SEI ISD'!$A$4:$B$124,2,0)","v":{"$error":"#N/A"}},null,null,null,null,1.645E-3,3.5608300000000001E-3,"","","/",{"$error":"#N/A"}]
[null,null,null,{"$f":"VLOOKUP($C1234,'SEI ISD'!$A$4:$B$124,2,0)","v":{"$error":"#N/A"}},null,null,null,null,1.645E-3,3.5608300000000001E-3,"","","/",{"$error":"#N/A"}]
[null,null,null,{"$f":"VLOOKUP($C1235,'SEI ISD'!$A$4:$B$124,2,0)","v":{"$error":"#N/A"}},null,null,null,null,1.645E-3,3.5608300000000001E-3,"","","/",{"$error":"#N/A"}]
[null,null,null,{"$f":"VLOOKUP($C1236,'SEI ISD'!$A$4:$B$124,2,0)","v":{"$error":"#N/A"}},null,null,null,null,1.645E-3,3.5608300000000001E-3,"","","/",{"$error":"#N/A"}]
[null,null,null,{"$f":"VLOOKUP($C1237,'SEI ISD'!$A$4:$B$124,2,0)","v":{"$error":"#N/A"}},null,null,null,null,1.645E-3,3.5608300000000001E-3,"","","/",{"$error":"#N/A"}]
[null,null,null,{"$f":"VLOOKUP($C1238,'SEI ISD'!$A$4:$B$124,2,0)","v":{"$error":"#N/A"}},null,null,null,null,1.645E-3,3.5608300000000001E-3,"","","/",{"$error":"#N/A"}]
[null,null,null,{"$f":"VLOOKUP($C1239,'SEI ISD'!$A$4:$B$124,2,0)","v":{"$error":"#N/A"}},null,null,null,null,1.645E-3,3.5608300000000001E-3,"","","/",{"$error":"#N/A"}]
[null,null,null,{"$f":"VLOOKUP($C1240,'SEI ISD'!$A$4:$B$124,2,0)","v":{"$error":"#N/A"}},null,null,null,null,1.645E-3,3.5608300000000001E-3,"","","/",{"$error":"#N/A"}]
[null,null,null,{"$f":"VLOOKUP($C1241,'SEI ISD'!$A$4:$B$124,2,0)","v":{"$error":"#N/A"}},null,null,null,null,1.645E-3,3.5608300000000001E-3,"","","/",{"$error":"#N/A"}]
[null,null,null,{"$f":"VLOOKUP($C1242,'SEI ISD'!$A$4:$B$124,2,0)","v":{"$error":"#N/A"}},null,null,null,null,1.645E-3,3.5608300000000001E-3,"","","/",{"$error":"#N/A"}]
[null,null,null,{"$f":"VLOOKUP($C1243,'SEI ISD'!$A$4:$B$124,2,0)","v":{"$error":"#N/A"}},null,null,null,null,1.645E-3,3.5608300000000001E-3,"","","/",{"$error":"#N/A"}]
[null,null,null,{"$f":"VLOOKUP($C1244,'SEI ISD'!$A$4:$B$124,2,0)","v":{"$error":"#N/A"}},null,null,null,null,1.645E-3,3.5608300000000001E-3,"","","/",{"$error":"#N/A"}]
[null,null,null,{"$f":"VLOOKUP($C1245,'SEI ISD'!$A$4:$B$124,2,0)","v":{"$error":"#N/A"}},null,null,null,null,1.645E-3,3.5608300000000001E-3,"","","/",{"$error":"#N/A"}]
[null,null,null,{"$f":"VLOOKUP($C1246,'SEI ISD'!$A$4:$B$124,2,0)","v":{"$error":"#N/A"}},null,null,null,null,1.645E-3,3.5608300000000001E-3,"","","/",{"$error":"#N/A"}]
[null,null,null,{"$f":"VLOOKUP($C1247,'SEI ISD'!$A$4:$B$124,2,0)","v":{"$error":"#N/A"}},null,null,null,null,1.645E-3,3.5608300000000001E-3,"","","/",{"$error":"#N/A"}]
[null,null,null,{"$f":"VLOOKUP($C1248,'SEI ISD'!$A$4:$B$124,2,0)","v":{"$error":"#N/A"}},null,null,null,null,1.645E-3,3.5608300000000001E-3,"","","/",{"$error":"#N/A"}]
[null,null,null,{"$f":"VLOOKUP($C1249,'SEI ISD'!$A$4:$B$124,2,0)","v":{"$error":"#N/A"}},null,null,null,null,1.645E-3,3.5608300000000001E-3,"","","/",{"$error":"#N/A"}]
[null,null,null,{"$f":"VLOOKUP($C1250,'SEI ISD'!$A$4:$B$124,2,0)","v":{"$error":"#N/A"}},null,null,null,null,1.645E-3,3.5608300000000001E-3,"","","/",{"$error":"#N/A"}]
[null,null,null,{"$f":"VLOOKUP($C1251,'SEI ISD'!$A$4:$B$124,2,0)","v":{"$error":"#N/A"}},null,null,null,null,1.645E-3,3.5608300000000001E-3,"","","/",{"$error":"#N/A"}]
[null,null,null,{"$f":"VLOOKUP($C1252,'SEI ISD'!$A$4:$B$124,2,0)","v":{"$error":"#N/A"}},null,null,null,null,1.645E-3,3.5608300000000001E-3,"","","/",{"$error":"#N/A"}]
[null,null,null,{"$f":"VLOOKUP($C1253,'SEI ISD'!$A$4:$B$124,2,0)","v":{"$error":"#N/A"}},null,null,null,null,1.645E-3,3.5608300000000001E-3,"","","/",{"$error":"#N/A"}]
[null,null,null,{"$f":"VLOOKUP($C1254,'SEI ISD'!$A$4:$B$124,2,0)","v":{"$error":"#N/A"}},null,null,null,null,1.645E-3,3.5608300000000001E-3,"","","/",{"$error":"#N/A"}]
[null,null,null,{"$f":"VLOOKUP($C1255,'SEI ISD'!$A$4:$B$124,2,0)","v":{"$error":"#N/A"}},null,null,null,null,1.645E-3,3.5608300000000001E-3,"","","/",{"$error":"#N/A"}]
[null,null,null,{"$f":"VLOOKUP($C1256,'SEI ISD'!$A$4:$B$124,2,0)","v":{"$error":"#N/A"}},null,null,null,null,1.645E-3,3.5608300000000001E-3,"","","/",{"$error":"#N/A"}]
[null,null,null,{"$f":"VLOOKUP($C1257,'SEI ISD'!$A$4:$B$124,2,0)","v":{"$error":"#N/A"}},null,null,null,null,1.645E-3,3.5608300000000001E-3,"","","/",{"$error":"#N/A"}]
[null,null,null,{"$f":"VLOOKUP($C1258,'SEI ISD'!$A$4:$B$124,2,0)","v":{"$error":"#N/A"}},null,null,null,null,1.645E-3,3.5608300000000001E-3,"","","/",{"$error":"#N/A"}]
[null,null,null,{"$f":"VLOOKUP($C1259,'SEI ISD'!$A$4:$B$124,2,0)","v":{"$error":"#N/A"}},null,null,null,null,1.645E-3,3.5608300000000001E-3,"","","/",{"$error":"#N/A"}]
[null,null,null,{"$f":"VLOOKUP($C1260,'SEI ISD'!$A$4:$B$124,2,0)","v":{"$error":"#N/A"}},null,null,null,null,1.645E-3,3.5608300000000001E-3,"","","/",{"$error":"#N/A"}]
[null,null,null,{"$f":"VLOOKUP($C1261,'SEI ISD'!$A$4:$B$124,2,0)","v":{"$error":"#N/A"}},null,null,null,null,1.645E-3,3.5608300000000001E-3,"","","/",{"$error":"#N/A"}]
[null,null,null,{"$f":"VLOOKUP($C1262,'SEI ISD'!$A$4:$B$124,2,0)","v":{"$error":"#N/A"}},null,null,null,null,1.645E-3,3.5608300000000001E-3,"","","/",{"$error":"#N/A"}]
[null,null,null,{"$f":"VLOOKUP($C1263,'SEI ISD'!$A$4:$B$124,2,0)","v":{"$error":"#N/A"}},null,null,null,null,1.645E-3,3.5608300000000001E-3,"","","/",{"$error":"#N/A"}]
[null,null,null,{"$f":"VLOOKUP($C1264,'SEI ISD'!$A$4:$B$124,2,0)","v":{"$error":"#N/A"}},null,null,null,null,1.645E-3,3.5608300000000001E-3,"","","/",{"$error":"#N/A"}]
[null,null,null,{"$f":"VLOOKUP($C1265,'SEI ISD'!$A$4:$B$124,2,0)","v":{"$error":"#N/A"}},null,null,null,null,1.645E-3,3.5608300000000001E-3,"","","/",{"$error":"#N/A"}]
[null,null,null,{"$f":"VLOOKUP($C1266,'SEI ISD'!$A$4:$B$124,2,0)","v":{"$error":"#N/A"}},null,null,null,null,1.645E-3,3.5608300000000001E-3,"","","/",{"$error":"#N/A"}]
[null,null,null,{"$f":"VLOOKUP($C1267,'SEI ISD'!$A$4:$B$124,2,0)","v":{"$error":"#N/A"}},null,null,null,null,1.645E-3,3.5608300000000001E-3,"","","/",{"$error":"#N/A"}]
[null,null,null,{"$f":"VLOOKUP($C1268,'SEI ISD'!$A$4:$B$124,2,0)","v":{"$error":"#N/A"}},null,null,null,null,1.645E-3,3.5608300000000001E-3,"","","/",{"$error":"#N/A"}]
[null,null,null,{"$f":"VLOOKUP($C1269,'SEI ISD'!$A$4:$B$124,2,0)","v":{"$error":"#N/A"}},null,null,null,null,1.645E-3,3.5608300000000001E-3,"","","/",{"$error":"#N/A"}]
[null,null,null,{"$f":"VLOOKUP($C1270,'SEI ISD'!$A$4:$B$124,2,0)","v":{"$error":"#N/A"}},null,null,null,null,1.645E-3,3.5608300000000001E-3,"","","/",{"$error":"#N/A"}]
[null,null,null,{"$f":"VLOOKUP($C1271,'SEI ISD'!$A$4:$B$124,2,0)","v":{"$error":"#N/A"}},null,null,null,null,1.645E-3,3.5608300000000001E-3,"","","/",{"$error":"#N/A"}]
[null,null,null,{"$f":"VLOOKUP($C1272,'SEI ISD'!$A$4:$B$124,2,0)","v":{"$error":"#N/A"}},null,null,null,null,1.645E-3,3.5608300000000001E-3,"","","/",{"$error":"#N/A"}]
[null,null,null,{"$f":"VLOOKUP($C1273,'SEI ISD'!$A$4:$B$124,2,0)","v":{"$error":"#N/A"}},null,null,null,null,1.645E-3,3.5608300000000001E-3,"","","/",{"$error":"#N/A"}]
[null,null,null,{"$f":"VLOOKUP($C1274,'SEI ISD'!$A$4:$B$124,2,0)","v":{"$error":"#N/A"}},null,null,null,null,1.645E-3,3.5608300000000001E-3,"","","/",{"$error":"#N/A"}]
[null,null,null,{"$f":"VLOOKUP($C1275,'SEI ISD'!$A$4:$B$124,2,0)","v":{"$error":"#N/A"}},null,null,null,null,1.645E-3,3.5608300000000001E-3,"","","/",{"$error":"#N/A"}]
[null,null,null,{"$f":"VLOOKUP($C1276,'SEI ISD'!$A$4:$B$124,2,0)","v":{"$error":"#N/A"}},null,null,null,null,1.645E-3,3.5608300000000001E-3,"","","/",{"$error":"#N/A"}]
[null,null,null,{"$f":"VLOOKUP($C1277,'SEI ISD'!$A$4:$B$124,2,0)","v":{"$error":"#N/A"}},null,null,null,null,1.645E-3,3.5608300000000001E-3,"","","/",{"$error":"#N/A"}]
[null,null,null,{"$f":"VLOOKUP($C1278,'SEI ISD'!$A$4:$B$124,2,0)","v":{"$error":"#N/A"}},null,null,null,null,1.645E-3,3.5608300000000001E-3,"","","/",{"$error":"#N/A"}]
[null,null,null,{"$f":"VLOOKUP($C1279,'SEI ISD'!$A$4:$B$124,2,0)","v":{"$error":"#N/A"}},null,null,null,null,1.645E-3,3.5608300000000001E-3,"","","/",{"$error":"#N/A"}]
[null,null,null,{"$f":"VLOOKUP($C1280,'SEI ISD'!$A$4:$B$124,2,0)","v":{"$error":"#N/A"}},null,null,null,null,1.645E-3,3.5608300000000001E-3,"","","/",{"$error":"#N/A"}]
[null,null,null,{"$f":"VLOOKUP($C1281,'SEI ISD'!$A$4:$B$124,2,0)","v":{"$error":"#N/A"}},null,null,null,null,1.645E-3,3.5608300000000001E-3,"","","/",{"$error":"#N/A"}]
[null,null,null,{"$f":"VLOOKUP($C1282,'SEI ISD'!$A$4:$B$124,2,0)","v":{"$error":"#N/A"}},null,null,null,null,1.645E-3,3.5608300000000001E-3,"","","/",{"$error":"#N/A"}]
[null,null,null,{"$f":"VLOOKUP($C1283,'SEI ISD'!$A$4:$B$124,2,0)","v":{"$error":"#N/A"}},null,null,null,null,1.645E-3,3.5608300000000001E-3,{"$f":"RIGHT(G1283,2)","v":""},{"$f":"LEFT(G1283,4)","v":""},{"$f":"_xlfn.CONCAT(K1283,\"/\",L1283)","v":"/"},{"$f":"EOMONTH(D1283,0)","v":{"$error":"#N/A"}}]
[null,null,null,{"$f":"VLOOKUP($C1284,'SEI ISD'!$A$4:$B$124,2,0)","v":{"$error":"#N/A"}},null,null,null,null,1.645E-3,3.5608300000000001E-3,"","","/",{"$error":"#N/A"}]
[null,null,null,{"$f":"VLOOKUP($C1285,'SEI ISD'!$A$4:$B$124,2,0)","v":{"$error":"#N/A"}},null,null,null,null,1.645E-3,3.5608300000000001E-3,"","","/",{"$error":"#N/A"}]
[null,null,null,{"$f":"VLOOKUP($C1286,'SEI ISD'!$A$4:$B$124,2,0)","v":{"$error":"#N/A"}},null,null,null,null,1.645E-3,3.5608300000000001E-3,"","","/",{"$error":"#N/A"}]
[null,null,null,{"$f":"VLOOKUP($C1287,'SEI ISD'!$A$4:$B$124,2,0)","v":{"$error":"#N/A"}},null,null,null,null,1.645E-3,3.5608300000000001E-3,"","","/",{"$error":"#N/A"}]
[null,null,null,{"$f":"VLOOKUP($C1288,'SEI ISD'!$A$4:$B$124,2,0)","v":{"$error":"#N/A"}},null,null,null,null,1.645E-3,3.5608300000000001E-3,"","","/",{"$error":"#N/A"}]
[null,null,null,{"$f":"VLOOKUP($C1289,'SEI ISD'!$A$4:$B$124,2,0)","v":{"$error":"#N/A"}},null,null,null,null,1.645E-3,3.5608300000000001E-3,"","","/",{"$error":"#N/A"}]
[null,null,null,{"$f":"VLOOKUP($C1290,'SEI ISD'!$A$4:$B$124,2,0)","v":{"$error":"#N/A"}},null,null,null,null,1.645E-3,3.5608300000000001E-3,"","","/",{"$error":"#N/A"}]
[null,null,null,{"$f":"VLOOKUP($C1291,'SEI ISD'!$A$4:$B$124,2,0)","v":{"$error":"#N/A"}},null,null,null,null,1.645E-3,3.5608300000000001E-3,"","","/",{"$error":"#N/A"}]
[null,null,null,{"$f":"VLOOKUP($C1292,'SEI ISD'!$A$4:$B$124,2,0)","v":{"$error":"#N/A"}},null,null,null,null,1.645E-3,3.5608300000000001E-3,"","","/",{"$error":"#N/A"}]
[null,null,null,{"$f":"VLOOKUP($C1293,'SEI ISD'!$A$4:$B$124,2,0)","v":{"$error":"#N/A"}},null,null,null,null,1.645E-3,3.5608300000000001E-3,"","","/",{"$error":"#N/A"}]
[null,null,null,{"$f":"VLOOKUP($C1294,'SEI ISD'!$A$4:$B$124,2,0)","v":{"$error":"#N/A"}},null,null,null,null,1.645E-3,3.5608300000000001E-3,"","","/",{"$error":"#N/A"}]
[null,null,null,{"$f":"VLOOKUP($C1295,'SEI ISD'!$A$4:$B$124,2,0)","v":{"$error":"#N/A"}},null,null,null,null,1.645E-3,3.5608300000000001E-3,"","","/",{"$error":"#N/A"}]
[null,null,null,{"$f":"VLOOKUP($C1296,'SEI ISD'!$A$4:$B$124,2,0)","v":{"$error":"#N/A"}},null,null,null,null,1.645E-3,3.5608300000000001E-3,"","","/",{"$error":"#N/A"}]
[null,null,null,{"$f":"VLOOKUP($C1297,'SEI ISD'!$A$4:$B$124,2,0)","v":{"$error":"#N/A"}},null,null,null,null,1.645E-3,3.5608300000000001E-3,"","","/",{"$error":"#N/A"}]
[null,null,null,{"$f":"VLOOKUP($C1298,'SEI ISD'!$A$4:$B$124,2,0)","v":{"$error":"#N/A"}},null,null,null,null,1.645E-3,3.5608300000000001E-3,"","","/",{"$error":"#N/A"}]
[null,null,null,{"$f":"VLOOKUP($C1299,'SEI ISD'!$A$4:$B$124,2,0)","v":{"$error":"#N/A"}},null,null,null,null,1.645E-3,3.5608300000000001E-3,"","","/",{"$error":"#N/A"}]
[null,null,null,{"$f":"VLOOKUP($C1300,'SEI ISD'!$A$4:$B$124,2,0)","v":{"$error":"#N/A"}},null,null,null,null,1.645E-3,3.5608300000000001E-3,"","","/",{"$error":"#N/A"}]
[null,null,null,{"$f":"VLOOKUP($C1301,'SEI ISD'!$A$4:$B$124,2,0)","v":{"$error":"#N/A"}},null,null,null,null,1.645E-3,3.5608300000000001E-3,"","","/",{"$error":"#N/A"}]
[null,null,null,{"$f":"VLOOKUP($C1302,'SEI ISD'!$A$4:$B$124,2,0)","v":{"$error":"#N/A"}},null,null,null,null,1.645E-3,3.5608300000000001E-3,"","","/",{"$error":"#N/A"}]
[null,null,null,{"$f":"VLOOKUP($C1303,'SEI ISD'!$A$4:$B$124,2,0)","v":{"$error":"#N/A"}},null,null,null,null,1.645E-3,3.5608300000000001E-3,"","","/",{"$error":"#N/A"}]
[null,null,null,{"$f":"VLOOKUP($C1304,'SEI ISD'!$A$4:$B$124,2,0)","v":{"$error":"#N/A"}},null,null,null,null,1.645E-3,3.5608300000000001E-3,"","","/",{"$error":"#N/A"}]
[null,null,null,{"$f":"VLOOKUP($C1305,'SEI ISD'!$A$4:$B$124,2,0)","v":{"$error":"#N/A"}},null,null,null,null,1.645E-3,3.5608300000000001E-3,"","","/",{"$error":"#N/A"}]
[null,null,null,{"$f":"VLOOKUP($C1306,'SEI ISD'!$A$4:$B$124,2,0)","v":{"$error":"#N/A"}},null,null,null,null,1.645E-3,3.5608300000000001E-3,"","","/",{"$error":"#N/A"}]
[null,null,null,{"$f":"VLOOKUP($C1307,'SEI ISD'!$A$4:$B$124,2,0)","v":{"$error":"#N/A"}},null,null,null,null,1.645E-3,3.5608300000000001E-3,"","","/",{"$error":"#N/A"}]
[null,null,null,{"$f":"VLOOKUP($C1308,'SEI ISD'!$A$4:$B$124,2,0)","v":{"$error":"#N/A"}},null,null,null,null,1.645E-3,3.5608300000000001E-3,"","","/",{"$error":"#N/A"}]
[null,null,null,{"$f":"VLOOKUP($C1309,'SEI ISD'!$A$4:$B$124,2,0)","v":{"$error":"#N/A"}},null,null,null,null,1.645E-3,3.5608300000000001E-3,"","","/",{"$error":"#N/A"}]
[null,null,null,{"$f":"VLOOKUP($C1310,'SEI ISD'!$A$4:$B$124,2,0)","v":{"$error":"#N/A"}},null,null,null,null,1.645E-3,3.5608300000000001E-3,"","","/",{"$error":"#N/A"}]
[null,null,null,{"$f":"VLOOKUP($C1311,'SEI ISD'!$A$4:$B$124,2,0)","v":{"$error":"#N/A"}},null,null,null,null,1.645E-3,3.5608300000000001E-3,"","","/",{"$error":"#N/A"}]
[null,null,null,{"$f":"VLOOKUP($C1312,'SEI ISD'!$A$4:$B$124,2,0)","v":{"$error":"#N/A"}},null,null,null,null,1.645E-3,3.5608300000000001E-3,"","","/",{"$error":"#N/A"}]
[null,null,null,{"$f":"VLOOKUP($C1313,'SEI ISD'!$A$4:$B$124,2,0)","v":{"$error":"#N/A"}},null,null,null,null,1.645E-3,3.5608300000000001E-3,"","","/",{"$error":"#N/A"}]
[null,null,null,{"$f":"VLOOKUP($C1314,'SEI ISD'!$A$4:$B$124,2,0)","v":{"$error":"#N/A"}},null,null,null,null,1.645E-3,3.5608300000000001E-3,"","","/",{"$error":"#N/A"}]
[null,null,null,{"$f":"VLOOKUP($C1315,'SEI ISD'!$A$4:$B$124,2,0)","v":{"$error":"#N/A"}},null,null,null,null,1.645E-3,3.5608300000000001E-3,"","","/",{"$error":"#N/A"}]
[null,null,null,{"$f":"VLOOKUP($C1316,'SEI ISD'!$A$4:$B$124,2,0)","v":{"$error":"#N/A"}},null,null,null,null,1.645E-3,3.5608300000000001E-3,"","","/",{"$error":"#N/A"}]
[null,null,null,{"$f":"VLOOKUP($C1317,'SEI ISD'!$A$4:$B$124,2,0)","v":{"$error":"#N/A"}},null,null,null,null,1.645E-3,3.5608300000000001E-3,"","","/",{"$error":"#N/A"}]
[null,null,null,{"$f":"VLOOKUP($C1318,'SEI ISD'!$A$4:$B$124,2,0)","v":{"$error":"#N/A"}},null,null,null,null,1.645E-3,3.5608300000000001E-3,"","","/",{"$error":"#N/A"}]
[null,null,null,{"$f":"VLOOKUP($C1319,'SEI ISD'!$A$4:$B$124,2,0)","v":{"$error":"#N/A"}},null,null,null,null,1.645E-3,3.5608300000000001E-3,"","","/",{"$error":"#N/A"}]
[null,null,null,{"$f":"VLOOKUP($C1320,'SEI ISD'!$A$4:$B$124,2,0)","v":{"$error":"#N/A"}},null,null,null,null,1.645E-3,3.5608300000000001E-3,"","","/",{"$error":"#N/A"}]
[null,null,null,{"$f":"VLOOKUP($C1321,'SEI ISD'!$A$4:$B$124,2,0)","v":{"$error":"#N/A"}},null,null,null,null,1.645E-3,3.5608300000000001E-3,"","","/",{"$error":"#N/A"}]
[null,null,null,{"$f":"VLOOKUP($C1322,'SEI ISD'!$A$4:$B$124,2,0)","v":{"$error":"#N/A"}},null,null,null,null,1.645E-3,3.5608300000000001E-3,"","","/",{"$error":"#N/A"}]
[null,null,null,{"$f":"VLOOKUP($C1323,'SEI ISD'!$A$4:$B$124,2,0)","v":{"$error":"#N/A"}},null,null,null,null,1.645E-3,3.5608300000000001E-3,"","","/",{"$error":"#N/A"}]
[null,null,null,{"$f":"VLOOKUP($C1324,'SEI ISD'!$A$4:$B$124,2,0)","v":{"$error":"#N/A"}},null,null,null,null,1.645E-3,3.5608300000000001E-3,"","","/",{"$error":"#N/A"}]
[null,null,null,{"$f":"VLOOKUP($C1325,'SEI ISD'!$A$4:$B$124,2,0)","v":{"$error":"#N/A"}},null,null,null,null,1.645E-3,3.5608300000000001E-3,"","","/",{"$error":"#N/A"}]
[null,null,null,{"$f":"VLOOKUP($C1326,'SEI ISD'!$A$4:$B$124,2,0)","v":{"$error":"#N/A"}},null,null,null,null,1.645E-3,3.5608300000000001E-3,"","","/",{"$error":"#N/A"}]
[null,null,null,{"$f":"VLOOKUP($C1327,'SEI ISD'!$A$4:$B$124,2,0)","v":{"$error":"#N/A"}},null,null,null,null,1.645E-3,3.5608300000000001E-3,"","","/",{"$error":"#N/A"}]
[null,null,null,{"$f":"VLOOKUP($C1328,'SEI ISD'!$A$4:$B$124,2,0)","v":{"$error":"#N/A"}},null,null,null,null,1.645E-3,3.5608300000000001E-3,"","","/",{"$error":"#N/A"}]
[null,null,null,{"$f":"VLOOKUP($C1329,'SEI ISD'!$A$4:$B$124,2,0)","v":{"$error":"#N/A"}},null,null,null,null,1.645E-3,3.5608300000000001E-3,"","","/",{"$error":"#N/A"}]
[null,null,null,{"$f":"VLOOKUP($C1330,'SEI ISD'!$A$4:$B$124,2,0)","v":{"$error":"#N/A"}},null,null,null,null,1.645E-3,3.5608300000000001E-3,"","","/",{"$error":"#N/A"}]
[null,null,null,{"$f":"VLOOKUP($C1331,'SEI ISD'!$A$4:$B$124,2,0)","v":{"$error":"#N/A"}},null,null,null,null,1.645E-3,3.5608300000000001E-3,"","","/",{"$error":"#N/A"}]
[null,null,null,{"$f":"VLOOKUP($C1332,'SEI ISD'!$A$4:$B$124,2,0)","v":{"$error":"#N/A"}},null,null,null,null,1.645E-3,3.5608300000000001E-3,"","","/",{"$error":"#N/A"}]
[null,null,null,{"$f":"VLOOKUP($C1333,'SEI ISD'!$A$4:$B$124,2,0)","v":{"$error":"#N/A"}},null,null,null,null,1.645E-3,3.5608300000000001E-3,"","","/",{"$error":"#N/A"}]
[null,null,null,{"$f":"VLOOKUP($C1334,'SEI ISD'!$A$4:$B$124,2,0)","v":{"$error":"#N/A"}},null,null,null,null,1.645E-3,3.5608300000000001E-3,"","","/",{"$error":"#N/A"}]
[null,null,null,{"$f":"VLOOKUP($C1335,'SEI ISD'!$A$4:$B$124,2,0)","v":{"$error":"#N/A"}},null,null,null,null,1.645E-3,3.5608300000000001E-3,"","","/",{"$error":"#N/A"}]
[null,null,null,{"$f":"VLOOKUP($C1336,'SEI ISD'!$A$4:$B$124,2,0)","v":{"$error":"#N/A"}},null,null,null,null,1.645E-3,3.5608300000000001E-3,"","","/",{"$error":"#N/A"}]
[null,null,null,{"$f":"VLOOKUP($C1337,'SEI ISD'!$A$4:$B$124,2,0)","v":{"$error":"#N/A"}},null,null,null,null,1.645E-3,3.5608300000000001E-3,"","","/",{"$error":"#N/A"}]
[null,null,null,{"$f":"VLOOKUP($C1338,'SEI ISD'!$A$4:$B$124,2,0)","v":{"$error":"#N/A"}},null,null,null,null,1.645E-3,3.5608300000000001E-3,"","","/",{"$error":"#N/A"}]
[null,null,null,{"$f":"VLOOKUP($C1339,'SEI ISD'!$A$4:$B$124,2,0)","v":{"$error":"#N/A"}},null,null,null,null,1.645E-3,3.5608300000000001E-3,"","","/",{"$error":"#N/A"}]
[null,null,null,{"$f":"VLOOKUP($C1340,'SEI ISD'!$A$4:$B$124,2,0)","v":{"$error":"#N/A"}},null,null,null,null,1.645E-3,3.5608300000000001E-3,"","","/",{"$error":"#N/A"}]
[null,null,null,{"$f":"VLOOKUP($C1341,'SEI ISD'!$A$4:$B$124,2,0)","v":{"$error":"#N/A"}},null,null,null,null,1.645E-3,3.5608300000000001E-3,"","","/",{"$error":"#N/A"}]
[null,null,null,{"$f":"VLOOKUP($C1342,'SEI ISD'!$A$4:$B$124,2,0)","v":{"$error":"#N/A"}},null,null,null,null,1.645E-3,3.5608300000000001E-3,"","","/",{"$error":"#N/A"}]
[null,null,null,{"$f":"VLOOKUP($C1343,'SEI ISD'!$A$4:$B$124,2,0)","v":{"$error":"#N/A"}},null,null,null,null,1.645E-3,3.5608300000000001E-3,"","","/",{"$error":"#N/A"}]
[null,null,null,{"$f":"VLOOKUP($C1344,'SEI ISD'!$A$4:$B$124,2,0)","v":{"$error":"#N/A"}},null,null,null,null,1.645E-3,3.5608300000000001E-3,"","","/",{"$error":"#N/A"}]
[null,null,null,{"$f":"VLOOKUP($C1345,'SEI ISD'!$A$4:$B$124,2,0)","v":{"$error":"#N/A"}},null,null,null,null,1.645E-3,3.5608300000000001E-3,"","","/",{"$error":"#N/A"}]
[null,null,null,{"$f":"VLOOKUP($C1346,'SEI ISD'!$A$4:$B$124,2,0)","v":{"$error":"#N/A"}},null,null,null,null,1.645E-3,3.5608300000000001E-3,"","","/",{"$error":"#N/A"}]
[null,null,null,{"$f":"VLOOKUP($C1347,'SEI ISD'!$A$4:$B$124,2,0)","v":{"$error":"#N/A"}},null,null,null,null,1.645E-3,3.5608300000000001E-3,{"$f":"RIGHT(G1347,2)","v":""},{"$f":"LEFT(G1347,4)","v":""},{"$f":"_xlfn.CONCAT(K1347,\"/\",L1347)","v":"/"},{"$f":"EOMONTH(D1347,0)","v":{"$error":"#N/A"}}]
[null,null,null,{"$f":"VLOOKUP($C1348,'SEI ISD'!$A$4:$B$124,2,0)","v":{"$error":"#N/A"}},null,null,null,null,1.645E-3,3.5608300000000001E-3,"","","/",{"$error":"#N/A"}]
[null,null,null,{"$f":"VLOOKUP($C1349,'SEI ISD'!$A$4:$B$124,2,0)","v":{"$error":"#N/A"}},null,null,null,null,1.645E-3,3.5608300000000001E-3,"","","/",{"$error":"#N/A"}]
[null,null,null,{"$f":"VLOOKUP($C1350,'SEI ISD'!$A$4:$B$124,2,0)","v":{"$error":"#N/A"}},null,null,null,null,1.645E-3,3.5608300000000001E-3,"","","/",{"$error":"#N/A"}]
[null,null,null,{"$f":"VLOOKUP($C1351,'SEI ISD'!$A$4:$B$124,2,0)","v":{"$error":"#N/A"}},null,null,null,null,1.645E-3,3.5608300000000001E-3,"","","/",{"$error":"#N/A"}]
[null,null,null,{"$f":"VLOOKUP($C1352,'SEI ISD'!$A$4:$B$124,2,0)","v":{"$error":"#N/A"}},null,null,null,null,1.645E-3,3.5608300000000001E-3,"","","/",{"$error":"#N/A"}]
[null,null,null,{"$f":"VLOOKUP($C1353,'SEI ISD'!$A$4:$B$124,2,0)","v":{"$error":"#N/A"}},null,null,null,null,1.645E-3,3.5608300000000001E-3,"","","/",{"$error":"#N/A"}]
[null,null,null,{"$f":"VLOOKUP($C1354,'SEI ISD'!$A$4:$B$124,2,0)","v":{"$error":"#N/A"}},null,null,null,null,1.645E-3,3.5608300000000001E-3,"","","/",{"$error":"#N/A"}]
[null,null,null,{"$f":"VLOOKUP($C1355,'SEI ISD'!$A$4:$B$124,2,0)","v":{"$error":"#N/A"}},null,null,null,null,1.645E-3,3.5608300000000001E-3,"","","/",{"$error":"#N/A"}]
[null,null,null,{"$f":"VLOOKUP($C1356,'SEI ISD'!$A$4:$B$124,2,0)","v":{"$error":"#N/A"}},null,null,null,null,1.645E-3,3.5608300000000001E-3,"","","/",{"$error":"#N/A"}]
[null,null,null,{"$f":"VLOOKUP($C1357,'SEI ISD'!$A$4:$B$124,2,0)","v":{"$error":"#N/A"}},null,null,null,null,1.645E-3,3.5608300000000001E-3,"","","/",{"$error":"#N/A"}]
[null,null,null,{"$f":"VLOOKUP($C1358,'SEI ISD'!$A$4:$B$124,2,0)","v":{"$error":"#N/A"}},null,null,null,null,1.645E-3,3.5608300000000001E-3,"","","/",{"$error":"#N/A"}]
[null,null,null,{"$f":"VLOOKUP($C1359,'SEI ISD'!$A$4:$B$124,2,0)","v":{"$error":"#N/A"}},null,null,null,null,1.645E-3,3.5608300000000001E-3,"","","/",{"$error":"#N/A"}]
[null,null,null,{"$f":"VLOOKUP($C1360,'SEI ISD'!$A$4:$B$124,2,0)","v":{"$error":"#N/A"}},null,null,null,null,1.645E-3,3.5608300000000001E-3,"","","/",{"$error":"#N/A"}]
[null,null,null,{"$f":"VLOOKUP($C1361,'SEI ISD'!$A$4:$B$124,2,0)","v":{"$error":"#N/A"}},null,null,null,null,1.645E-3,3.5608300000000001E-3,"","","/",{"$error":"#N/A"}]
[null,null,null,{"$f":"VLOOKUP($C1362,'SEI ISD'!$A$4:$B$124,2,0)","v":{"$error":"#N/A"}},null,null,null,null,1.645E-3,3.5608300000000001E-3,"","","/",{"$error":"#N/A"}]
[null,null,null,{"$f":"VLOOKUP($C1363,'SEI ISD'!$A$4:$B$124,2,0)","v":{"$error":"#N/A"}},null,null,null,null,1.645E-3,3.5608300000000001E-3,"","","/",{"$error":"#N/A"}]
[null,null,null,{"$f":"VLOOKUP($C1364,'SEI ISD'!$A$4:$B$124,2,0)","v":{"$error":"#N/A"}},null,null,null,null,1.645E-3,3.5608300000000001E-3,"","","/",{"$error":"#N/A"}]
[null,null,null,{"$f":"VLOOKUP($C1365,'SEI ISD'!$A$4:$B$124,2,0)","v":{"$error":"#N/A"}},null,null,null,null,1.645E-3,3.5608300000000001E-3,"","","/",{"$error":"#N/A"}]
[null,null,null,{"$f":"VLOOKUP($C1366,'SEI ISD'!$A$4:$B$124,2,0)","v":{"$error":"#N/A"}},null,null,null,null,1.645E-3,3.5608300000000001E-3,"","","/",{"$error":"#N/A"}]
[null,null,null,{"$f":"VLOOKUP($C1367,'SEI ISD'!$A$4:$B$124,2,0)","v":{"$error":"#N/A"}},null,null,null,null,1.645E-3,3.5608300000000001E-3,"","","/",{"$error":"#N/A"}]
[null,null,null,{"$f":"VLOOKUP($C1368,'SEI ISD'!$A$4:$B$124,2,0)","v":{"$error":"#N/A"}},null,null,null,null,1.645E-3,3.5608300000000001E-3,"","","/",{"$error":"#N/A"}]
[null,null,null,{"$f":"VLOOKUP($C1369,'SEI ISD'!$A$4:$B$124,2,0)","v":{"$error":"#N/A"}},null,null,null,null,1.645E-3,3.5608300000000001E-3,"","","/",{"$error":"#N/A"}]
[null,null,null,{"$f":"VLOOKUP($C1370,'SEI ISD'!$A$4:$B$124,2,0)","v":{"$error":"#N/A"}},null,null,null,null,1.645E-3,3.5608300000000001E-3,"","","/",{"$error":"#N/A"}]
[null,null,null,{"$f":"VLOOKUP($C1371,'SEI ISD'!$A$4:$B$124,2,0)","v":{"$error":"#N/A"}},null,null,null,null,1.645E-3,3.5608300000000001E-3,"","","/",{"$error":"#N/A"}]
[null,null,null,{"$f":"VLOOKUP($C1372,'SEI ISD'!$A$4:$B$124,2,0)","v":{"$error":"#N/A"}},null,null,null,null,1.645E-3,3.5608300000000001E-3,"","","/",{"$error":"#N/A"}]
[null,null,null,{"$f":"VLOOKUP($C1373,'SEI ISD'!$A$4:$B$124,2,0)","v":{"$error":"#N/A"}},null,null,null,null,1.645E-3,3.5608300000000001E-3,"","","/",{"$error":"#N/A"}]
[null,null,null,{"$f":"VLOOKUP($C1374,'SEI ISD'!$A$4:$B$124,2,0)","v":{"$error":"#N/A"}},null,null,null,null,1.645E-3,3.5608300000000001E-3,"","","/",{"$error":"#N/A"}]
[null,null,null,{"$f":"VLOOKUP($C1375,'SEI ISD'!$A$4:$B$124,2,0)","v":{"$error":"#N/A"}},null,null,null,null,1.645E-3,3.5608300000000001E-3,"","","/",{"$error":"#N/A"}]
[null,null,null,{"$f":"VLOOKUP($C1376,'SEI ISD'!$A$4:$B$124,2,0)","v":{"$error":"#N/A"}},null,null,null,null,1.645E-3,3.5608300000000001E-3,"","","/",{"$error":"#N/A"}]
[null,null,null,{"$f":"VLOOKUP($C1377,'SEI ISD'!$A$4:$B$124,2,0)","v":{"$error":"#N/A"}},null,null,null,null,1.645E-3,3.5608300000000001E-3,"","","/",{"$error":"#N/A"}]
[null,null,null,{"$f":"VLOOKUP($C1378,'SEI ISD'!$A$4:$B$124,2,0)","v":{"$error":"#N/A"}},null,null,null,null,1.645E-3,3.5608300000000001E-3,"","","/",{"$error":"#N/A"}]
[null,null,null,{"$f":"VLOOKUP($C1379,'SEI ISD'!$A$4:$B$124,2,0)","v":{"$error":"#N/A"}},null,null,null,null,1.645E-3,3.5608300000000001E-3,"","","/",{"$error":"#N/A"}]
[null,null,null,{"$f":"VLOOKUP($C1380,'SEI ISD'!$A$4:$B$124,2,0)","v":{"$error":"#N/A"}},null,null,null,null,1.645E-3,3.5608300000000001E-3,"","","/",{"$error":"#N/A"}]
[null,null,null,{"$f":"VLOOKUP($C1381,'SEI ISD'!$A$4:$B$124,2,0)","v":{"$error":"#N/A"}},null,null,null,null,1.645E-3,3.5608300000000001E-3,"","","/",{"$error":"#N/A"}]
[null,null,null,{"$f":"VLOOKUP($C1382,'SEI ISD'!$A$4:$B$124,2,0)","v":{"$error":"#N/A"}},null,null,null,null,1.645E-3,3.5608300000000001E-3,"","","/",{"$error":"#N/A"}]
[null,null,null,{"$f":"VLOOKUP($C1383,'SEI ISD'!$A$4:$B$124,2,0)","v":{"$error":"#N/A"}},null,null,null,null,1.645E-3,3.5608300000000001E-3,"","","/",{"$error":"#N/A"}]
[null,null,null,{"$f":"VLOOKUP($C1384,'SEI ISD'!$A$4:$B$124,2,0)","v":{"$error":"#N/A"}},null,null,null,null,1.645E-3,3.5608300000000001E-3,"","","/",{"$error":"#N/A"}]
[null,null,null,{"$f":"VLOOKUP($C1385,'SEI ISD'!$A$4:$B$124,2,0)","v":{"$error":"#N/A"}},null,null,null,null,1.645E-3,3.5608300000000001E-3,"","","/",{"$error":"#N/A"}]
[null,null,null,{"$f":"VLOOKUP($C1386,'SEI ISD'!$A$4:$B$124,2,0)","v":{"$error":"#N/A"}},null,null,null,null,1.645E-3,3.5608300000000001E-3,"","","/",{"$error":"#N/A"}]
[null,null,null,{"$f":"VLOOKUP($C1387,'SEI ISD'!$A$4:$B$124,2,0)","v":{"$error":"#N/A"}},null,null,null,null,1.645E-3,3.5608300000000001E-3,"","","/",{"$error":"#N/A"}]
[null,null,null,{"$f":"VLOOKUP($C1388,'SEI ISD'!$A$4:$B$124,2,0)","v":{"$error":"#N/A"}},null,null,null,null,1.645E-3,3.5608300000000001E-3,"","","/",{"$error":"#N/A"}]
[null,null,null,{"$f":"VLOOKUP($C1389,'SEI ISD'!$A$4:$B$124,2,0)","v":{"$error":"#N/A"}},null,null,null,null,1.645E-3,3.5608300000000001E-3,"","","/",{"$error":"#N/A"}]
[null,null,null,{"$f":"VLOOKUP($C1390,'SEI ISD'!$A$4:$B$124,2,0)","v":{"$error":"#N/A"}},null,null,null,null,1.645E-3,3.5608300000000001E-3,"","","/",{"$error":"#N/A"}]
[null,null,null,{"$f":"VLOOKUP($C1391,'SEI ISD'!$A$4:$B$124,2,0)","v":{"$error":"#N/A"}},null,null,null,null,1.645E-3,3.5608300000000001E-3,"","","/",{"$error":"#N/A"}]
[null,null,null,{"$f":"VLOOKUP($C1392,'SEI ISD'!$A$4:$B$124,2,0)","v":{"$error":"#N/A"}},null,null,null,null,1.645E-3,3.5608300000000001E-3,"","","/",{"$error":"#N/A"}]
[null,null,null,{"$f":"VLOOKUP($C1393,'SEI ISD'!$A$4:$B$124,2,0)","v":{"$error":"#N/A"}},null,null,null,null,1.645E-3,3.5608300000000001E-3,"","","/",{"$error":"#N/A"}]
[null,null,null,{"$f":"VLOOKUP($C1394,'SEI ISD'!$A$4:$B$124,2,0)","v":{"$error":"#N/A"}},null,null,null,null,1.645E-3,3.5608300000000001E-3,"","","/",{"$error":"#N/A"}]
[null,null,null,{"$f":"VLOOKUP($C1395,'SEI ISD'!$A$4:$B$124,2,0)","v":{"$error":"#N/A"}},null,null,null,null,1.645E-3,3.5608300000000001E-3,"","","/",{"$error":"#N/A"}]
[null,null,null,{"$f":"VLOOKUP($C1396,'SEI ISD'!$A$4:$B$124,2,0)","v":{"$error":"#N/A"}},null,null,null,null,1.645E-3,3.5608300000000001E-3,"","","/",{"$error":"#N/A"}]
[null,null,null,{"$f":"VLOOKUP($C1397,'SEI ISD'!$A$4:$B$124,2,0)","v":{"$error":"#N/A"}},null,null,null,null,1.645E-3,3.5608300000000001E-3,"","","/",{"$error":"#N/A"}]
[null,null,null,{"$f":"VLOOKUP($C1398,'SEI ISD'!$A$4:$B$124,2,0)","v":{"$error":"#N/A"}},null,null,null,null,1.645E-3,3.5608300000000001E-3,"","","/",{"$error":"#N/A"}]
[null,null,null,{"$f":"VLOOKUP($C1399,'SEI ISD'!$A$4:$B$124,2,0)","v":{"$error":"#N/A"}},null,null,null,null,1.645E-3,3.5608300000000001E-3,"","","/",{"$error":"#N/A"}]
[null,null,null,{"$f":"VLOOKUP($C1400,'SEI ISD'!$A$4:$B$124,2,0)","v":{"$error":"#N/A"}},null,null,null,null,1.645E-3,3.5608300000000001E-3,"","","/",{"$error":"#N/A"}]
[null,null,null,{"$f":"VLOOKUP($C1401,'SEI ISD'!$A$4:$B$124,2,0)","v":{"$error":"#N/A"}},null,null,null,null,1.645E-3,3.5608300000000001E-3,"","","/",{"$error":"#N/A"}]
[null,null,null,{"$f":"VLOOKUP($C1402,'SEI ISD'!$A$4:$B$124,2,0)","v":{"$error":"#N/A"}},null,null,null,null,1.645E-3,3.5608300000000001E-3,"","","/",{"$error":"#N/A"}]
[null,null,null,{"$f":"VLOOKUP($C1403,'SEI ISD'!$A$4:$B$124,2,0)","v":{"$error":"#N/A"}},null,null,null,null,1.645E-3,3.5608300000000001E-3,"","","/",{"$error":"#N/A"}]
[null,null,null,{"$f":"VLOOKUP($C1404,'SEI ISD'!$A$4:$B$124,2,0)","v":{"$error":"#N/A"}},null,null,null,null,1.645E-3,3.5608300000000001E-3,"","","/",{"$error":"#N/A"}]
[null,null,null,{"$f":"VLOOKUP($C1405,'SEI ISD'!$A$4:$B$124,2,0)","v":{"$error":"#N/A"}},null,null,null,null,1.645E-3,3.5608300000000001E-3,"","","/",{"$error":"#N/A"}]
[null,null,null,{"$f":"VLOOKUP($C1406,'SEI ISD'!$A$4:$B$124,2,0)","v":{"$error":"#N/A"}},null,null,null,null,1.645E-3,3.5608300000000001E-3,"","","/",{"$error":"#N/A"}]
[null,null,null,{"$f":"VLOOKUP($C1407,'SEI ISD'!$A$4:$B$124,2,0)","v":{"$error":"#N/A"}},null,null,null,null,1.645E-3,3.5608300000000001E-3,"","","/",{"$error":"#N/A"}]
[null,null,null,{"$f":"VLOOKUP($C1408,'SEI ISD'!$A$4:$B$124,2,0)","v":{"$error":"#N/A"}},null,null,null,null,1.645E-3,3.5608300000000001E-3,"","","/",{"$error":"#N/A"}]
[null,null,null,{"$f":"VLOOKUP($C1409,'SEI ISD'!$A$4:$B$124,2,0)","v":{"$error":"#N/A"}},null,null,null,null,1.645E-3,3.5608300000000001E-3,"","","/",{"$error":"#N/A"}]
[null,null,null,{"$f":"VLOOKUP($C1410,'SEI ISD'!$A$4:$B$124,2,0)","v":{"$error":"#N/A"}},null,null,null,null,1.645E-3,3.5608300000000001E-3,"","","/",{"$error":"#N/A"}]
[null,null,null,{"$f":"VLOOKUP($C1411,'SEI ISD'!$A$4:$B$124,2,0)","v":{"$error":"#N/A"}},null,null,null,null,1.645E-3,3.5608300000000001E-3,{"$f":"RIGHT(G1411,2)","v":""},{"$f":"LEFT(G1411,4)","v":""},{"$f":"_xlfn.CONCAT(K1411,\"/\",L1411)","v":"/"},{"$f":"EOMONTH(D1411,0)","v":{"$error":"#N/A"}}]
[null,null,null,{"$f":"VLOOKUP($C1412,'SEI ISD'!$A$4:$B$124,2,0)","v":{"$error":"#N/A"}},null,null,null,null,1.645E-3,3.5608300000000001E-3,"","","/",{"$error":"#N/A"}]
[null,null,null,{"$f":"VLOOKUP($C1413,'SEI ISD'!$A$4:$B$124,2,0)","v":{"$error":"#N/A"}},null,null,null,null,1.645E-3,3.5608300000000001E-3,"","","/",{"$error":"#N/A"}]
[null,null,null,{"$f":"VLOOKUP($C1414,'SEI ISD'!$A$4:$B$124,2,0)","v":{"$error":"#N/A"}},null,null,null,null,1.645E-3,3.5608300000000001E-3,"","","/",{"$error":"#N/A"}]
[null,null,null,{"$f":"VLOOKUP($C1415,'SEI ISD'!$A$4:$B$124,2,0)","v":{"$error":"#N/A"}},null,null,null,null,1.645E-3,3.5608300000000001E-3,"","","/",{"$error":"#N/A"}]
[null,null,null,{"$f":"VLOOKUP($C1416,'SEI ISD'!$A$4:$B$124,2,0)","v":{"$error":"#N/A"}},null,null,null,null,1.645E-3,3.5608300000000001E-3,"","","/",{"$error":"#N/A"}]
[null,null,null,{"$f":"VLOOKUP($C1417,'SEI ISD'!$A$4:$B$124,2,0)","v":{"$error":"#N/A"}},null,null,null,null,1.645E-3,3.5608300000000001E-3,"","","/",{"$error":"#N/A"}]
[null,null,null,{"$f":"VLOOKUP($C1418,'SEI ISD'!$A$4:$B$124,2,0)","v":{"$error":"#N/A"}},null,null,null,null,1.645E-3,3.5608300000000001E-3,"","","/",{"$error":"#N/A"}]
[null,null,null,{"$f":"VLOOKUP($C1419,'SEI ISD'!$A$4:$B$124,2,0)","v":{"$error":"#N/A"}},null,null,null,null,1.645E-3,3.5608300000000001E-3,"","","/",{"$error":"#N/A"}]
[null,null,null,{"$f":"VLOOKUP($C1420,'SEI ISD'!$A$4:$B$124,2,0)","v":{"$error":"#N/A"}},null,null,null,null,1.645E-3,3.5608300000000001E-3,"","","/",{"$error":"#N/A"}]
[null,null,null,{"$f":"VLOOKUP($C1421,'SEI ISD'!$A$4:$B$124,2,0)","v":{"$error":"#N/A"}},null,null,null,null,1.645E-3,3.5608300000000001E-3,"","","/",{"$error":"#N/A"}]
[null,null,null,{"$f":"VLOOKUP($C1422,'SEI ISD'!$A$4:$B$124,2,0)","v":{"$error":"#N/A"}},null,null,null,null,1.645E-3,3.5608300000000001E-3,"","","/",{"$error":"#N/A"}]
[null,null,null,{"$f":"VLOOKUP($C1423,'SEI ISD'!$A$4:$B$124,2,0)","v":{"$error":"#N/A"}},null,null,null,null,1.645E-3,3.5608300000000001E-3,"","","/",{"$error":"#N/A"}]
[null,null,null,{"$f":"VLOOKUP($C1424,'SEI ISD'!$A$4:$B$124,2,0)","v":{"$error":"#N/A"}},null,null,null,null,1.645E-3,3.5608300000000001E-3,"","","/",{"$error":"#N/A"}]
[null,null,null,{"$f":"VLOOKUP($C1425,'SEI ISD'!$A$4:$B$124,2,0)","v":{"$error":"#N/A"}},null,null,null,null,1.645E-3,3.5608300000000001E-3,"","","/",{"$error":"#N/A"}]
[null,null,null,{"$f":"VLOOKUP($C1426,'SEI ISD'!$A$4:$B$124,2,0)","v":{"$error":"#N/A"}},null,null,null,null,1.645E-3,3.5608300000000001E-3,"","","/",{"$error":"#N/A"}]
[null,null,null,{"$f":"VLOOKUP($C1427,'SEI ISD'!$A$4:$B$124,2,0)","v":{"$error":"#N/A"}},null,null,null,null,1.645E-3,3.5608300000000001E-3,"","","/",{"$error":"#N/A"}]
[null,null,null,{"$f":"VLOOKUP($C1428,'SEI ISD'!$A$4:$B$124,2,0)","v":{"$error":"#N/A"}},null,null,null,null,1.645E-3,3.5608300000000001E-3,"","","/",{"$error":"#N/A"}]
[null,null,null,{"$f":"VLOOKUP($C1429,'SEI ISD'!$A$4:$B$124,2,0)","v":{"$error":"#N/A"}},null,null,null,null,1.645E-3,3.5608300000000001E-3,"","","/",{"$error":"#N/A"}]
[null,null,null,{"$f":"VLOOKUP($C1430,'SEI ISD'!$A$4:$B$124,2,0)","v":{"$error":"#N/A"}},null,null,null,null,1.645E-3,3.5608300000000001E-3,"","","/",{"$error":"#N/A"}]
[null,null,null,{"$f":"VLOOKUP($C1431,'SEI ISD'!$A$4:$B$124,2,0)","v":{"$error":"#N/A"}},null,null,null,null,1.645E-3,3.5608300000000001E-3,"","","/",{"$error":"#N/A"}]
[null,null,null,{"$f":"VLOOKUP($C1432,'SEI ISD'!$A$4:$B$124,2,0)","v":{"$error":"#N/A"}},null,null,null,null,1.645E-3,3.5608300000000001E-3,"","","/",{"$error":"#N/A"}]
[null,null,null,{"$f":"VLOOKUP($C1433,'SEI ISD'!$A$4:$B$124,2,0)","v":{"$error":"#N/A"}},null,null,null,null,1.645E-3,3.5608300000000001E-3,"","","/",{"$error":"#N/A"}]
[null,null,null,{"$f":"VLOOKUP($C1434,'SEI ISD'!$A$4:$B$124,2,0)","v":{"$error":"#N/A"}},null,null,null,null,1.645E-3,3.5608300000000001E-3,"","","/",{"$error":"#N/A"}]
[null,null,null,{"$f":"VLOOKUP($C1435,'SEI ISD'!$A$4:$B$124,2,0)","v":{"$error":"#N/A"}},null,null,null,null,1.645E-3,3.5608300000000001E-3,"","","/",{"$error":"#N/A"}]
[null,null,null,{"$f":"VLOOKUP($C1436,'SEI ISD'!$A$4:$B$124,2,0)","v":{"$error":"#N/A"}},null,null,null,null,1.645E-3,3.5608300000000001E-3,"","","/",{"$error":"#N/A"}]
[null,null,null,{"$f":"VLOOKUP($C1437,'SEI ISD'!$A$4:$B$124,2,0)","v":{"$error":"#N/A"}},null,null,null,null,1.645E-3,3.5608300000000001E-3,"","","/",{"$error":"#N/A"}]
[null,null,null,{"$f":"VLOOKUP($C1438,'SEI ISD'!$A$4:$B$124,2,0)","v":{"$error":"#N/A"}},null,null,null,null,1.645E-3,3.5608300000000001E-3,"","","/",{"$error":"#N/A"}]
[null,null,null,{"$f":"VLOOKUP($C1439,'SEI ISD'!$A$4:$B$124,2,0)","v":{"$error":"#N/A"}},null,null,null,null,1.645E-3,3.5608300000000001E-3,"","","/",{"$error":"#N/A"}]
[null,null,null,{"$f":"VLOOKUP($C1440,'SEI ISD'!$A$4:$B$124,2,0)","v":{"$error":"#N/A"}},null,null,null,null,1.645E-3,3.5608300000000001E-3,"","","/",{"$error":"#N/A"}]
[null,null,null,{"$f":"VLOOKUP($C1441,'SEI ISD'!$A$4:$B$124,2,0)","v":{"$error":"#N/A"}},null,null,null,null,1.645E-3,3.5608300000000001E-3,"","","/",{"$error":"#N/A"}]
[null,null,null,{"$f":"VLOOKUP($C1442,'SEI ISD'!$A$4:$B$124,2,0)","v":{"$error":"#N/A"}},null,null,null,null,1.645E-3,3.5608300000000001E-3,"","","/",{"$error":"#N/A"}]
[null,null,null,{"$f":"VLOOKUP($C1443,'SEI ISD'!$A$4:$B$124,2,0)","v":{"$error":"#N/A"}},null,null,null,null,1.645E-3,3.5608300000000001E-3,"","","/",{"$error":"#N/A"}]
[null,null,null,{"$f":"VLOOKUP($C1444,'SEI ISD'!$A$4:$B$124,2,0)","v":{"$error":"#N/A"}},null,null,null,null,1.645E-3,3.5608300000000001E-3,"","","/",{"$error":"#N/A"}]
[null,null,null,{"$f":"VLOOKUP($C1445,'SEI ISD'!$A$4:$B$124,2,0)","v":{"$error":"#N/A"}},null,null,null,null,1.645E-3,3.5608300000000001E-3,"","","/",{"$error":"#N/A"}]
[null,null,null,{"$f":"VLOOKUP($C1446,'SEI ISD'!$A$4:$B$124,2,0)","v":{"$error":"#N/A"}},null,null,null,null,1.645E-3,3.5608300000000001E-3,"","","/",{"$error":"#N/A"}]
[null,null,null,{"$f":"VLOOKUP($C1447,'SEI ISD'!$A$4:$B$124,2,0)","v":{"$error":"#N/A"}},null,null,null,null,1.645E-3,3.5608300000000001E-3,"","","/",{"$error":"#N/A"}]
[null,null,null,{"$f":"VLOOKUP($C1448,'SEI ISD'!$A$4:$B$124,2,0)","v":{"$error":"#N/A"}},null,null,null,null,1.645E-3,3.5608300000000001E-3,"","","/",{"$error":"#N/A"}]
[null,null,null,{"$f":"VLOOKUP($C1449,'SEI ISD'!$A$4:$B$124,2,0)","v":{"$error":"#N/A"}},null,null,null,null,1.645E-3,3.5608300000000001E-3,"","","/",{"$error":"#N/A"}]
[null,null,null,{"$f":"VLOOKUP($C1450,'SEI ISD'!$A$4:$B$124,2,0)","v":{"$error":"#N/A"}},null,null,null,null,1.645E-3,3.5608300000000001E-3,"","","/",{"$error":"#N/A"}]
[null,null,null,{"$f":"VLOOKUP($C1451,'SEI ISD'!$A$4:$B$124,2,0)","v":{"$error":"#N/A"}},null,null,null,null,1.645E-3,3.5608300000000001E-3,"","","/",{"$error":"#N/A"}]
[null,null,null,{"$f":"VLOOKUP($C1452,'SEI ISD'!$A$4:$B$124,2,0)","v":{"$error":"#N/A"}},null,null,null,null,1.645E-3,3.5608300000000001E-3,"","","/",{"$error":"#N/A"}]
[null,null,null,{"$f":"VLOOKUP($C1453,'SEI ISD'!$A$4:$B$124,2,0)","v":{"$error":"#N/A"}},null,null,null,null,1.645E-3,3.5608300000000001E-3,"","","/",{"$error":"#N/A"}]
[null,null,null,{"$f":"VLOOKUP($C1454,'SEI ISD'!$A$4:$B$124,2,0)","v":{"$error":"#N/A"}},null,null,null,null,1.645E-3,3.5608300000000001E-3,"","","/",{"$error":"#N/A"}]
[null,null,null,{"$f":"VLOOKUP($C1455,'SEI ISD'!$A$4:$B$124,2,0)","v":{"$error":"#N/A"}},null,null,null,null,1.645E-3,3.5608300000000001E-3,"","","/",{"$error":"#N/A"}]
[null,null,null,{"$f":"VLOOKUP($C1456,'SEI ISD'!$A$4:$B$124,2,0)","v":{"$error":"#N/A"}},null,null,null,null,1.645E-3,3.5608300000000001E-3,"","","/",{"$error":"#N/A"}]
[null,null,null,{"$f":"VLOOKUP($C1457,'SEI ISD'!$A$4:$B$124,2,0)","v":{"$error":"#N/A"}},null,null,null,null,1.645E-3,3.5608300000000001E-3,"","","/",{"$error":"#N/A"}]
[null,null,null,{"$f":"VLOOKUP($C1458,'SEI ISD'!$A$4:$B$124,2,0)","v":{"$error":"#N/A"}},null,null,null,null,1.645E-3,3.5608300000000001E-3,"","","/",{"$error":"#N/A"}]
[null,null,null,{"$f":"VLOOKUP($C1459,'SEI ISD'!$A$4:$B$124,2,0)","v":{"$error":"#N/A"}},null,null,null,null,1.645E-3,3.5608300000000001E-3,"","","/",{"$error":"#N/A"}]
[null,null,null,{"$f":"VLOOKUP($C1460,'SEI ISD'!$A$4:$B$124,2,0)","v":{"$error":"#N/A"}},null,null,null,null,1.645E-3,3.5608300000000001E-3,"","","/",{"$error":"#N/A"}]
[null,null,null,{"$f":"VLOOKUP($C1461,'SEI ISD'!$A$4:$B$124,2,0)","v":{"$error":"#N/A"}},null,null,null,null,1.645E-3,3.5608300000000001E-3,"","","/",{"$error":"#N/A"}]
[null,null,null,{"$f":"VLOOKUP($C1462,'SEI ISD'!$A$4:$B$124,2,0)","v":{"$error":"#N/A"}},null,null,null,null,1.645E-3,3.5608300000000001E-3,"","","/",{"$error":"#N/A"}]
[null,null,null,{"$f":"VLOOKUP($C1463,'SEI ISD'!$A$4:$B$124,2,0)","v":{"$error":"#N/A"}},null,null,null,null,1.645E-3,3.5608300000000001E-3,"","","/",{"$error":"#N/A"}]
[null,null,null,{"$f":"VLOOKUP($C1464,'SEI ISD'!$A$4:$B$124,2,0)","v":{"$error":"#N/A"}},null,null,null,null,1.645E-3,3.5608300000000001E-3,"","","/",{"$error":"#N/A"}]
[null,null,null,{"$f":"VLOOKUP($C1465,'SEI ISD'!$A$4:$B$124,2,0)","v":{"$error":"#N/A"}},null,null,null,null,1.645E-3,3.5608300000000001E-3,"","","/",{"$error":"#N/A"}]
[null,null,null,{"$f":"VLOOKUP($C1466,'SEI ISD'!$A$4:$B$124,2,0)","v":{"$error":"#N/A"}},null,null,null,null,1.645E-3,3.5608300000000001E-3,"","","/",{"$error":"#N/A"}]
[null,null,null,{"$f":"VLOOKUP($C1467,'SEI ISD'!$A$4:$B$124,2,0)","v":{"$error":"#N/A"}},null,null,null,null,1.645E-3,3.5608300000000001E-3,"","","/",{"$error":"#N/A"}]
[null,null,null,{"$f":"VLOOKUP($C1468,'SEI ISD'!$A$4:$B$124,2,0)","v":{"$error":"#N/A"}},null,null,null,null,1.645E-3,3.5608300000000001E-3,"","","/",{"$error":"#N/A"}]
[null,null,null,{"$f":"VLOOKUP($C1469,'SEI ISD'!$A$4:$B$124,2,0)","v":{"$error":"#N/A"}},null,null,null,null,1.645E-3,3.5608300000000001E-3,"","","/",{"$error":"#N/A"}]
[null,null,null,{"$f":"VLOOKUP($C1470,'SEI ISD'!$A$4:$B$124,2,0)","v":{"$error":"#N/A"}},null,null,null,null,1.645E-3,3.5608300000000001E-3,"","","/",{"$error":"#N/A"}]
[null,null,null,{"$f":"VLOOKUP($C1471,'SEI ISD'!$A$4:$B$124,2,0)","v":{"$error":"#N/A"}},null,null,null,null,1.645E-3,3.5608300000000001E-3,"","","/",{"$error":"#N/A"}]
[null,null,null,{"$f":"VLOOKUP($C1472,'SEI ISD'!$A$4:$B$124,2,0)","v":{"$error":"#N/A"}},null,null,null,null,1.645E-3,3.5608300000000001E-3,"","","/",{"$error":"#N/A"}]
[null,null,null,{"$f":"VLOOKUP($C1473,'SEI ISD'!$A$4:$B$124,2,0)","v":{"$error":"#N/A"}},null,null,null,null,1.645E-3,3.5608300000000001E-3,"","","/",{"$error":"#N/A"}]
[null,null,null,{"$f":"VLOOKUP($C1474,'SEI ISD'!$A$4:$B$124,2,0)","v":{"$error":"#N/A"}},null,null,null,null,1.645E-3,3.5608300000000001E-3,"","","/",{"$error":"#N/A"}]
[null,null,null,{"$f":"VLOOKUP($C1475,'SEI ISD'!$A$4:$B$124,2,0)","v":{"$error":"#N/A"}},null,null,null,null,1.645E-3,3.5608300000000001E-3,{"$f":"RIGHT(G1475,2)","v":""},{"$f":"LEFT(G1475,4)","v":""},{"$f":"_xlfn.CONCAT(K1475,\"/\",L1475)","v":"/"},{"$f":"EOMONTH(D1475,0)","v":{"$error":"#N/A"}}]
[null,null,null,{"$f":"VLOOKUP($C1476,'SEI ISD'!$A$4:$B$124,2,0)","v":{"$error":"#N/A"}},null,null,null,null,1.645E-3,3.5608300000000001E-3,"","","/",{"$error":"#N/A"}]
[null,null,null,{"$f":"VLOOKUP($C1477,'SEI ISD'!$A$4:$B$124,2,0)","v":{"$error":"#N/A"}},null,null,null,null,1.645E-3,3.5608300000000001E-3,"","","/",{"$error":"#N/A"}]
[null,null,null,{"$f":"VLOOKUP($C1478,'SEI ISD'!$A$4:$B$124,2,0)","v":{"$error":"#N/A"}},null,null,null,null,1.645E-3,3.5608300000000001E-3,"","","/",{"$error":"#N/A"}]
[null,null,null,{"$f":"VLOOKUP($C1479,'SEI ISD'!$A$4:$B$124,2,0)","v":{"$error":"#N/A"}},null,null,null,null,1.645E-3,3.5608300000000001E-3,"","","/",{"$error":"#N/A"}]
[null,null,null,{"$f":"VLOOKUP($C1480,'SEI ISD'!$A$4:$B$124,2,0)","v":{"$error":"#N/A"}},null,null,null,null,1.645E-3,3.5608300000000001E-3,"","","/",{"$error":"#N/A"}]
[null,null,null,{"$f":"VLOOKUP($C1481,'SEI ISD'!$A$4:$B$124,2,0)","v":{"$error":"#N/A"}},null,null,null,null,1.645E-3,3.5608300000000001E-3,"","","/",{"$error":"#N/A"}]
[null,null,null,{"$f":"VLOOKUP($C1482,'SEI ISD'!$A$4:$B$124,2,0)","v":{"$error":"#N/A"}},null,null,null,null,1.645E-3,3.5608300000000001E-3,"","","/",{"$error":"#N/A"}]
[null,null,null,{"$f":"VLOOKUP($C1483,'SEI ISD'!$A$4:$B$124,2,0)","v":{"$error":"#N/A"}},null,null,null,null,1.645E-3,3.5608300000000001E-3,"","","/",{"$error":"#N/A"}]
[null,null,null,{"$f":"VLOOKUP($C1484,'SEI ISD'!$A$4:$B$124,2,0)","v":{"$error":"#N/A"}},null,null,null,null,1.645E-3,3.5608300000000001E-3,"","","/",{"$error":"#N/A"}]
[null,null,null,{"$f":"VLOOKUP($C1485,'SEI ISD'!$A$4:$B$124,2,0)","v":{"$error":"#N/A"}},null,null,null,null,1.645E-3,3.5608300000000001E-3,"","","/",{"$error":"#N/A"}]
[null,null,null,{"$f":"VLOOKUP($C1486,'SEI ISD'!$A$4:$B$124,2,0)","v":{"$error":"#N/A"}},null,null,null,null,1.645E-3,3.5608300000000001E-3,"","","/",{"$error":"#N/A"}]
[null,null,null,{"$f":"VLOOKUP($C1487,'SEI ISD'!$A$4:$B$124,2,0)","v":{"$error":"#N/A"}},null,null,null,null,1.645E-3,3.5608300000000001E-3,"","","/",{"$error":"#N/A"}]
[null,null,null,{"$f":"VLOOKUP($C1488,'SEI ISD'!$A$4:$B$124,2,0)","v":{"$error":"#N/A"}},null,null,null,null,1.645E-3,3.5608300000000001E-3,"","","/",{"$error":"#N/A"}]
[null,null,null,{"$f":"VLOOKUP($C1489,'SEI ISD'!$A$4:$B$124,2,0)","v":{"$error":"#N/A"}},null,null,null,null,1.645E-3,3.5608300000000001E-3,"","","/",{"$error":"#N/A"}]
[null,null,null,{"$f":"VLOOKUP($C1490,'SEI ISD'!$A$4:$B$124,2,0)","v":{"$error":"#N/A"}},null,null,null,null,1.645E-3,3.5608300000000001E-3,"","","/",{"$error":"#N/A"}]
[null,null,null,{"$f":"VLOOKUP($C1491,'SEI ISD'!$A$4:$B$124,2,0)","v":{"$error":"#N/A"}},null,null,null,null,1.645E-3,3.5608300000000001E-3,"","","/",{"$error":"#N/A"}]
[null,null,null,{"$f":"VLOOKUP($C1492,'SEI ISD'!$A$4:$B$124,2,0)","v":{"$error":"#N/A"}},null,null,null,null,1.645E-3,3.5608300000000001E-3,"","","/",{"$error":"#N/A"}]
[null,null,null,{"$f":"VLOOKUP($C1493,'SEI ISD'!$A$4:$B$124,2,0)","v":{"$error":"#N/A"}},null,null,null,null,1.645E-3,3.5608300000000001E-3,"","","/",{"$error":"#N/A"}]
[null,null,null,{"$f":"VLOOKUP($C1494,'SEI ISD'!$A$4:$B$124,2,0)","v":{"$error":"#N/A"}},null,null,null,null,1.645E-3,3.5608300000000001E-3,"","","/",{"$error":"#N/A"}]
[null,null,null,{"$f":"VLOOKUP($C1495,'SEI ISD'!$A$4:$B$124,2,0)","v":{"$error":"#N/A"}},null,null,null,null,1.645E-3,3.5608300000000001E-3,"","","/",{"$error":"#N/A"}]
[null,null,null,{"$f":"VLOOKUP($C1496,'SEI ISD'!$A$4:$B$124,2,0)","v":{"$error":"#N/A"}},null,null,null,null,1.645E-3,3.5608300000000001E-3,"","","/",{"$error":"#N/A"}]
[null,null,null,{"$f":"VLOOKUP($C1497,'SEI ISD'!$A$4:$B$124,2,0)","v":{"$error":"#N/A"}},null,null,null,null,1.645E-3,3.5608300000000001E-3,"","","/",{"$error":"#N/A"}]
[null,null,null,{"$f":"VLOOKUP($C1498,'SEI ISD'!$A$4:$B$124,2,0)","v":{"$error":"#N/A"}},null,null,null,null,1.645E-3,3.5608300000000001E-3,"","","/",{"$error":"#N/A"}]
[null,null,null,{"$f":"VLOOKUP($C1499,'SEI ISD'!$A$4:$B$124,2,0)","v":{"$error":"#N/A"}},null,null,null,null,1.645E-3,3.5608300000000001E-3,"","","/",{"$error":"#N/A"}]
[null,null,null,{"$f":"VLOOKUP($C1500,'SEI ISD'!$A$4:$B$124,2,0)","v":{"$error":"#N/A"}},null,null,null,null,1.645E-3,3.5608300000000001E-3,"","","/",{"$error":"#N/A"}]
[null,null,null,{"$f":"VLOOKUP($C1501,'SEI ISD'!$A$4:$B$124,2,0)","v":{"$error":"#N/A"}},null,null,null,null,1.645E-3,3.5608300000000001E-3,"","","/",{"$error":"#N/A"}]
[null,null,null,{"$f":"VLOOKUP($C1502,'SEI ISD'!$A$4:$B$124,2,0)","v":{"$error":"#N/A"}},null,null,null,null,1.645E-3,3.5608300000000001E-3,"","","/",{"$error":"#N/A"}]
[null,null,null,{"$f":"VLOOKUP($C1503,'SEI ISD'!$A$4:$B$124,2,0)","v":{"$error":"#N/A"}},null,null,null,null,1.645E-3,3.5608300000000001E-3,"","","/",{"$error":"#N/A"}]
[null,null,null,{"$f":"VLOOKUP($C1504,'SEI ISD'!$A$4:$B$124,2,0)","v":{"$error":"#N/A"}},null,null,null,null,1.645E-3,3.5608300000000001E-3,"","","/",{"$error":"#N/A"}]
[null,null,null,{"$f":"VLOOKUP($C1505,'SEI ISD'!$A$4:$B$124,2,0)","v":{"$error":"#N/A"}},null,null,null,null,1.645E-3,3.5608300000000001E-3,"","","/",{"$error":"#N/A"}]
[null,null,null,{"$f":"VLOOKUP($C1506,'SEI ISD'!$A$4:$B$124,2,0)","v":{"$error":"#N/A"}},null,null,null,null,1.645E-3,3.5608300000000001E-3,"","","/",{"$error":"#N/A"}]
[null,null,null,{"$f":"VLOOKUP($C1507,'SEI ISD'!$A$4:$B$124,2,0)","v":{"$error":"#N/A"}},null,null,null,null,1.645E-3,3.5608300000000001E-3,"","","/",{"$error":"#N/A"}]
[null,null,null,{"$f":"VLOOKUP($C1508,'SEI ISD'!$A$4:$B$124,2,0)","v":{"$error":"#N/A"}},null,null,null,null,1.645E-3,3.5608300000000001E-3,"","","/",{"$error":"#N/A"}]
[null,null,null,{"$f":"VLOOKUP($C1509,'SEI ISD'!$A$4:$B$124,2,0)","v":{"$error":"#N/A"}},null,null,null,null,1.645E-3,3.5608300000000001E-3,"","","/",{"$error":"#N/A"}]
[null,null,null,{"$f":"VLOOKUP($C1510,'SEI ISD'!$A$4:$B$124,2,0)","v":{"$error":"#N/A"}},null,null,null,null,1.645E-3,3.5608300000000001E-3,"","","/",{"$error":"#N/A"}]
[null,null,null,{"$f":"VLOOKUP($C1511,'SEI ISD'!$A$4:$B$124,2,0)","v":{"$error":"#N/A"}},null,null,null,null,1.645E-3,3.5608300000000001E-3,"","","/",{"$error":"#N/A"}]
[null,null,null,{"$f":"VLOOKUP($C1512,'SEI ISD'!$A$4:$B$124,2,0)","v":{"$error":"#N/A"}},null,null,null,null,1.645E-3,3.5608300000000001E-3,"","","/",{"$error":"#N/A"}]
[null,null,null,{"$f":"VLOOKUP($C1513,'SEI ISD'!$A$4:$B$124,2,0)","v":{"$error":"#N/A"}},null,null,null,null,1.645E-3,3.5608300000000001E-3,"","","/",{"$error":"#N/A"}]
[null,null,null,{"$f":"VLOOKUP($C1514,'SEI ISD'!$A$4:$B$124,2,0)","v":{"$error":"#N/A"}},null,null,null,null,1.645E-3,3.5608300000000001E-3,"","","/",{"$error":"#N/A"}]
[null,null,null,{"$f":"VLOOKUP($C1515,'SEI ISD'!$A$4:$B$124,2,0)","v":{"$error":"#N/A"}},null,null,null,null,1.645E-3,3.5608300000000001E-3,"","","/",{"$error":"#N/A"}]
[null,null,null,{"$f":"VLOOKUP($C1516,'SEI ISD'!$A$4:$B$124,2,0)","v":{"$error":"#N/A"}},null,null,null,null,1.645E-3,3.5608300000000001E-3,"","","/",{"$error":"#N/A"}]
[null,null,null,{"$f":"VLOOKUP($C1517,'SEI ISD'!$A$4:$B$124,2,0)","v":{"$error":"#N/A"}},null,null,null,null,1.645E-3,3.5608300000000001E-3,"","","/",{"$error":"#N/A"}]
[null,null,null,{"$f":"VLOOKUP($C1518,'SEI ISD'!$A$4:$B$124,2,0)","v":{"$error":"#N/A"}},null,null,null,null,1.645E-3,3.5608300000000001E-3,"","","/",{"$error":"#N/A"}]
[null,null,null,{"$f":"VLOOKUP($C1519,'SEI ISD'!$A$4:$B$124,2,0)","v":{"$error":"#N/A"}},null,null,null,null,1.645E-3,3.5608300000000001E-3,"","","/",{"$error":"#N/A"}]
[null,null,null,{"$f":"VLOOKUP($C1520,'SEI ISD'!$A$4:$B$124,2,0)","v":{"$error":"#N/A"}},null,null,null,null,1.645E-3,3.5608300000000001E-3,"","","/",{"$error":"#N/A"}]
[null,null,null,{"$f":"VLOOKUP($C1521,'SEI ISD'!$A$4:$B$124,2,0)","v":{"$error":"#N/A"}},null,null,null,null,1.645E-3,3.5608300000000001E-3,"","","/",{"$error":"#N/A"}]
[null,null,null,{"$f":"VLOOKUP($C1522,'SEI ISD'!$A$4:$B$124,2,0)","v":{"$error":"#N/A"}},null,null,null,null,1.645E-3,3.5608300000000001E-3,"","","/",{"$error":"#N/A"}]
[null,null,null,{"$f":"VLOOKUP($C1523,'SEI ISD'!$A$4:$B$124,2,0)","v":{"$error":"#N/A"}},null,null,null,null,1.645E-3,3.5608300000000001E-3,"","","/",{"$error":"#N/A"}]
[null,null,null,{"$f":"VLOOKUP($C1524,'SEI ISD'!$A$4:$B$124,2,0)","v":{"$error":"#N/A"}},null,null,null,null,1.645E-3,3.5608300000000001E-3,"","","/",{"$error":"#N/A"}]
[null,null,null,{"$f":"VLOOKUP($C1525,'SEI ISD'!$A$4:$B$124,2,0)","v":{"$error":"#N/A"}},null,null,null,null,1.645E-3,3.5608300000000001E-3,"","","/",{"$error":"#N/A"}]
[null,null,null,{"$f":"VLOOKUP($C1526,'SEI ISD'!$A$4:$B$124,2,0)","v":{"$error":"#N/A"}},null,null,null,null,1.645E-3,3.5608300000000001E-3,"","","/",{"$error":"#N/A"}]
[null,null,null,{"$f":"VLOOKUP($C1527,'SEI ISD'!$A$4:$B$124,2,0)","v":{"$error":"#N/A"}},null,null,null,null,1.645E-3,3.5608300000000001E-3,"","","/",{"$error":"#N/A"}]
[null,null,null,{"$f":"VLOOKUP($C1528,'SEI ISD'!$A$4:$B$124,2,0)","v":{"$error":"#N/A"}},null,null,null,null,1.645E-3,3.5608300000000001E-3,"","","/",{"$error":"#N/A"}]
[null,null,null,{"$f":"VLOOKUP($C1529,'SEI ISD'!$A$4:$B$124,2,0)","v":{"$error":"#N/A"}},null,null,null,null,1.645E-3,3.5608300000000001E-3,"","","/",{"$error":"#N/A"}]
[null,null,null,{"$f":"VLOOKUP($C1530,'SEI ISD'!$A$4:$B$124,2,0)","v":{"$error":"#N/A"}},null,null,null,null,1.645E-3,3.5608300000000001E-3,"","","/",{"$error":"#N/A"}]
[null,null,null,{"$f":"VLOOKUP($C1531,'SEI ISD'!$A$4:$B$124,2,0)","v":{"$error":"#N/A"}},null,null,null,null,1.645E-3,3.5608300000000001E-3,"","","/",{"$error":"#N/A"}]
[null,null,null,{"$f":"VLOOKUP($C1532,'SEI ISD'!$A$4:$B$124,2,0)","v":{"$error":"#N/A"}},null,null,null,null,1.645E-3,3.5608300000000001E-3,"","","/",{"$error":"#N/A"}]
[null,null,null,{"$f":"VLOOKUP($C1533,'SEI ISD'!$A$4:$B$124,2,0)","v":{"$error":"#N/A"}},null,null,null,null,1.645E-3,3.5608300000000001E-3,"","","/",{"$error":"#N/A"}]
[null,null,null,{"$f":"VLOOKUP($C1534,'SEI ISD'!$A$4:$B$124,2,0)","v":{"$error":"#N/A"}},null,null,null,null,1.645E-3,3.5608300000000001E-3,"","","/",{"$error":"#N/A"}]
[null,null,null,{"$f":"VLOOKUP($C1535,'SEI ISD'!$A$4:$B$124,2,0)","v":{"$error":"#N/A"}},null,null,null,null,1.645E-3,3.5608300000000001E-3,"","","/",{"$error":"#N/A"}]
[null,null,null,{"$f":"VLOOKUP($C1536,'SEI ISD'!$A$4:$B$124,2,0)","v":{"$error":"#N/A"}},null,null,null,null,1.645E-3,3.5608300000000001E-3,"","","/",{"$error":"#N/A"}]
[null,null,null,{"$f":"VLOOKUP($C1537,'SEI ISD'!$A$4:$B$124,2,0)","v":{"$error":"#N/A"}},null,null,null,null,1.645E-3,3.5608300000000001E-3,"","","/",{"$error":"#N/A"}]
[null,null,null,{"$f":"VLOOKUP($C1538,'SEI ISD'!$A$4:$B$124,2,0)","v":{"$error":"#N/A"}},null,null,null,null,1.645E-3,3.5608300000000001E-3,"","","/",{"$error":"#N/A"}]
[null,null,null,{"$f":"VLOOKUP($C1539,'SEI ISD'!$A$4:$B$124,2,0)","v":{"$error":"#N/A"}},null,null,null,null,1.645E-3,3.5608300000000001E-3,{"$f":"RIGHT(G1539,2)","v":""},{"$f":"LEFT(G1539,4)","v":""},{"$f":"_xlfn.CONCAT(K1539,\"/\",L1539)","v":"/"},{"$f":"EOMONTH(D1539,0)","v":{"$error":"#N/A"}}]
[null,null,null,{"$f":"VLOOKUP($C1540,'SEI ISD'!$A$4:$B$124,2,0)","v":{"$error":"#N/A"}},null,null,null,null,1.645E-3,3.5608300000000001E-3,"","","/",{"$error":"#N/A"}]
[null,null,null,{"$f":"VLOOKUP($C1541,'SEI ISD'!$A$4:$B$124,2,0)","v":{"$error":"#N/A"}},null,null,null,null,1.645E-3,3.5608300000000001E-3,"","","/",{"$error":"#N/A"}]
[null,null,null,{"$f":"VLOOKUP($C1542,'SEI ISD'!$A$4:$B$124,2,0)","v":{"$error":"#N/A"}},null,null,null,null,1.645E-3,3.5608300000000001E-3,"","","/",{"$error":"#N/A"}]
[null,null,null,{"$f":"VLOOKUP($C1543,'SEI ISD'!$A$4:$B$124,2,0)","v":{"$error":"#N/A"}},null,null,null,null,1.645E-3,3.5608300000000001E-3,"","","/",{"$error":"#N/A"}]
[null,null,null,{"$f":"VLOOKUP($C1544,'SEI ISD'!$A$4:$B$124,2,0)","v":{"$error":"#N/A"}},null,null,null,null,1.645E-3,3.5608300000000001E-3,"","","/",{"$error":"#N/A"}]
[null,null,null,{"$f":"VLOOKUP($C1545,'SEI ISD'!$A$4:$B$124,2,0)","v":{"$error":"#N/A"}},null,null,null,null,1.645E-3,3.5608300000000001E-3,"","","/",{"$error":"#N/A"}]
[null,null,null,{"$f":"VLOOKUP($C1546,'SEI ISD'!$A$4:$B$124,2,0)","v":{"$error":"#N/A"}},null,null,null,null,1.645E-3,3.5608300000000001E-3,"","","/",{"$error":"#N/A"}]
[null,null,null,{"$f":"VLOOKUP($C1547,'SEI ISD'!$A$4:$B$124,2,0)","v":{"$error":"#N/A"}},null,null,null,null,1.645E-3,3.5608300000000001E-3,"","","/",{"$error":"#N/A"}]
[null,null,null,{"$f":"VLOOKUP($C1548,'SEI ISD'!$A$4:$B$124,2,0)","v":{"$error":"#N/A"}},null,null,null,null,1.645E-3,3.5608300000000001E-3,"","","/",{"$error":"#N/A"}]
[null,null,null,{"$f":"VLOOKUP($C1549,'SEI ISD'!$A$4:$B$124,2,0)","v":{"$error":"#N/A"}},null,null,null,null,1.645E-3,3.5608300000000001E-3,"","","/",{"$error":"#N/A"}]
[null,null,null,{"$f":"VLOOKUP($C1550,'SEI ISD'!$A$4:$B$124,2,0)","v":{"$error":"#N/A"}},null,null,null,null,1.645E-3,3.5608300000000001E-3,"","","/",{"$error":"#N/A"}]
[null,null,null,{"$f":"VLOOKUP($C1551,'SEI ISD'!$A$4:$B$124,2,0)","v":{"$error":"#N/A"}},null,null,null,null,1.645E-3,3.5608300000000001E-3,"","","/",{"$error":"#N/A"}]
[null,null,null,{"$f":"VLOOKUP($C1552,'SEI ISD'!$A$4:$B$124,2,0)","v":{"$error":"#N/A"}},null,null,null,null,1.645E-3,3.5608300000000001E-3,"","","/",{"$error":"#N/A"}]
[null,null,null,{"$f":"VLOOKUP($C1553,'SEI ISD'!$A$4:$B$124,2,0)","v":{"$error":"#N/A"}},null,null,null,null,1.645E-3,3.5608300000000001E-3,"","","/",{"$error":"#N/A"}]
[null,null,null,{"$f":"VLOOKUP($C1554,'SEI ISD'!$A$4:$B$124,2,0)","v":{"$error":"#N/A"}},null,null,null,null,1.645E-3,3.5608300000000001E-3,"","","/",{"$error":"#N/A"}]
[null,null,null,{"$f":"VLOOKUP($C1555,'SEI ISD'!$A$4:$B$124,2,0)","v":{"$error":"#N/A"}},null,null,null,null,1.645E-3,3.5608300000000001E-3,"","","/",{"$error":"#N/A"}]
[null,null,null,{"$f":"VLOOKUP($C1556,'SEI ISD'!$A$4:$B$124,2,0)","v":{"$error":"#N/A"}},null,null,null,null,1.645E-3,3.5608300000000001E-3,"","","/",{"$error":"#N/A"}]
[null,null,null,{"$f":"VLOOKUP($C1557,'SEI ISD'!$A$4:$B$124,2,0)","v":{"$error":"#N/A"}},null,null,null,null,1.645E-3,3.5608300000000001E-3,"","","/",{"$error":"#N/A"}]
[null,null,null,{"$f":"VLOOKUP($C1558,'SEI ISD'!$A$4:$B$124,2,0)","v":{"$error":"#N/A"}},null,null,null,null,1.645E-3,3.5608300000000001E-3,"","","/",{"$error":"#N/A"}]
[null,null,null,{"$f":"VLOOKUP($C1559,'SEI ISD'!$A$4:$B$124,2,0)","v":{"$error":"#N/A"}},null,null,null,null,1.645E-3,3.5608300000000001E-3,"","","/",{"$error":"#N/A"}]
[null,null,null,{"$f":"VLOOKUP($C1560,'SEI ISD'!$A$4:$B$124,2,0)","v":{"$error":"#N/A"}},null,null,null,null,1.645E-3,3.5608300000000001E-3,"","","/",{"$error":"#N/A"}]
[null,null,null,{"$f":"VLOOKUP($C1561,'SEI ISD'!$A$4:$B$124,2,0)","v":{"$error":"#N/A"}},null,null,null,null,1.645E-3,3.5608300000000001E-3,"","","/",{"$error":"#N/A"}]
[null,null,null,{"$f":"VLOOKUP($C1562,'SEI ISD'!$A$4:$B$124,2,0)","v":{"$error":"#N/A"}},null,null,null,null,1.645E-3,3.5608300000000001E-3,"","","/",{"$error":"#N/A"}]
[null,null,null,{"$f":"VLOOKUP($C1563,'SEI ISD'!$A$4:$B$124,2,0)","v":{"$error":"#N/A"}},null,null,null,null,1.645E-3,3.5608300000000001E-3,"","","/",{"$error":"#N/A"}]
[null,null,null,{"$f":"VLOOKUP($C1564,'SEI ISD'!$A$4:$B$124,2,0)","v":{"$error":"#N/A"}},null,null,null,null,1.645E-3,3.5608300000000001E-3,"","","/",{"$error":"#N/A"}]
[null,null,null,{"$f":"VLOOKUP($C1565,'SEI ISD'!$A$4:$B$124,2,0)","v":{"$error":"#N/A"}},null,null,null,null,1.645E-3,3.5608300000000001E-3,"","","/",{"$error":"#N/A"}]
[null,null,null,{"$f":"VLOOKUP($C1566,'SEI ISD'!$A$4:$B$124,2,0)","v":{"$error":"#N/A"}},null,null,null,null,1.645E-3,3.5608300000000001E-3,"","","/",{"$error":"#N/A"}]
[null,null,null,{"$f":"VLOOKUP($C1567,'SEI ISD'!$A$4:$B$124,2,0)","v":{"$error":"#N/A"}},null,null,null,null,1.645E-3,3.5608300000000001E-3,"","","/",{"$error":"#N/A"}]
[null,null,null,{"$f":"VLOOKUP($C1568,'SEI ISD'!$A$4:$B$124,2,0)","v":{"$error":"#N/A"}},null,null,null,null,1.645E-3,3.5608300000000001E-3,"","","/",{"$error":"#N/A"}]
[null,null,null,{"$f":"VLOOKUP($C1569,'SEI ISD'!$A$4:$B$124,2,0)","v":{"$error":"#N/A"}},null,null,null,null,1.645E-3,3.5608300000000001E-3,"","","/",{"$error":"#N/A"}]
[null,null,null,{"$f":"VLOOKUP($C1570,'SEI ISD'!$A$4:$B$124,2,0)","v":{"$error":"#N/A"}},null,null,null,null,1.645E-3,3.5608300000000001E-3,"","","/",{"$error":"#N/A"}]
[null,null,null,{"$f":"VLOOKUP($C1571,'SEI ISD'!$A$4:$B$124,2,0)","v":{"$error":"#N/A"}},null,null,null,null,1.645E-3,3.5608300000000001E-3,"","","/",{"$error":"#N/A"}]
[null,null,null,{"$f":"VLOOKUP($C1572,'SEI ISD'!$A$4:$B$124,2,0)","v":{"$error":"#N/A"}},null,null,null,null,1.645E-3,3.5608300000000001E-3,"","","/",{"$error":"#N/A"}]
[null,null,null,{"$f":"VLOOKUP($C1573,'SEI ISD'!$A$4:$B$124,2,0)","v":{"$error":"#N/A"}},null,null,null,null,1.645E-3,3.5608300000000001E-3,"","","/",{"$error":"#N/A"}]
[null,null,null,{"$f":"VLOOKUP($C1574,'SEI ISD'!$A$4:$B$124,2,0)","v":{"$error":"#N/A"}},null,null,null,null,1.645E-3,3.5608300000000001E-3,"","","/",{"$error":"#N/A"}]
[null,null,null,{"$f":"VLOOKUP($C1575,'SEI ISD'!$A$4:$B$124,2,0)","v":{"$error":"#N/A"}},null,null,null,null,1.645E-3,3.5608300000000001E-3,"","","/",{"$error":"#N/A"}]
[null,null,null,{"$f":"VLOOKUP($C1576,'SEI ISD'!$A$4:$B$124,2,0)","v":{"$error":"#N/A"}},null,null,null,null,1.645E-3,3.5608300000000001E-3,"","","/",{"$error":"#N/A"}]
[null,null,null,{"$f":"VLOOKUP($C1577,'SEI ISD'!$A$4:$B$124,2,0)","v":{"$error":"#N/A"}},null,null,null,null,1.645E-3,3.5608300000000001E-3,"","","/",{"$error":"#N/A"}]
[null,null,null,{"$f":"VLOOKUP($C1578,'SEI ISD'!$A$4:$B$124,2,0)","v":{"$error":"#N/A"}},null,null,null,null,1.645E-3,3.5608300000000001E-3,"","","/",{"$error":"#N/A"}]
[null,null,null,{"$f":"VLOOKUP($C1579,'SEI ISD'!$A$4:$B$124,2,0)","v":{"$error":"#N/A"}},null,null,null,null,1.645E-3,3.5608300000000001E-3,"","","/",{"$error":"#N/A"}]
[null,null,null,{"$f":"VLOOKUP($C1580,'SEI ISD'!$A$4:$B$124,2,0)","v":{"$error":"#N/A"}},null,null,null,null,1.645E-3,3.5608300000000001E-3,"","","/",{"$error":"#N/A"}]
[null,null,null,{"$f":"VLOOKUP($C1581,'SEI ISD'!$A$4:$B$124,2,0)","v":{"$error":"#N/A"}},null,null,null,null,1.645E-3,3.5608300000000001E-3,"","","/",{"$error":"#N/A"}]
[null,null,null,{"$f":"VLOOKUP($C1582,'SEI ISD'!$A$4:$B$124,2,0)","v":{"$error":"#N/A"}},null,null,null,null,1.645E-3,3.5608300000000001E-3,"","","/",{"$error":"#N/A"}]
[null,null,null,{"$f":"VLOOKUP($C1583,'SEI ISD'!$A$4:$B$124,2,0)","v":{"$error":"#N/A"}},null,null,null,null,1.645E-3,3.5608300000000001E-3,"","","/",{"$error":"#N/A"}]
[null,null,null,{"$f":"VLOOKUP($C1584,'SEI ISD'!$A$4:$B$124,2,0)","v":{"$error":"#N/A"}},null,null,null,null,1.645E-3,3.5608300000000001E-3,"","","/",{"$error":"#N/A"}]
[null,null,null,{"$f":"VLOOKUP($C1585,'SEI ISD'!$A$4:$B$124,2,0)","v":{"$error":"#N/A"}},null,null,null,null,1.645E-3,3.5608300000000001E-3,"","","/",{"$error":"#N/A"}]
[null,null,null,{"$f":"VLOOKUP($C1586,'SEI ISD'!$A$4:$B$124,2,0)","v":{"$error":"#N/A"}},null,null,null,null,1.645E-3,3.5608300000000001E-3,"","","/",{"$error":"#N/A"}]
[null,null,null,{"$f":"VLOOKUP($C1587,'SEI ISD'!$A$4:$B$124,2,0)","v":{"$error":"#N/A"}},null,null,null,null,1.645E-3,3.5608300000000001E-3,"","","/",{"$error":"#N/A"}]
[null,null,null,{"$f":"VLOOKUP($C1588,'SEI ISD'!$A$4:$B$124,2,0)","v":{"$error":"#N/A"}},null,null,null,null,1.645E-3,3.5608300000000001E-3,"","","/",{"$error":"#N/A"}]
[null,null,null,{"$f":"VLOOKUP($C1589,'SEI ISD'!$A$4:$B$124,2,0)","v":{"$error":"#N/A"}},null,null,null,null,1.645E-3,3.5608300000000001E-3,"","","/",{"$error":"#N/A"}]
[null,null,null,{"$f":"VLOOKUP($C1590,'SEI ISD'!$A$4:$B$124,2,0)","v":{"$error":"#N/A"}},null,null,null,null,1.645E-3,3.5608300000000001E-3,"","","/",{"$error":"#N/A"}]
[null,null,null,{"$f":"VLOOKUP($C1591,'SEI ISD'!$A$4:$B$124,2,0)","v":{"$error":"#N/A"}},null,null,null,null,1.645E-3,3.5608300000000001E-3,"","","/",{"$error":"#N/A"}]
[null,null,null,{"$f":"VLOOKUP($C1592,'SEI ISD'!$A$4:$B$124,2,0)","v":{"$error":"#N/A"}},null,null,null,null,1.645E-3,3.5608300000000001E-3,"","","/",{"$error":"#N/A"}]
[null,null,null,{"$f":"VLOOKUP($C1593,'SEI ISD'!$A$4:$B$124,2,0)","v":{"$error":"#N/A"}},null,null,null,null,1.645E-3,3.5608300000000001E-3,"","","/",{"$error":"#N/A"}]
[null,null,null,{"$f":"VLOOKUP($C1594,'SEI ISD'!$A$4:$B$124,2,0)","v":{"$error":"#N/A"}},null,null,null,null,1.645E-3,3.5608300000000001E-3,"","","/",{"$error":"#N/A"}]
[null,null,null,{"$f":"VLOOKUP($C1595,'SEI ISD'!$A$4:$B$124,2,0)","v":{"$error":"#N/A"}},null,null,null,null,1.645E-3,3.5608300000000001E-3,"","","/",{"$error":"#N/A"}]
[null,null,null,{"$f":"VLOOKUP($C1596,'SEI ISD'!$A$4:$B$124,2,0)","v":{"$error":"#N/A"}},null,null,null,null,1.645E-3,3.5608300000000001E-3,"","","/",{"$error":"#N/A"}]
[null,null,null,{"$f":"VLOOKUP($C1597,'SEI ISD'!$A$4:$B$124,2,0)","v":{"$error":"#N/A"}},null,null,null,null,1.645E-3,3.5608300000000001E-3,"","","/",{"$error":"#N/A"}]
[null,null,null,{"$f":"VLOOKUP($C1598,'SEI ISD'!$A$4:$B$124,2,0)","v":{"$error":"#N/A"}},null,null,null,null,1.645E-3,3.5608300000000001E-3,"","","/",{"$error":"#N/A"}]
[null,null,null,{"$f":"VLOOKUP($C1599,'SEI ISD'!$A$4:$B$124,2,0)","v":{"$error":"#N/A"}},null,null,null,null,1.645E-3,3.5608300000000001E-3,"","","/",{"$error":"#N/A"}]
[null,null,null,{"$f":"VLOOKUP($C1600,'SEI ISD'!$A$4:$B$124,2,0)","v":{"$error":"#N/A"}},null,null,null,null,1.645E-3,3.5608300000000001E-3,"","","/",{"$error":"#N/A"}]
[null,null,null,{"$f":"VLOOKUP($C1601,'SEI ISD'!$A$4:$B$124,2,0)","v":{"$error":"#N/A"}},null,null,null,null,1.645E-3,3.5608300000000001E-3,"","","/",{"$error":"#N/A"}]
[null,null,null,{"$f":"VLOOKUP($C1602,'SEI ISD'!$A$4:$B$124,2,0)","v":{"$error":"#N/A"}},null,null,null,null,1.645E-3,3.5608300000000001E-3,"","","/",{"$error":"#N/A"}]
[null,null,null,{"$f":"VLOOKUP($C1603,'SEI ISD'!$A$4:$B$124,2,0)","v":{"$error":"#N/A"}},null,null,null,null,1.645E-3,3.5608300000000001E-3,{"$f":"RIGHT(G1603,2)","v":""},{"$f":"LEFT(G1603,4)","v":""},{"$f":"_xlfn.CONCAT(K1603,\"/\",L1603)","v":"/"},{"$f":"EOMONTH(D1603,0)","v":{"$error":"#N/A"}}]
[null,null,null,{"$f":"VLOOKUP($C1604,'SEI ISD'!$A$4:$B$124,2,0)","v":{"$error":"#N/A"}},null,null,null,null,1.645E-3,3.5608300000000001E-3,"","","/",{"$error":"#N/A"}]
[null,null,null,{"$f":"VLOOKUP($C1605,'SEI ISD'!$A$4:$B$124,2,0)","v":{"$error":"#N/A"}},null,null,null,null,1.645E-3,3.5608300000000001E-3,"","","/",{"$error":"#N/A"}]
[null,null,null,{"$f":"VLOOKUP($C1606,'SEI ISD'!$A$4:$B$124,2,0)","v":{"$error":"#N/A"}},null,null,null,null,1.645E-3,3.5608300000000001E-3,"","","/",{"$error":"#N/A"}]
[null,null,null,{"$f":"VLOOKUP($C1607,'SEI ISD'!$A$4:$B$124,2,0)","v":{"$error":"#N/A"}},null,null,null,null,1.645E-3,3.5608300000000001E-3,"","","/",{"$error":"#N/A"}]
[null,null,null,{"$f":"VLOOKUP($C1608,'SEI ISD'!$A$4:$B$124,2,0)","v":{"$error":"#N/A"}},null,null,null,null,1.645E-3,3.5608300000000001E-3,"","","/",{"$error":"#N/A"}]
[null,null,null,{"$f":"VLOOKUP($C1609,'SEI ISD'!$A$4:$B$124,2,0)","v":{"$error":"#N/A"}},null,null,null,null,1.645E-3,3.5608300000000001E-3,"","","/",{"$error":"#N/A"}]
[null,null,null,{"$f":"VLOOKUP($C1610,'SEI ISD'!$A$4:$B$124,2,0)","v":{"$error":"#N/A"}},null,null,null,null,1.645E-3,3.5608300000000001E-3,"","","/",{"$error":"#N/A"}]
[null,null,null,{"$f":"VLOOKUP($C1611,'SEI ISD'!$A$4:$B$124,2,0)","v":{"$error":"#N/A"}},null,null,null,null,1.645E-3,3.5608300000000001E-3,"","","/",{"$error":"#N/A"}]
[null,null,null,{"$f":"VLOOKUP($C1612,'SEI ISD'!$A$4:$B$124,2,0)","v":{"$error":"#N/A"}},null,null,null,null,1.645E-3,3.5608300000000001E-3,"","","/",{"$error":"#N/A"}]
[null,null,null,{"$f":"VLOOKUP($C1613,'SEI ISD'!$A$4:$B$124,2,0)","v":{"$error":"#N/A"}},null,null,null,null,1.645E-3,3.5608300000000001E-3,"","","/",{"$error":"#N/A"}]
[null,null,null,{"$f":"VLOOKUP($C1614,'SEI ISD'!$A$4:$B$124,2,0)","v":{"$error":"#N/A"}},null,null,null,null,1.645E-3,3.5608300000000001E-3,"","","/",{"$error":"#N/A"}]
[null,null,null,{"$f":"VLOOKUP($C1615,'SEI ISD'!$A$4:$B$124,2,0)","v":{"$error":"#N/A"}},null,null,null,null,1.645E-3,3.5608300000000001E-3,"","","/",{"$error":"#N/A"}]
[null,null,null,{"$f":"VLOOKUP($C1616,'SEI ISD'!$A$4:$B$124,2,0)","v":{"$error":"#N/A"}},null,null,null,null,1.645E-3,3.5608300000000001E-3,"","","/",{"$error":"#N/A"}]
[null,null,null,{"$f":"VLOOKUP($C1617,'SEI ISD'!$A$4:$B$124,2,0)","v":{"$error":"#N/A"}},null,null,null,null,1.645E-3,3.5608300000000001E-3,"","","/",{"$error":"#N/A"}]
[null,null,null,{"$f":"VLOOKUP($C1618,'SEI ISD'!$A$4:$B$124,2,0)","v":{"$error":"#N/A"}},null,null,null,null,1.645E-3,3.5608300000000001E-3,"","","/",{"$error":"#N/A"}]
[null,null,null,{"$f":"VLOOKUP($C1619,'SEI ISD'!$A$4:$B$124,2,0)","v":{"$error":"#N/A"}},null,null,null,null,1.645E-3,3.5608300000000001E-3,"","","/",{"$error":"#N/A"}]
[null,null,null,{"$f":"VLOOKUP($C1620,'SEI ISD'!$A$4:$B$124,2,0)","v":{"$error":"#N/A"}},null,null,null,null,1.645E-3,3.5608300000000001E-3,"","","/",{"$error":"#N/A"}]
[null,null,null,{"$f":"VLOOKUP($C1621,'SEI ISD'!$A$4:$B$124,2,0)","v":{"$error":"#N/A"}},null,null,null,null,1.645E-3,3.5608300000000001E-3,"","","/",{"$error":"#N/A"}]
[null,null,null,{"$f":"VLOOKUP($C1622,'SEI ISD'!$A$4:$B$124,2,0)","v":{"$error":"#N/A"}},null,null,null,null,1.645E-3,3.5608300000000001E-3,"","","/",{"$error":"#N/A"}]
[null,null,null,{"$f":"VLOOKUP($C1623,'SEI ISD'!$A$4:$B$124,2,0)","v":{"$error":"#N/A"}},null,null,null,null,1.645E-3,3.5608300000000001E-3,"","","/",{"$error":"#N/A"}]
[null,null,null,{"$f":"VLOOKUP($C1624,'SEI ISD'!$A$4:$B$124,2,0)","v":{"$error":"#N/A"}},null,null,null,null,1.645E-3,3.5608300000000001E-3,"","","/",{"$error":"#N/A"}]
[null,null,null,{"$f":"VLOOKUP($C1625,'SEI ISD'!$A$4:$B$124,2,0)","v":{"$error":"#N/A"}},null,null,null,null,1.645E-3,3.5608300000000001E-3,"","","/",{"$error":"#N/A"}]
[null,null,null,{"$f":"VLOOKUP($C1626,'SEI ISD'!$A$4:$B$124,2,0)","v":{"$error":"#N/A"}},null,null,null,null,1.645E-3,3.5608300000000001E-3,"","","/",{"$error":"#N/A"}]
[null,null,null,{"$f":"VLOOKUP($C1627,'SEI ISD'!$A$4:$B$124,2,0)","v":{"$error":"#N/A"}},null,null,null,null,1.645E-3,3.5608300000000001E-3,"","","/",{"$error":"#N/A"}]
[null,null,null,{"$f":"VLOOKUP($C1628,'SEI ISD'!$A$4:$B$124,2,0)","v":{"$error":"#N/A"}},null,null,null,null,1.645E-3,3.5608300000000001E-3,"","","/",{"$error":"#N/A"}]
[null,null,null,{"$f":"VLOOKUP($C1629,'SEI ISD'!$A$4:$B$124,2,0)","v":{"$error":"#N/A"}},null,null,null,null,1.645E-3,3.5608300000000001E-3,"","","/",{"$error":"#N/A"}]
[null,null,null,{"$f":"VLOOKUP($C1630,'SEI ISD'!$A$4:$B$124,2,0)","v":{"$error":"#N/A"}},null,null,null,null,1.645E-3,3.5608300000000001E-3,"","","/",{"$error":"#N/A"}]
[null,null,null,{"$f":"VLOOKUP($C1631,'SEI ISD'!$A$4:$B$124,2,0)","v":{"$error":"#N/A"}},null,null,null,null,1.645E-3,3.5608300000000001E-3,"","","/",{"$error":"#N/A"}]
[null,null,null,{"$f":"VLOOKUP($C1632,'SEI ISD'!$A$4:$B$124,2,0)","v":{"$error":"#N/A"}},null,null,null,null,1.645E-3,3.5608300000000001E-3,"","","/",{"$error":"#N/A"}]
[null,null,null,{"$f":"VLOOKUP($C1633,'SEI ISD'!$A$4:$B$124,2,0)","v":{"$error":"#N/A"}},null,null,null,null,1.645E-3,3.5608300000000001E-3,"","","/",{"$error":"#N/A"}]
[null,null,null,{"$f":"VLOOKUP($C1634,'SEI ISD'!$A$4:$B$124,2,0)","v":{"$error":"#N/A"}},null,null,null,null,1.645E-3,3.5608300000000001E-3,"","","/",{"$error":"#N/A"}]
[null,null,null,{"$f":"VLOOKUP($C1635,'SEI ISD'!$A$4:$B$124,2,0)","v":{"$error":"#N/A"}},null,null,null,null,1.645E-3,3.5608300000000001E-3,"","","/",{"$error":"#N/A"}]
[null,null,null,{"$f":"VLOOKUP($C1636,'SEI ISD'!$A$4:$B$124,2,0)","v":{"$error":"#N/A"}},null,null,null,null,1.645E-3,3.5608300000000001E-3,"","","/",{"$error":"#N/A"}]
[null,null,null,{"$f":"VLOOKUP($C1637,'SEI ISD'!$A$4:$B$124,2,0)","v":{"$error":"#N/A"}},null,null,null,null,1.645E-3,3.5608300000000001E-3,"","","/",{"$error":"#N/A"}]
[null,null,null,{"$f":"VLOOKUP($C1638,'SEI ISD'!$A$4:$B$124,2,0)","v":{"$error":"#N/A"}},null,null,null,null,1.645E-3,3.5608300000000001E-3,"","","/",{"$error":"#N/A"}]
[null,null,null,{"$f":"VLOOKUP($C1639,'SEI ISD'!$A$4:$B$124,2,0)","v":{"$error":"#N/A"}},null,null,null,null,1.645E-3,3.5608300000000001E-3,"","","/",{"$error":"#N/A"}]
[null,null,null,{"$f":"VLOOKUP($C1640,'SEI ISD'!$A$4:$B$124,2,0)","v":{"$error":"#N/A"}},null,null,null,null,1.645E-3,3.5608300000000001E-3,"","","/",{"$error":"#N/A"}]
[null,null,null,{"$f":"VLOOKUP($C1641,'SEI ISD'!$A$4:$B$124,2,0)","v":{"$error":"#N/A"}},null,null,null,null,1.645E-3,3.5608300000000001E-3,"","","/",{"$error":"#N/A"}]
[null,null,null,{"$f":"VLOOKUP($C1642,'SEI ISD'!$A$4:$B$124,2,0)","v":{"$error":"#N/A"}},null,null,null,null,1.645E-3,3.5608300000000001E-3,"","","/",{"$error":"#N/A"}]
[null,null,null,{"$f":"VLOOKUP($C1643,'SEI ISD'!$A$4:$B$124,2,0)","v":{"$error":"#N/A"}},null,null,null,null,1.645E-3,3.5608300000000001E-3,"","","/",{"$error":"#N/A"}]
[null,null,null,{"$f":"VLOOKUP($C1644,'SEI ISD'!$A$4:$B$124,2,0)","v":{"$error":"#N/A"}},null,null,null,null,1.645E-3,3.5608300000000001E-3,"","","/",{"$error":"#N/A"}]
[null,null,null,{"$f":"VLOOKUP($C1645,'SEI ISD'!$A$4:$B$124,2,0)","v":{"$error":"#N/A"}},null,null,null,null,1.645E-3,3.5608300000000001E-3,"","","/",{"$error":"#N/A"}]
[null,null,null,{"$f":"VLOOKUP($C1646,'SEI ISD'!$A$4:$B$124,2,0)","v":{"$error":"#N/A"}},null,null,null,null,1.645E-3,3.5608300000000001E-3,"","","/",{"$error":"#N/A"}]
[null,null,null,{"$f":"VLOOKUP($C1647,'SEI ISD'!$A$4:$B$124,2,0)","v":{"$error":"#N/A"}},null,null,null,null,1.645E-3,3.5608300000000001E-3,"","","/",{"$error":"#N/A"}]
[null,null,null,{"$f":"VLOOKUP($C1648,'SEI ISD'!$A$4:$B$124,2,0)","v":{"$error":"#N/A"}},null,null,null,null,1.645E-3,3.5608300000000001E-3,"","","/",{"$error":"#N/A"}]
[null,null,null,{"$f":"VLOOKUP($C1649,'SEI ISD'!$A$4:$B$124,2,0)","v":{"$error":"#N/A"}},null,null,null,null,1.645E-3,3.5608300000000001E-3,"","","/",{"$error":"#N/A"}]
[null,null,null,{"$f":"VLOOKUP($C1650,'SEI ISD'!$A$4:$B$124,2,0)","v":{"$error":"#N/A"}},null,null,null,null,1.645E-3,3.5608300000000001E-3,"","","/",{"$error":"#N/A"}]
[null,null,null,{"$f":"VLOOKUP($C1651,'SEI ISD'!$A$4:$B$124,2,0)","v":{"$error":"#N/A"}},null,null,null,null,1.645E-3,3.5608300000000001E-3,"","","/",{"$error":"#N/A"}]
[null,null,null,{"$f":"VLOOKUP($C1652,'SEI ISD'!$A$4:$B$124,2,0)","v":{"$error":"#N/A"}},null,null,null,null,1.645E-3,3.5608300000000001E-3,"","","/",{"$error":"#N/A"}]
[null,null,null,{"$f":"VLOOKUP($C1653,'SEI ISD'!$A$4:$B$124,2,0)","v":{"$error":"#N/A"}},null,null,null,null,1.645E-3,3.5608300000000001E-3,"","","/",{"$error":"#N/A"}]
[null,null,null,{"$f":"VLOOKUP($C1654,'SEI ISD'!$A$4:$B$124,2,0)","v":{"$error":"#N/A"}},null,null,null,null,1.645E-3,3.5608300000000001E-3,"","","/",{"$error":"#N/A"}]
[null,null,null,{"$f":"VLOOKUP($C1655,'SEI ISD'!$A$4:$B$124,2,0)","v":{"$error":"#N/A"}},null,null,null,null,1.645E-3,3.5608300000000001E-3,"","","/",{"$error":"#N/A"}]
[null,null,null,{"$f":"VLOOKUP($C1656,'SEI ISD'!$A$4:$B$124,2,0)","v":{"$error":"#N/A"}},null,null,null,null,1.645E-3,3.5608300000000001E-3,"","","/",{"$error":"#N/A"}]
[null,null,null,{"$f":"VLOOKUP($C1657,'SEI ISD'!$A$4:$B$124,2,0)","v":{"$error":"#N/A"}},null,null,null,null,1.645E-3,3.5608300000000001E-3,"","","/",{"$error":"#N/A"}]
[null,null,null,{"$f":"VLOOKUP($C1658,'SEI ISD'!$A$4:$B$124,2,0)","v":{"$error":"#N/A"}},null,null,null,null,1.645E-3,3.5608300000000001E-3,"","","/",{"$error":"#N/A"}]
[null,null,null,{"$f":"VLOOKUP($C1659,'SEI ISD'!$A$4:$B$124,2,0)","v":{"$error":"#N/A"}},null,null,null,null,1.645E-3,3.5608300000000001E-3,"","","/",{"$error":"#N/A"}]
[null,null,null,{"$f":"VLOOKUP($C1660,'SEI ISD'!$A$4:$B$124,2,0)","v":{"$error":"#N/A"}},null,null,null,null,1.645E-3,3.5608300000000001E-3,"","","/",{"$error":"#N/A"}]
[null,null,null,{"$f":"VLOOKUP($C1661,'SEI ISD'!$A$4:$B$124,2,0)","v":{"$error":"#N/A"}},null,null,null,null,1.645E-3,3.5608300000000001E-3,"","","/",{"$error":"#N/A"}]
[null,null,null,{"$f":"VLOOKUP($C1662,'SEI ISD'!$A$4:$B$124,2,0)","v":{"$error":"#N/A"}},null,null,null,null,1.645E-3,3.5608300000000001E-3,"","","/",{"$error":"#N/A"}]
[null,null,null,{"$f":"VLOOKUP($C1663,'SEI ISD'!$A$4:$B$124,2,0)","v":{"$error":"#N/A"}},null,null,null,null,1.645E-3,3.5608300000000001E-3,"","","/",{"$error":"#N/A"}]
[null,null,null,{"$f":"VLOOKUP($C1664,'SEI ISD'!$A$4:$B$124,2,0)","v":{"$error":"#N/A"}},null,null,null,null,1.645E-3,3.5608300000000001E-3,"","","/",{"$error":"#N/A"}]
[null,null,null,{"$f":"VLOOKUP($C1665,'SEI ISD'!$A$4:$B$124,2,0)","v":{"$error":"#N/A"}},null,null,null,null,1.645E-3,3.5608300000000001E-3,"","","/",{"$error":"#N/A"}]
[null,null,null,{"$f":"VLOOKUP($C1666,'SEI ISD'!$A$4:$B$124,2,0)","v":{"$error":"#N/A"}},null,null,null,null,1.645E-3,3.5608300000000001E-3,"","","/",{"$error":"#N/A"}]
[null,null,null,{"$f":"VLOOKUP($C1667,'SEI ISD'!$A$4:$B$124,2,0)","v":{"$error":"#N/A"}},null,null,null,null,1.645E-3,3.5608300000000001E-3,{"$f":"RIGHT(G1667,2)","v":""},{"$f":"LEFT(G1667,4)","v":""},{"$f":"_xlfn.CONCAT(K1667,\"/\",L1667)","v":"/"},{"$f":"EOMONTH(D1667,0)","v":{"$error":"#N/A"}}]
[null,null,null,{"$f":"VLOOKUP($C1668,'SEI ISD'!$A$4:$B$124,2,0)","v":{"$error":"#N/A"}},null,null,null,null,1.645E-3,3.5608300000000001E-3,"","","/",{"$error":"#N/A"}]
[null,null,null,{"$f":"VLOOKUP($C1669,'SEI ISD'!$A$4:$B$124,2,0)","v":{"$error":"#N/A"}},null,null,null,null,1.645E-3,3.5608300000000001E-3,"","","/",{"$error":"#N/A"}]
[null,null,null,{"$f":"VLOOKUP($C1670,'SEI ISD'!$A$4:$B$124,2,0)","v":{"$error":"#N/A"}},null,null,null,null,1.645E-3,3.5608300000000001E-3,"","","/",{"$error":"#N/A"}]
[null,null,null,{"$f":"VLOOKUP($C1671,'SEI ISD'!$A$4:$B$124,2,0)","v":{"$error":"#N/A"}},null,null,null,null,1.645E-3,3.5608300000000001E-3,"","","/",{"$error":"#N/A"}]
[null,null,null,{"$f":"VLOOKUP($C1672,'SEI ISD'!$A$4:$B$124,2,0)","v":{"$error":"#N/A"}},null,null,null,null,1.645E-3,3.5608300000000001E-3,"","","/",{"$error":"#N/A"}]
[null,null,null,{"$f":"VLOOKUP($C1673,'SEI ISD'!$A$4:$B$124,2,0)","v":{"$error":"#N/A"}},null,null,null,null,1.645E-3,3.5608300000000001E-3,"","","/",{"$error":"#N/A"}]
[null,null,null,{"$f":"VLOOKUP($C1674,'SEI ISD'!$A$4:$B$124,2,0)","v":{"$error":"#N/A"}},null,null,null,null,1.645E-3,3.5608300000000001E-3,"","","/",{"$error":"#N/A"}]
[null,null,null,{"$f":"VLOOKUP($C1675,'SEI ISD'!$A$4:$B$124,2,0)","v":{"$error":"#N/A"}},null,null,null,null,1.645E-3,3.5608300000000001E-3,"","","/",{"$error":"#N/A"}]
[null,null,null,{"$f":"VLOOKUP($C1676,'SEI ISD'!$A$4:$B$124,2,0)","v":{"$error":"#N/A"}},null,null,null,null,1.645E-3,3.5608300000000001E-3,"","","/",{"$error":"#N/A"}]
[null,null,null,{"$f":"VLOOKUP($C1677,'SEI ISD'!$A$4:$B$124,2,0)","v":{"$error":"#N/A"}},null,null,null,null,1.645E-3,3.5608300000000001E-3,"","","/",{"$error":"#N/A"}]
[null,null,null,{"$f":"VLOOKUP($C1678,'SEI ISD'!$A$4:$B$124,2,0)","v":{"$error":"#N/A"}},null,null,null,null,1.645E-3,3.5608300000000001E-3,"","","/",{"$error":"#N/A"}]
[null,null,null,{"$f":"VLOOKUP($C1679,'SEI ISD'!$A$4:$B$124,2,0)","v":{"$error":"#N/A"}},null,null,null,null,1.645E-3,3.5608300000000001E-3,"","","/",{"$error":"#N/A"}]
[null,null,null,{"$f":"VLOOKUP($C1680,'SEI ISD'!$A$4:$B$124,2,0)","v":{"$error":"#N/A"}},null,null,null,null,1.645E-3,3.5608300000000001E-3,"","","/",{"$error":"#N/A"}]
[null,null,null,{"$f":"VLOOKUP($C1681,'SEI ISD'!$A$4:$B$124,2,0)","v":{"$error":"#N/A"}},null,null,null,null,1.645E-3,3.5608300000000001E-3,"","","/",{"$error":"#N/A"}]
[null,null,null,{"$f":"VLOOKUP($C1682,'SEI ISD'!$A$4:$B$124,2,0)","v":{"$error":"#N/A"}},null,null,null,null,1.645E-3,3.5608300000000001E-3,"","","/",{"$error":"#N/A"}]
[null,null,null,{"$f":"VLOOKUP($C1683,'SEI ISD'!$A$4:$B$124,2,0)","v":{"$error":"#N/A"}},null,null,null,null,1.645E-3,3.5608300000000001E-3,"","","/",{"$error":"#N/A"}]
[null,null,null,{"$f":"VLOOKUP($C1684,'SEI ISD'!$A$4:$B$124,2,0)","v":{"$error":"#N/A"}},null,null,null,null,1.645E-3,3.5608300000000001E-3,"","","/",{"$error":"#N/A"}]
[null,null,null,{"$f":"VLOOKUP($C1685,'SEI ISD'!$A$4:$B$124,2,0)","v":{"$error":"#N/A"}},null,null,null,null,1.645E-3,3.5608300000000001E-3,"","","/",{"$error":"#N/A"}]
[null,null,null,{"$f":"VLOOKUP($C1686,'SEI ISD'!$A$4:$B$124,2,0)","v":{"$error":"#N/A"}},null,null,null,null,1.645E-3,3.5608300000000001E-3,"","","/",{"$error":"#N/A"}]
[null,null,null,{"$f":"VLOOKUP($C1687,'SEI ISD'!$A$4:$B$124,2,0)","v":{"$error":"#N/A"}},null,null,null,null,1.645E-3,3.5608300000000001E-3,"","","/",{"$error":"#N/A"}]
[null,null,null,{"$f":"VLOOKUP($C1688,'SEI ISD'!$A$4:$B$124,2,0)","v":{"$error":"#N/A"}},null,null,null,null,1.645E-3,3.5608300000000001E-3,"","","/",{"$error":"#N/A"}]
[null,null,null,{"$f":"VLOOKUP($C1689,'SEI ISD'!$A$4:$B$124,2,0)","v":{"$error":"#N/A"}},null,null,null,null,1.645E-3,3.5608300000000001E-3,"","","/",{"$error":"#N/A"}]
[null,null,null,{"$f":"VLOOKUP($C1690,'SEI ISD'!$A$4:$B$124,2,0)","v":{"$error":"#N/A"}},null,null,null,null,1.645E-3,3.5608300000000001E-3,"","","/",{"$error":"#N/A"}]
[null,null,null,{"$f":"VLOOKUP($C1691,'SEI ISD'!$A$4:$B$124,2,0)","v":{"$error":"#N/A"}},null,null,null,null,1.645E-3,3.5608300000000001E-3,"","","/",{"$error":"#N/A"}]
[null,null,null,{"$f":"VLOOKUP($C1692,'SEI ISD'!$A$4:$B$124,2,0)","v":{"$error":"#N/A"}},null,null,null,null,1.645E-3,3.5608300000000001E-3,"","","/",{"$error":"#N/A"}]
[null,null,null,{"$f":"VLOOKUP($C1693,'SEI ISD'!$A$4:$B$124,2,0)","v":{"$error":"#N/A"}},null,null,null,null,1.645E-3,3.5608300000000001E-3,"","","/",{"$error":"#N/A"}]
[null,null,null,{"$f":"VLOOKUP($C1694,'SEI ISD'!$A$4:$B$124,2,0)","v":{"$error":"#N/A"}},null,null,null,null,1.645E-3,3.5608300000000001E-3,"","","/",{"$error":"#N/A"}]
[null,null,null,{"$f":"VLOOKUP($C1695,'SEI ISD'!$A$4:$B$124,2,0)","v":{"$error":"#N/A"}},null,null,null,null,1.645E-3,3.5608300000000001E-3,"","","/",{"$error":"#N/A"}]
[null,null,null,{"$f":"VLOOKUP($C1696,'SEI ISD'!$A$4:$B$124,2,0)","v":{"$error":"#N/A"}},null,null,null,null,1.645E-3,3.5608300000000001E-3,"","","/",{"$error":"#N/A"}]
[null,null,null,{"$f":"VLOOKUP($C1697,'SEI ISD'!$A$4:$B$124,2,0)","v":{"$error":"#N/A"}},null,null,null,null,1.645E-3,3.5608300000000001E-3,"","","/",{"$error":"#N/A"}]
[null,null,null,{"$f":"VLOOKUP($C1698,'SEI ISD'!$A$4:$B$124,2,0)","v":{"$error":"#N/A"}},null,null,null,null,1.645E-3,3.5608300000000001E-3,"","","/",{"$error":"#N/A"}]
[null,null,null,{"$f":"VLOOKUP($C1699,'SEI ISD'!$A$4:$B$124,2,0)","v":{"$error":"#N/A"}},null,null,null,null,1.645E-3,3.5608300000000001E-3,"","","/",{"$error":"#N/A"}]
[null,null,null,{"$f":"VLOOKUP($C1700,'SEI ISD'!$A$4:$B$124,2,0)","v":{"$error":"#N/A"}},null,null,null,null,1.645E-3,3.5608300000000001E-3,"","","/",{"$error":"#N/A"}]
[null,null,null,{"$f":"VLOOKUP($C1701,'SEI ISD'!$A$4:$B$124,2,0)","v":{"$error":"#N/A"}},null,null,null,null,1.645E-3,3.5608300000000001E-3,"","","/",{"$error":"#N/A"}]
[null,null,null,{"$f":"VLOOKUP($C1702,'SEI ISD'!$A$4:$B$124,2,0)","v":{"$error":"#N/A"}},null,null,null,null,1.645E-3,3.5608300000000001E-3,"","","/",{"$error":"#N/A"}]
[null,null,null,{"$f":"VLOOKUP($C1703,'SEI ISD'!$A$4:$B$124,2,0)","v":{"$error":"#N/A"}},null,null,null,null,1.645E-3,3.5608300000000001E-3,"","","/",{"$error":"#N/A"}]
[null,null,null,{"$f":"VLOOKUP($C1704,'SEI ISD'!$A$4:$B$124,2,0)","v":{"$error":"#N/A"}},null,null,null,null,1.645E-3,3.5608300000000001E-3,"","","/",{"$error":"#N/A"}]
[null,null,null,{"$f":"VLOOKUP($C1705,'SEI ISD'!$A$4:$B$124,2,0)","v":{"$error":"#N/A"}},null,null,null,null,1.645E-3,3.5608300000000001E-3,"","","/",{"$error":"#N/A"}]
[null,null,null,{"$f":"VLOOKUP($C1706,'SEI ISD'!$A$4:$B$124,2,0)","v":{"$error":"#N/A"}},null,null,null,null,1.645E-3,3.5608300000000001E-3,"","","/",{"$error":"#N/A"}]
[null,null,null,{"$f":"VLOOKUP($C1707,'SEI ISD'!$A$4:$B$124,2,0)","v":{"$error":"#N/A"}},null,null,null,null,1.645E-3,3.5608300000000001E-3,"","","/",{"$error":"#N/A"}]
[null,null,null,{"$f":"VLOOKUP($C1708,'SEI ISD'!$A$4:$B$124,2,0)","v":{"$error":"#N/A"}},null,null,null,null,1.645E-3,3.5608300000000001E-3,"","","/",{"$error":"#N/A"}]
[null,null,null,{"$f":"VLOOKUP($C1709,'SEI ISD'!$A$4:$B$124,2,0)","v":{"$error":"#N/A"}},null,null,null,null,1.645E-3,3.5608300000000001E-3,"","","/",{"$error":"#N/A"}]
[null,null,null,{"$f":"VLOOKUP($C1710,'SEI ISD'!$A$4:$B$124,2,0)","v":{"$error":"#N/A"}},null,null,null,null,1.645E-3,3.5608300000000001E-3,"","","/",{"$error":"#N/A"}]
[null,null,null,{"$f":"VLOOKUP($C1711,'SEI ISD'!$A$4:$B$124,2,0)","v":{"$error":"#N/A"}},null,null,null,null,1.645E-3,3.5608300000000001E-3,"","","/",{"$error":"#N/A"}]
[null,null,null,{"$f":"VLOOKUP($C1712,'SEI ISD'!$A$4:$B$124,2,0)","v":{"$error":"#N/A"}},null,null,null,null,1.645E-3,3.5608300000000001E-3,"","","/",{"$error":"#N/A"}]
[null,null,null,{"$f":"VLOOKUP($C1713,'SEI ISD'!$A$4:$B$124,2,0)","v":{"$error":"#N/A"}},null,null,null,null,1.645E-3,3.5608300000000001E-3,"","","/",{"$error":"#N/A"}]
[null,null,null,{"$f":"VLOOKUP($C1714,'SEI ISD'!$A$4:$B$124,2,0)","v":{"$error":"#N/A"}},null,null,null,null,1.645E-3,3.5608300000000001E-3,"","","/",{"$error":"#N/A"}]
[null,null,null,{"$f":"VLOOKUP($C1715,'SEI ISD'!$A$4:$B$124,2,0)","v":{"$error":"#N/A"}},null,null,null,null,1.645E-3,3.5608300000000001E-3,"","","/",{"$error":"#N/A"}]
[null,null,null,{"$f":"VLOOKUP($C1716,'SEI ISD'!$A$4:$B$124,2,0)","v":{"$error":"#N/A"}},null,null,null,null,1.645E-3,3.5608300000000001E-3,"","","/",{"$error":"#N/A"}]
[null,null,null,{"$f":"VLOOKUP($C1717,'SEI ISD'!$A$4:$B$124,2,0)","v":{"$error":"#N/A"}},null,null,null,null,1.645E-3,3.5608300000000001E-3,"","","/",{"$error":"#N/A"}]
[null,null,null,{"$f":"VLOOKUP($C1718,'SEI ISD'!$A$4:$B$124,2,0)","v":{"$error":"#N/A"}},null,null,null,null,1.645E-3,3.5608300000000001E-3,"","","/",{"$error":"#N/A"}]
[null,null,null,{"$f":"VLOOKUP($C1719,'SEI ISD'!$A$4:$B$124,2,0)","v":{"$error":"#N/A"}},null,null,null,null,1.645E-3,3.5608300000000001E-3,"","","/",{"$error":"#N/A"}]
[null,null,null,{"$f":"VLOOKUP($C1720,'SEI ISD'!$A$4:$B$124,2,0)","v":{"$error":"#N/A"}},null,null,null,null,1.645E-3,3.5608300000000001E-3,"","","/",{"$error":"#N/A"}]
[null,null,null,{"$f":"VLOOKUP($C1721,'SEI ISD'!$A$4:$B$124,2,0)","v":{"$error":"#N/A"}},null,null,null,null,1.645E-3,3.5608300000000001E-3,"","","/",{"$error":"#N/A"}]
[null,null,null,{"$f":"VLOOKUP($C1722,'SEI ISD'!$A$4:$B$124,2,0)","v":{"$error":"#N/A"}},null,null,null,null,1.645E-3,3.5608300000000001E-3,"","","/",{"$error":"#N/A"}]
[null,null,null,{"$f":"VLOOKUP($C1723,'SEI ISD'!$A$4:$B$124,2,0)","v":{"$error":"#N/A"}},null,null,null,null,1.645E-3,3.5608300000000001E-3,"","","/",{"$error":"#N/A"}]
[null,null,null,{"$f":"VLOOKUP($C1724,'SEI ISD'!$A$4:$B$124,2,0)","v":{"$error":"#N/A"}},null,null,null,null,1.645E-3,3.5608300000000001E-3,"","","/",{"$error":"#N/A"}]
[null,null,null,{"$f":"VLOOKUP($C1725,'SEI ISD'!$A$4:$B$124,2,0)","v":{"$error":"#N/A"}},null,null,null,null,1.645E-3,3.5608300000000001E-3,"","","/",{"$error":"#N/A"}]
[null,null,null,{"$f":"VLOOKUP($C1726,'SEI ISD'!$A$4:$B$124,2,0)","v":{"$error":"#N/A"}},null,null,null,null,1.645E-3,3.5608300000000001E-3,"","","/",{"$error":"#N/A"}]
[null,null,null,{"$f":"VLOOKUP($C1727,'SEI ISD'!$A$4:$B$124,2,0)","v":{"$error":"#N/A"}},null,null,null,null,1.645E-3,3.5608300000000001E-3,"","","/",{"$error":"#N/A"}]
[null,null,null,{"$f":"VLOOKUP($C1728,'SEI ISD'!$A$4:$B$124,2,0)","v":{"$error":"#N/A"}},null,null,null,null,1.645E-3,3.5608300000000001E-3,"","","/",{"$error":"#N/A"}]
[null,null,null,{"$f":"VLOOKUP($C1729,'SEI ISD'!$A$4:$B$124,2,0)","v":{"$error":"#N/A"}},null,null,null,null,1.645E-3,3.5608300000000001E-3,"","","/",{"$error":"#N/A"}]
[null,null,null,{"$f":"VLOOKUP($C1730,'SEI ISD'!$A$4:$B$124,2,0)","v":{"$error":"#N/A"}},null,null,null,null,1.645E-3,3.5608300000000001E-3,"","","/",{"$error":"#N/A"}]
[null,null,null,{"$f":"VLOOKUP($C1731,'SEI ISD'!$A$4:$B$124,2,0)","v":{"$error":"#N/A"}},null,null,null,null,1.645E-3,3.5608300000000001E-3,{"$f":"RIGHT(G1731,2)","v":""},{"$f":"LEFT(G1731,4)","v":""},{"$f":"_xlfn.CONCAT(K1731,\"/\",L1731)","v":"/"},{"$f":"EOMONTH(D1731,0)","v":{"$error":"#N/A"}}]
[null,null,null,{"$f":"VLOOKUP($C1732,'SEI ISD'!$A$4:$B$124,2,0)","v":{"$error":"#N/A"}},null,null,null,null,1.645E-3,3.5608300000000001E-3,"","","/",{"$error":"#N/A"}]
[null,null,null,{"$f":"VLOOKUP($C1733,'SEI ISD'!$A$4:$B$124,2,0)","v":{"$error":"#N/A"}},null,null,null,null,1.645E-3,3.5608300000000001E-3,"","","/",{"$error":"#N/A"}]
[null,null,null,{"$f":"VLOOKUP($C1734,'SEI ISD'!$A$4:$B$124,2,0)","v":{"$error":"#N/A"}},null,null,null,null,1.645E-3,3.5608300000000001E-3,"","","/",{"$error":"#N/A"}]
[null,null,null,{"$f":"VLOOKUP($C1735,'SEI ISD'!$A$4:$B$124,2,0)","v":{"$error":"#N/A"}},null,null,null,null,1.645E-3,3.5608300000000001E-3,"","","/",{"$error":"#N/A"}]
[null,null,null,{"$f":"VLOOKUP($C1736,'SEI ISD'!$A$4:$B$124,2,0)","v":{"$error":"#N/A"}},null,null,null,null,1.645E-3,3.5608300000000001E-3,"","","/",{"$error":"#N/A"}]
[null,null,null,{"$f":"VLOOKUP($C1737,'SEI ISD'!$A$4:$B$124,2,0)","v":{"$error":"#N/A"}},null,null,null,null,1.645E-3,3.5608300000000001E-3,"","","/",{"$error":"#N/A"}]
[null,null,null,{"$f":"VLOOKUP($C1738,'SEI ISD'!$A$4:$B$124,2,0)","v":{"$error":"#N/A"}},null,null,null,null,1.645E-3,3.5608300000000001E-3,"","","/",{"$error":"#N/A"}]
[null,null,null,{"$f":"VLOOKUP($C1739,'SEI ISD'!$A$4:$B$124,2,0)","v":{"$error":"#N/A"}},null,null,null,null,1.645E-3,3.5608300000000001E-3,"","","/",{"$error":"#N/A"}]
[null,null,null,{"$f":"VLOOKUP($C1740,'SEI ISD'!$A$4:$B$124,2,0)","v":{"$error":"#N/A"}},null,null,null,null,1.645E-3,3.5608300000000001E-3,"","","/",{"$error":"#N/A"}]
[null,null,null,{"$f":"VLOOKUP($C1741,'SEI ISD'!$A$4:$B$124,2,0)","v":{"$error":"#N/A"}},null,null,null,null,1.645E-3,3.5608300000000001E-3,"","","/",{"$error":"#N/A"}]
[null,null,null,{"$f":"VLOOKUP($C1742,'SEI ISD'!$A$4:$B$124,2,0)","v":{"$error":"#N/A"}},null,null,null,null,1.645E-3,3.5608300000000001E-3,"","","/",{"$error":"#N/A"}]
[null,null,null,{"$f":"VLOOKUP($C1743,'SEI ISD'!$A$4:$B$124,2,0)","v":{"$error":"#N/A"}},null,null,null,null,1.645E-3,3.5608300000000001E-3,"","","/",{"$error":"#N/A"}]
[null,null,null,{"$f":"VLOOKUP($C1744,'SEI ISD'!$A$4:$B$124,2,0)","v":{"$error":"#N/A"}},null,null,null,null,1.645E-3,3.5608300000000001E-3,"","","/",{"$error":"#N/A"}]
[null,null,null,{"$f":"VLOOKUP($C1745,'SEI ISD'!$A$4:$B$124,2,0)","v":{"$error":"#N/A"}},null,null,null,null,1.645E-3,3.5608300000000001E-3,"","","/",{"$error":"#N/A"}]
[null,null,null,{"$f":"VLOOKUP($C1746,'SEI ISD'!$A$4:$B$124,2,0)","v":{"$error":"#N/A"}},null,null,null,null,1.645E-3,3.5608300000000001E-3,"","","/",{"$error":"#N/A"}]
[null,null,null,{"$f":"VLOOKUP($C1747,'SEI ISD'!$A$4:$B$124,2,0)","v":{"$error":"#N/A"}},null,null,null,null,1.645E-3,3.5608300000000001E-3,"","","/",{"$error":"#N/A"}]
[null,null,null,{"$f":"VLOOKUP($C1748,'SEI ISD'!$A$4:$B$124,2,0)","v":{"$error":"#N/A"}},null,null,null,null,1.645E-3,3.5608300000000001E-3,"","","/",{"$error":"#N/A"}]
[null,null,null,{"$f":"VLOOKUP($C1749,'SEI ISD'!$A$4:$B$124,2,0)","v":{"$error":"#N/A"}},null,null,null,null,1.645E-3,3.5608300000000001E-3,"","","/",{"$error":"#N/A"}]
[null,null,null,{"$f":"VLOOKUP($C1750,'SEI ISD'!$A$4:$B$124,2,0)","v":{"$error":"#N/A"}},null,null,null,null,1.645E-3,3.5608300000000001E-3,"","","/",{"$error":"#N/A"}]
[null,null,null,{"$f":"VLOOKUP($C1751,'SEI ISD'!$A$4:$B$124,2,0)","v":{"$error":"#N/A"}},null,null,null,null,1.645E-3,3.5608300000000001E-3,"","","/",{"$error":"#N/A"}]
[null,null,null,{"$f":"VLOOKUP($C1752,'SEI ISD'!$A$4:$B$124,2,0)","v":{"$error":"#N/A"}},null,null,null,null,1.645E-3,3.5608300000000001E-3,"","","/",{"$error":"#N/A"}]
[null,null,null,{"$f":"VLOOKUP($C1753,'SEI ISD'!$A$4:$B$124,2,0)","v":{"$error":"#N/A"}},null,null,null,null,1.645E-3,3.5608300000000001E-3,"","","/",{"$error":"#N/A"}]
[null,null,null,{"$f":"VLOOKUP($C1754,'SEI ISD'!$A$4:$B$124,2,0)","v":{"$error":"#N/A"}},null,null,null,null,1.645E-3,3.5608300000000001E-3,"","","/",{"$error":"#N/A"}]
[null,null,null,{"$f":"VLOOKUP($C1755,'SEI ISD'!$A$4:$B$124,2,0)","v":{"$error":"#N/A"}},null,null,null,null,1.645E-3,3.5608300000000001E-3,"","","/",{"$error":"#N/A"}]
[null,null,null,{"$f":"VLOOKUP($C1756,'SEI ISD'!$A$4:$B$124,2,0)","v":{"$error":"#N/A"}},null,null,null,null,1.645E-3,3.5608300000000001E-3,"","","/",{"$error":"#N/A"}]
[null,null,null,{"$f":"VLOOKUP($C1757,'SEI ISD'!$A$4:$B$124,2,0)","v":{"$error":"#N/A"}},null,null,null,null,1.645E-3,3.5608300000000001E-3,"","","/",{"$error":"#N/A"}]
[null,null,null,{"$f":"VLOOKUP($C1758,'SEI ISD'!$A$4:$B$124,2,0)","v":{"$error":"#N/A"}},null,null,null,null,1.645E-3,3.5608300000000001E-3,"","","/",{"$error":"#N/A"}]
[null,null,null,{"$f":"VLOOKUP($C1759,'SEI ISD'!$A$4:$B$124,2,0)","v":{"$error":"#N/A"}},null,null,null,null,1.645E-3,3.5608300000000001E-3,"","","/",{"$error":"#N/A"}]
[null,null,null,{"$f":"VLOOKUP($C1760,'SEI ISD'!$A$4:$B$124,2,0)","v":{"$error":"#N/A"}},null,null,null,null,1.645E-3,3.5608300000000001E-3,"","","/",{"$error":"#N/A"}]
[null,null,null,{"$f":"VLOOKUP($C1761,'SEI ISD'!$A$4:$B$124,2,0)","v":{"$error":"#N/A"}},null,null,null,null,1.645E-3,3.5608300000000001E-3,"","","/",{"$error":"#N/A"}]
[null,null,null,{"$f":"VLOOKUP($C1762,'SEI ISD'!$A$4:$B$124,2,0)","v":{"$error":"#N/A"}},null,null,null,null,1.645E-3,3.5608300000000001E-3,"","","/",{"$error":"#N/A"}]
[null,null,null,{"$f":"VLOOKUP($C1763,'SEI ISD'!$A$4:$B$124,2,0)","v":{"$error":"#N/A"}},null,null,null,null,1.645E-3,3.5608300000000001E-3,"","","/",{"$error":"#N/A"}]
[null,null,null,{"$f":"VLOOKUP($C1764,'SEI ISD'!$A$4:$B$124,2,0)","v":{"$error":"#N/A"}},null,null,null,null,1.645E-3,3.5608300000000001E-3,"","","/",{"$error":"#N/A"}]
[null,null,null,{"$f":"VLOOKUP($C1765,'SEI ISD'!$A$4:$B$124,2,0)","v":{"$error":"#N/A"}},null,null,null,null,1.645E-3,3.5608300000000001E-3,"","","/",{"$error":"#N/A"}]
[null,null,null,{"$f":"VLOOKUP($C1766,'SEI ISD'!$A$4:$B$124,2,0)","v":{"$error":"#N/A"}},null,null,null,null,1.645E-3,3.5608300000000001E-3,"","","/",{"$error":"#N/A"}]
[null,null,null,{"$f":"VLOOKUP($C1767,'SEI ISD'!$A$4:$B$124,2,0)","v":{"$error":"#N/A"}},null,null,null,null,1.645E-3,3.5608300000000001E-3,"","","/",{"$error":"#N/A"}]
[null,null,null,{"$f":"VLOOKUP($C1768,'SEI ISD'!$A$4:$B$124,2,0)","v":{"$error":"#N/A"}},null,null,null,null,1.645E-3,3.5608300000000001E-3,"","","/",{"$error":"#N/A"}]
[null,null,null,{"$f":"VLOOKUP($C1769,'SEI ISD'!$A$4:$B$124,2,0)","v":{"$error":"#N/A"}},null,null,null,null,1.645E-3,3.5608300000000001E-3,"","","/",{"$error":"#N/A"}]
[null,null,null,{"$f":"VLOOKUP($C1770,'SEI ISD'!$A$4:$B$124,2,0)","v":{"$error":"#N/A"}},null,null,null,null,1.645E-3,3.5608300000000001E-3,"","","/",{"$error":"#N/A"}]
[null,null,null,{"$f":"VLOOKUP($C1771,'SEI ISD'!$A$4:$B$124,2,0)","v":{"$error":"#N/A"}},null,null,null,null,1.645E-3,3.5608300000000001E-3,"","","/",{"$error":"#N/A"}]
[null,null,null,{"$f":"VLOOKUP($C1772,'SEI ISD'!$A$4:$B$124,2,0)","v":{"$error":"#N/A"}},null,null,null,null,1.645E-3,3.5608300000000001E-3,"","","/",{"$error":"#N/A"}]
[null,null,null,{"$f":"VLOOKUP($C1773,'SEI ISD'!$A$4:$B$124,2,0)","v":{"$error":"#N/A"}},null,null,null,null,1.645E-3,3.5608300000000001E-3,"","","/",{"$error":"#N/A"}]
[null,null,null,{"$f":"VLOOKUP($C1774,'SEI ISD'!$A$4:$B$124,2,0)","v":{"$error":"#N/A"}},null,null,null,null,1.645E-3,3.5608300000000001E-3,"","","/",{"$error":"#N/A"}]
[null,null,null,{"$f":"VLOOKUP($C1775,'SEI ISD'!$A$4:$B$124,2,0)","v":{"$error":"#N/A"}},null,null,null,null,1.645E-3,3.5608300000000001E-3,"","","/",{"$error":"#N/A"}]
[null,null,null,{"$f":"VLOOKUP($C1776,'SEI ISD'!$A$4:$B$124,2,0)","v":{"$error":"#N/A"}},null,null,null,null,1.645E-3,3.5608300000000001E-3,"","","/",{"$error":"#N/A"}]
[null,null,null,{"$f":"VLOOKUP($C1777,'SEI ISD'!$A$4:$B$124,2,0)","v":{"$error":"#N/A"}},null,null,null,null,1.645E-3,3.5608300000000001E-3,"","","/",{"$error":"#N/A"}]
[null,null,null,{"$f":"VLOOKUP($C1778,'SEI ISD'!$A$4:$B$124,2,0)","v":{"$error":"#N/A"}},null,null,null,null,1.645E-3,3.5608300000000001E-3,"","","/",{"$error":"#N/A"}]
[null,null,null,{"$f":"VLOOKUP($C1779,'SEI ISD'!$A$4:$B$124,2,0)","v":{"$error":"#N/A"}},null,null,null,null,1.645E-3,3.5608300000000001E-3,"","","/",{"$error":"#N/A"}]
[null,null,null,{"$f":"VLOOKUP($C1780,'SEI ISD'!$A$4:$B$124,2,0)","v":{"$error":"#N/A"}},null,null,null,null,1.645E-3,3.5608300000000001E-3,"","","/",{"$error":"#N/A"}]
[null,null,null,{"$f":"VLOOKUP($C1781,'SEI ISD'!$A$4:$B$124,2,0)","v":{"$error":"#N/A"}},null,null,null,null,1.645E-3,3.5608300000000001E-3,"","","/",{"$error":"#N/A"}]
[null,null,null,{"$f":"VLOOKUP($C1782,'SEI ISD'!$A$4:$B$124,2,0)","v":{"$error":"#N/A"}},null,null,null,null,1.645E-3,3.5608300000000001E-3,"","","/",{"$error":"#N/A"}]
[null,null,null,{"$f":"VLOOKUP($C1783,'SEI ISD'!$A$4:$B$124,2,0)","v":{"$error":"#N/A"}},null,null,null,null,1.645E-3,3.5608300000000001E-3,"","","/",{"$error":"#N/A"}]
[null,null,null,{"$f":"VLOOKUP($C1784,'SEI ISD'!$A$4:$B$124,2,0)","v":{"$error":"#N/A"}},null,null,null,null,1.645E-3,3.5608300000000001E-3,"","","/",{"$error":"#N/A"}]
[null,null,null,{"$f":"VLOOKUP($C1785,'SEI ISD'!$A$4:$B$124,2,0)","v":{"$error":"#N/A"}},null,null,null,null,1.645E-3,3.5608300000000001E-3,"","","/",{"$error":"#N/A"}]
[null,null,null,{"$f":"VLOOKUP($C1786,'SEI ISD'!$A$4:$B$124,2,0)","v":{"$error":"#N/A"}},null,null,null,null,1.645E-3,3.5608300000000001E-3,"","","/",{"$error":"#N/A"}]
[null,null,null,{"$f":"VLOOKUP($C1787,'SEI ISD'!$A$4:$B$124,2,0)","v":{"$error":"#N/A"}},null,null,null,null,1.645E-3,3.5608300000000001E-3,"","","/",{"$error":"#N/A"}]
[null,null,null,{"$f":"VLOOKUP($C1788,'SEI ISD'!$A$4:$B$124,2,0)","v":{"$error":"#N/A"}},null,null,null,null,1.645E-3,3.5608300000000001E-3,"","","/",{"$error":"#N/A"}]
[null,null,null,{"$f":"VLOOKUP($C1789,'SEI ISD'!$A$4:$B$124,2,0)","v":{"$error":"#N/A"}},null,null,null,null,1.645E-3,3.5608300000000001E-3,"","","/",{"$error":"#N/A"}]
[null,null,null,{"$f":"VLOOKUP($C1790,'SEI ISD'!$A$4:$B$124,2,0)","v":{"$error":"#N/A"}},null,null,null,null,1.645E-3,3.5608300000000001E-3,"","","/",{"$error":"#N/A"}]
[null,null,null,{"$f":"VLOOKUP($C1791,'SEI ISD'!$A$4:$B$124,2,0)","v":{"$error":"#N/A"}},null,null,null,null,1.645E-3,3.5608300000000001E-3,"","","/",{"$error":"#N/A"}]
[null,null,null,{"$f":"VLOOKUP($C1792,'SEI ISD'!$A$4:$B$124,2,0)","v":{"$error":"#N/A"}},null,null,null,null,1.645E-3,3.5608300000000001E-3,"","","/",{"$error":"#N/A"}]
[null,null,null,{"$f":"VLOOKUP($C1793,'SEI ISD'!$A$4:$B$124,2,0)","v":{"$error":"#N/A"}},null,null,null,null,1.645E-3,3.5608300000000001E-3,"","","/",{"$error":"#N/A"}]
[null,null,null,{"$f":"VLOOKUP($C1794,'SEI ISD'!$A$4:$B$124,2,0)","v":{"$error":"#N/A"}},null,null,null,null,1.645E-3,3.5608300000000001E-3,"","","/",{"$error":"#N/A"}]
[null,null,null,{"$f":"VLOOKUP($C1795,'SEI ISD'!$A$4:$B$124,2,0)","v":{"$error":"#N/A"}},null,null,null,null,1.645E-3,3.5608300000000001E-3,{"$f":"RIGHT(G1795,2)","v":""},{"$f":"LEFT(G1795,4)","v":""},{"$f":"_xlfn.CONCAT(K1795,\"/\",L1795)","v":"/"},{"$f":"EOMONTH(D1795,0)","v":{"$error":"#N/A"}}]
[null,null,null,{"$f":"VLOOKUP($C1796,'SEI ISD'!$A$4:$B$124,2,0)","v":{"$error":"#N/A"}},null,null,null,null,1.645E-3,3.5608300000000001E-3,"","","/",{"$error":"#N/A"}]
[null,null,null,{"$f":"VLOOKUP($C1797,'SEI ISD'!$A$4:$B$124,2,0)","v":{"$error":"#N/A"}},null,null,null,null,1.645E-3,3.5608300000000001E-3,"","","/",{"$error":"#N/A"}]
[null,null,null,{"$f":"VLOOKUP($C1798,'SEI ISD'!$A$4:$B$124,2,0)","v":{"$error":"#N/A"}},null,null,null,null,1.645E-3,3.5608300000000001E-3,"","","/",{"$error":"#N/A"}]
[null,null,null,{"$f":"VLOOKUP($C1799,'SEI ISD'!$A$4:$B$124,2,0)","v":{"$error":"#N/A"}},null,null,null,null,1.645E-3,3.5608300000000001E-3,"","","/",{"$error":"#N/A"}]
[null,null,null,{"$f":"VLOOKUP($C1800,'SEI ISD'!$A$4:$B$124,2,0)","v":{"$error":"#N/A"}},null,null,null,null,1.645E-3,3.5608300000000001E-3,"","","/",{"$error":"#N/A"}]
[null,null,null,{"$f":"VLOOKUP($C1801,'SEI ISD'!$A$4:$B$124,2,0)","v":{"$error":"#N/A"}},null,null,null,null,1.645E-3,3.5608300000000001E-3,"","","/",{"$error":"#N/A"}]
[null,null,null,{"$f":"VLOOKUP($C1802,'SEI ISD'!$A$4:$B$124,2,0)","v":{"$error":"#N/A"}},null,null,null,null,1.645E-3,3.5608300000000001E-3,"","","/",{"$error":"#N/A"}]
[null,null,null,{"$f":"VLOOKUP($C1803,'SEI ISD'!$A$4:$B$124,2,0)","v":{"$error":"#N/A"}},null,null,null,null,1.645E-3,3.5608300000000001E-3,"","","/",{"$error":"#N/A"}]
[null,null,null,{"$f":"VLOOKUP($C1804,'SEI ISD'!$A$4:$B$124,2,0)","v":{"$error":"#N/A"}},null,null,null,null,1.645E-3,3.5608300000000001E-3,"","","/",{"$error":"#N/A"}]
[null,null,null,{"$f":"VLOOKUP($C1805,'SEI ISD'!$A$4:$B$124,2,0)","v":{"$error":"#N/A"}},null,null,null,null,1.645E-3,3.5608300000000001E-3,"","","/",{"$error":"#N/A"}]
[null,null,null,{"$f":"VLOOKUP($C1806,'SEI ISD'!$A$4:$B$124,2,0)","v":{"$error":"#N/A"}},null,null,null,null,1.645E-3,3.5608300000000001E-3,"","","/",{"$error":"#N/A"}]
[null,null,null,{"$f":"VLOOKUP($C1807,'SEI ISD'!$A$4:$B$124,2,0)","v":{"$error":"#N/A"}},null,null,null,null,1.645E-3,3.5608300000000001E-3,"","","/",{"$error":"#N/A"}]
[null,null,null,{"$f":"VLOOKUP($C1808,'SEI ISD'!$A$4:$B$124,2,0)","v":{"$error":"#N/A"}},null,null,null,null,1.645E-3,3.5608300000000001E-3,"","","/",{"$error":"#N/A"}]
[null,null,null,{"$f":"VLOOKUP($C1809,'SEI ISD'!$A$4:$B$124,2,0)","v":{"$error":"#N/A"}},null,null,null,null,1.645E-3,3.5608300000000001E-3,"","","/",{"$error":"#N/A"}]
[null,null,null,{"$f":"VLOOKUP($C1810,'SEI ISD'!$A$4:$B$124,2,0)","v":{"$error":"#N/A"}},null,null,null,null,1.645E-3,3.5608300000000001E-3,"","","/",{"$error":"#N/A"}]
[null,null,null,{"$f":"VLOOKUP($C1811,'SEI ISD'!$A$4:$B$124,2,0)","v":{"$error":"#N/A"}},null,null,null,null,1.645E-3,3.5608300000000001E-3,"","","/",{"$error":"#N/A"}]
[null,null,null,{"$f":"VLOOKUP($C1812,'SEI ISD'!$A$4:$B$124,2,0)","v":{"$error":"#N/A"}},null,null,null,null,1.645E-3,3.5608300000000001E-3,"","","/",{"$error":"#N/A"}]
[null,null,null,{"$f":"VLOOKUP($C1813,'SEI ISD'!$A$4:$B$124,2,0)","v":{"$error":"#N/A"}},null,null,null,null,1.645E-3,3.5608300000000001E-3,"","","/",{"$error":"#N/A"}]
[null,null,null,{"$f":"VLOOKUP($C1814,'SEI ISD'!$A$4:$B$124,2,0)","v":{"$error":"#N/A"}},null,null,null,null,1.645E-3,3.5608300000000001E-3,"","","/",{"$error":"#N/A"}]
[null,null,null,{"$f":"VLOOKUP($C1815,'SEI ISD'!$A$4:$B$124,2,0)","v":{"$error":"#N/A"}},null,null,null,null,1.645E-3,3.5608300000000001E-3,"","","/",{"$error":"#N/A"}]
[null,null,null,{"$f":"VLOOKUP($C1816,'SEI ISD'!$A$4:$B$124,2,0)","v":{"$error":"#N/A"}},null,null,null,null,1.645E-3,3.5608300000000001E-3,"","","/",{"$error":"#N/A"}]
[null,null,null,{"$f":"VLOOKUP($C1817,'SEI ISD'!$A$4:$B$124,2,0)","v":{"$error":"#N/A"}},null,null,null,null,1.645E-3,3.5608300000000001E-3,"","","/",{"$error":"#N/A"}]
[null,null,null,{"$f":"VLOOKUP($C1818,'SEI ISD'!$A$4:$B$124,2,0)","v":{"$error":"#N/A"}},null,null,null,null,1.645E-3,3.5608300000000001E-3,"","","/",{"$error":"#N/A"}]
[null,null,null,{"$f":"VLOOKUP($C1819,'SEI ISD'!$A$4:$B$124,2,0)","v":{"$error":"#N/A"}},null,null,null,null,1.645E-3,3.5608300000000001E-3,"","","/",{"$error":"#N/A"}]
[null,null,null,{"$f":"VLOOKUP($C1820,'SEI ISD'!$A$4:$B$124,2,0)","v":{"$error":"#N/A"}},null,null,null,null,1.645E-3,3.5608300000000001E-3,"","","/",{"$error":"#N/A"}]
[null,null,null,{"$f":"VLOOKUP($C1821,'SEI ISD'!$A$4:$B$124,2,0)","v":{"$error":"#N/A"}},null,null,null,null,1.645E-3,3.5608300000000001E-3,"","","/",{"$error":"#N/A"}]
[null,null,null,{"$f":"VLOOKUP($C1822,'SEI ISD'!$A$4:$B$124,2,0)","v":{"$error":"#N/A"}},null,null,null,null,1.645E-3,3.5608300000000001E-3,"","","/",{"$error":"#N/A"}]
[null,null,null,{"$f":"VLOOKUP($C1823,'SEI ISD'!$A$4:$B$124,2,0)","v":{"$error":"#N/A"}},null,null,null,null,1.645E-3,3.5608300000000001E-3,"","","/",{"$error":"#N/A"}]
[null,null,null,{"$f":"VLOOKUP($C1824,'SEI ISD'!$A$4:$B$124,2,0)","v":{"$error":"#N/A"}},null,null,null,null,1.645E-3,3.5608300000000001E-3,"","","/",{"$error":"#N/A"}]
[null,null,null,{"$f":"VLOOKUP($C1825,'SEI ISD'!$A$4:$B$124,2,0)","v":{"$error":"#N/A"}},null,null,null,null,1.645E-3,3.5608300000000001E-3,"","","/",{"$error":"#N/A"}]
[null,null,null,{"$f":"VLOOKUP($C1826,'SEI ISD'!$A$4:$B$124,2,0)","v":{"$error":"#N/A"}},null,null,null,null,1.645E-3,3.5608300000000001E-3,"","","/",{"$error":"#N/A"}]
[null,null,null,{"$f":"VLOOKUP($C1827,'SEI ISD'!$A$4:$B$124,2,0)","v":{"$error":"#N/A"}},null,null,null,null,1.645E-3,3.5608300000000001E-3,"","","/",{"$error":"#N/A"}]
[null,null,null,{"$f":"VLOOKUP($C1828,'SEI ISD'!$A$4:$B$124,2,0)","v":{"$error":"#N/A"}},null,null,null,null,1.645E-3,3.5608300000000001E-3,"","","/",{"$error":"#N/A"}]
[null,null,null,{"$f":"VLOOKUP($C1829,'SEI ISD'!$A$4:$B$124,2,0)","v":{"$error":"#N/A"}},null,null,null,null,1.645E-3,3.5608300000000001E-3,"","","/",{"$error":"#N/A"}]
[null,null,null,{"$f":"VLOOKUP($C1830,'SEI ISD'!$A$4:$B$124,2,0)","v":{"$error":"#N/A"}},null,null,null,null,1.645E-3,3.5608300000000001E-3,"","","/",{"$error":"#N/A"}]
[null,null,null,{"$f":"VLOOKUP($C1831,'SEI ISD'!$A$4:$B$124,2,0)","v":{"$error":"#N/A"}},null,null,null,null,1.645E-3,3.5608300000000001E-3,"","","/",{"$error":"#N/A"}]
[null,null,null,{"$f":"VLOOKUP($C1832,'SEI ISD'!$A$4:$B$124,2,0)","v":{"$error":"#N/A"}},null,null,null,null,1.645E-3,3.5608300000000001E-3,"","","/",{"$error":"#N/A"}]
[null,null,null,{"$f":"VLOOKUP($C1833,'SEI ISD'!$A$4:$B$124,2,0)","v":{"$error":"#N/A"}},null,null,null,null,1.645E-3,3.5608300000000001E-3,"","","/",{"$error":"#N/A"}]
[null,null,null,{"$f":"VLOOKUP($C1834,'SEI ISD'!$A$4:$B$124,2,0)","v":{"$error":"#N/A"}},null,null,null,null,1.645E-3,3.5608300000000001E-3,"","","/",{"$error":"#N/A"}]
[null,null,null,{"$f":"VLOOKUP($C1835,'SEI ISD'!$A$4:$B$124,2,0)","v":{"$error":"#N/A"}},null,null,null,null,1.645E-3,3.5608300000000001E-3,"","","/",{"$error":"#N/A"}]
[null,null,null,{"$f":"VLOOKUP($C1836,'SEI ISD'!$A$4:$B$124,2,0)","v":{"$error":"#N/A"}},null,null,null,null,1.645E-3,3.5608300000000001E-3,"","","/",{"$error":"#N/A"}]
[null,null,null,{"$f":"VLOOKUP($C1837,'SEI ISD'!$A$4:$B$124,2,0)","v":{"$error":"#N/A"}},null,null,null,null,1.645E-3,3.5608300000000001E-3,"","","/",{"$error":"#N/A"}]
[null,null,null,{"$f":"VLOOKUP($C1838,'SEI ISD'!$A$4:$B$124,2,0)","v":{"$error":"#N/A"}},null,null,null,null,1.645E-3,3.5608300000000001E-3,"","","/",{"$error":"#N/A"}]
[null,null,null,{"$f":"VLOOKUP($C1839,'SEI ISD'!$A$4:$B$124,2,0)","v":{"$error":"#N/A"}},null,null,null,null,1.645E-3,3.5608300000000001E-3,"","","/",{"$error":"#N/A"}]
[null,null,null,{"$f":"VLOOKUP($C1840,'SEI ISD'!$A$4:$B$124,2,0)","v":{"$error":"#N/A"}},null,null,null,null,1.645E-3,3.5608300000000001E-3,"","","/",{"$error":"#N/A"}]
[null,null,null,{"$f":"VLOOKUP($C1841,'SEI ISD'!$A$4:$B$124,2,0)","v":{"$error":"#N/A"}},null,null,null,null,1.645E-3,3.5608300000000001E-3,"","","/",{"$error":"#N/A"}]
[null,null,null,{"$f":"VLOOKUP($C1842,'SEI ISD'!$A$4:$B$124,2,0)","v":{"$error":"#N/A"}},null,null,null,null,1.645E-3,3.5608300000000001E-3,"","","/",{"$error":"#N/A"}]
[null,null,null,{"$f":"VLOOKUP($C1843,'SEI ISD'!$A$4:$B$124,2,0)","v":{"$error":"#N/A"}},null,null,null,null,1.645E-3,3.5608300000000001E-3,"","","/",{"$error":"#N/A"}]
[null,null,null,{"$f":"VLOOKUP($C1844,'SEI ISD'!$A$4:$B$124,2,0)","v":{"$error":"#N/A"}},null,null,null,null,1.645E-3,3.5608300000000001E-3,"","","/",{"$error":"#N/A"}]
[null,null,null,{"$f":"VLOOKUP($C1845,'SEI ISD'!$A$4:$B$124,2,0)","v":{"$error":"#N/A"}},null,null,null,null,1.645E-3,3.5608300000000001E-3,"","","/",{"$error":"#N/A"}]
[null,null,null,{"$f":"VLOOKUP($C1846,'SEI ISD'!$A$4:$B$124,2,0)","v":{"$error":"#N/A"}},null,null,null,null,1.645E-3,3.5608300000000001E-3,"","","/",{"$error":"#N/A"}]
[null,null,null,{"$f":"VLOOKUP($C1847,'SEI ISD'!$A$4:$B$124,2,0)","v":{"$error":"#N/A"}},null,null,null,null,1.645E-3,3.5608300000000001E-3,"","","/",{"$error":"#N/A"}]
[null,null,null,{"$f":"VLOOKUP($C1848,'SEI ISD'!$A$4:$B$124,2,0)","v":{"$error":"#N/A"}},null,null,null,null,1.645E-3,3.5608300000000001E-3,"","","/",{"$error":"#N/A"}]
[null,null,null,{"$f":"VLOOKUP($C1849,'SEI ISD'!$A$4:$B$124,2,0)","v":{"$error":"#N/A"}},null,null,null,null,1.645E-3,3.5608300000000001E-3,"","","/",{"$error":"#N/A"}]
[null,null,null,{"$f":"VLOOKUP($C1850,'SEI ISD'!$A$4:$B$124,2,0)","v":{"$error":"#N/A"}},null,null,null,null,1.645E-3,3.5608300000000001E-3,"","","/",{"$error":"#N/A"}]
[null,null,null,{"$f":"VLOOKUP($C1851,'SEI ISD'!$A$4:$B$124,2,0)","v":{"$error":"#N/A"}},null,null,null,null,1.645E-3,3.5608300000000001E-3,"","","/",{"$error":"#N/A"}]
[null,null,null,{"$f":"VLOOKUP($C1852,'SEI ISD'!$A$4:$B$124,2,0)","v":{"$error":"#N/A"}},null,null,null,null,1.645E-3,3.5608300000000001E-3,"","","/",{"$error":"#N/A"}]
[null,null,null,{"$f":"VLOOKUP($C1853,'SEI ISD'!$A$4:$B$124,2,0)","v":{"$error":"#N/A"}},null,null,null,null,1.645E-3,3.5608300000000001E-3,"","","/",{"$error":"#N/A"}]
[null,null,null,{"$f":"VLOOKUP($C1854,'SEI ISD'!$A$4:$B$124,2,0)","v":{"$error":"#N/A"}},null,null,null,null,1.645E-3,3.5608300000000001E-3,"","","/",{"$error":"#N/A"}]
[null,null,null,{"$f":"VLOOKUP($C1855,'SEI ISD'!$A$4:$B$124,2,0)","v":{"$error":"#N/A"}},null,null,null,null,1.645E-3,3.5608300000000001E-3,"","","/",{"$error":"#N/A"}]
[null,null,null,{"$f":"VLOOKUP($C1856,'SEI ISD'!$A$4:$B$124,2,0)","v":{"$error":"#N/A"}},null,null,null,null,1.645E-3,3.5608300000000001E-3,"","","/",{"$error":"#N/A"}]
[null,null,null,{"$f":"VLOOKUP($C1857,'SEI ISD'!$A$4:$B$124,2,0)","v":{"$error":"#N/A"}},null,null,null,null,1.645E-3,3.5608300000000001E-3,"","","/",{"$error":"#N/A"}]
[null,null,null,{"$f":"VLOOKUP($C1858,'SEI ISD'!$A$4:$B$124,2,0)","v":{"$error":"#N/A"}},null,null,null,null,1.645E-3,3.5608300000000001E-3,"","","/",{"$error":"#N/A"}]
[null,null,null,{"$f":"VLOOKUP($C1859,'SEI ISD'!$A$4:$B$124,2,0)","v":{"$error":"#N/A"}},null,null,null,null,1.645E-3,3.5608300000000001E-3,{"$f":"RIGHT(G1859,2)","v":""},{"$f":"LEFT(G1859,4)","v":""},{"$f":"_xlfn.CONCAT(K1859,\"/\",L1859)","v":"/"},{"$f":"EOMONTH(D1859,0)","v":{"$error":"#N/A"}}]
[null,null,null,{"$f":"VLOOKUP($C1860,'SEI ISD'!$A$4:$B$124,2,0)","v":{"$error":"#N/A"}},null,null,null,null,1.645E-3,3.5608300000000001E-3,"","","/",{"$error":"#N/A"}]
[null,null,null,{"$f":"VLOOKUP($C1861,'SEI ISD'!$A$4:$B$124,2,0)","v":{"$error":"#N/A"}},null,null,null,null,1.645E-3,3.5608300000000001E-3,"","","/",{"$error":"#N/A"}]
[null,null,null,{"$f":"VLOOKUP($C1862,'SEI ISD'!$A$4:$B$124,2,0)","v":{"$error":"#N/A"}},null,null,null,null,1.645E-3,3.5608300000000001E-3,"","","/",{"$error":"#N/A"}]
[null,null,null,{"$f":"VLOOKUP($C1863,'SEI ISD'!$A$4:$B$124,2,0)","v":{"$error":"#N/A"}},null,null,null,null,1.645E-3,3.5608300000000001E-3,"","","/",{"$error":"#N/A"}]
[null,null,null,{"$f":"VLOOKUP($C1864,'SEI ISD'!$A$4:$B$124,2,0)","v":{"$error":"#N/A"}},null,null,null,null,1.645E-3,3.5608300000000001E-3,"","","/",{"$error":"#N/A"}]
[null,null,null,{"$f":"VLOOKUP($C1865,'SEI ISD'!$A$4:$B$124,2,0)","v":{"$error":"#N/A"}},null,null,null,null,1.645E-3,3.5608300000000001E-3,"","","/",{"$error":"#N/A"}]
[null,null,null,{"$f":"VLOOKUP($C1866,'SEI ISD'!$A$4:$B$124,2,0)","v":{"$error":"#N/A"}},null,null,null,null,1.645E-3,3.5608300000000001E-3,"","","/",{"$error":"#N/A"}]
[null,null,null,{"$f":"VLOOKUP($C1867,'SEI ISD'!$A$4:$B$124,2,0)","v":{"$error":"#N/A"}},null,null,null,null,1.645E-3,3.5608300000000001E-3,"","","/",{"$error":"#N/A"}]
[null,null,null,{"$f":"VLOOKUP($C1868,'SEI ISD'!$A$4:$B$124,2,0)","v":{"$error":"#N/A"}},null,null,null,null,1.645E-3,3.5608300000000001E-3,"","","/",{"$error":"#N/A"}]
[null,null,null,{"$f":"VLOOKUP($C1869,'SEI ISD'!$A$4:$B$124,2,0)","v":{"$error":"#N/A"}},null,null,null,null,1.645E-3,3.5608300000000001E-3,"","","/",{"$error":"#N/A"}]
[null,null,null,{"$f":"VLOOKUP($C1870,'SEI ISD'!$A$4:$B$124,2,0)","v":{"$error":"#N/A"}},null,null,null,null,1.645E-3,3.5608300000000001E-3,"","","/",{"$error":"#N/A"}]
[null,null,null,{"$f":"VLOOKUP($C1871,'SEI ISD'!$A$4:$B$124,2,0)","v":{"$error":"#N/A"}},null,null,null,null,1.645E-3,3.5608300000000001E-3,"","","/",{"$error":"#N/A"}]
[null,null,null,{"$f":"VLOOKUP($C1872,'SEI ISD'!$A$4:$B$124,2,0)","v":{"$error":"#N/A"}},null,null,null,null,1.645E-3,3.5608300000000001E-3,"","","/",{"$error":"#N/A"}]
[null,null,null,{"$f":"VLOOKUP($C1873,'SEI ISD'!$A$4:$B$124,2,0)","v":{"$error":"#N/A"}},null,null,null,null,1.645E-3,3.5608300000000001E-3,"","","/",{"$error":"#N/A"}]
[null,null,null,{"$f":"VLOOKUP($C1874,'SEI ISD'!$A$4:$B$124,2,0)","v":{"$error":"#N/A"}},null,null,null,null,1.645E-3,3.5608300000000001E-3,"","","/",{"$error":"#N/A"}]
[null,null,null,{"$f":"VLOOKUP($C1875,'SEI ISD'!$A$4:$B$124,2,0)","v":{"$error":"#N/A"}},null,null,null,null,1.645E-3,3.5608300000000001E-3,"","","/",{"$error":"#N/A"}]
[null,null,null,{"$f":"VLOOKUP($C1876,'SEI ISD'!$A$4:$B$124,2,0)","v":{"$error":"#N/A"}},null,null,null,null,1.645E-3,3.5608300000000001E-3,"","","/",{"$error":"#N/A"}]
[null,null,null,{"$f":"VLOOKUP($C1877,'SEI ISD'!$A$4:$B$124,2,0)","v":{"$error":"#N/A"}},null,null,null,null,1.645E-3,3.5608300000000001E-3,"","","/",{"$error":"#N/A"}]
[null,null,null,{"$f":"VLOOKUP($C1878,'SEI ISD'!$A$4:$B$124,2,0)","v":{"$error":"#N/A"}},null,null,null,null,1.645E-3,3.5608300000000001E-3,"","","/",{"$error":"#N/A"}]
[null,null,null,{"$f":"VLOOKUP($C1879,'SEI ISD'!$A$4:$B$124,2,0)","v":{"$error":"#N/A"}},null,null,null,null,1.645E-3,3.5608300000000001E-3,"","","/",{"$error":"#N/A"}]
[null,null,null,{"$f":"VLOOKUP($C1880,'SEI ISD'!$A$4:$B$124,2,0)","v":{"$error":"#N/A"}},null,null,null,null,1.645E-3,3.5608300000000001E-3,"","","/",{"$error":"#N/A"}]
[null,null,null,{"$f":"VLOOKUP($C1881,'SEI ISD'!$A$4:$B$124,2,0)","v":{"$error":"#N/A"}},null,null,null,null,1.645E-3,3.5608300000000001E-3,"","","/",{"$error":"#N/A"}]
[null,null,null,{"$f":"VLOOKUP($C1882,'SEI ISD'!$A$4:$B$124,2,0)","v":{"$error":"#N/A"}},null,null,null,null,1.645E-3,3.5608300000000001E-3,"","","/",{"$error":"#N/A"}]
[null,null,null,{"$f":"VLOOKUP($C1883,'SEI ISD'!$A$4:$B$124,2,0)","v":{"$error":"#N/A"}},null,null,null,null,1.645E-3,3.5608300000000001E-3,"","","/",{"$error":"#N/A"}]
[null,null,null,{"$f":"VLOOKUP($C1884,'SEI ISD'!$A$4:$B$124,2,0)","v":{"$error":"#N/A"}},null,null,null,null,1.645E-3,3.5608300000000001E-3,"","","/",{"$error":"#N/A"}]
[null,null,null,{"$f":"VLOOKUP($C1885,'SEI ISD'!$A$4:$B$124,2,0)","v":{"$error":"#N/A"}},null,null,null,null,1.645E-3,3.5608300000000001E-3,"","","/",{"$error":"#N/A"}]
[null,null,null,{"$f":"VLOOKUP($C1886,'SEI ISD'!$A$4:$B$124,2,0)","v":{"$error":"#N/A"}},null,null,null,null,1.645E-3,3.5608300000000001E-3,"","","/",{"$error":"#N/A"}]
[null,null,null,{"$f":"VLOOKUP($C1887,'SEI ISD'!$A$4:$B$124,2,0)","v":{"$error":"#N/A"}},null,null,null,null,1.645E-3,3.5608300000000001E-3,"","","/",{"$error":"#N/A"}]
[null,null,null,{"$f":"VLOOKUP($C1888,'SEI ISD'!$A$4:$B$124,2,0)","v":{"$error":"#N/A"}},null,null,null,null,1.645E-3,3.5608300000000001E-3,"","","/",{"$error":"#N/A"}]
[null,null,null,{"$f":"VLOOKUP($C1889,'SEI ISD'!$A$4:$B$124,2,0)","v":{"$error":"#N/A"}},null,null,null,null,1.645E-3,3.5608300000000001E-3,"","","/",{"$error":"#N/A"}]
[null,null,null,{"$f":"VLOOKUP($C1890,'SEI ISD'!$A$4:$B$124,2,0)","v":{"$error":"#N/A"}},null,null,null,null,1.645E-3,3.5608300000000001E-3,"","","/",{"$error":"#N/A"}]
[null,null,null,{"$f":"VLOOKUP($C1891,'SEI ISD'!$A$4:$B$124,2,0)","v":{"$error":"#N/A"}},null,null,null,null,1.645E-3,3.5608300000000001E-3,"","","/",{"$error":"#N/A"}]
[null,null,null,{"$f":"VLOOKUP($C1892,'SEI ISD'!$A$4:$B$124,2,0)","v":{"$error":"#N/A"}},null,null,null,null,1.645E-3,3.5608300000000001E-3,"","","/",{"$error":"#N/A"}]
[null,null,null,{"$f":"VLOOKUP($C1893,'SEI ISD'!$A$4:$B$124,2,0)","v":{"$error":"#N/A"}},null,null,null,null,1.645E-3,3.5608300000000001E-3,"","","/",{"$error":"#N/A"}]
[null,null,null,{"$f":"VLOOKUP($C1894,'SEI ISD'!$A$4:$B$124,2,0)","v":{"$error":"#N/A"}},null,null,null,null,1.645E-3,3.5608300000000001E-3,"","","/",{"$error":"#N/A"}]
[null,null,null,{"$f":"VLOOKUP($C1895,'SEI ISD'!$A$4:$B$124,2,0)","v":{"$error":"#N/A"}},null,null,null,null,1.645E-3,3.5608300000000001E-3,"","","/",{"$error":"#N/A"}]
[null,null,null,{"$f":"VLOOKUP($C1896,'SEI ISD'!$A$4:$B$124,2,0)","v":{"$error":"#N/A"}},null,null,null,null,1.645E-3,3.5608300000000001E-3,"","","/",{"$error":"#N/A"}]
[null,null,null,{"$f":"VLOOKUP($C1897,'SEI ISD'!$A$4:$B$124,2,0)","v":{"$error":"#N/A"}},null,null,null,null,1.645E-3,3.5608300000000001E-3,"","","/",{"$error":"#N/A"}]
[null,null,null,{"$f":"VLOOKUP($C1898,'SEI ISD'!$A$4:$B$124,2,0)","v":{"$error":"#N/A"}},null,null,null,null,1.645E-3,3.5608300000000001E-3,"","","/",{"$error":"#N/A"}]
[null,null,null,{"$f":"VLOOKUP($C1899,'SEI ISD'!$A$4:$B$124,2,0)","v":{"$error":"#N/A"}},null,null,null,null,1.645E-3,3.5608300000000001E-3,"","","/",{"$error":"#N/A"}]
[null,null,null,{"$f":"VLOOKUP($C1900,'SEI ISD'!$A$4:$B$124,2,0)","v":{"$error":"#N/A"}},null,null,null,null,1.645E-3,3.5608300000000001E-3,"","","/",{"$error":"#N/A"}]
[null,null,null,{"$f":"VLOOKUP($C1901,'SEI ISD'!$A$4:$B$124,2,0)","v":{"$error":"#N/A"}},null,null,null,null,1.645E-3,3.5608300000000001E-3,"","","/",{"$error":"#N/A"}]
[null,null,null,{"$f":"VLOOKUP($C1902,'SEI ISD'!$A$4:$B$124,2,0)","v":{"$error":"#N/A"}},null,null,null,null,1.645E-3,3.5608300000000001E-3,"","","/",{"$error":"#N/A"}]
[null,null,null,{"$f":"VLOOKUP($C1903,'SEI ISD'!$A$4:$B$124,2,0)","v":{"$error":"#N/A"}},null,null,null,null,1.645E-3,3.5608300000000001E-3,"","","/",{"$error":"#N/A"}]
[null,null,null,{"$f":"VLOOKUP($C1904,'SEI ISD'!$A$4:$B$124,2,0)","v":{"$error":"#N/A"}},null,null,null,null,1.645E-3,3.5608300000000001E-3,"","","/",{"$error":"#N/A"}]
[null,null,null,{"$f":"VLOOKUP($C1905,'SEI ISD'!$A$4:$B$124,2,0)","v":{"$error":"#N/A"}},null,null,null,null,1.645E-3,3.5608300000000001E-3,"","","/",{"$error":"#N/A"}]
[null,null,null,{"$f":"VLOOKUP($C1906,'SEI ISD'!$A$4:$B$124,2,0)","v":{"$error":"#N/A"}},null,null,null,null,1.645E-3,3.5608300000000001E-3,"","","/",{"$error":"#N/A"}]
[null,null,null,{"$f":"VLOOKUP($C1907,'SEI ISD'!$A$4:$B$124,2,0)","v":{"$error":"#N/A"}},null,null,null,null,1.645E-3,3.5608300000000001E-3,"","","/",{"$error":"#N/A"}]
[null,null,null,{"$f":"VLOOKUP($C1908,'SEI ISD'!$A$4:$B$124,2,0)","v":{"$error":"#N/A"}},null,null,null,null,1.645E-3,3.5608300000000001E-3,"","","/",{"$error":"#N/A"}]
[null,null,null,{"$f":"VLOOKUP($C1909,'SEI ISD'!$A$4:$B$124,2,0)","v":{"$error":"#N/A"}},null,null,null,null,1.645E-3,3.5608300000000001E-3,"","","/",{"$error":"#N/A"}]
[null,null,null,{"$f":"VLOOKUP($C1910,'SEI ISD'!$A$4:$B$124,2,0)","v":{"$error":"#N/A"}},null,null,null,null,1.645E-3,3.5608300000000001E-3,"","","/",{"$error":"#N/A"}]
[null,null,null,{"$f":"VLOOKUP($C1911,'SEI ISD'!$A$4:$B$124,2,0)","v":{"$error":"#N/A"}},null,null,null,null,1.645E-3,3.5608300000000001E-3,"","","/",{"$error":"#N/A"}]
[null,null,null,{"$f":"VLOOKUP($C1912,'SEI ISD'!$A$4:$B$124,2,0)","v":{"$error":"#N/A"}},null,null,null,null,1.645E-3,3.5608300000000001E-3,"","","/",{"$error":"#N/A"}]
[null,null,null,{"$f":"VLOOKUP($C1913,'SEI ISD'!$A$4:$B$124,2,0)","v":{"$error":"#N/A"}},null,null,null,null,1.645E-3,3.5608300000000001E-3,"","","/",{"$error":"#N/A"}]
[null,null,null,{"$f":"VLOOKUP($C1914,'SEI ISD'!$A$4:$B$124,2,0)","v":{"$error":"#N/A"}},null,null,null,null,1.645E-3,3.5608300000000001E-3,"","","/",{"$error":"#N/A"}]
[null,null,null,{"$f":"VLOOKUP($C1915,'SEI ISD'!$A$4:$B$124,2,0)","v":{"$error":"#N/A"}},null,null,null,null,1.645E-3,3.5608300000000001E-3,"","","/",{"$error":"#N/A"}]
[null,null,null,{"$f":"VLOOKUP($C1916,'SEI ISD'!$A$4:$B$124,2,0)","v":{"$error":"#N/A"}},null,null,null,null,1.645E-3,3.5608300000000001E-3,"","","/",{"$error":"#N/A"}]
[null,null,null,{"$f":"VLOOKUP($C1917,'SEI ISD'!$A$4:$B$124,2,0)","v":{"$error":"#N/A"}},null,null,null,null,1.645E-3,3.5608300000000001E-3,"","","/",{"$error":"#N/A"}]
[null,null,null,{"$f":"VLOOKUP($C1918,'SEI ISD'!$A$4:$B$124,2,0)","v":{"$error":"#N/A"}},null,null,null,null,1.645E-3,3.5608300000000001E-3,"","","/",{"$error":"#N/A"}]
[null,null,null,{"$f":"VLOOKUP($C1919,'SEI ISD'!$A$4:$B$124,2,0)","v":{"$error":"#N/A"}},null,null,null,null,1.645E-3,3.5608300000000001E-3,"","","/",{"$error":"#N/A"}]
[null,null,null,{"$f":"VLOOKUP($C1920,'SEI ISD'!$A$4:$B$124,2,0)","v":{"$error":"#N/A"}},null,null,null,null,1.645E-3,3.5608300000000001E-3,"","","/",{"$error":"#N/A"}]
[null,null,null,{"$f":"VLOOKUP($C1921,'SEI ISD'!$A$4:$B$124,2,0)","v":{"$error":"#N/A"}},null,null,null,null,1.645E-3,3.5608300000000001E-3,"","","/",{"$error":"#N/A"}]
[null,null,null,{"$f":"VLOOKUP($C1922,'SEI ISD'!$A$4:$B$124,2,0)","v":{"$error":"#N/A"}},null,null,null,null,1.645E-3,3.5608300000000001E-3,"","","/",{"$error":"#N/A"}]
[null,null,null,{"$f":"VLOOKUP($C1923,'SEI ISD'!$A$4:$B$124,2,0)","v":{"$error":"#N/A"}},null,null,null,null,1.645E-3,3.5608300000000001E-3,{"$f":"RIGHT(G1923,2)","v":""},{"$f":"LEFT(G1923,4)","v":""},{"$f":"_xlfn.CONCAT(K1923,\"/\",L1923)","v":"/"},{"$f":"EOMONTH(D1923,0)","v":{"$error":"#N/A"}}]
[null,null,null,{"$f":"VLOOKUP($C1924,'SEI ISD'!$A$4:$B$124,2,0)","v":{"$error":"#N/A"}},null,null,null,null,1.645E-3,3.5608300000000001E-3,"","","/",{"$error":"#N/A"}]
[null,null,null,{"$f":"VLOOKUP($C1925,'SEI ISD'!$A$4:$B$124,2,0)","v":{"$error":"#N/A"}},null,null,null,null,1.645E-3,3.5608300000000001E-3,"","","/",{"$error":"#N/A"}]
[null,null,null,{"$f":"VLOOKUP($C1926,'SEI ISD'!$A$4:$B$124,2,0)","v":{"$error":"#N/A"}},null,null,null,null,1.645E-3,3.5608300000000001E-3,"","","/",{"$error":"#N/A"}]
[null,null,null,{"$f":"VLOOKUP($C1927,'SEI ISD'!$A$4:$B$124,2,0)","v":{"$error":"#N/A"}},null,null,null,null,1.645E-3,3.5608300000000001E-3,"","","/",{"$error":"#N/A"}]
[null,null,null,{"$f":"VLOOKUP($C1928,'SEI ISD'!$A$4:$B$124,2,0)","v":{"$error":"#N/A"}},null,null,null,null,1.645E-3,3.5608300000000001E-3,"","","/",{"$error":"#N/A"}]
[null,null,null,{"$f":"VLOOKUP($C1929,'SEI ISD'!$A$4:$B$124,2,0)","v":{"$error":"#N/A"}},null,null,null,null,1.645E-3,3.5608300000000001E-3,"","","/",{"$error":"#N/A"}]
[null,null,null,{"$f":"VLOOKUP($C1930,'SEI ISD'!$A$4:$B$124,2,0)","v":{"$error":"#N/A"}},null,null,null,null,1.645E-3,3.5608300000000001E-3,"","","/",{"$error":"#N/A"}]
[null,null,null,{"$f":"VLOOKUP($C1931,'SEI ISD'!$A$4:$B$124,2,0)","v":{"$error":"#N/A"}},null,null,null,null,1.645E-3,3.5608300000000001E-3,"","","/",{"$error":"#N/A"}]
[null,null,null,{"$f":"VLOOKUP($C1932,'SEI ISD'!$A$4:$B$124,2,0)","v":{"$error":"#N/A"}},null,null,null,null,1.645E-3,3.5608300000000001E-3,"","","/",{"$error":"#N/A"}]
[null,null,null,{"$f":"VLOOKUP($C1933,'SEI ISD'!$A$4:$B$124,2,0)","v":{"$error":"#N/A"}},null,null,null,null,1.645E-3,3.5608300000000001E-3,"","","/",{"$error":"#N/A"}]
[null,null,null,{"$f":"VLOOKUP($C1934,'SEI ISD'!$A$4:$B$124,2,0)","v":{"$error":"#N/A"}},null,null,null,null,1.645E-3,3.5608300000000001E-3,"","","/",{"$error":"#N/A"}]
[null,null,null,{"$f":"VLOOKUP($C1935,'SEI ISD'!$A$4:$B$124,2,0)","v":{"$error":"#N/A"}},null,null,null,null,1.645E-3,3.5608300000000001E-3,"","","/",{"$error":"#N/A"}]
[null,null,null,{"$f":"VLOOKUP($C1936,'SEI ISD'!$A$4:$B$124,2,0)","v":{"$error":"#N/A"}},null,null,null,null,1.645E-3,3.5608300000000001E-3,"","","/",{"$error":"#N/A"}]
[null,null,null,{"$f":"VLOOKUP($C1937,'SEI ISD'!$A$4:$B$124,2,0)","v":{"$error":"#N/A"}},null,null,null,null,1.645E-3,3.5608300000000001E-3,"","","/",{"$error":"#N/A"}]
[null,null,null,{"$f":"VLOOKUP($C1938,'SEI ISD'!$A$4:$B$124,2,0)","v":{"$error":"#N/A"}},null,null,null,null,1.645E-3,3.5608300000000001E-3,"","","/",{"$error":"#N/A"}]
[null,null,null,{"$f":"VLOOKUP($C1939,'SEI ISD'!$A$4:$B$124,2,0)","v":{"$error":"#N/A"}},null,null,null,null,1.645E-3,3.5608300000000001E-3,"","","/",{"$error":"#N/A"}]
[null,null,null,{"$f":"VLOOKUP($C1940,'SEI ISD'!$A$4:$B$124,2,0)","v":{"$error":"#N/A"}},null,null,null,null,1.645E-3,3.5608300000000001E-3,"","","/",{"$error":"#N/A"}]
[null,null,null,{"$f":"VLOOKUP($C1941,'SEI ISD'!$A$4:$B$124,2,0)","v":{"$error":"#N/A"}},null,null,null,null,1.645E-3,3.5608300000000001E-3,"","","/",{"$error":"#N/A"}]
[null,null,null,{"$f":"VLOOKUP($C1942,'SEI ISD'!$A$4:$B$124,2,0)","v":{"$error":"#N/A"}},null,null,null,null,1.645E-3,3.5608300000000001E-3,"","","/",{"$error":"#N/A"}]
[null,null,null,{"$f":"VLOOKUP($C1943,'SEI ISD'!$A$4:$B$124,2,0)","v":{"$error":"#N/A"}},null,null,null,null,1.645E-3,3.5608300000000001E-3,"","","/",{"$error":"#N/A"}]
[null,null,null,{"$f":"VLOOKUP($C1944,'SEI ISD'!$A$4:$B$124,2,0)","v":{"$error":"#N/A"}},null,null,null,null,1.645E-3,3.5608300000000001E-3,"","","/",{"$error":"#N/A"}]
[null,null,null,{"$f":"VLOOKUP($C1945,'SEI ISD'!$A$4:$B$124,2,0)","v":{"$error":"#N/A"}},null,null,null,null,1.645E-3,3.5608300000000001E-3,"","","/",{"$error":"#N/A"}]
[null,null,null,{"$f":"VLOOKUP($C1946,'SEI ISD'!$A$4:$B$124,2,0)","v":{"$error":"#N/A"}},null,null,null,null,1.645E-3,3.5608300000000001E-3,"","","/",{"$error":"#N/A"}]
[null,null,null,{"$f":"VLOOKUP($C1947,'SEI ISD'!$A$4:$B$124,2,0)","v":{"$error":"#N/A"}},null,null,null,null,1.645E-3,3.5608300000000001E-3,"","","/",{"$error":"#N/A"}]
[null,null,null,{"$f":"VLOOKUP($C1948,'SEI ISD'!$A$4:$B$124,2,0)","v":{"$error":"#N/A"}},null,null,null,null,1.645E-3,3.5608300000000001E-3,"","","/",{"$error":"#N/A"}]
[null,null,null,{"$f":"VLOOKUP($C1949,'SEI ISD'!$A$4:$B$124,2,0)","v":{"$error":"#N/A"}},null,null,null,null,1.645E-3,3.5608300000000001E-3,"","","/",{"$error":"#N/A"}]
[null,null,null,{"$f":"VLOOKUP($C1950,'SEI ISD'!$A$4:$B$124,2,0)","v":{"$error":"#N/A"}},null,null,null,null,1.645E-3,3.5608300000000001E-3,"","","/",{"$error":"#N/A"}]
[null,null,null,{"$f":"VLOOKUP($C1951,'SEI ISD'!$A$4:$B$124,2,0)","v":{"$error":"#N/A"}},null,null,null,null,1.645E-3,3.5608300000000001E-3,"","","/",{"$error":"#N/A"}]
[null,null,null,{"$f":"VLOOKUP($C1952,'SEI ISD'!$A$4:$B$124,2,0)","v":{"$error":"#N/A"}},null,null,null,null,1.645E-3,3.5608300000000001E-3,"","","/",{"$error":"#N/A"}]
[null,null,null,{"$f":"VLOOKUP($C1953,'SEI ISD'!$A$4:$B$124,2,0)","v":{"$error":"#N/A"}},null,null,null,null,1.645E-3,3.5608300000000001E-3,"","","/",{"$error":"#N/A"}]
[null,null,null,{"$f":"VLOOKUP($C1954,'SEI ISD'!$A$4:$B$124,2,0)","v":{"$error":"#N/A"}},null,null,null,null,1.645E-3,3.5608300000000001E-3,"","","/",{"$error":"#N/A"}]
[null,null,null,{"$f":"VLOOKUP($C1955,'SEI ISD'!$A$4:$B$124,2,0)","v":{"$error":"#N/A"}},null,null,null,null,1.645E-3,3.5608300000000001E-3,"","","/",{"$error":"#N/A"}]
[null,null,null,{"$f":"VLOOKUP($C1956,'SEI ISD'!$A$4:$B$124,2,0)","v":{"$error":"#N/A"}},null,null,null,null,1.645E-3,3.5608300000000001E-3,"","","/",{"$error":"#N/A"}]
[null,null,null,{"$f":"VLOOKUP($C1957,'SEI ISD'!$A$4:$B$124,2,0)","v":{"$error":"#N/A"}},null,null,null,null,1.645E-3,3.5608300000000001E-3,"","","/",{"$error":"#N/A"}]
[null,null,null,{"$f":"VLOOKUP($C1958,'SEI ISD'!$A$4:$B$124,2,0)","v":{"$error":"#N/A"}},null,null,null,null,1.645E-3,3.5608300000000001E-3,"","","/",{"$error":"#N/A"}]
[null,null,null,{"$f":"VLOOKUP($C1959,'SEI ISD'!$A$4:$B$124,2,0)","v":{"$error":"#N/A"}},null,null,null,null,1.645E-3,3.5608300000000001E-3,"","","/",{"$error":"#N/A"}]
[null,null,null,{"$f":"VLOOKUP($C1960,'SEI ISD'!$A$4:$B$124,2,0)","v":{"$error":"#N/A"}},null,null,null,null,1.645E-3,3.5608300000000001E-3,"","","/",{"$error":"#N/A"}]
[null,null,null,{"$f":"VLOOKUP($C1961,'SEI ISD'!$A$4:$B$124,2,0)","v":{"$error":"#N/A"}},null,null,null,null,1.645E-3,3.5608300000000001E-3,"","","/",{"$error":"#N/A"}]
[null,null,null,{"$f":"VLOOKUP($C1962,'SEI ISD'!$A$4:$B$124,2,0)","v":{"$error":"#N/A"}},null,null,null,null,1.645E-3,3.5608300000000001E-3,"","","/",{"$error":"#N/A"}]
[null,null,null,{"$f":"VLOOKUP($C1963,'SEI ISD'!$A$4:$B$124,2,0)","v":{"$error":"#N/A"}},null,null,null,null,1.645E-3,3.5608300000000001E-3,"","","/",{"$error":"#N/A"}]
[null,null,null,{"$f":"VLOOKUP($C1964,'SEI ISD'!$A$4:$B$124,2,0)","v":{"$error":"#N/A"}},null,null,null,null,1.645E-3,3.5608300000000001E-3,"","","/",{"$error":"#N/A"}]
[null,null,null,{"$f":"VLOOKUP($C1965,'SEI ISD'!$A$4:$B$124,2,0)","v":{"$error":"#N/A"}},null,null,null,null,1.645E-3,3.5608300000000001E-3,"","","/",{"$error":"#N/A"}]
[null,null,null,{"$f":"VLOOKUP($C1966,'SEI ISD'!$A$4:$B$124,2,0)","v":{"$error":"#N/A"}},null,null,null,null,1.645E-3,3.5608300000000001E-3,"","","/",{"$error":"#N/A"}]
[null,null,null,{"$f":"VLOOKUP($C1967,'SEI ISD'!$A$4:$B$124,2,0)","v":{"$error":"#N/A"}},null,null,null,null,1.645E-3,3.5608300000000001E-3,"","","/",{"$error":"#N/A"}]
[null,null,null,{"$f":"VLOOKUP($C1968,'SEI ISD'!$A$4:$B$124,2,0)","v":{"$error":"#N/A"}},null,null,null,null,1.645E-3,3.5608300000000001E-3,"","","/",{"$error":"#N/A"}]
[null,null,null,{"$f":"VLOOKUP($C1969,'SEI ISD'!$A$4:$B$124,2,0)","v":{"$error":"#N/A"}},null,null,null,null,1.645E-3,3.5608300000000001E-3,"","","/",{"$error":"#N/A"}]
[null,null,null,{"$f":"VLOOKUP($C1970,'SEI ISD'!$A$4:$B$124,2,0)","v":{"$error":"#N/A"}},null,null,null,null,1.645E-3,3.5608300000000001E-3,"","","/",{"$error":"#N/A"}]
[null,null,null,{"$f":"VLOOKUP($C1971,'SEI ISD'!$A$4:$B$124,2,0)","v":{"$error":"#N/A"}},null,null,null,null,1.645E-3,3.5608300000000001E-3,"","","/",{"$error":"#N/A"}]
[null,null,null,{"$f":"VLOOKUP($C1972,'SEI ISD'!$A$4:$B$124,2,0)","v":{"$error":"#N/A"}},null,null,null,null,1.645E-3,3.5608300000000001E-3,"","","/",{"$error":"#N/A"}]
[null,null,null,{"$f":"VLOOKUP($C1973,'SEI ISD'!$A$4:$B$124,2,0)","v":{"$error":"#N/A"}},null,null,null,null,1.645E-3,3.5608300000000001E-3,"","","/",{"$error":"#N/A"}]
[null,null,null,{"$f":"VLOOKUP($C1974,'SEI ISD'!$A$4:$B$124,2,0)","v":{"$error":"#N/A"}},null,null,null,null,1.645E-3,3.5608300000000001E-3,"","","/",{"$error":"#N/A"}]
[null,null,null,{"$f":"VLOOKUP($C1975,'SEI ISD'!$A$4:$B$124,2,0)","v":{"$error":"#N/A"}},null,null,null,null,1.645E-3,3.5608300000000001E-3,"","","/",{"$error":"#N/A"}]
[null,null,null,{"$f":"VLOOKUP($C1976,'SEI ISD'!$A$4:$B$124,2,0)","v":{"$error":"#N/A"}},null,null,null,null,1.645E-3,3.5608300000000001E-3,"","","/",{"$error":"#N/A"}]
[null,null,null,{"$f":"VLOOKUP($C1977,'SEI ISD'!$A$4:$B$124,2,0)","v":{"$error":"#N/A"}},null,null,null,null,1.645E-3,3.5608300000000001E-3,"","","/",{"$error":"#N/A"}]
[null,null,null,{"$f":"VLOOKUP($C1978,'SEI ISD'!$A$4:$B$124,2,0)","v":{"$error":"#N/A"}},null,null,null,null,1.645E-3,3.5608300000000001E-3,"","","/",{"$error":"#N/A"}]
[null,null,null,{"$f":"VLOOKUP($C1979,'SEI ISD'!$A$4:$B$124,2,0)","v":{"$error":"#N/A"}},null,null,null,null,1.645E-3,3.5608300000000001E-3,"","","/",{"$error":"#N/A"}]
[null,null,null,{"$f":"VLOOKUP($C1980,'SEI ISD'!$A$4:$B$124,2,0)","v":{"$error":"#N/A"}},null,null,null,null,1.645E-3,3.5608300000000001E-3,"","","/",{"$error":"#N/A"}]
[null,null,null,{"$f":"VLOOKUP($C1981,'SEI ISD'!$A$4:$B$124,2,0)","v":{"$error":"#N/A"}},null,null,null,null,1.645E-3,3.5608300000000001E-3,"","","/",{"$error":"#N/A"}]
[null,null,null,{"$f":"VLOOKUP($C1982,'SEI ISD'!$A$4:$B$124,2,0)","v":{"$error":"#N/A"}},null,null,null,null,1.645E-3,3.5608300000000001E-3,"","","/",{"$error":"#N/A"}]
[null,null,null,{"$f":"VLOOKUP($C1983,'SEI ISD'!$A$4:$B$124,2,0)","v":{"$error":"#N/A"}},null,null,null,null,1.645E-3,3.5608300000000001E-3,"","","/",{"$error":"#N/A"}]
[null,null,null,{"$f":"VLOOKUP($C1984,'SEI ISD'!$A$4:$B$124,2,0)","v":{"$error":"#N/A"}},null,null,null,null,1.645E-3,3.5608300000000001E-3,"","","/",{"$error":"#N/A"}]
[null,null,null,{"$f":"VLOOKUP($C1985,'SEI ISD'!$A$4:$B$124,2,0)","v":{"$error":"#N/A"}},null,null,null,null,1.645E-3,3.5608300000000001E-3,"","","/",{"$error":"#N/A"}]
[null,null,null,{"$f":"VLOOKUP($C1986,'SEI ISD'!$A$4:$B$124,2,0)","v":{"$error":"#N/A"}},null,null,null,null,1.645E-3,3.5608300000000001E-3,"","","/",{"$error":"#N/A"}]
[null,null,null,{"$f":"VLOOKUP($C1987,'SEI ISD'!$A$4:$B$124,2,0)","v":{"$error":"#N/A"}},null,null,null,null,1.645E-3,3.5608300000000001E-3,{"$f":"RIGHT(G1987,2)","v":""},{"$f":"LEFT(G1987,4)","v":""},{"$f":"_xlfn.CONCAT(K1987,\"/\",L1987)","v":"/"},{"$f":"EOMONTH(D1987,0)","v":{"$error":"#N/A"}}]
[null,null,null,{"$f":"VLOOKUP($C1988,'SEI ISD'!$A$4:$B$124,2,0)","v":{"$error":"#N/A"}},null,null,null,null,1.645E-3,3.5608300000000001E-3,"","","/",{"$error":"#N/A"}]
[null,null,null,{"$f":"VLOOKUP($C1989,'SEI ISD'!$A$4:$B$124,2,0)","v":{"$error":"#N/A"}},null,null,null,null,1.645E-3,3.5608300000000001E-3,"","","/",{"$error":"#N/A"}]
[null,null,null,{"$f":"VLOOKUP($C1990,'SEI ISD'!$A$4:$B$124,2,0)","v":{"$error":"#N/A"}},null,null,null,null,1.645E-3,3.5608300000000001E-3,"","","/",{"$error":"#N/A"}]
[null,null,null,{"$f":"VLOOKUP($C1991,'SEI ISD'!$A$4:$B$124,2,0)","v":{"$error":"#N/A"}},null,null,null,null,1.645E-3,3.5608300000000001E-3,"","","/",{"$error":"#N/A"}]
[null,null,null,{"$f":"VLOOKUP($C1992,'SEI ISD'!$A$4:$B$124,2,0)","v":{"$error":"#N/A"}},null,null,null,null,1.645E-3,3.5608300000000001E-3,"","","/",{"$error":"#N/A"}]
[null,null,null,{"$f":"VLOOKUP($C1993,'SEI ISD'!$A$4:$B$124,2,0)","v":{"$error":"#N/A"}},null,null,null,null,1.645E-3,3.5608300000000001E-3,"","","/",{"$error":"#N/A"}]
[null,null,null,{"$f":"VLOOKUP($C1994,'SEI ISD'!$A$4:$B$124,2,0)","v":{"$error":"#N/A"}},null,null,null,null,1.645E-3,3.5608300000000001E-3,"","","/",{"$error":"#N/A"}]
[null,null,null,{"$f":"VLOOKUP($C1995,'SEI ISD'!$A$4:$B$124,2,0)","v":{"$error":"#N/A"}},null,null,null,null,1.645E-3,3.5608300000000001E-3,"","","/",{"$error":"#N/A"}]
[null,null,null,{"$f":"VLOOKUP($C1996,'SEI ISD'!$A$4:$B$124,2,0)","v":{"$error":"#N/A"}},null,null,null,null,1.645E-3,3.5608300000000001E-3,"","","/",{"$error":"#N/A"}]
[null,null,null,{"$f":"VLOOKUP($C1997,'SEI ISD'!$A$4:$B$124,2,0)","v":{"$error":"#N/A"}},null,null,null,null,1.645E-3,3.5608300000000001E-3,"","","/",{"$error":"#N/A"}]
[null,null,null,{"$f":"VLOOKUP($C1998,'SEI ISD'!$A$4:$B$124,2,0)","v":{"$error":"#N/A"}},null,null,null,null,1.645E-3,3.5608300000000001E-3,"","","/",{"$error":"#N/A"}]
[null,null,null,{"$f":"VLOOKUP($C1999,'SEI ISD'!$A$4:$B$124,2,0)","v":{"$error":"#N/A"}},null,null,null,null,1.645E-3,3.5608300000000001E-3,"","","/",{"$error":"#N/A"}]
[null,null,null,{"$f":"VLOOKUP($C2000,'SEI ISD'!$A$4:$B$124,2,0)","v":{"$error":"#N/A"}},null,null,null,null,1.645E-3,3.5608300000000001E-3,"","","/",{"$error":"#N/A"}]
[null,null,null,{"$f":"VLOOKUP($C2001,'SEI ISD'!$A$4:$B$124,2,0)","v":{"$error":"#N/A"}},null,null,null,null,1.645E-3,3.5608300000000001E-3,"","","/",{"$error":"#N/A"}]
[null,null,null,{"$f":"VLOOKUP($C2002,'SEI ISD'!$A$4:$B$124,2,0)","v":{"$error":"#N/A"}},null,null,null,null,1.645E-3,3.5608300000000001E-3,"","","/",{"$error":"#N/A"}]
[null,null,null,{"$f":"VLOOKUP($C2003,'SEI ISD'!$A$4:$B$124,2,0)","v":{"$error":"#N/A"}},null,null,null,null,1.645E-3,3.5608300000000001E-3,"","","/",{"$error":"#N/A"}]
[null,null,null,{"$f":"VLOOKUP($C2004,'SEI ISD'!$A$4:$B$124,2,0)","v":{"$error":"#N/A"}},null,null,null,null,1.645E-3,3.5608300000000001E-3,"","","/",{"$error":"#N/A"}]
[null,null,null,{"$f":"VLOOKUP($C2005,'SEI ISD'!$A$4:$B$124,2,0)","v":{"$error":"#N/A"}},null,null,null,null,1.645E-3,3.5608300000000001E-3,"","","/",{"$error":"#N/A"}]
[null,null,null,{"$f":"VLOOKUP($C2006,'SEI ISD'!$A$4:$B$124,2,0)","v":{"$error":"#N/A"}},null,null,null,null,1.645E-3,3.5608300000000001E-3,"","","/",{"$error":"#N/A"}]
[null,null,null,{"$f":"VLOOKUP($C2007,'SEI ISD'!$A$4:$B$124,2,0)","v":{"$error":"#N/A"}},null,null,null,null,1.645E-3,3.5608300000000001E-3,"","","/",{"$error":"#N/A"}]
[null,null,null,{"$f":"VLOOKUP($C2008,'SEI ISD'!$A$4:$B$124,2,0)","v":{"$error":"#N/A"}},null,null,null,null,1.645E-3,3.5608300000000001E-3,"","","/",{"$error":"#N/A"}]
[null,null,null,{"$f":"VLOOKUP($C2009,'SEI ISD'!$A$4:$B$124,2,0)","v":{"$error":"#N/A"}},null,null,null,null,1.645E-3,3.5608300000000001E-3,"","","/",{"$error":"#N/A"}]
[null,null,null,{"$f":"VLOOKUP($C2010,'SEI ISD'!$A$4:$B$124,2,0)","v":{"$error":"#N/A"}},null,null,null,null,1.645E-3,3.5608300000000001E-3,"","","/",{"$error":"#N/A"}]
[null,null,null,{"$f":"VLOOKUP($C2011,'SEI ISD'!$A$4:$B$124,2,0)","v":{"$error":"#N/A"}},null,null,null,null,1.645E-3,3.5608300000000001E-3,"","","/",{"$error":"#N/A"}]
[null,null,null,{"$f":"VLOOKUP($C2012,'SEI ISD'!$A$4:$B$124,2,0)","v":{"$error":"#N/A"}},null,null,null,null,1.645E-3,3.5608300000000001E-3,"","","/",{"$error":"#N/A"}]
[null,null,null,{"$f":"VLOOKUP($C2013,'SEI ISD'!$A$4:$B$124,2,0)","v":{"$error":"#N/A"}},null,null,null,null,1.645E-3,3.5608300000000001E-3,"","","/",{"$error":"#N/A"}]
[null,null,null,{"$f":"VLOOKUP($C2014,'SEI ISD'!$A$4:$B$124,2,0)","v":{"$error":"#N/A"}},null,null,null,null,1.645E-3,3.5608300000000001E-3,"","","/",{"$error":"#N/A"}]
[null,null,null,{"$f":"VLOOKUP($C2015,'SEI ISD'!$A$4:$B$124,2,0)","v":{"$error":"#N/A"}},null,null,null,null,1.645E-3,3.5608300000000001E-3,"","","/",{"$error":"#N/A"}]
[null,null,null,{"$f":"VLOOKUP($C2016,'SEI ISD'!$A$4:$B$124,2,0)","v":{"$error":"#N/A"}},null,null,null,null,1.645E-3,3.5608300000000001E-3,"","","/",{"$error":"#N/A"}]
[null,null,null,{"$f":"VLOOKUP($C2017,'SEI ISD'!$A$4:$B$124,2,0)","v":{"$error":"#N/A"}},null,null,null,null,1.645E-3,3.5608300000000001E-3,"","","/",{"$error":"#N/A"}]
[null,null,null,{"$f":"VLOOKUP($C2018,'SEI ISD'!$A$4:$B$124,2,0)","v":{"$error":"#N/A"}},null,null,null,null,1.645E-3,3.5608300000000001E-3,"","","/",{"$error":"#N/A"}]
[null,null,null,{"$f":"VLOOKUP($C2019,'SEI ISD'!$A$4:$B$124,2,0)","v":{"$error":"#N/A"}},null,null,null,null,1.645E-3,3.5608300000000001E-3,"","","/",{"$error":"#N/A"}]
[null,null,null,{"$f":"VLOOKUP($C2020,'SEI ISD'!$A$4:$B$124,2,0)","v":{"$error":"#N/A"}},null,null,null,null,1.645E-3,3.5608300000000001E-3,"","","/",{"$error":"#N/A"}]
[null,null,null,{"$f":"VLOOKUP($C2021,'SEI ISD'!$A$4:$B$124,2,0)","v":{"$error":"#N/A"}},null,null,null,null,1.645E-3,3.5608300000000001E-3,"","","/",{"$error":"#N/A"}]
[null,null,null,{"$f":"VLOOKUP($C2022,'SEI ISD'!$A$4:$B$124,2,0)","v":{"$error":"#N/A"}},null,null,null,null,1.645E-3,3.5608300000000001E-3,"","","/",{"$error":"#N/A"}]
[null,null,null,{"$f":"VLOOKUP($C2023,'SEI ISD'!$A$4:$B$124,2,0)","v":{"$error":"#N/A"}},null,null,null,null,1.645E-3,3.5608300000000001E-3,"","","/",{"$error":"#N/A"}]
[null,null,null,{"$f":"VLOOKUP($C2024,'SEI ISD'!$A$4:$B$124,2,0)","v":{"$error":"#N/A"}},null,null,null,null,1.645E-3,3.5608300000000001E-3,"","","/",{"$error":"#N/A"}]
[null,null,null,{"$f":"VLOOKUP($C2025,'SEI ISD'!$A$4:$B$124,2,0)","v":{"$error":"#N/A"}},null,null,null,null,1.645E-3,3.5608300000000001E-3,"","","/",{"$error":"#N/A"}]
[null,null,null,{"$f":"VLOOKUP($C2026,'SEI ISD'!$A$4:$B$124,2,0)","v":{"$error":"#N/A"}},null,null,null,null,1.645E-3,3.5608300000000001E-3,"","","/",{"$error":"#N/A"}]
[null,null,null,{"$f":"VLOOKUP($C2027,'SEI ISD'!$A$4:$B$124,2,0)","v":{"$error":"#N/A"}},null,null,null,null,1.645E-3,3.5608300000000001E-3,"","","/",{"$error":"#N/A"}]
[null,null,null,{"$f":"VLOOKUP($C2028,'SEI ISD'!$A$4:$B$124,2,0)","v":{"$error":"#N/A"}},null,null,null,null,1.645E-3,3.5608300000000001E-3,"","","/",{"$error":"#N/A"}]
[null,null,null,{"$f":"VLOOKUP($C2029,'SEI ISD'!$A$4:$B$124,2,0)","v":{"$error":"#N/A"}},null,null,null,null,1.645E-3,3.5608300000000001E-3,"","","/",{"$error":"#N/A"}]
[null,null,null,{"$f":"VLOOKUP($C2030,'SEI ISD'!$A$4:$B$124,2,0)","v":{"$error":"#N/A"}},null,null,null,null,1.645E-3,3.5608300000000001E-3,"","","/",{"$error":"#N/A"}]
[null,null,null,{"$f":"VLOOKUP($C2031,'SEI ISD'!$A$4:$B$124,2,0)","v":{"$error":"#N/A"}},null,null,null,null,1.645E-3,3.5608300000000001E-3,"","","/",{"$error":"#N/A"}]
[null,null,null,{"$f":"VLOOKUP($C2032,'SEI ISD'!$A$4:$B$124,2,0)","v":{"$error":"#N/A"}},null,null,null,null,1.645E-3,3.5608300000000001E-3,"","","/",{"$error":"#N/A"}]
[null,null,null,{"$f":"VLOOKUP($C2033,'SEI ISD'!$A$4:$B$124,2,0)","v":{"$error":"#N/A"}},null,null,null,null,1.645E-3,3.5608300000000001E-3,"","","/",{"$error":"#N/A"}]
[null,null,null,{"$f":"VLOOKUP($C2034,'SEI ISD'!$A$4:$B$124,2,0)","v":{"$error":"#N/A"}},null,null,null,null,1.645E-3,3.5608300000000001E-3,"","","/",{"$error":"#N/A"}]
[null,null,null,{"$f":"VLOOKUP($C2035,'SEI ISD'!$A$4:$B$124,2,0)","v":{"$error":"#N/A"}},null,null,null,null,1.645E-3,3.5608300000000001E-3,"","","/",{"$error":"#N/A"}]
[null,null,null,{"$f":"VLOOKUP($C2036,'SEI ISD'!$A$4:$B$124,2,0)","v":{"$error":"#N/A"}},null,null,null,null,1.645E-3,3.5608300000000001E-3,"","","/",{"$error":"#N/A"}]
[null,null,null,{"$f":"VLOOKUP($C2037,'SEI ISD'!$A$4:$B$124,2,0)","v":{"$error":"#N/A"}},null,null,null,null,1.645E-3,3.5608300000000001E-3,"","","/",{"$error":"#N/A"}]
[null,null,null,{"$f":"VLOOKUP($C2038,'SEI ISD'!$A$4:$B$124,2,0)","v":{"$error":"#N/A"}},null,null,null,null,1.645E-3,3.5608300000000001E-3,"","","/",{"$error":"#N/A"}]
[null,null,null,{"$f":"VLOOKUP($C2039,'SEI ISD'!$A$4:$B$124,2,0)","v":{"$error":"#N/A"}},null,null,null,null,1.645E-3,3.5608300000000001E-3,"","","/",{"$error":"#N/A"}]
[null,null,null,{"$f":"VLOOKUP($C2040,'SEI ISD'!$A$4:$B$124,2,0)","v":{"$error":"#N/A"}},null,null,null,null,1.645E-3,3.5608300000000001E-3,"","","/",{"$error":"#N/A"}]
[null,null,null,{"$f":"VLOOKUP($C2041,'SEI ISD'!$A$4:$B$124,2,0)","v":{"$error":"#N/A"}},null,null,null,null,1.645E-3,3.5608300000000001E-3,"","","/",{"$error":"#N/A"}]
[null,null,null,{"$f":"VLOOKUP($C2042,'SEI ISD'!$A$4:$B$124,2,0)","v":{"$error":"#N/A"}},null,null,null,null,1.645E-3,3.5608300000000001E-3,"","","/",{"$error":"#N/A"}]
[null,null,null,{"$f":"VLOOKUP($C2043,'SEI ISD'!$A$4:$B$124,2,0)","v":{"$error":"#N/A"}},null,null,null,null,1.645E-3,3.5608300000000001E-3,"","","/",{"$error":"#N/A"}]
[null,null,null,{"$f":"VLOOKUP($C2044,'SEI ISD'!$A$4:$B$124,2,0)","v":{"$error":"#N/A"}},null,null,null,null,1.645E-3,3.5608300000000001E-3,"","","/",{"$error":"#N/A"}]
[null,null,null,{"$f":"VLOOKUP($C2045,'SEI ISD'!$A$4:$B$124,2,0)","v":{"$error":"#N/A"}},null,null,null,null,1.645E-3,3.5608300000000001E-3,"","","/",{"$error":"#N/A"}]
[null,null,null,{"$f":"VLOOKUP($C2046,'SEI ISD'!$A$4:$B$124,2,0)","v":{"$error":"#N/A"}},null,null,null,null,1.645E-3,3.5608300000000001E-3,"","","/",{"$error":"#N/A"}]
[null,null,null,{"$f":"VLOOKUP($C2047,'SEI ISD'!$A$4:$B$124,2,0)","v":{"$error":"#N/A"}},null,null,null,null,1.645E-3,3.5608300000000001E-3,"","","/",{"$error":"#N/A"}]
[null,null,null,{"$f":"VLOOKUP($C2048,'SEI ISD'!$A$4:$B$124,2,0)","v":{"$error":"#N/A"}},null,null,null,null,1.645E-3,3.5608300000000001E-3,"","","/",{"$error":"#N/A"}]
[null,null,null,{"$f":"VLOOKUP($C2049,'SEI ISD'!$A$4:$B$124,2,0)","v":{"$error":"#N/A"}},null,null,null,null,1.645E-3,3.5608300000000001E-3,"","","/",{"$error":"#N/A"}]
[null,null,null,{"$f":"VLOOKUP($C2050,'SEI ISD'!$A$4:$B$124,2,0)","v":{"$error":"#N/A"}},null,null,null,null,1.645E-3,3.5608300000000001E-3,"","","/",{"$error":"#N/A"}]
[null,null,null,{"$f":"VLOOKUP($C2051,'SEI ISD'!$A$4:$B$124,2,0)","v":{"$error":"#N/A"}},null,null,null,null,1.645E-3,3.5608300000000001E-3,{"$f":"RIGHT(G2051,2)","v":""},{"$f":"LEFT(G2051,4)","v":""},{"$f":"_xlfn.CONCAT(K2051,\"/\",L2051)","v":"/"},{"$f":"EOMONTH(D2051,0)","v":{"$error":"#N/A"}}]
[null,null,null,{"$f":"VLOOKUP($C2052,'SEI ISD'!$A$4:$B$124,2,0)","v":{"$error":"#N/A"}},null,null,null,null,1.645E-3,3.5608300000000001E-3,"","","/",{"$error":"#N/A"}]
[null,null,null,{"$f":"VLOOKUP($C2053,'SEI ISD'!$A$4:$B$124,2,0)","v":{"$error":"#N/A"}},null,null,null,null,1.645E-3,3.5608300000000001E-3,"","","/",{"$error":"#N/A"}]
[null,null,null,{"$f":"VLOOKUP($C2054,'SEI ISD'!$A$4:$B$124,2,0)","v":{"$error":"#N/A"}},null,null,null,null,1.645E-3,3.5608300000000001E-3,"","","/",{"$error":"#N/A"}]
[null,null,null,{"$f":"VLOOKUP($C2055,'SEI ISD'!$A$4:$B$124,2,0)","v":{"$error":"#N/A"}},null,null,null,null,1.645E-3,3.5608300000000001E-3,"","","/",{"$error":"#N/A"}]
[null,null,null,{"$f":"VLOOKUP($C2056,'SEI ISD'!$A$4:$B$124,2,0)","v":{"$error":"#N/A"}},null,null,null,null,1.645E-3,3.5608300000000001E-3,"","","/",{"$error":"#N/A"}]
[null,null,null,{"$f":"VLOOKUP($C2057,'SEI ISD'!$A$4:$B$124,2,0)","v":{"$error":"#N/A"}},null,null,null,null,1.645E-3,3.5608300000000001E-3,"","","/",{"$error":"#N/A"}]
[null,null,null,{"$f":"VLOOKUP($C2058,'SEI ISD'!$A$4:$B$124,2,0)","v":{"$error":"#N/A"}},null,null,null,null,1.645E-3,3.5608300000000001E-3,"","","/",{"$error":"#N/A"}]
[null,null,null,{"$f":"VLOOKUP($C2059,'SEI ISD'!$A$4:$B$124,2,0)","v":{"$error":"#N/A"}},null,null,null,null,1.645E-3,3.5608300000000001E-3,"","","/",{"$error":"#N/A"}]
[null,null,null,{"$f":"VLOOKUP($C2060,'SEI ISD'!$A$4:$B$124,2,0)","v":{"$error":"#N/A"}},null,null,null,null,1.645E-3,3.5608300000000001E-3,"","","/",{"$error":"#N/A"}]
[null,null,null,{"$f":"VLOOKUP($C2061,'SEI ISD'!$A$4:$B$124,2,0)","v":{"$error":"#N/A"}},null,null,null,null,1.645E-3,3.5608300000000001E-3,"","","/",{"$error":"#N/A"}]
[null,null,null,{"$f":"VLOOKUP($C2062,'SEI ISD'!$A$4:$B$124,2,0)","v":{"$error":"#N/A"}},null,null,null,null,1.645E-3,3.5608300000000001E-3,"","","/",{"$error":"#N/A"}]
[null,null,null,{"$f":"VLOOKUP($C2063,'SEI ISD'!$A$4:$B$124,2,0)","v":{"$error":"#N/A"}},null,null,null,null,1.645E-3,3.5608300000000001E-3,"","","/",{"$error":"#N/A"}]
[null,null,null,{"$f":"VLOOKUP($C2064,'SEI ISD'!$A$4:$B$124,2,0)","v":{"$error":"#N/A"}},null,null,null,null,1.645E-3,3.5608300000000001E-3,"","","/",{"$error":"#N/A"}]
[null,null,null,{"$f":"VLOOKUP($C2065,'SEI ISD'!$A$4:$B$124,2,0)","v":{"$error":"#N/A"}},null,null,null,null,1.645E-3,3.5608300000000001E-3,"","","/",{"$error":"#N/A"}]
[null,null,null,{"$f":"VLOOKUP($C2066,'SEI ISD'!$A$4:$B$124,2,0)","v":{"$error":"#N/A"}},null,null,null,null,1.645E-3,3.5608300000000001E-3,"","","/",{"$error":"#N/A"}]
[null,null,null,{"$f":"VLOOKUP($C2067,'SEI ISD'!$A$4:$B$124,2,0)","v":{"$error":"#N/A"}},null,null,null,null,1.645E-3,3.5608300000000001E-3,"","","/",{"$error":"#N/A"}]
[null,null,null,{"$f":"VLOOKUP($C2068,'SEI ISD'!$A$4:$B$124,2,0)","v":{"$error":"#N/A"}},null,null,null,null,1.645E-3,3.5608300000000001E-3,"","","/",{"$error":"#N/A"}]
[null,null,null,{"$f":"VLOOKUP($C2069,'SEI ISD'!$A$4:$B$124,2,0)","v":{"$error":"#N/A"}},null,null,null,null,1.645E-3,3.5608300000000001E-3,"","","/",{"$error":"#N/A"}]
[null,null,null,{"$f":"VLOOKUP($C2070,'SEI ISD'!$A$4:$B$124,2,0)","v":{"$error":"#N/A"}},null,null,null,null,1.645E-3,3.5608300000000001E-3,"","","/",{"$error":"#N/A"}]
[null,null,null,{"$f":"VLOOKUP($C2071,'SEI ISD'!$A$4:$B$124,2,0)","v":{"$error":"#N/A"}},null,null,null,null,1.645E-3,3.5608300000000001E-3,"","","/",{"$error":"#N/A"}]
[null,null,null,{"$f":"VLOOKUP($C2072,'SEI ISD'!$A$4:$B$124,2,0)","v":{"$error":"#N/A"}},null,null,null,null,1.645E-3,3.5608300000000001E-3,"","","/",{"$error":"#N/A"}]
[null,null,null,{"$f":"VLOOKUP($C2073,'SEI ISD'!$A$4:$B$124,2,0)","v":{"$error":"#N/A"}},null,null,null,null,1.645E-3,3.5608300000000001E-3,"","","/",{"$error":"#N/A"}]
[null,null,null,{"$f":"VLOOKUP($C2074,'SEI ISD'!$A$4:$B$124,2,0)","v":{"$error":"#N/A"}},null,null,null,null,1.645E-3,3.5608300000000001E-3,"","","/",{"$error":"#N/A"}]
[null,null,null,{"$f":"VLOOKUP($C2075,'SEI ISD'!$A$4:$B$124,2,0)","v":{"$error":"#N/A"}},null,null,null,null,1.645E-3,3.5608300000000001E-3,"","","/",{"$error":"#N/A"}]
[null,null,null,{"$f":"VLOOKUP($C2076,'SEI ISD'!$A$4:$B$124,2,0)","v":{"$error":"#N/A"}},null,null,null,null,1.645E-3,3.5608300000000001E-3,"","","/",{"$error":"#N/A"}]
[null,null,null,{"$f":"VLOOKUP($C2077,'SEI ISD'!$A$4:$B$124,2,0)","v":{"$error":"#N/A"}},null,null,null,null,1.645E-3,3.5608300000000001E-3,"","","/",{"$error":"#N/A"}]
[null,null,null,{"$f":"VLOOKUP($C2078,'SEI ISD'!$A$4:$B$124,2,0)","v":{"$error":"#N/A"}},null,null,null,null,1.645E-3,3.5608300000000001E-3,"","","/",{"$error":"#N/A"}]
[null,null,null,{"$f":"VLOOKUP($C2079,'SEI ISD'!$A$4:$B$124,2,0)","v":{"$error":"#N/A"}},null,null,null,null,1.645E-3,3.5608300000000001E-3,"","","/",{"$error":"#N/A"}]
[null,null,null,{"$f":"VLOOKUP($C2080,'SEI ISD'!$A$4:$B$124,2,0)","v":{"$error":"#N/A"}},null,null,null,null,1.645E-3,3.5608300000000001E-3,"","","/",{"$error":"#N/A"}]
[null,null,null,{"$f":"VLOOKUP($C2081,'SEI ISD'!$A$4:$B$124,2,0)","v":{"$error":"#N/A"}},null,null,null,null,1.645E-3,3.5608300000000001E-3,"","","/",{"$error":"#N/A"}]
[null,null,null,{"$f":"VLOOKUP($C2082,'SEI ISD'!$A$4:$B$124,2,0)","v":{"$error":"#N/A"}},null,null,null,null,1.645E-3,3.5608300000000001E-3,"","","/",{"$error":"#N/A"}]
[null,null,null,{"$f":"VLOOKUP($C2083,'SEI ISD'!$A$4:$B$124,2,0)","v":{"$error":"#N/A"}},null,null,null,null,1.645E-3,3.5608300000000001E-3,"","","/",{"$error":"#N/A"}]
[null,null,null,{"$f":"VLOOKUP($C2084,'SEI ISD'!$A$4:$B$124,2,0)","v":{"$error":"#N/A"}},null,null,null,null,1.645E-3,3.5608300000000001E-3,"","","/",{"$error":"#N/A"}]
[null,null,null,{"$f":"VLOOKUP($C2085,'SEI ISD'!$A$4:$B$124,2,0)","v":{"$error":"#N/A"}},null,null,null,null,1.645E-3,3.5608300000000001E-3,"","","/",{"$error":"#N/A"}]
[null,null,null,{"$f":"VLOOKUP($C2086,'SEI ISD'!$A$4:$B$124,2,0)","v":{"$error":"#N/A"}},null,null,null,null,1.645E-3,3.5608300000000001E-3,"","","/",{"$error":"#N/A"}]
[null,null,null,{"$f":"VLOOKUP($C2087,'SEI ISD'!$A$4:$B$124,2,0)","v":{"$error":"#N/A"}},null,null,null,null,1.645E-3,3.5608300000000001E-3,"","","/",{"$error":"#N/A"}]
[null,null,null,{"$f":"VLOOKUP($C2088,'SEI ISD'!$A$4:$B$124,2,0)","v":{"$error":"#N/A"}},null,null,null,null,1.645E-3,3.5608300000000001E-3,"","","/",{"$error":"#N/A"}]
[null,null,null,{"$f":"VLOOKUP($C2089,'SEI ISD'!$A$4:$B$124,2,0)","v":{"$error":"#N/A"}},null,null,null,null,1.645E-3,3.5608300000000001E-3,"","","/",{"$error":"#N/A"}]
[null,null,null,{"$f":"VLOOKUP($C2090,'SEI ISD'!$A$4:$B$124,2,0)","v":{"$error":"#N/A"}},null,null,null,null,1.645E-3,3.5608300000000001E-3,"","","/",{"$error":"#N/A"}]
[null,null,null,{"$f":"VLOOKUP($C2091,'SEI ISD'!$A$4:$B$124,2,0)","v":{"$error":"#N/A"}},null,null,null,null,1.645E-3,3.5608300000000001E-3,"","","/",{"$error":"#N/A"}]
[null,null,null,{"$f":"VLOOKUP($C2092,'SEI ISD'!$A$4:$B$124,2,0)","v":{"$error":"#N/A"}},null,null,null,null,1.645E-3,3.5608300000000001E-3,"","","/",{"$error":"#N/A"}]
[null,null,null,{"$f":"VLOOKUP($C2093,'SEI ISD'!$A$4:$B$124,2,0)","v":{"$error":"#N/A"}},null,null,null,null,1.645E-3,3.5608300000000001E-3,"","","/",{"$error":"#N/A"}]
[null,null,null,{"$f":"VLOOKUP($C2094,'SEI ISD'!$A$4:$B$124,2,0)","v":{"$error":"#N/A"}},null,null,null,null,1.645E-3,3.5608300000000001E-3,"","","/",{"$error":"#N/A"}]
[null,null,null,{"$f":"VLOOKUP($C2095,'SEI ISD'!$A$4:$B$124,2,0)","v":{"$error":"#N/A"}},null,null,null,null,1.645E-3,3.5608300000000001E-3,"","","/",{"$error":"#N/A"}]
[null,null,null,{"$f":"VLOOKUP($C2096,'SEI ISD'!$A$4:$B$124,2,0)","v":{"$error":"#N/A"}},null,null,null,null,1.645E-3,3.5608300000000001E-3,"","","/",{"$error":"#N/A"}]
[null,null,null,{"$f":"VLOOKUP($C2097,'SEI ISD'!$A$4:$B$124,2,0)","v":{"$error":"#N/A"}},null,null,null,null,1.645E-3,3.5608300000000001E-3,"","","/",{"$error":"#N/A"}]
[null,null,null,{"$f":"VLOOKUP($C2098,'SEI ISD'!$A$4:$B$124,2,0)","v":{"$error":"#N/A"}},null,null,null,null,1.645E-3,3.5608300000000001E-3,"","","/",{"$error":"#N/A"}]
[null,null,null,{"$f":"VLOOKUP($C2099,'SEI ISD'!$A$4:$B$124,2,0)","v":{"$error":"#N/A"}},null,null,null,null,1.645E-3,3.5608300000000001E-3,"","","/",{"$error":"#N/A"}]
[null,null,null,{"$f":"VLOOKUP($C2100,'SEI ISD'!$A$4:$B$124,2,0)","v":{"$error":"#N/A"}},null,null,null,null,1.645E-3,3.5608300000000001E-3,"","","/",{"$error":"#N/A"}]
[null,null,null,{"$f":"VLOOKUP($C2101,'SEI ISD'!$A$4:$B$124,2,0)","v":{"$error":"#N/A"}},null,null,null,null,1.645E-3,3.5608300000000001E-3,"","","/",{"$error":"#N/A"}]
[null,null,null,{"$f":"VLOOKUP($C2102,'SEI ISD'!$A$4:$B$124,2,0)","v":{"$error":"#N/A"}},null,null,null,null,1.645E-3,3.5608300000000001E-3,"","","/",{"$error":"#N/A"}]
[null,null,null,{"$f":"VLOOKUP($C2103,'SEI ISD'!$A$4:$B$124,2,0)","v":{"$error":"#N/A"}},null,null,null,null,1.645E-3,3.5608300000000001E-3,"","","/",{"$error":"#N/A"}]
[null,null,null,{"$f":"VLOOKUP($C2104,'SEI ISD'!$A$4:$B$124,2,0)","v":{"$error":"#N/A"}},null,null,null,null,1.645E-3,3.5608300000000001E-3,"","","/",{"$error":"#N/A"}]
[null,null,null,{"$f":"VLOOKUP($C2105,'SEI ISD'!$A$4:$B$124,2,0)","v":{"$error":"#N/A"}},null,null,null,null,1.645E-3,3.5608300000000001E-3,"","","/",{"$error":"#N/A"}]
[null,null,null,{"$f":"VLOOKUP($C2106,'SEI ISD'!$A$4:$B$124,2,0)","v":{"$error":"#N/A"}},null,null,null,null,1.645E-3,3.5608300000000001E-3,"","","/",{"$error":"#N/A"}]
[null,null,null,{"$f":"VLOOKUP($C2107,'SEI ISD'!$A$4:$B$124,2,0)","v":{"$error":"#N/A"}},null,null,null,null,1.645E-3,3.5608300000000001E-3,"","","/",{"$error":"#N/A"}]
[null,null,null,{"$f":"VLOOKUP($C2108,'SEI ISD'!$A$4:$B$124,2,0)","v":{"$error":"#N/A"}},null,null,null,null,1.645E-3,3.5608300000000001E-3,"","","/",{"$error":"#N/A"}]
[null,null,null,{"$f":"VLOOKUP($C2109,'SEI ISD'!$A$4:$B$124,2,0)","v":{"$error":"#N/A"}},null,null,null,null,1.645E-3,3.5608300000000001E-3,"","","/",{"$error":"#N/A"}]
[null,null,null,{"$f":"VLOOKUP($C2110,'SEI ISD'!$A$4:$B$124,2,0)","v":{"$error":"#N/A"}},null,null,null,null,1.645E-3,3.5608300000000001E-3,"","","/",{"$error":"#N/A"}]
[null,null,null,{"$f":"VLOOKUP($C2111,'SEI ISD'!$A$4:$B$124,2,0)","v":{"$error":"#N/A"}},null,null,null,null,1.645E-3,3.5608300000000001E-3,"","","/",{"$error":"#N/A"}]
[null,null,null,{"$f":"VLOOKUP($C2112,'SEI ISD'!$A$4:$B$124,2,0)","v":{"$error":"#N/A"}},null,null,null,null,1.645E-3,3.5608300000000001E-3,"","","/",{"$error":"#N/A"}]
[null,null,null,{"$f":"VLOOKUP($C2113,'SEI ISD'!$A$4:$B$124,2,0)","v":{"$error":"#N/A"}},null,null,null,null,1.645E-3,3.5608300000000001E-3,"","","/",{"$error":"#N/A"}]
[null,null,null,{"$f":"VLOOKUP($C2114,'SEI ISD'!$A$4:$B$124,2,0)","v":{"$error":"#N/A"}},null,null,null,null,1.645E-3,3.5608300000000001E-3,"","","/",{"$error":"#N/A"}]
[null,null,null,{"$f":"VLOOKUP($C2115,'SEI ISD'!$A$4:$B$124,2,0)","v":{"$error":"#N/A"}},null,null,null,null,1.645E-3,3.5608300000000001E-3,{"$f":"RIGHT(G2115,2)","v":""},{"$f":"LEFT(G2115,4)","v":""},{"$f":"_xlfn.CONCAT(K2115,\"/\",L2115)","v":"/"},{"$f":"EOMONTH(D2115,0)","v":{"$error":"#N/A"}}]
[null,null,null,{"$f":"VLOOKUP($C2116,'SEI ISD'!$A$4:$B$124,2,0)","v":{"$error":"#N/A"}},null,null,null,null,1.645E-3,3.5608300000000001E-3,"","","/",{"$error":"#N/A"}]
[null,null,null,{"$f":"VLOOKUP($C2117,'SEI ISD'!$A$4:$B$124,2,0)","v":{"$error":"#N/A"}},null,null,null,null,1.645E-3,3.5608300000000001E-3,"","","/",{"$error":"#N/A"}]
[null,null,null,{"$f":"VLOOKUP($C2118,'SEI ISD'!$A$4:$B$124,2,0)","v":{"$error":"#N/A"}},null,null,null,null,1.645E-3,3.5608300000000001E-3,"","","/",{"$error":"#N/A"}]
[null,null,null,{"$f":"VLOOKUP($C2119,'SEI ISD'!$A$4:$B$124,2,0)","v":{"$error":"#N/A"}},null,null,null,null,1.645E-3,3.5608300000000001E-3,"","","/",{"$error":"#N/A"}]
[null,null,null,{"$f":"VLOOKUP($C2120,'SEI ISD'!$A$4:$B$124,2,0)","v":{"$error":"#N/A"}},null,null,null,null,1.645E-3,3.5608300000000001E-3,"","","/",{"$error":"#N/A"}]
[null,null,null,{"$f":"VLOOKUP($C2121,'SEI ISD'!$A$4:$B$124,2,0)","v":{"$error":"#N/A"}},null,null,null,null,1.645E-3,3.5608300000000001E-3,"","","/",{"$error":"#N/A"}]
[null,null,null,{"$f":"VLOOKUP($C2122,'SEI ISD'!$A$4:$B$124,2,0)","v":{"$error":"#N/A"}},null,null,null,null,1.645E-3,3.5608300000000001E-3,"","","/",{"$error":"#N/A"}]
[null,null,null,{"$f":"VLOOKUP($C2123,'SEI ISD'!$A$4:$B$124,2,0)","v":{"$error":"#N/A"}},null,null,null,null,1.645E-3,3.5608300000000001E-3,"","","/",{"$error":"#N/A"}]
[null,null,null,{"$f":"VLOOKUP($C2124,'SEI ISD'!$A$4:$B$124,2,0)","v":{"$error":"#N/A"}},null,null,null,null,1.645E-3,3.5608300000000001E-3,"","","/",{"$error":"#N/A"}]
[null,null,null,{"$f":"VLOOKUP($C2125,'SEI ISD'!$A$4:$B$124,2,0)","v":{"$error":"#N/A"}},null,null,null,null,1.645E-3,3.5608300000000001E-3,"","","/",{"$error":"#N/A"}]
[null,null,null,{"$f":"VLOOKUP($C2126,'SEI ISD'!$A$4:$B$124,2,0)","v":{"$error":"#N/A"}},null,null,null,null,1.645E-3,3.5608300000000001E-3,"","","/",{"$error":"#N/A"}]
[null,null,null,{"$f":"VLOOKUP($C2127,'SEI ISD'!$A$4:$B$124,2,0)","v":{"$error":"#N/A"}},null,null,null,null,1.645E-3,3.5608300000000001E-3,"","","/",{"$error":"#N/A"}]
[null,null,null,{"$f":"VLOOKUP($C2128,'SEI ISD'!$A$4:$B$124,2,0)","v":{"$error":"#N/A"}},null,null,null,null,1.645E-3,3.5608300000000001E-3,"","","/",{"$error":"#N/A"}]
[null,null,null,{"$f":"VLOOKUP($C2129,'SEI ISD'!$A$4:$B$124,2,0)","v":{"$error":"#N/A"}},null,null,null,null,1.645E-3,3.5608300000000001E-3,"","","/",{"$error":"#N/A"}]
[null,null,null,{"$f":"VLOOKUP($C2130,'SEI ISD'!$A$4:$B$124,2,0)","v":{"$error":"#N/A"}},null,null,null,null,1.645E-3,3.5608300000000001E-3,"","","/",{"$error":"#N/A"}]
[null,null,null,{"$f":"VLOOKUP($C2131,'SEI ISD'!$A$4:$B$124,2,0)","v":{"$error":"#N/A"}},null,null,null,null,1.645E-3,3.5608300000000001E-3,"","","/",{"$error":"#N/A"}]
[null,null,null,{"$f":"VLOOKUP($C2132,'SEI ISD'!$A$4:$B$124,2,0)","v":{"$error":"#N/A"}},null,null,null,null,1.645E-3,3.5608300000000001E-3,"","","/",{"$error":"#N/A"}]
[null,null,null,{"$f":"VLOOKUP($C2133,'SEI ISD'!$A$4:$B$124,2,0)","v":{"$error":"#N/A"}},null,null,null,null,1.645E-3,3.5608300000000001E-3,"","","/",{"$error":"#N/A"}]
[null,null,null,{"$f":"VLOOKUP($C2134,'SEI ISD'!$A$4:$B$124,2,0)","v":{"$error":"#N/A"}},null,null,null,null,1.645E-3,3.5608300000000001E-3,"","","/",{"$error":"#N/A"}]
[null,null,null,{"$f":"VLOOKUP($C2135,'SEI ISD'!$A$4:$B$124,2,0)","v":{"$error":"#N/A"}},null,null,null,null,1.645E-3,3.5608300000000001E-3,"","","/",{"$error":"#N/A"}]
[null,null,null,{"$f":"VLOOKUP($C2136,'SEI ISD'!$A$4:$B$124,2,0)","v":{"$error":"#N/A"}},null,null,null,null,1.645E-3,3.5608300000000001E-3,"","","/",{"$error":"#N/A"}]
[null,null,null,{"$f":"VLOOKUP($C2137,'SEI ISD'!$A$4:$B$124,2,0)","v":{"$error":"#N/A"}},null,null,null,null,1.645E-3,3.5608300000000001E-3,"","","/",{"$error":"#N/A"}]
[null,null,null,{"$f":"VLOOKUP($C2138,'SEI ISD'!$A$4:$B$124,2,0)","v":{"$error":"#N/A"}},null,null,null,null,1.645E-3,3.5608300000000001E-3,"","","/",{"$error":"#N/A"}]
[null,null,null,{"$f":"VLOOKUP($C2139,'SEI ISD'!$A$4:$B$124,2,0)","v":{"$error":"#N/A"}},null,null,null,null,1.645E-3,3.5608300000000001E-3,"","","/",{"$error":"#N/A"}]
[null,null,null,{"$f":"VLOOKUP($C2140,'SEI ISD'!$A$4:$B$124,2,0)","v":{"$error":"#N/A"}},null,null,null,null,1.645E-3,3.5608300000000001E-3,"","","/",{"$error":"#N/A"}]
[null,null,null,{"$f":"VLOOKUP($C2141,'SEI ISD'!$A$4:$B$124,2,0)","v":{"$error":"#N/A"}},null,null,null,null,1.645E-3,3.5608300000000001E-3,"","","/",{"$error":"#N/A"}]
[null,null,null,{"$f":"VLOOKUP($C2142,'SEI ISD'!$A$4:$B$124,2,0)","v":{"$error":"#N/A"}},null,null,null,null,1.645E-3,3.5608300000000001E-3,"","","/",{"$error":"#N/A"}]
[null,null,null,{"$f":"VLOOKUP($C2143,'SEI ISD'!$A$4:$B$124,2,0)","v":{"$error":"#N/A"}},null,null,null,null,1.645E-3,3.5608300000000001E-3,"","","/",{"$error":"#N/A"}]
[null,null,null,{"$f":"VLOOKUP($C2144,'SEI ISD'!$A$4:$B$124,2,0)","v":{"$error":"#N/A"}},null,null,null,null,1.645E-3,3.5608300000000001E-3,"","","/",{"$error":"#N/A"}]
[null,null,null,{"$f":"VLOOKUP($C2145,'SEI ISD'!$A$4:$B$124,2,0)","v":{"$error":"#N/A"}},null,null,null,null,1.645E-3,3.5608300000000001E-3,"","","/",{"$error":"#N/A"}]
[null,null,null,{"$f":"VLOOKUP($C2146,'SEI ISD'!$A$4:$B$124,2,0)","v":{"$error":"#N/A"}},null,null,null,null,1.645E-3,3.5608300000000001E-3,"","","/",{"$error":"#N/A"}]
[null,null,null,{"$f":"VLOOKUP($C2147,'SEI ISD'!$A$4:$B$124,2,0)","v":{"$error":"#N/A"}},null,null,null,null,1.645E-3,3.5608300000000001E-3,"","","/",{"$error":"#N/A"}]
[null,null,null,{"$f":"VLOOKUP($C2148,'SEI ISD'!$A$4:$B$124,2,0)","v":{"$error":"#N/A"}},null,null,null,null,1.645E-3,3.5608300000000001E-3,"","","/",{"$error":"#N/A"}]
[null,null,null,{"$f":"VLOOKUP($C2149,'SEI ISD'!$A$4:$B$124,2,0)","v":{"$error":"#N/A"}},null,null,null,null,1.645E-3,3.5608300000000001E-3,"","","/",{"$error":"#N/A"}]
[null,null,null,{"$f":"VLOOKUP($C2150,'SEI ISD'!$A$4:$B$124,2,0)","v":{"$error":"#N/A"}},null,null,null,null,1.645E-3,3.5608300000000001E-3,"","","/",{"$error":"#N/A"}]
[null,null,null,{"$f":"VLOOKUP($C2151,'SEI ISD'!$A$4:$B$124,2,0)","v":{"$error":"#N/A"}},null,null,null,null,1.645E-3,3.5608300000000001E-3,"","","/",{"$error":"#N/A"}]
[null,null,null,{"$f":"VLOOKUP($C2152,'SEI ISD'!$A$4:$B$124,2,0)","v":{"$error":"#N/A"}},null,null,null,null,1.645E-3,3.5608300000000001E-3,"","","/",{"$error":"#N/A"}]
[null,null,null,{"$f":"VLOOKUP($C2153,'SEI ISD'!$A$4:$B$124,2,0)","v":{"$error":"#N/A"}},null,null,null,null,1.645E-3,3.5608300000000001E-3,"","","/",{"$error":"#N/A"}]
[null,null,null,{"$f":"VLOOKUP($C2154,'SEI ISD'!$A$4:$B$124,2,0)","v":{"$error":"#N/A"}},null,null,null,null,1.645E-3,3.5608300000000001E-3,"","","/",{"$error":"#N/A"}]
[null,null,null,{"$f":"VLOOKUP($C2155,'SEI ISD'!$A$4:$B$124,2,0)","v":{"$error":"#N/A"}},null,null,null,null,1.645E-3,3.5608300000000001E-3,"","","/",{"$error":"#N/A"}]
[null,null,null,{"$f":"VLOOKUP($C2156,'SEI ISD'!$A$4:$B$124,2,0)","v":{"$error":"#N/A"}},null,null,null,null,1.645E-3,3.5608300000000001E-3,"","","/",{"$error":"#N/A"}]
[null,null,null,{"$f":"VLOOKUP($C2157,'SEI ISD'!$A$4:$B$124,2,0)","v":{"$error":"#N/A"}},null,null,null,null,1.645E-3,3.5608300000000001E-3,"","","/",{"$error":"#N/A"}]
[null,null,null,{"$f":"VLOOKUP($C2158,'SEI ISD'!$A$4:$B$124,2,0)","v":{"$error":"#N/A"}},null,null,null,null,1.645E-3,3.5608300000000001E-3,"","","/",{"$error":"#N/A"}]
[null,null,null,{"$f":"VLOOKUP($C2159,'SEI ISD'!$A$4:$B$124,2,0)","v":{"$error":"#N/A"}},null,null,null,null,1.645E-3,3.5608300000000001E-3,"","","/",{"$error":"#N/A"}]
[null,null,null,{"$f":"VLOOKUP($C2160,'SEI ISD'!$A$4:$B$124,2,0)","v":{"$error":"#N/A"}},null,null,null,null,1.645E-3,3.5608300000000001E-3,"","","/",{"$error":"#N/A"}]
[null,null,null,{"$f":"VLOOKUP($C2161,'SEI ISD'!$A$4:$B$124,2,0)","v":{"$error":"#N/A"}},null,null,null,null,1.645E-3,3.5608300000000001E-3,"","","/",{"$error":"#N/A"}]
[null,null,null,{"$f":"VLOOKUP($C2162,'SEI ISD'!$A$4:$B$124,2,0)","v":{"$error":"#N/A"}},null,null,null,null,1.645E-3,3.5608300000000001E-3,"","","/",{"$error":"#N/A"}]
[null,null,null,{"$f":"VLOOKUP($C2163,'SEI ISD'!$A$4:$B$124,2,0)","v":{"$error":"#N/A"}},null,null,null,null,1.645E-3,3.5608300000000001E-3,"","","/",{"$error":"#N/A"}]
[null,null,null,{"$f":"VLOOKUP($C2164,'SEI ISD'!$A$4:$B$124,2,0)","v":{"$error":"#N/A"}},null,null,null,null,1.645E-3,3.5608300000000001E-3,"","","/",{"$error":"#N/A"}]
[null,null,null,{"$f":"VLOOKUP($C2165,'SEI ISD'!$A$4:$B$124,2,0)","v":{"$error":"#N/A"}},null,null,null,null,1.645E-3,3.5608300000000001E-3,"","","/",{"$error":"#N/A"}]
[null,null,null,{"$f":"VLOOKUP($C2166,'SEI ISD'!$A$4:$B$124,2,0)","v":{"$error":"#N/A"}},null,null,null,null,1.645E-3,3.5608300000000001E-3,"","","/",{"$error":"#N/A"}]
[null,null,null,{"$f":"VLOOKUP($C2167,'SEI ISD'!$A$4:$B$124,2,0)","v":{"$error":"#N/A"}},null,null,null,null,1.645E-3,3.5608300000000001E-3,"","","/",{"$error":"#N/A"}]
[null,null,null,{"$f":"VLOOKUP($C2168,'SEI ISD'!$A$4:$B$124,2,0)","v":{"$error":"#N/A"}},null,null,null,null,1.645E-3,3.5608300000000001E-3,"","","/",{"$error":"#N/A"}]
[null,null,null,{"$f":"VLOOKUP($C2169,'SEI ISD'!$A$4:$B$124,2,0)","v":{"$error":"#N/A"}},null,null,null,null,1.645E-3,3.5608300000000001E-3,"","","/",{"$error":"#N/A"}]
[null,null,null,{"$f":"VLOOKUP($C2170,'SEI ISD'!$A$4:$B$124,2,0)","v":{"$error":"#N/A"}},null,null,null,null,1.645E-3,3.5608300000000001E-3,"","","/",{"$error":"#N/A"}]
[null,null,null,{"$f":"VLOOKUP($C2171,'SEI ISD'!$A$4:$B$124,2,0)","v":{"$error":"#N/A"}},null,null,null,null,1.645E-3,3.5608300000000001E-3,"","","/",{"$error":"#N/A"}]
[null,null,null,{"$f":"VLOOKUP($C2172,'SEI ISD'!$A$4:$B$124,2,0)","v":{"$error":"#N/A"}},null,null,null,null,1.645E-3,3.5608300000000001E-3,"","","/",{"$error":"#N/A"}]
[null,null,null,{"$f":"VLOOKUP($C2173,'SEI ISD'!$A$4:$B$124,2,0)","v":{"$error":"#N/A"}},null,null,null,null,1.645E-3,3.5608300000000001E-3,"","","/",{"$error":"#N/A"}]
[null,null,null,{"$f":"VLOOKUP($C2174,'SEI ISD'!$A$4:$B$124,2,0)","v":{"$error":"#N/A"}},null,null,null,null,1.645E-3,3.5608300000000001E-3,"","","/",{"$error":"#N/A"}]
[null,null,null,{"$f":"VLOOKUP($C2175,'SEI ISD'!$A$4:$B$124,2,0)","v":{"$error":"#N/A"}},null,null,null,null,1.645E-3,3.5608300000000001E-3,"","","/",{"$error":"#N/A"}]
[null,null,null,{"$f":"VLOOKUP($C2176,'SEI ISD'!$A$4:$B$124,2,0)","v":{"$error":"#N/A"}},null,null,null,null,1.645E-3,3.5608300000000001E-3,"","","/",{"$error":"#N/A"}]
[null,null,null,{"$f":"VLOOKUP($C2177,'SEI ISD'!$A$4:$B$124,2,0)","v":{"$error":"#N/A"}},null,null,null,null,1.645E-3,3.5608300000000001E-3,"","","/",{"$error":"#N/A"}]
[null,null,null,{"$f":"VLOOKUP($C2178,'SEI ISD'!$A$4:$B$124,2,0)","v":{"$error":"#N/A"}},null,null,null,null,1.645E-3,3.5608300000000001E-3,"","","/",{"$error":"#N/A"}]
[null,null,null,{"$f":"VLOOKUP($C2179,'SEI ISD'!$A$4:$B$124,2,0)","v":{"$error":"#N/A"}},null,null,null,null,1.645E-3,3.5608300000000001E-3,{"$f":"RIGHT(G2179,2)","v":""},{"$f":"LEFT(G2179,4)","v":""},{"$f":"_xlfn.CONCAT(K2179,\"/\",L2179)","v":"/"},{"$f":"EOMONTH(D2179,0)","v":{"$error":"#N/A"}}]
[null,null,null,{"$f":"VLOOKUP($C2180,'SEI ISD'!$A$4:$B$124,2,0)","v":{"$error":"#N/A"}},null,null,null,null,1.645E-3,3.5608300000000001E-3,"","","/",{"$error":"#N/A"}]
[null,null,null,{"$f":"VLOOKUP($C2181,'SEI ISD'!$A$4:$B$124,2,0)","v":{"$error":"#N/A"}},null,null,null,null,1.645E-3,3.5608300000000001E-3,"","","/",{"$error":"#N/A"}]
[null,null,null,{"$f":"VLOOKUP($C2182,'SEI ISD'!$A$4:$B$124,2,0)","v":{"$error":"#N/A"}},null,null,null,null,1.645E-3,3.5608300000000001E-3,"","","/",{"$error":"#N/A"}]
[null,null,null,{"$f":"VLOOKUP($C2183,'SEI ISD'!$A$4:$B$124,2,0)","v":{"$error":"#N/A"}},null,null,null,null,1.645E-3,3.5608300000000001E-3,"","","/",{"$error":"#N/A"}]
[null,null,null,{"$f":"VLOOKUP($C2184,'SEI ISD'!$A$4:$B$124,2,0)","v":{"$error":"#N/A"}},null,null,null,null,1.645E-3,3.5608300000000001E-3,"","","/",{"$error":"#N/A"}]
[null,null,null,{"$f":"VLOOKUP($C2185,'SEI ISD'!$A$4:$B$124,2,0)","v":{"$error":"#N/A"}},null,null,null,null,1.645E-3,3.5608300000000001E-3,"","","/",{"$error":"#N/A"}]
[null,null,null,{"$f":"VLOOKUP($C2186,'SEI ISD'!$A$4:$B$124,2,0)","v":{"$error":"#N/A"}},null,null,null,null,1.645E-3,3.5608300000000001E-3,"","","/",{"$error":"#N/A"}]
[null,null,null,{"$f":"VLOOKUP($C2187,'SEI ISD'!$A$4:$B$124,2,0)","v":{"$error":"#N/A"}},null,null,null,null,1.645E-3,3.5608300000000001E-3,"","","/",{"$error":"#N/A"}]
[null,null,null,{"$f":"VLOOKUP($C2188,'SEI ISD'!$A$4:$B$124,2,0)","v":{"$error":"#N/A"}},null,null,null,null,1.645E-3,3.5608300000000001E-3,"","","/",{"$error":"#N/A"}]
[null,null,null,{"$f":"VLOOKUP($C2189,'SEI ISD'!$A$4:$B$124,2,0)","v":{"$error":"#N/A"}},null,null,null,null,1.645E-3,3.5608300000000001E-3,"","","/",{"$error":"#N/A"}]
[null,null,null,{"$f":"VLOOKUP($C2190,'SEI ISD'!$A$4:$B$124,2,0)","v":{"$error":"#N/A"}},null,null,null,null,1.645E-3,3.5608300000000001E-3,"","","/",{"$error":"#N/A"}]
[null,null,null,{"$f":"VLOOKUP($C2191,'SEI ISD'!$A$4:$B$124,2,0)","v":{"$error":"#N/A"}},null,null,null,null,1.645E-3,3.5608300000000001E-3,"","","/",{"$error":"#N/A"}]
[null,null,null,{"$f":"VLOOKUP($C2192,'SEI ISD'!$A$4:$B$124,2,0)","v":{"$error":"#N/A"}},null,null,null,null,1.645E-3,3.5608300000000001E-3,"","","/",{"$error":"#N/A"}]
[null,null,null,{"$f":"VLOOKUP($C2193,'SEI ISD'!$A$4:$B$124,2,0)","v":{"$error":"#N/A"}},null,null,null,null,1.645E-3,3.5608300000000001E-3,"","","/",{"$error":"#N/A"}]
[null,null,null,{"$f":"VLOOKUP($C2194,'SEI ISD'!$A$4:$B$124,2,0)","v":{"$error":"#N/A"}},null,null,null,null,1.645E-3,3.5608300000000001E-3,"","","/",{"$error":"#N/A"}]
[null,null,null,{"$f":"VLOOKUP($C2195,'SEI ISD'!$A$4:$B$124,2,0)","v":{"$error":"#N/A"}},null,null,null,null,1.645E-3,3.5608300000000001E-3,"","","/",{"$error":"#N/A"}]
[null,null,null,{"$f":"VLOOKUP($C2196,'SEI ISD'!$A$4:$B$124,2,0)","v":{"$error":"#N/A"}},null,null,null,null,1.645E-3,3.5608300000000001E-3,"","","/",{"$error":"#N/A"}]
[null,null,null,{"$f":"VLOOKUP($C2197,'SEI ISD'!$A$4:$B$124,2,0)","v":{"$error":"#N/A"}},null,null,null,null,1.645E-3,3.5608300000000001E-3,"","","/",{"$error":"#N/A"}]
[null,null,null,{"$f":"VLOOKUP($C2198,'SEI ISD'!$A$4:$B$124,2,0)","v":{"$error":"#N/A"}},null,null,null,null,1.645E-3,3.5608300000000001E-3,"","","/",{"$error":"#N/A"}]
[null,null,null,{"$f":"VLOOKUP($C2199,'SEI ISD'!$A$4:$B$124,2,0)","v":{"$error":"#N/A"}},null,null,null,null,1.645E-3,3.5608300000000001E-3,"","","/",{"$error":"#N/A"}]
[null,null,null,{"$f":"VLOOKUP($C2200,'SEI ISD'!$A$4:$B$124,2,0)","v":{"$error":"#N/A"}},null,null,null,null,1.645E-3,3.5608300000000001E-3,"","","/",{"$error":"#N/A"}]
[null,null,null,{"$f":"VLOOKUP($C2201,'SEI ISD'!$A$4:$B$124,2,0)","v":{"$error":"#N/A"}},null,null,null,null,1.645E-3,3.5608300000000001E-3,"","","/",{"$error":"#N/A"}]
[null,null,null,{"$f":"VLOOKUP($C2202,'SEI ISD'!$A$4:$B$124,2,0)","v":{"$error":"#N/A"}},null,null,null,null,1.645E-3,3.5608300000000001E-3,"","","/",{"$error":"#N/A"}]
[null,null,null,{"$f":"VLOOKUP($C2203,'SEI ISD'!$A$4:$B$124,2,0)","v":{"$error":"#N/A"}},null,null,null,null,1.645E-3,3.5608300000000001E-3,"","","/",{"$error":"#N/A"}]
[null,null,null,{"$f":"VLOOKUP($C2204,'SEI ISD'!$A$4:$B$124,2,0)","v":{"$error":"#N/A"}},null,null,null,null,1.645E-3,3.5608300000000001E-3,"","","/",{"$error":"#N/A"}]
[null,null,null,{"$f":"VLOOKUP($C2205,'SEI ISD'!$A$4:$B$124,2,0)","v":{"$error":"#N/A"}},null,null,null,null,1.645E-3,3.5608300000000001E-3,"","","/",{"$error":"#N/A"}]
[null,null,null,{"$f":"VLOOKUP($C2206,'SEI ISD'!$A$4:$B$124,2,0)","v":{"$error":"#N/A"}},null,null,null,null,1.645E-3,3.5608300000000001E-3,"","","/",{"$error":"#N/A"}]
[null,null,null,{"$f":"VLOOKUP($C2207,'SEI ISD'!$A$4:$B$124,2,0)","v":{"$error":"#N/A"}},null,null,null,null,1.645E-3,3.5608300000000001E-3,"","","/",{"$error":"#N/A"}]
[null,null,null,{"$f":"VLOOKUP($C2208,'SEI ISD'!$A$4:$B$124,2,0)","v":{"$error":"#N/A"}},null,null,null,null,1.645E-3,3.5608300000000001E-3,"","","/",{"$error":"#N/A"}]
[null,null,null,{"$f":"VLOOKUP($C2209,'SEI ISD'!$A$4:$B$124,2,0)","v":{"$error":"#N/A"}},null,null,null,null,1.645E-3,3.5608300000000001E-3,"","","/",{"$error":"#N/A"}]
[null,null,null,{"$f":"VLOOKUP($C2210,'SEI ISD'!$A$4:$B$124,2,0)","v":{"$error":"#N/A"}},null,null,null,null,1.645E-3,3.5608300000000001E-3,"","","/",{"$error":"#N/A"}]
[null,null,null,{"$f":"VLOOKUP($C2211,'SEI ISD'!$A$4:$B$124,2,0)","v":{"$error":"#N/A"}},null,null,null,null,1.645E-3,3.5608300000000001E-3,"","","/",{"$error":"#N/A"}]
[null,null,null,{"$f":"VLOOKUP($C2212,'SEI ISD'!$A$4:$B$124,2,0)","v":{"$error":"#N/A"}},null,null,null,null,1.645E-3,3.5608300000000001E-3,"","","/",{"$error":"#N/A"}]
[null,null,null,{"$f":"VLOOKUP($C2213,'SEI ISD'!$A$4:$B$124,2,0)","v":{"$error":"#N/A"}},null,null,null,null,1.645E-3,3.5608300000000001E-3,"","","/",{"$error":"#N/A"}]
[null,null,null,{"$f":"VLOOKUP($C2214,'SEI ISD'!$A$4:$B$124,2,0)","v":{"$error":"#N/A"}},null,null,null,null,1.645E-3,3.5608300000000001E-3,"","","/",{"$error":"#N/A"}]
[null,null,null,{"$f":"VLOOKUP($C2215,'SEI ISD'!$A$4:$B$124,2,0)","v":{"$error":"#N/A"}},null,null,null,null,1.645E-3,3.5608300000000001E-3,"","","/",{"$error":"#N/A"}]
[null,null,null,{"$f":"VLOOKUP($C2216,'SEI ISD'!$A$4:$B$124,2,0)","v":{"$error":"#N/A"}},null,null,null,null,1.645E-3,3.5608300000000001E-3,"","","/",{"$error":"#N/A"}]
[null,null,null,{"$f":"VLOOKUP($C2217,'SEI ISD'!$A$4:$B$124,2,0)","v":{"$error":"#N/A"}},null,null,null,null,1.645E-3,3.5608300000000001E-3,"","","/",{"$error":"#N/A"}]
[null,null,null,{"$f":"VLOOKUP($C2218,'SEI ISD'!$A$4:$B$124,2,0)","v":{"$error":"#N/A"}},null,null,null,null,1.645E-3,3.5608300000000001E-3,"","","/",{"$error":"#N/A"}]
[null,null,null,{"$f":"VLOOKUP($C2219,'SEI ISD'!$A$4:$B$124,2,0)","v":{"$error":"#N/A"}},null,null,null,null,1.645E-3,3.5608300000000001E-3,"","","/",{"$error":"#N/A"}]
[null,null,null,{"$f":"VLOOKUP($C2220,'SEI ISD'!$A$4:$B$124,2,0)","v":{"$error":"#N/A"}},null,null,null,null,1.645E-3,3.5608300000000001E-3,"","","/",{"$error":"#N/A"}]
[null,null,null,{"$f":"VLOOKUP($C2221,'SEI ISD'!$A$4:$B$124,2,0)","v":{"$error":"#N/A"}},null,null,null,null,1.645E-3,3.5608300000000001E-3,"","","/",{"$error":"#N/A"}]
[null,null,null,{"$f":"VLOOKUP($C2222,'SEI ISD'!$A$4:$B$124,2,0)","v":{"$error":"#N/A"}},null,null,null,null,1.645E-3,3.5608300000000001E-3,"","","/",{"$error":"#N/A"}]
[null,null,null,{"$f":"VLOOKUP($C2223,'SEI ISD'!$A$4:$B$124,2,0)","v":{"$error":"#N/A"}},null,null,null,null,1.645E-3,3.5608300000000001E-3,"","","/",{"$error":"#N/A"}]
[null,null,null,{"$f":"VLOOKUP($C2224,'SEI ISD'!$A$4:$B$124,2,0)","v":{"$error":"#N/A"}},null,null,null,null,1.645E-3,3.5608300000000001E-3,"","","/",{"$error":"#N/A"}]
[null,null,null,{"$f":"VLOOKUP($C2225,'SEI ISD'!$A$4:$B$124,2,0)","v":{"$error":"#N/A"}},null,null,null,null,1.645E-3,3.5608300000000001E-3,"","","/",{"$error":"#N/A"}]
[null,null,null,{"$f":"VLOOKUP($C2226,'SEI ISD'!$A$4:$B$124,2,0)","v":{"$error":"#N/A"}},null,null,null,null,1.645E-3,3.5608300000000001E-3,"","","/",{"$error":"#N/A"}]
[null,null,null,{"$f":"VLOOKUP($C2227,'SEI ISD'!$A$4:$B$124,2,0)","v":{"$error":"#N/A"}},null,null,null,null,1.645E-3,3.5608300000000001E-3,"","","/",{"$error":"#N/A"}]
[null,null,null,{"$f":"VLOOKUP($C2228,'SEI ISD'!$A$4:$B$124,2,0)","v":{"$error":"#N/A"}},null,null,null,null,1.645E-3,3.5608300000000001E-3,"","","/",{"$error":"#N/A"}]
[null,null,null,{"$f":"VLOOKUP($C2229,'SEI ISD'!$A$4:$B$124,2,0)","v":{"$error":"#N/A"}},null,null,null,null,1.645E-3,3.5608300000000001E-3,"","","/",{"$error":"#N/A"}]
[null,null,null,{"$f":"VLOOKUP($C2230,'SEI ISD'!$A$4:$B$124,2,0)","v":{"$error":"#N/A"}},null,null,null,null,1.645E-3,3.5608300000000001E-3,"","","/",{"$error":"#N/A"}]
[null,null,null,{"$f":"VLOOKUP($C2231,'SEI ISD'!$A$4:$B$124,2,0)","v":{"$error":"#N/A"}},null,null,null,null,1.645E-3,3.5608300000000001E-3,"","","/",{"$error":"#N/A"}]
[null,null,null,{"$f":"VLOOKUP($C2232,'SEI ISD'!$A$4:$B$124,2,0)","v":{"$error":"#N/A"}},null,null,null,null,1.645E-3,3.5608300000000001E-3,"","","/",{"$error":"#N/A"}]
[null,null,null,{"$f":"VLOOKUP($C2233,'SEI ISD'!$A$4:$B$124,2,0)","v":{"$error":"#N/A"}},null,null,null,null,1.645E-3,3.5608300000000001E-3,"","","/",{"$error":"#N/A"}]
[null,null,null,{"$f":"VLOOKUP($C2234,'SEI ISD'!$A$4:$B$124,2,0)","v":{"$error":"#N/A"}},null,null,null,null,1.645E-3,3.5608300000000001E-3,"","","/",{"$error":"#N/A"}]
[null,null,null,{"$f":"VLOOKUP($C2235,'SEI ISD'!$A$4:$B$124,2,0)","v":{"$error":"#N/A"}},null,null,null,null,1.645E-3,3.5608300000000001E-3,"","","/",{"$error":"#N/A"}]
[null,null,null,{"$f":"VLOOKUP($C2236,'SEI ISD'!$A$4:$B$124,2,0)","v":{"$error":"#N/A"}},null,null,null,null,1.645E-3,3.5608300000000001E-3,"","","/",{"$error":"#N/A"}]
[null,null,null,{"$f":"VLOOKUP($C2237,'SEI ISD'!$A$4:$B$124,2,0)","v":{"$error":"#N/A"}},null,null,null,null,1.645E-3,3.5608300000000001E-3,"","","/",{"$error":"#N/A"}]
[null,null,null,{"$f":"VLOOKUP($C2238,'SEI ISD'!$A$4:$B$124,2,0)","v":{"$error":"#N/A"}},null,null,null,null,1.645E-3,3.5608300000000001E-3,"","","/",{"$error":"#N/A"}]
[null,null,null,{"$f":"VLOOKUP($C2239,'SEI ISD'!$A$4:$B$124,2,0)","v":{"$error":"#N/A"}},null,null,null,null,1.645E-3,3.5608300000000001E-3,"","","/",{"$error":"#N/A"}]
[null,null,null,{"$f":"VLOOKUP($C2240,'SEI ISD'!$A$4:$B$124,2,0)","v":{"$error":"#N/A"}},null,null,null,null,1.645E-3,3.5608300000000001E-3,"","","/",{"$error":"#N/A"}]
[null,null,null,{"$f":"VLOOKUP($C2241,'SEI ISD'!$A$4:$B$124,2,0)","v":{"$error":"#N/A"}},null,null,null,null,1.645E-3,3.5608300000000001E-3,{"$f":"RIGHT(G2241,2)","v":""},{"$f":"LEFT(G2241,4)","v":""},{"$f":"_xlfn.CONCAT(K2241,\"/\",L2241)","v":"/"},{"$f":"EOMONTH(D2241,0)","v":{"$error":"#N/A"}}]
[null,null,null,{"$f":"VLOOKUP($C2242,'SEI ISD'!$A$4:$B$124,2,0)","v":{"$error":"#N/A"}},null,null,null,null,1.645E-3,3.5608300000000001E-3,"","","/",{"$error":"#N/A"}]
[null,null,null,{"$f":"VLOOKUP($C2243,'SEI ISD'!$A$4:$B$124,2,0)","v":{"$error":"#N/A"}},null,null,null,null,1.645E-3,3.5608300000000001E-3,"","","/",{"$error":"#N/A"}]
[null,null,null,{"$f":"VLOOKUP($C2244,'SEI ISD'!$A$4:$B$124,2,0)","v":{"$error":"#N/A"}},null,null,null,null,1.645E-3,3.5608300000000001E-3,"","","/",{"$error":"#N/A"}]
[null,null,null,{"$f":"VLOOKUP($C2245,'SEI ISD'!$A$4:$B$124,2,0)","v":{"$error":"#N/A"}},null,null,null,null,1.645E-3,3.5608300000000001E-3,"","","/",{"$error":"#N/A"}]
[null,null,null,{"$f":"VLOOKUP($C2246,'SEI ISD'!$A$4:$B$124,2,0)","v":{"$error":"#N/A"}},null,null,null,null,1.645E-3,3.5608300000000001E-3,"","","/",{"$error":"#N/A"}]
[null,null,null,{"$f":"VLOOKUP($C2247,'SEI ISD'!$A$4:$B$124,2,0)","v":{"$error":"#N/A"}},null,null,null,null,1.645E-3,3.5608300000000001E-3,"","","/",{"$error":"#N/A"}]
[null,null,null,{"$f":"VLOOKUP($C2248,'SEI ISD'!$A$4:$B$124,2,0)","v":{"$error":"#N/A"}},null,null,null,null,1.645E-3,3.5608300000000001E-3,"","","/",{"$error":"#N/A"}]
[null,null,null,{"$f":"VLOOKUP($C2249,'SEI ISD'!$A$4:$B$124,2,0)","v":{"$error":"#N/A"}},null,null,null,null,1.645E-3,3.5608300000000001E-3,"","","/",{"$error":"#N/A"}]
[null,null,null,{"$f":"VLOOKUP($C2250,'SEI ISD'!$A$4:$B$124,2,0)","v":{"$error":"#N/A"}},null,null,null,null,1.645E-3,3.5608300000000001E-3,"","","/",{"$error":"#N/A"}]
[null,null,null,{"$f":"VLOOKUP($C2251,'SEI ISD'!$A$4:$B$124,2,0)","v":{"$error":"#N/A"}},null,null,null,null,1.645E-3,3.5608300000000001E-3,"","","/",{"$error":"#N/A"}]
[null,null,null,{"$f":"VLOOKUP($C2252,'SEI ISD'!$A$4:$B$124,2,0)","v":{"$error":"#N/A"}},null,null,null,null,1.645E-3,3.5608300000000001E-3,"","","/",{"$error":"#N/A"}]
[null,null,null,{"$f":"VLOOKUP($C2253,'SEI ISD'!$A$4:$B$124,2,0)","v":{"$error":"#N/A"}},null,null,null,null,1.645E-3,3.5608300000000001E-3,"","","/",{"$error":"#N/A"}]
[null,null,null,{"$f":"VLOOKUP($C2254,'SEI ISD'!$A$4:$B$124,2,0)","v":{"$error":"#N/A"}},null,null,null,null,1.645E-3,3.5608300000000001E-3,{"$f":"RIGHT(G2254,2)","v":""},{"$f":"LEFT(G2254,4)","v":""},{"$f":"_xlfn.CONCAT(K2254,\"/\",L2254)","v":"/"},{"$f":"EOMONTH(D2254,0)","v":{"$error":"#N/A"}}]
[null,null,null,{"$f":"VLOOKUP($C2255,'SEI ISD'!$A$4:$B$124,2,0)","v":{"$error":"#N/A"}},null,null,null,null,1.645E-3,3.5608300000000001E-3,"","","/",{"$error":"#N/A"}]
[null,null,null,{"$f":"VLOOKUP($C2256,'SEI ISD'!$A$4:$B$124,2,0)","v":{"$error":"#N/A"}},null,null,null,null,1.645E-3,3.5608300000000001E-3,"","","/",{"$error":"#N/A"}]
[null,null,null,{"$f":"VLOOKUP($C2257,'SEI ISD'!$A$4:$B$124,2,0)","v":{"$error":"#N/A"}},null,null,null,null,1.645E-3,3.5608300000000001E-3,"","","/",{"$error":"#N/A"}]
[null,null,null,{"$f":"VLOOKUP($C2258,'SEI ISD'!$A$4:$B$124,2,0)","v":{"$error":"#N/A"}},null,null,null,null,1.645E-3,3.5608300000000001E-3,"","","/",{"$error":"#N/A"}]
[null,null,null,{"$f":"VLOOKUP($C2259,'SEI ISD'!$A$4:$B$124,2,0)","v":{"$error":"#N/A"}},null,null,null,null,1.645E-3,3.5608300000000001E-3,"","","/",{"$error":"#N/A"}]
[null,null,null,{"$f":"VLOOKUP($C2260,'SEI ISD'!$A$4:$B$124,2,0)","v":{"$error":"#N/A"}},null,null,null,null,1.645E-3,3.5608300000000001E-3,"","","/",{"$error":"#N/A"}]
[null,null,null,{"$f":"VLOOKUP($C2261,'SEI ISD'!$A$4:$B$124,2,0)","v":{"$error":"#N/A"}},null,null,null,null,1.645E-3,3.5608300000000001E-3,"","","/",{"$error":"#N/A"}]
[null,null,null,{"$f":"VLOOKUP($C2262,'SEI ISD'!$A$4:$B$124,2,0)","v":{"$error":"#N/A"}},null,null,null,null,1.645E-3,3.5608300000000001E-3,"","","/",{"$error":"#N/A"}]
[null,null,null,{"$f":"VLOOKUP($C2263,'SEI ISD'!$A$4:$B$124,2,0)","v":{"$error":"#N/A"}},null,null,null,null,1.645E-3,3.5608300000000001E-3,"","","/",{"$error":"#N/A"}]
[null,null,null,{"$f":"VLOOKUP($C2264,'SEI ISD'!$A$4:$B$124,2,0)","v":{"$error":"#N/A"}},null,null,null,null,1.645E-3,3.5608300000000001E-3,"","","/",{"$error":"#N/A"}]
[null,null,null,{"$f":"VLOOKUP($C2265,'SEI ISD'!$A$4:$B$124,2,0)","v":{"$error":"#N/A"}},null,null,null,null,1.645E-3,3.5608300000000001E-3,"","","/",{"$error":"#N/A"}]
[null,null,null,{"$f":"VLOOKUP($C2266,'SEI ISD'!$A$4:$B$124,2,0)","v":{"$error":"#N/A"}},null,null,null,null,1.645E-3,3.5608300000000001E-3,"","","/",{"$error":"#N/A"}]
[null,null,null,{"$f":"VLOOKUP($C2267,'SEI ISD'!$A$4:$B$124,2,0)","v":{"$error":"#N/A"}},null,null,null,null,1.645E-3,3.5608300000000001E-3,"","","/",{"$error":"#N/A"}]
[null,null,null,{"$f":"VLOOKUP($C2268,'SEI ISD'!$A$4:$B$124,2,0)","v":{"$error":"#N/A"}},null,null,null,null,1.645E-3,3.5608300000000001E-3,"","","/",{"$error":"#N/A"}]
[null,null,null,{"$f":"VLOOKUP($C2269,'SEI ISD'!$A$4:$B$124,2,0)","v":{"$error":"#N/A"}},null,null,null,null,1.645E-3,3.5608300000000001E-3,"","","/",{"$error":"#N/A"}]
[null,null,null,{"$f":"VLOOKUP($C2270,'SEI ISD'!$A$4:$B$124,2,0)","v":{"$error":"#N/A"}},null,null,null,null,1.645E-3,3.5608300000000001E-3,"","","/",{"$error":"#N/A"}]
[null,null,null,{"$f":"VLOOKUP($C2271,'SEI ISD'!$A$4:$B$124,2,0)","v":{"$error":"#N/A"}},null,null,null,null,1.645E-3,3.5608300000000001E-3,"","","/",{"$error":"#N/A"}]
[null,null,null,{"$f":"VLOOKUP($C2272,'SEI ISD'!$A$4:$B$124,2,0)","v":{"$error":"#N/A"}},null,null,null,null,1.645E-3,3.5608300000000001E-3,"","","/",{"$error":"#N/A"}]
[null,null,null,{"$f":"VLOOKUP($C2273,'SEI ISD'!$A$4:$B$124,2,0)","v":{"$error":"#N/A"}},null,null,null,null,1.645E-3,3.5608300000000001E-3,"","","/",{"$error":"#N/A"}]
[null,null,null,{"$f":"VLOOKUP($C2274,'SEI ISD'!$A$4:$B$124,2,0)","v":{"$error":"#N/A"}},null,null,null,null,1.645E-3,3.5608300000000001E-3,"","","/",{"$error":"#N/A"}]
[null,null,null,{"$f":"VLOOKUP($C2275,'SEI ISD'!$A$4:$B$124,2,0)","v":{"$error":"#N/A"}},null,null,null,null,1.645E-3,3.5608300000000001E-3,"","","/",{"$error":"#N/A"}]
[null,null,null,{"$f":"VLOOKUP($C2276,'SEI ISD'!$A$4:$B$124,2,0)","v":{"$error":"#N/A"}},null,null,null,null,1.645E-3,3.5608300000000001E-3,"","","/",{"$error":"#N/A"}]
[null,null,null,{"$f":"VLOOKUP($C2277,'SEI ISD'!$A$4:$B$124,2,0)","v":{"$error":"#N/A"}},null,null,null,null,1.645E-3,3.5608300000000001E-3,"","","/",{"$error":"#N/A"}]
[null,null,null,{"$f":"VLOOKUP($C2278,'SEI ISD'!$A$4:$B$124,2,0)","v":{"$error":"#N/A"}},null,null,null,null,1.645E-3,3.5608300000000001E-3,"","","/",{"$error":"#N/A"}]
[null,null,null,{"$f":"VLOOKUP($C2279,'SEI ISD'!$A$4:$B$124,2,0)","v":{"$error":"#N/A"}},null,null,null,null,1.645E-3,3.5608300000000001E-3,"","","/",{"$error":"#N/A"}]
[null,null,null,{"$f":"VLOOKUP($C2280,'SEI ISD'!$A$4:$B$124,2,0)","v":{"$error":"#N/A"}},null,null,null,null,1.645E-3,3.5608300000000001E-3,"","","/",{"$error":"#N/A"}]
[null,null,null,{"$f":"VLOOKUP($C2281,'SEI ISD'!$A$4:$B$124,2,0)","v":{"$error":"#N/A"}},null,null,null,null,1.645E-3,3.5608300000000001E-3,"","","/",{"$error":"#N/A"}]
[null,null,null,{"$f":"VLOOKUP($C2282,'SEI ISD'!$A$4:$B$124,2,0)","v":{"$error":"#N/A"}},null,null,null,null,1.645E-3,3.5608300000000001E-3,"","","/",{"$error":"#N/A"}]
[null,null,null,{"$f":"VLOOKUP($C2283,'SEI ISD'!$A$4:$B$124,2,0)","v":{"$error":"#N/A"}},null,null,null,null,1.645E-3,3.5608300000000001E-3,"","","/",{"$error":"#N/A"}]
[null,null,null,{"$f":"VLOOKUP($C2284,'SEI ISD'!$A$4:$B$124,2,0)","v":{"$error":"#N/A"}},null,null,null,null,1.645E-3,3.5608300000000001E-3,"","","/",{"$error":"#N/A"}]
[null,null,null,{"$f":"VLOOKUP($C2285,'SEI ISD'!$A$4:$B$124,2,0)","v":{"$error":"#N/A"}},null,null,null,null,1.645E-3,3.5608300000000001E-3,"","","/",{"$error":"#N/A"}]
[null,null,null,{"$f":"VLOOKUP($C2286,'SEI ISD'!$A$4:$B$124,2,0)","v":{"$error":"#N/A"}},null,null,null,null,1.645E-3,3.5608300000000001E-3,"","","/",{"$error":"#N/A"}]
[null,null,null,{"$f":"VLOOKUP($C2287,'SEI ISD'!$A$4:$B$124,2,0)","v":{"$error":"#N/A"}},null,null,null,null,1.645E-3,3.5608300000000001E-3,"","","/",{"$error":"#N/A"}]
[null,null,null,{"$f":"VLOOKUP($C2288,'SEI ISD'!$A$4:$B$124,2,0)","v":{"$error":"#N/A"}},null,null,null,null,1.645E-3,3.5608300000000001E-3,"","","/",{"$error":"#N/A"}]
[null,null,null,{"$f":"VLOOKUP($C2289,'SEI ISD'!$A$4:$B$124,2,0)","v":{"$error":"#N/A"}},null,null,null,null,1.645E-3,3.5608300000000001E-3,"","","/",{"$error":"#N/A"}]
[null,null,null,{"$f":"VLOOKUP($C2290,'SEI ISD'!$A$4:$B$124,2,0)","v":{"$error":"#N/A"}},null,null,null,null,1.645E-3,3.5608300000000001E-3,"","","/",{"$error":"#N/A"}]
[null,null,null,{"$f":"VLOOKUP($C2291,'SEI ISD'!$A$4:$B$124,2,0)","v":{"$error":"#N/A"}},null,null,null,null,1.645E-3,3.5608300000000001E-3,"","","/",{"$error":"#N/A"}]
[null,null,null,{"$f":"VLOOKUP($C2292,'SEI ISD'!$A$4:$B$124,2,0)","v":{"$error":"#N/A"}},null,null,null,null,1.645E-3,3.5608300000000001E-3,"","","/",{"$error":"#N/A"}]
[null,null,null,{"$f":"VLOOKUP($C2293,'SEI ISD'!$A$4:$B$124,2,0)","v":{"$error":"#N/A"}},null,null,null,null,1.645E-3,3.5608300000000001E-3,"","","/",{"$error":"#N/A"}]
[null,null,null,{"$f":"VLOOKUP($C2294,'SEI ISD'!$A$4:$B$124,2,0)","v":{"$error":"#N/A"}},null,null,null,null,1.645E-3,3.5608300000000001E-3,"","","/",{"$error":"#N/A"}]
[null,null,null,{"$f":"VLOOKUP($C2295,'SEI ISD'!$A$4:$B$124,2,0)","v":{"$error":"#N/A"}},null,null,null,null,1.645E-3,3.5608300000000001E-3,"","","/",{"$error":"#N/A"}]
[null,null,null,{"$f":"VLOOKUP($C2296,'SEI ISD'!$A$4:$B$124,2,0)","v":{"$error":"#N/A"}},null,null,null,null,1.645E-3,3.5608300000000001E-3,"","","/",{"$error":"#N/A"}]
[null,null,null,{"$f":"VLOOKUP($C2297,'SEI ISD'!$A$4:$B$124,2,0)","v":{"$error":"#N/A"}},null,null,null,null,1.645E-3,3.5608300000000001E-3,"","","/",{"$error":"#N/A"}]
[null,null,null,{"$f":"VLOOKUP($C2298,'SEI ISD'!$A$4:$B$124,2,0)","v":{"$error":"#N/A"}},null,null,null,null,1.645E-3,3.5608300000000001E-3,"","","/",{"$error":"#N/A"}]
[null,null,null,{"$f":"VLOOKUP($C2299,'SEI ISD'!$A$4:$B$124,2,0)","v":{"$error":"#N/A"}},null,null,null,null,1.645E-3,3.5608300000000001E-3,"","","/",{"$error":"#N/A"}]
[null,null,null,{"$f":"VLOOKUP($C2300,'SEI ISD'!$A$4:$B$124,2,0)","v":{"$error":"#N/A"}},null,null,null,null,1.645E-3,3.5608300000000001E-3,"","","/",{"$error":"#N/A"}]
[null,null,null,{"$f":"VLOOKUP($C2301,'SEI ISD'!$A$4:$B$124,2,0)","v":{"$error":"#N/A"}},null,null,null,null,1.645E-3,3.5608300000000001E-3,"","","/",{"$error":"#N/A"}]
[null,null,null,{"$f":"VLOOKUP($C2302,'SEI ISD'!$A$4:$B$124,2,0)","v":{"$error":"#N/A"}},null,null,null,null,1.645E-3,3.5608300000000001E-3,"","","/",{"$error":"#N/A"}]
[null,null,null,{"$f":"VLOOKUP($C2303,'SEI ISD'!$A$4:$B$124,2,0)","v":{"$error":"#N/A"}},null,null,null,null,1.645E-3,3.5608300000000001E-3,"","","/",{"$error":"#N/A"}]
[null,null,null,{"$f":"VLOOKUP($C2304,'SEI ISD'!$A$4:$B$124,2,0)","v":{"$error":"#N/A"}},null,null,null,null,1.645E-3,3.5608300000000001E-3,"","","/",{"$error":"#N/A"}]
[null,null,null,{"$f":"VLOOKUP($C2305,'SEI ISD'!$A$4:$B$124,2,0)","v":{"$error":"#N/A"}},null,null,null,null,1.645E-3,3.5608300000000001E-3,"","","/",{"$error":"#N/A"}]
[null,null,null,{"$f":"VLOOKUP($C2306,'SEI ISD'!$A$4:$B$124,2,0)","v":{"$error":"#N/A"}},null,null,null,null,1.645E-3,3.5608300000000001E-3,"","","/",{"$error":"#N/A"}]
[null,null,null,{"$f":"VLOOKUP($C2307,'SEI ISD'!$A$4:$B$124,2,0)","v":{"$error":"#N/A"}},null,null,null,null,1.645E-3,3.5608300000000001E-3,"","","/",{"$error":"#N/A"}]
[null,null,null,{"$f":"VLOOKUP($C2308,'SEI ISD'!$A$4:$B$124,2,0)","v":{"$error":"#N/A"}},null,null,null,null,1.645E-3,3.5608300000000001E-3,"","","/",{"$error":"#N/A"}]
[null,null,null,{"$f":"VLOOKUP($C2309,'SEI ISD'!$A$4:$B$124,2,0)","v":{"$error":"#N/A"}},null,null,null,null,1.645E-3,3.5608300000000001E-3,"","","/",{"$error":"#N/A"}]
[null,null,null,{"$f":"VLOOKUP($C2310,'SEI ISD'!$A$4:$B$124,2,0)","v":{"$error":"#N/A"}},null,null,null,null,1.645E-3,3.5608300000000001E-3,"","","/",{"$error":"#N/A"}]
[null,null,null,{"$f":"VLOOKUP($C2311,'SEI ISD'!$A$4:$B$124,2,0)","v":{"$error":"#N/A"}},null,null,null,null,1.645E-3,3.5608300000000001E-3,"","","/",{"$error":"#N/A"}]
[null,null,null,{"$f":"VLOOKUP($C2312,'SEI ISD'!$A$4:$B$124,2,0)","v":{"$error":"#N/A"}},null,null,null,null,1.645E-3,3.5608300000000001E-3,"","","/",{"$error":"#N/A"}]
[null,null,null,{"$f":"VLOOKUP($C2313,'SEI ISD'!$A$4:$B$124,2,0)","v":{"$error":"#N/A"}},null,null,null,null,1.645E-3,3.5608300000000001E-3,"","","/",{"$error":"#N/A"}]
[null,null,null,{"$f":"VLOOKUP($C2314,'SEI ISD'!$A$4:$B$124,2,0)","v":{"$error":"#N/A"}},null,null,null,null,1.645E-3,3.5608300000000001E-3,"","","/",{"$error":"#N/A"}]
[null,null,null,{"$f":"VLOOKUP($C2315,'SEI ISD'!$A$4:$B$124,2,0)","v":{"$error":"#N/A"}},null,null,null,null,1.645E-3,3.5608300000000001E-3,"","","/",{"$error":"#N/A"}]
[null,null,null,{"$f":"VLOOKUP($C2316,'SEI ISD'!$A$4:$B$124,2,0)","v":{"$error":"#N/A"}},null,null,null,null,1.645E-3,3.5608300000000001E-3,"","","/",{"$error":"#N/A"}]
[null,null,null,{"$f":"VLOOKUP($C2317,'SEI ISD'!$A$4:$B$124,2,0)","v":{"$error":"#N/A"}},null,null,null,null,1.645E-3,3.5608300000000001E-3,"","","/",{"$error":"#N/A"}]
[null,null,null,{"$f":"VLOOKUP($C2318,'SEI ISD'!$A$4:$B$124,2,0)","v":{"$error":"#N/A"}},null,null,null,null,1.645E-3,3.5608300000000001E-3,{"$f":"RIGHT(G2318,2)","v":""},{"$f":"LEFT(G2318,4)","v":""},{"$f":"_xlfn.CONCAT(K2318,\"/\",L2318)","v":"/"},{"$f":"EOMONTH(D2318,0)","v":{"$error":"#N/A"}}]
[null,null,null,{"$f":"VLOOKUP($C2319,'SEI ISD'!$A$4:$B$124,2,0)","v":{"$error":"#N/A"}},null,null,null,null,1.645E-3,3.5608300000000001E-3,"","","/",{"$error":"#N/A"}]
[null,null,null,{"$f":"VLOOKUP($C2320,'SEI ISD'!$A$4:$B$124,2,0)","v":{"$error":"#N/A"}},null,null,null,null,1.645E-3,3.5608300000000001E-3,"","","/",{"$error":"#N/A"}]
[null,null,null,{"$f":"VLOOKUP($C2321,'SEI ISD'!$A$4:$B$124,2,0)","v":{"$error":"#N/A"}},null,null,null,null,1.645E-3,3.5608300000000001E-3,"","","/",{"$error":"#N/A"}]
[null,null,null,{"$f":"VLOOKUP($C2322,'SEI ISD'!$A$4:$B$124,2,0)","v":{"$error":"#N/A"}},null,null,null,null,1.645E-3,3.5608300000000001E-3,"","","/",{"$error":"#N/A"}]
[null,null,null,{"$f":"VLOOKUP($C2323,'SEI ISD'!$A$4:$B$124,2,0)","v":{"$error":"#N/A"}},null,null,null,null,1.645E-3,3.5608300000000001E-3,"","","/",{"$error":"#N/A"}]
[null,null,null,{"$f":"VLOOKUP($C2324,'SEI ISD'!$A$4:$B$124,2,0)","v":{"$error":"#N/A"}},null,null,null,null,1.645E-3,3.5608300000000001E-3,"","","/",{"$error":"#N/A"}]
[null,null,null,{"$f":"VLOOKUP($C2325,'SEI ISD'!$A$4:$B$124,2,0)","v":{"$error":"#N/A"}},null,null,null,null,1.645E-3,3.5608300000000001E-3,"","","/",{"$error":"#N/A"}]
[null,null,null,{"$f":"VLOOKUP($C2326,'SEI ISD'!$A$4:$B$124,2,0)","v":{"$error":"#N/A"}},null,null,null,null,1.645E-3,3.5608300000000001E-3,"","","/",{"$error":"#N/A"}]
[null,null,null,{"$f":"VLOOKUP($C2327,'SEI ISD'!$A$4:$B$124,2,0)","v":{"$error":"#N/A"}},null,null,null,null,1.645E-3,3.5608300000000001E-3,"","","/",{"$error":"#N/A"}]
[null,null,null,{"$f":"VLOOKUP($C2328,'SEI ISD'!$A$4:$B$124,2,0)","v":{"$error":"#N/A"}},null,null,null,null,1.645E-3,3.5608300000000001E-3,"","","/",{"$error":"#N/A"}]
[null,null,null,{"$f":"VLOOKUP($C2329,'SEI ISD'!$A$4:$B$124,2,0)","v":{"$error":"#N/A"}},null,null,null,null,1.645E-3,3.5608300000000001E-3,"","","/",{"$error":"#N/A"}]
[null,null,null,{"$f":"VLOOKUP($C2330,'SEI ISD'!$A$4:$B$124,2,0)","v":{"$error":"#N/A"}},null,null,null,null,1.645E-3,3.5608300000000001E-3,"","","/",{"$error":"#N/A"}]
[null,null,null,{"$f":"VLOOKUP($C2331,'SEI ISD'!$A$4:$B$124,2,0)","v":{"$error":"#N/A"}},null,null,null,null,1.645E-3,3.5608300000000001E-3,"","","/",{"$error":"#N/A"}]
[null,null,null,{"$f":"VLOOKUP($C2332,'SEI ISD'!$A$4:$B$124,2,0)","v":{"$error":"#N/A"}},null,null,null,null,1.645E-3,3.5608300000000001E-3,"","","/",{"$error":"#N/A"}]
[null,null,null,{"$f":"VLOOKUP($C2333,'SEI ISD'!$A$4:$B$124,2,0)","v":{"$error":"#N/A"}},null,null,null,null,1.645E-3,3.5608300000000001E-3,"","","/",{"$error":"#N/A"}]
[null,null,null,{"$f":"VLOOKUP($C2334,'SEI ISD'!$A$4:$B$124,2,0)","v":{"$error":"#N/A"}},null,null,null,null,1.645E-3,3.5608300000000001E-3,"","","/",{"$error":"#N/A"}]
[null,null,null,{"$f":"VLOOKUP($C2335,'SEI ISD'!$A$4:$B$124,2,0)","v":{"$error":"#N/A"}},null,null,null,null,1.645E-3,3.5608300000000001E-3,"","","/",{"$error":"#N/A"}]
[null,null,null,{"$f":"VLOOKUP($C2336,'SEI ISD'!$A$4:$B$124,2,0)","v":{"$error":"#N/A"}},null,null,null,null,1.645E-3,3.5608300000000001E-3,"","","/",{"$error":"#N/A"}]
[null,null,null,{"$f":"VLOOKUP($C2337,'SEI ISD'!$A$4:$B$124,2,0)","v":{"$error":"#N/A"}},null,null,null,null,1.645E-3,3.5608300000000001E-3,"","","/",{"$error":"#N/A"}]
[null,null,null,{"$f":"VLOOKUP($C2338,'SEI ISD'!$A$4:$B$124,2,0)","v":{"$error":"#N/A"}},null,null,null,null,1.645E-3,3.5608300000000001E-3,"","","/",{"$error":"#N/A"}]
[null,null,null,{"$f":"VLOOKUP($C2339,'SEI ISD'!$A$4:$B$124,2,0)","v":{"$error":"#N/A"}},null,null,null,null,1.645E-3,3.5608300000000001E-3,"","","/",{"$error":"#N/A"}]
[null,null,null,{"$f":"VLOOKUP($C2340,'SEI ISD'!$A$4:$B$124,2,0)","v":{"$error":"#N/A"}},null,null,null,null,1.645E-3,3.5608300000000001E-3,"","","/",{"$error":"#N/A"}]
[null,null,null,{"$f":"VLOOKUP($C2341,'SEI ISD'!$A$4:$B$124,2,0)","v":{"$error":"#N/A"}},null,null,null,null,1.645E-3,3.5608300000000001E-3,"","","/",{"$error":"#N/A"}]
[null,null,null,{"$f":"VLOOKUP($C2342,'SEI ISD'!$A$4:$B$124,2,0)","v":{"$error":"#N/A"}},null,null,null,null,1.645E-3,3.5608300000000001E-3,"","","/",{"$error":"#N/A"}]
[null,null,null,{"$f":"VLOOKUP($C2343,'SEI ISD'!$A$4:$B$124,2,0)","v":{"$error":"#N/A"}},null,null,null,null,1.645E-3,3.5608300000000001E-3,"","","/",{"$error":"#N/A"}]
[null,null,null,{"$f":"VLOOKUP($C2344,'SEI ISD'!$A$4:$B$124,2,0)","v":{"$error":"#N/A"}},null,null,null,null,1.645E-3,3.5608300000000001E-3,"","","/",{"$error":"#N/A"}]
[null,null,null,{"$f":"VLOOKUP($C2345,'SEI ISD'!$A$4:$B$124,2,0)","v":{"$error":"#N/A"}},null,null,null,null,1.645E-3,3.5608300000000001E-3,"","","/",{"$error":"#N/A"}]
[null,null,null,{"$f":"VLOOKUP($C2346,'SEI ISD'!$A$4:$B$124,2,0)","v":{"$error":"#N/A"}},null,null,null,null,1.645E-3,3.5608300000000001E-3,"","","/",{"$error":"#N/A"}]
[null,null,null,{"$f":"VLOOKUP($C2347,'SEI ISD'!$A$4:$B$124,2,0)","v":{"$error":"#N/A"}},null,null,null,null,1.645E-3,3.5608300000000001E-3,"","","/",{"$error":"#N/A"}]
[null,null,null,{"$f":"VLOOKUP($C2348,'SEI ISD'!$A$4:$B$124,2,0)","v":{"$error":"#N/A"}},null,null,null,null,1.645E-3,3.5608300000000001E-3,"","","/",{"$error":"#N/A"}]
[null,null,null,{"$f":"VLOOKUP($C2349,'SEI ISD'!$A$4:$B$124,2,0)","v":{"$error":"#N/A"}},null,null,null,null,1.645E-3,3.5608300000000001E-3,"","","/",{"$error":"#N/A"}]
[null,null,null,{"$f":"VLOOKUP($C2350,'SEI ISD'!$A$4:$B$124,2,0)","v":{"$error":"#N/A"}},null,null,null,null,1.645E-3,3.5608300000000001E-3,"","","/",{"$error":"#N/A"}]
[null,null,null,{"$f":"VLOOKUP($C2351,'SEI ISD'!$A$4:$B$124,2,0)","v":{"$error":"#N/A"}},null,null,null,null,1.645E-3,3.5608300000000001E-3,"","","/",{"$error":"#N/A"}]
[null,null,null,{"$f":"VLOOKUP($C2352,'SEI ISD'!$A$4:$B$124,2,0)","v":{"$error":"#N/A"}},null,null,null,null,1.645E-3,3.5608300000000001E-3,"","","/",{"$error":"#N/A"}]
[null,null,null,{"$f":"VLOOKUP($C2353,'SEI ISD'!$A$4:$B$124,2,0)","v":{"$error":"#N/A"}},null,null,null,null,1.645E-3,3.5608300000000001E-3,"","","/",{"$error":"#N/A"}]
[null,null,null,{"$f":"VLOOKUP($C2354,'SEI ISD'!$A$4:$B$124,2,0)","v":{"$error":"#N/A"}},null,null,null,null,1.645E-3,3.5608300000000001E-3,"","","/",{"$error":"#N/A"}]
[null,null,null,{"$f":"VLOOKUP($C2355,'SEI ISD'!$A$4:$B$124,2,0)","v":{"$error":"#N/A"}},null,null,null,null,1.645E-3,3.5608300000000001E-3,"","","/",{"$error":"#N/A"}]
[null,null,null,{"$f":"VLOOKUP($C2356,'SEI ISD'!$A$4:$B$124,2,0)","v":{"$error":"#N/A"}},null,null,null,null,1.645E-3,3.5608300000000001E-3,"","","/",{"$error":"#N/A"}]
[null,null,null,{"$f":"VLOOKUP($C2357,'SEI ISD'!$A$4:$B$124,2,0)","v":{"$error":"#N/A"}},null,null,null,null,1.645E-3,3.5608300000000001E-3,"","","/",{"$error":"#N/A"}]
[null,null,null,{"$f":"VLOOKUP($C2358,'SEI ISD'!$A$4:$B$124,2,0)","v":{"$error":"#N/A"}},null,null,null,null,1.645E-3,3.5608300000000001E-3,"","","/",{"$error":"#N/A"}]
[null,null,null,{"$f":"VLOOKUP($C2359,'SEI ISD'!$A$4:$B$124,2,0)","v":{"$error":"#N/A"}},null,null,null,null,1.645E-3,3.5608300000000001E-3,"","","/",{"$error":"#N/A"}]
[null,null,null,{"$f":"VLOOKUP($C2360,'SEI ISD'!$A$4:$B$124,2,0)","v":{"$error":"#N/A"}},null,null,null,null,1.645E-3,3.5608300000000001E-3,"","","/",{"$error":"#N/A"}]
[null,null,null,{"$f":"VLOOKUP($C2361,'SEI ISD'!$A$4:$B$124,2,0)","v":{"$error":"#N/A"}},null,null,null,null,1.645E-3,3.5608300000000001E-3,"","","/",{"$error":"#N/A"}]
[null,null,null,{"$f":"VLOOKUP($C2362,'SEI ISD'!$A$4:$B$124,2,0)","v":{"$error":"#N/A"}},null,null,null,null,1.645E-3,3.5608300000000001E-3,"","","/",{"$error":"#N/A"}]
[null,null,null,{"$f":"VLOOKUP($C2363,'SEI ISD'!$A$4:$B$124,2,0)","v":{"$error":"#N/A"}},null,null,null,null,1.645E-3,3.5608300000000001E-3,"","","/",{"$error":"#N/A"}]
[null,null,null,{"$f":"VLOOKUP($C2364,'SEI ISD'!$A$4:$B$124,2,0)","v":{"$error":"#N/A"}},null,null,null,null,1.645E-3,3.5608300000000001E-3,"","","/",{"$error":"#N/A"}]
[null,null,null,{"$f":"VLOOKUP($C2365,'SEI ISD'!$A$4:$B$124,2,0)","v":{"$error":"#N/A"}},null,null,null,null,1.645E-3,3.5608300000000001E-3,"","","/",{"$error":"#N/A"}]
[null,null,null,{"$f":"VLOOKUP($C2366,'SEI ISD'!$A$4:$B$124,2,0)","v":{"$error":"#N/A"}},null,null,null,null,1.645E-3,3.5608300000000001E-3,"","","/",{"$error":"#N/A"}]
[null,null,null,{"$f":"VLOOKUP($C2367,'SEI ISD'!$A$4:$B$124,2,0)","v":{"$error":"#N/A"}},null,null,null,null,1.645E-3,3.5608300000000001E-3,"","","/",{"$error":"#N/A"}]
[null,null,null,{"$f":"VLOOKUP($C2368,'SEI ISD'!$A$4:$B$124,2,0)","v":{"$error":"#N/A"}},null,null,null,null,1.645E-3,3.5608300000000001E-3,"","","/",{"$error":"#N/A"}]
[null,null,null,{"$f":"VLOOKUP($C2369,'SEI ISD'!$A$4:$B$124,2,0)","v":{"$error":"#N/A"}},null,null,null,null,1.645E-3,3.5608300000000001E-3,"","","/",{"$error":"#N/A"}]
[null,null,null,{"$f":"VLOOKUP($C2370,'SEI ISD'!$A$4:$B$124,2,0)","v":{"$error":"#N/A"}},null,null,null,null,1.645E-3,3.5608300000000001E-3,"","","/",{"$error":"#N/A"}]
[null,null,null,{"$f":"VLOOKUP($C2371,'SEI ISD'!$A$4:$B$124,2,0)","v":{"$error":"#N/A"}},null,null,null,null,1.645E-3,3.5608300000000001E-3,"","","/",{"$error":"#N/A"}]
[null,null,null,{"$f":"VLOOKUP($C2372,'SEI ISD'!$A$4:$B$124,2,0)","v":{"$error":"#N/A"}},null,null,null,null,1.645E-3,3.5608300000000001E-3,"","","/",{"$error":"#N/A"}]
[null,null,null,{"$f":"VLOOKUP($C2373,'SEI ISD'!$A$4:$B$124,2,0)","v":{"$error":"#N/A"}},null,null,null,null,1.645E-3,3.5608300000000001E-3,"","","/",{"$error":"#N/A"}]
[null,null,null,{"$f":"VLOOKUP($C2374,'SEI ISD'!$A$4:$B$124,2,0)","v":{"$error":"#N/A"}},null,null,null,null,1.645E-3,3.5608300000000001E-3,"","","/",{"$error":"#N/A"}]
[null,null,null,{"$f":"VLOOKUP($C2375,'SEI ISD'!$A$4:$B$124,2,0)","v":{"$error":"#N/A"}},null,null,null,null,1.645E-3,3.5608300000000001E-3,"","","/",{"$error":"#N/A"}]
[null,null,null,{"$f":"VLOOKUP($C2376,'SEI ISD'!$A$4:$B$124,2,0)","v":{"$error":"#N/A"}},null,null,null,null,1.645E-3,3.5608300000000001E-3,"","","/",{"$error":"#N/A"}]
[null,null,null,{"$f":"VLOOKUP($C2377,'SEI ISD'!$A$4:$B$124,2,0)","v":{"$error":"#N/A"}},null,null,null,null,1.645E-3,3.5608300000000001E-3,"","","/",{"$error":"#N/A"}]
[null,null,null,{"$f":"VLOOKUP($C2378,'SEI ISD'!$A$4:$B$124,2,0)","v":{"$error":"#N/A"}},null,null,null,null,1.645E-3,3.5608300000000001E-3,"","","/",{"$error":"#N/A"}]
[null,null,null,{"$f":"VLOOKUP($C2379,'SEI ISD'!$A$4:$B$124,2,0)","v":{"$error":"#N/A"}},null,null,null,null,1.645E-3,3.5608300000000001E-3,"","","/",{"$error":"#N/A"}]
[null,null,null,{"$f":"VLOOKUP($C2380,'SEI ISD'!$A$4:$B$124,2,0)","v":{"$error":"#N/A"}},null,null,null,null,1.645E-3,3.5608300000000001E-3,"","","/",{"$error":"#N/A"}]
[null,null,null,{"$f":"VLOOKUP($C2381,'SEI ISD'!$A$4:$B$124,2,0)","v":{"$error":"#N/A"}},null,null,null,null,1.645E-3,3.5608300000000001E-3,"","","/",{"$error":"#N/A"}]
[null,null,null,{"$f":"VLOOKUP($C2382,'SEI ISD'!$A$4:$B$124,2,0)","v":{"$error":"#N/A"}},null,null,null,null,1.645E-3,3.5608300000000001E-3,{"$f":"RIGHT(G2382,2)","v":""},{"$f":"LEFT(G2382,4)","v":""},{"$f":"_xlfn.CONCAT(K2382,\"/\",L2382)","v":"/"},{"$f":"EOMONTH(D2382,0)","v":{"$error":"#N/A"}}]
[null,null,null,{"$f":"VLOOKUP($C2383,'SEI ISD'!$A$4:$B$124,2,0)","v":{"$error":"#N/A"}},null,null,null,null,1.645E-3,3.5608300000000001E-3,"","","/",{"$error":"#N/A"}]
[null,null,null,{"$f":"VLOOKUP($C2384,'SEI ISD'!$A$4:$B$124,2,0)","v":{"$error":"#N/A"}},null,null,null,null,1.645E-3,3.5608300000000001E-3,"","","/",{"$error":"#N/A"}]
[null,null,null,{"$f":"VLOOKUP($C2385,'SEI ISD'!$A$4:$B$124,2,0)","v":{"$error":"#N/A"}},null,null,null,null,1.645E-3,3.5608300000000001E-3,"","","/",{"$error":"#N/A"}]
[null,null,null,{"$f":"VLOOKUP($C2386,'SEI ISD'!$A$4:$B$124,2,0)","v":{"$error":"#N/A"}},null,null,null,null,1.645E-3,3.5608300000000001E-3,"","","/",{"$error":"#N/A"}]
[null,null,null,{"$f":"VLOOKUP($C2387,'SEI ISD'!$A$4:$B$124,2,0)","v":{"$error":"#N/A"}},null,null,null,null,1.645E-3,3.5608300000000001E-3,"","","/",{"$error":"#N/A"}]
[null,null,null,{"$f":"VLOOKUP($C2388,'SEI ISD'!$A$4:$B$124,2,0)","v":{"$error":"#N/A"}},null,null,null,null,1.645E-3,3.5608300000000001E-3,"","","/",{"$error":"#N/A"}]
[null,null,null,{"$f":"VLOOKUP($C2389,'SEI ISD'!$A$4:$B$124,2,0)","v":{"$error":"#N/A"}},null,null,null,null,1.645E-3,3.5608300000000001E-3,"","","/",{"$error":"#N/A"}]
[null,null,null,{"$f":"VLOOKUP($C2390,'SEI ISD'!$A$4:$B$124,2,0)","v":{"$error":"#N/A"}},null,null,null,null,1.645E-3,3.5608300000000001E-3,"","","/",{"$error":"#N/A"}]
[null,null,null,{"$f":"VLOOKUP($C2391,'SEI ISD'!$A$4:$B$124,2,0)","v":{"$error":"#N/A"}},null,null,null,null,1.645E-3,3.5608300000000001E-3,"","","/",{"$error":"#N/A"}]
[null,null,null,{"$f":"VLOOKUP($C2392,'SEI ISD'!$A$4:$B$124,2,0)","v":{"$error":"#N/A"}},null,null,null,null,1.645E-3,3.5608300000000001E-3,"","","/",{"$error":"#N/A"}]
[null,null,null,{"$f":"VLOOKUP($C2393,'SEI ISD'!$A$4:$B$124,2,0)","v":{"$error":"#N/A"}},null,null,null,null,1.645E-3,3.5608300000000001E-3,"","","/",{"$error":"#N/A"}]
[null,null,null,{"$f":"VLOOKUP($C2394,'SEI ISD'!$A$4:$B$124,2,0)","v":{"$error":"#N/A"}},null,null,null,null,1.645E-3,3.5608300000000001E-3,"","","/",{"$error":"#N/A"}]
[null,null,null,{"$f":"VLOOKUP($C2395,'SEI ISD'!$A$4:$B$124,2,0)","v":{"$error":"#N/A"}},null,null,null,null,1.645E-3,3.5608300000000001E-3,"","","/",{"$error":"#N/A"}]
[null,null,null,{"$f":"VLOOKUP($C2396,'SEI ISD'!$A$4:$B$124,2,0)","v":{"$error":"#N/A"}},null,null,null,null,1.645E-3,3.5608300000000001E-3,"","","/",{"$error":"#N/A"}]
[null,null,null,{"$f":"VLOOKUP($C2397,'SEI ISD'!$A$4:$B$124,2,0)","v":{"$error":"#N/A"}},null,null,null,null,1.645E-3,3.5608300000000001E-3,"","","/",{"$error":"#N/A"}]
[null,null,null,{"$f":"VLOOKUP($C2398,'SEI ISD'!$A$4:$B$124,2,0)","v":{"$error":"#N/A"}},null,null,null,null,1.645E-3,3.5608300000000001E-3,"","","/",{"$error":"#N/A"}]
[null,null,null,{"$f":"VLOOKUP($C2399,'SEI ISD'!$A$4:$B$124,2,0)","v":{"$error":"#N/A"}},null,null,null,null,1.645E-3,3.5608300000000001E-3,"","","/",{"$error":"#N/A"}]
[null,null,null,{"$f":"VLOOKUP($C2400,'SEI ISD'!$A$4:$B$124,2,0)","v":{"$error":"#N/A"}},null,null,null,null,1.645E-3,3.5608300000000001E-3,"","","/",{"$error":"#N/A"}]
[null,null,null,{"$f":"VLOOKUP($C2401,'SEI ISD'!$A$4:$B$124,2,0)","v":{"$error":"#N/A"}},null,null,null,null,1.645E-3,3.5608300000000001E-3,"","","/",{"$error":"#N/A"}]
[null,null,null,{"$f":"VLOOKUP($C2402,'SEI ISD'!$A$4:$B$124,2,0)","v":{"$error":"#N/A"}},null,null,null,null,1.645E-3,3.5608300000000001E-3,"","","/",{"$error":"#N/A"}]
[null,null,null,{"$f":"VLOOKUP($C2403,'SEI ISD'!$A$4:$B$124,2,0)","v":{"$error":"#N/A"}},null,null,null,null,1.645E-3,3.5608300000000001E-3,"","","/",{"$error":"#N/A"}]
[null,null,null,{"$f":"VLOOKUP($C2404,'SEI ISD'!$A$4:$B$124,2,0)","v":{"$error":"#N/A"}},null,null,null,null,1.645E-3,3.5608300000000001E-3,"","","/",{"$error":"#N/A"}]
[null,null,null,{"$f":"VLOOKUP($C2405,'SEI ISD'!$A$4:$B$124,2,0)","v":{"$error":"#N/A"}},null,null,null,null,1.645E-3,3.5608300000000001E-3,"","","/",{"$error":"#N/A"}]
[null,null,null,{"$f":"VLOOKUP($C2406,'SEI ISD'!$A$4:$B$124,2,0)","v":{"$error":"#N/A"}},null,null,null,null,1.645E-3,3.5608300000000001E-3,"","","/",{"$error":"#N/A"}]
[null,null,null,{"$f":"VLOOKUP($C2407,'SEI ISD'!$A$4:$B$124,2,0)","v":{"$error":"#N/A"}},null,null,null,null,1.645E-3,3.5608300000000001E-3,"","","/",{"$error":"#N/A"}]
[null,null,null,{"$f":"VLOOKUP($C2408,'SEI ISD'!$A$4:$B$124,2,0)","v":{"$error":"#N/A"}},null,null,null,null,1.645E-3,3.5608300000000001E-3,"","","/",{"$error":"#N/A"}]
[null,null,null,{"$f":"VLOOKUP($C2409,'SEI ISD'!$A$4:$B$124,2,0)","v":{"$error":"#N/A"}},null,null,null,null,1.645E-3,3.5608300000000001E-3,"","","/",{"$error":"#N/A"}]
[null,null,null,{"$f":"VLOOKUP($C2410,'SEI ISD'!$A$4:$B$124,2,0)","v":{"$error":"#N/A"}},null,null,null,null,1.645E-3,3.5608300000000001E-3,"","","/",{"$error":"#N/A"}]
[null,null,null,{"$f":"VLOOKUP($C2411,'SEI ISD'!$A$4:$B$124,2,0)","v":{"$error":"#N/A"}},null,null,null,null,1.645E-3,3.5608300000000001E-3,"","","/",{"$error":"#N/A"}]
[null,null,null,{"$f":"VLOOKUP($C2412,'SEI ISD'!$A$4:$B$124,2,0)","v":{"$error":"#N/A"}},null,null,null,null,1.645E-3,3.5608300000000001E-3,"","","/",{"$error":"#N/A"}]
[null,null,null,{"$f":"VLOOKUP($C2413,'SEI ISD'!$A$4:$B$124,2,0)","v":{"$error":"#N/A"}},null,null,null,null,1.645E-3,3.5608300000000001E-3,"","","/",{"$error":"#N/A"}]
[null,null,null,{"$f":"VLOOKUP($C2414,'SEI ISD'!$A$4:$B$124,2,0)","v":{"$error":"#N/A"}},null,null,null,null,1.645E-3,3.5608300000000001E-3,"","","/",{"$error":"#N/A"}]
[null,null,null,{"$f":"VLOOKUP($C2415,'SEI ISD'!$A$4:$B$124,2,0)","v":{"$error":"#N/A"}},null,null,null,null,1.645E-3,3.5608300000000001E-3,"","","/",{"$error":"#N/A"}]
[null,null,null,{"$f":"VLOOKUP($C2416,'SEI ISD'!$A$4:$B$124,2,0)","v":{"$error":"#N/A"}},null,null,null,null,1.645E-3,3.5608300000000001E-3,"","","/",{"$error":"#N/A"}]
[null,null,null,{"$f":"VLOOKUP($C2417,'SEI ISD'!$A$4:$B$124,2,0)","v":{"$error":"#N/A"}},null,null,null,null,1.645E-3,3.5608300000000001E-3,"","","/",{"$error":"#N/A"}]
[null,null,null,{"$f":"VLOOKUP($C2418,'SEI ISD'!$A$4:$B$124,2,0)","v":{"$error":"#N/A"}},null,null,null,null,1.645E-3,3.5608300000000001E-3,"","","/",{"$error":"#N/A"}]
[null,null,null,{"$f":"VLOOKUP($C2419,'SEI ISD'!$A$4:$B$124,2,0)","v":{"$error":"#N/A"}},null,null,null,null,1.645E-3,3.5608300000000001E-3,"","","/",{"$error":"#N/A"}]
[null,null,null,{"$f":"VLOOKUP($C2420,'SEI ISD'!$A$4:$B$124,2,0)","v":{"$error":"#N/A"}},null,null,null,null,1.645E-3,3.5608300000000001E-3,"","","/",{"$error":"#N/A"}]
[null,null,null,{"$f":"VLOOKUP($C2421,'SEI ISD'!$A$4:$B$124,2,0)","v":{"$error":"#N/A"}},null,null,null,null,1.645E-3,3.5608300000000001E-3,"","","/",{"$error":"#N/A"}]
[null,null,null,{"$f":"VLOOKUP($C2422,'SEI ISD'!$A$4:$B$124,2,0)","v":{"$error":"#N/A"}},null,null,null,null,1.645E-3,3.5608300000000001E-3,"","","/",{"$error":"#N/A"}]
[null,null,null,{"$f":"VLOOKUP($C2423,'SEI ISD'!$A$4:$B$124,2,0)","v":{"$error":"#N/A"}},null,null,null,null,1.645E-3,3.5608300000000001E-3,"","","/",{"$error":"#N/A"}]
[null,null,null,{"$f":"VLOOKUP($C2424,'SEI ISD'!$A$4:$B$124,2,0)","v":{"$error":"#N/A"}},null,null,null,null,1.645E-3,3.5608300000000001E-3,"","","/",{"$error":"#N/A"}]
[null,null,null,{"$f":"VLOOKUP($C2425,'SEI ISD'!$A$4:$B$124,2,0)","v":{"$error":"#N/A"}},null,null,null,null,1.645E-3,3.5608300000000001E-3,"","","/",{"$error":"#N/A"}]
[null,null,null,{"$f":"VLOOKUP($C2426,'SEI ISD'!$A$4:$B$124,2,0)","v":{"$error":"#N/A"}},null,null,null,null,1.645E-3,3.5608300000000001E-3,"","","/",{"$error":"#N/A"}]
[null,null,null,{"$f":"VLOOKUP($C2427,'SEI ISD'!$A$4:$B$124,2,0)","v":{"$error":"#N/A"}},null,null,null,null,1.645E-3,3.5608300000000001E-3,"","","/",{"$error":"#N/A"}]
[null,null,null,{"$f":"VLOOKUP($C2428,'SEI ISD'!$A$4:$B$124,2,0)","v":{"$error":"#N/A"}},null,null,null,null,1.645E-3,3.5608300000000001E-3,"","","/",{"$error":"#N/A"}]
[null,null,null,{"$f":"VLOOKUP($C2429,'SEI ISD'!$A$4:$B$124,2,0)","v":{"$error":"#N/A"}},null,null,null,null,1.645E-3,3.5608300000000001E-3,"","","/",{"$error":"#N/A"}]
[null,null,null,{"$f":"VLOOKUP($C2430,'SEI ISD'!$A$4:$B$124,2,0)","v":{"$error":"#N/A"}},null,null,null,null,1.645E-3,3.5608300000000001E-3,"","","/",{"$error":"#N/A"}]
[null,null,null,{"$f":"VLOOKUP($C2431,'SEI ISD'!$A$4:$B$124,2,0)","v":{"$error":"#N/A"}},null,null,null,null,1.645E-3,3.5608300000000001E-3,"","","/",{"$error":"#N/A"}]
[null,null,null,{"$f":"VLOOKUP($C2432,'SEI ISD'!$A$4:$B$124,2,0)","v":{"$error":"#N/A"}},null,null,null,null,1.645E-3,3.5608300000000001E-3,"","","/",{"$error":"#N/A"}]
[null,null,null,{"$f":"VLOOKUP($C2433,'SEI ISD'!$A$4:$B$124,2,0)","v":{"$error":"#N/A"}},null,null,null,null,1.645E-3,3.5608300000000001E-3,"","","/",{"$error":"#N/A"}]
[null,null,null,{"$f":"VLOOKUP($C2434,'SEI ISD'!$A$4:$B$124,2,0)","v":{"$error":"#N/A"}},null,null,null,null,1.645E-3,3.5608300000000001E-3,"","","/",{"$error":"#N/A"}]
[null,null,null,{"$f":"VLOOKUP($C2435,'SEI ISD'!$A$4:$B$124,2,0)","v":{"$error":"#N/A"}},null,null,null,null,1.645E-3,3.5608300000000001E-3,"","","/",{"$error":"#N/A"}]
[null,null,null,{"$f":"VLOOKUP($C2436,'SEI ISD'!$A$4:$B$124,2,0)","v":{"$error":"#N/A"}},null,null,null,null,1.645E-3,3.5608300000000001E-3,"","","/",{"$error":"#N/A"}]
[null,null,null,{"$f":"VLOOKUP($C2437,'SEI ISD'!$A$4:$B$124,2,0)","v":{"$error":"#N/A"}},null,null,null,null,1.645E-3,3.5608300000000001E-3,"","","/",{"$error":"#N/A"}]
[null,null,null,{"$f":"VLOOKUP($C2438,'SEI ISD'!$A$4:$B$124,2,0)","v":{"$error":"#N/A"}},null,null,null,null,1.645E-3,3.5608300000000001E-3,"","","/",{"$error":"#N/A"}]
[null,null,null,{"$f":"VLOOKUP($C2439,'SEI ISD'!$A$4:$B$124,2,0)","v":{"$error":"#N/A"}},null,null,null,null,1.645E-3,3.5608300000000001E-3,"","","/",{"$error":"#N/A"}]
[null,null,null,{"$f":"VLOOKUP($C2440,'SEI ISD'!$A$4:$B$124,2,0)","v":{"$error":"#N/A"}},null,null,null,null,1.645E-3,3.5608300000000001E-3,"","","/",{"$error":"#N/A"}]
[null,null,null,{"$f":"VLOOKUP($C2441,'SEI ISD'!$A$4:$B$124,2,0)","v":{"$error":"#N/A"}},null,null,null,null,1.645E-3,3.5608300000000001E-3,"","","/",{"$error":"#N/A"}]
[null,null,null,{"$f":"VLOOKUP($C2442,'SEI ISD'!$A$4:$B$124,2,0)","v":{"$error":"#N/A"}},null,null,null,null,1.645E-3,3.5608300000000001E-3,"","","/",{"$error":"#N/A"}]
[null,null,null,{"$f":"VLOOKUP($C2443,'SEI ISD'!$A$4:$B$124,2,0)","v":{"$error":"#N/A"}},null,null,null,null,1.645E-3,3.5608300000000001E-3,"","","/",{"$error":"#N/A"}]
[null,null,null,{"$f":"VLOOKUP($C2444,'SEI ISD'!$A$4:$B$124,2,0)","v":{"$error":"#N/A"}},null,null,null,null,1.645E-3,3.5608300000000001E-3,"","","/",{"$error":"#N/A"}]
[null,null,null,{"$f":"VLOOKUP($C2445,'SEI ISD'!$A$4:$B$124,2,0)","v":{"$error":"#N/A"}},null,null,null,null,1.645E-3,3.5608300000000001E-3,"","","/",{"$error":"#N/A"}]
[null,null,null,{"$f":"VLOOKUP($C2446,'SEI ISD'!$A$4:$B$124,2,0)","v":{"$error":"#N/A"}},null,null,null,null,1.645E-3,3.5608300000000001E-3,{"$f":"RIGHT(G2446,2)","v":""},{"$f":"LEFT(G2446,4)","v":""},{"$f":"_xlfn.CONCAT(K2446,\"/\",L2446)","v":"/"},{"$f":"EOMONTH(D2446,0)","v":{"$error":"#N/A"}}]
[null,null,null,{"$f":"VLOOKUP($C2447,'SEI ISD'!$A$4:$B$124,2,0)","v":{"$error":"#N/A"}},null,null,null,null,1.645E-3,3.5608300000000001E-3,"","","/",{"$error":"#N/A"}]
[null,null,null,{"$f":"VLOOKUP($C2448,'SEI ISD'!$A$4:$B$124,2,0)","v":{"$error":"#N/A"}},null,null,null,null,1.645E-3,3.5608300000000001E-3,"","","/",{"$error":"#N/A"}]
[null,null,null,{"$f":"VLOOKUP($C2449,'SEI ISD'!$A$4:$B$124,2,0)","v":{"$error":"#N/A"}},null,null,null,null,1.645E-3,3.5608300000000001E-3,"","","/",{"$error":"#N/A"}]
[null,null,null,{"$f":"VLOOKUP($C2450,'SEI ISD'!$A$4:$B$124,2,0)","v":{"$error":"#N/A"}},null,null,null,null,1.645E-3,3.5608300000000001E-3,"","","/",{"$error":"#N/A"}]
[null,null,null,{"$f":"VLOOKUP($C2451,'SEI ISD'!$A$4:$B$124,2,0)","v":{"$error":"#N/A"}},null,null,null,null,1.645E-3,3.5608300000000001E-3,"","","/",{"$error":"#N/A"}]
[null,null,null,{"$f":"VLOOKUP($C2452,'SEI ISD'!$A$4:$B$124,2,0)","v":{"$error":"#N/A"}},null,null,null,null,1.645E-3,3.5608300000000001E-3,"","","/",{"$error":"#N/A"}]
[null,null,null,{"$f":"VLOOKUP($C2453,'SEI ISD'!$A$4:$B$124,2,0)","v":{"$error":"#N/A"}},null,null,null,null,1.645E-3,3.5608300000000001E-3,"","","/",{"$error":"#N/A"}]
[null,null,null,{"$f":"VLOOKUP($C2454,'SEI ISD'!$A$4:$B$124,2,0)","v":{"$error":"#N/A"}},null,null,null,null,1.645E-3,3.5608300000000001E-3,"","","/",{"$error":"#N/A"}]
[null,null,null,{"$f":"VLOOKUP($C2455,'SEI ISD'!$A$4:$B$124,2,0)","v":{"$error":"#N/A"}},null,null,null,null,1.645E-3,3.5608300000000001E-3,"","","/",{"$error":"#N/A"}]
[null,null,null,{"$f":"VLOOKUP($C2456,'SEI ISD'!$A$4:$B$124,2,0)","v":{"$error":"#N/A"}},null,null,null,null,1.645E-3,3.5608300000000001E-3,"","","/",{"$error":"#N/A"}]
[null,null,null,{"$f":"VLOOKUP($C2457,'SEI ISD'!$A$4:$B$124,2,0)","v":{"$error":"#N/A"}},null,null,null,null,1.645E-3,3.5608300000000001E-3,"","","/",{"$error":"#N/A"}]
[null,null,null,{"$f":"VLOOKUP($C2458,'SEI ISD'!$A$4:$B$124,2,0)","v":{"$error":"#N/A"}},null,null,null,null,1.645E-3,3.5608300000000001E-3,"","","/",{"$error":"#N/A"}]
[null,null,null,{"$f":"VLOOKUP($C2459,'SEI ISD'!$A$4:$B$124,2,0)","v":{"$error":"#N/A"}},null,null,null,null,1.645E-3,3.5608300000000001E-3,"","","/",{"$error":"#N/A"}]
[null,null,null,{"$f":"VLOOKUP($C2460,'SEI ISD'!$A$4:$B$124,2,0)","v":{"$error":"#N/A"}},null,null,null,null,1.645E-3,3.5608300000000001E-3,"","","/",{"$error":"#N/A"}]
[null,null,null,{"$f":"VLOOKUP($C2461,'SEI ISD'!$A$4:$B$124,2,0)","v":{"$error":"#N/A"}},null,null,null,null,1.645E-3,3.5608300000000001E-3,"","","/",{"$error":"#N/A"}]
[null,null,null,{"$f":"VLOOKUP($C2462,'SEI ISD'!$A$4:$B$124,2,0)","v":{"$error":"#N/A"}},null,null,null,null,1.645E-3,3.5608300000000001E-3,"","","/",{"$error":"#N/A"}]
[null,null,null,{"$f":"VLOOKUP($C2463,'SEI ISD'!$A$4:$B$124,2,0)","v":{"$error":"#N/A"}},null,null,null,null,1.645E-3,3.5608300000000001E-3,"","","/",{"$error":"#N/A"}]
[null,null,null,{"$f":"VLOOKUP($C2464,'SEI ISD'!$A$4:$B$124,2,0)","v":{"$error":"#N/A"}},null,null,null,null,1.645E-3,3.5608300000000001E-3,"","","/",{"$error":"#N/A"}]
[null,null,null,{"$f":"VLOOKUP($C2465,'SEI ISD'!$A$4:$B$124,2,0)","v":{"$error":"#N/A"}},null,null,null,null,1.645E-3,3.5608300000000001E-3,"","","/",{"$error":"#N/A"}]
[null,null,null,{"$f":"VLOOKUP($C2466,'SEI ISD'!$A$4:$B$124,2,0)","v":{"$error":"#N/A"}},null,null,null,null,1.645E-3,3.5608300000000001E-3,"","","/",{"$error":"#N/A"}]
[null,null,null,{"$f":"VLOOKUP($C2467,'SEI ISD'!$A$4:$B$124,2,0)","v":{"$error":"#N/A"}},null,null,null,null,1.645E-3,3.5608300000000001E-3,"","","/",{"$error":"#N/A"}]
[null,null,null,{"$f":"VLOOKUP($C2468,'SEI ISD'!$A$4:$B$124,2,0)","v":{"$error":"#N/A"}},null,null,null,null,1.645E-3,3.5608300000000001E-3,"","","/",{"$error":"#N/A"}]
[null,null,null,{"$f":"VLOOKUP($C2469,'SEI ISD'!$A$4:$B$124,2,0)","v":{"$error":"#N/A"}},null,null,null,null,1.645E-3,3.5608300000000001E-3,"","","/",{"$error":"#N/A"}]
[null,null,null,{"$f":"VLOOKUP($C2470,'SEI ISD'!$A$4:$B$124,2,0)","v":{"$error":"#N/A"}},null,null,null,null,1.645E-3,3.5608300000000001E-3,"","","/",{"$error":"#N/A"}]
[null,null,null,{"$f":"VLOOKUP($C2471,'SEI ISD'!$A$4:$B$124,2,0)","v":{"$error":"#N/A"}},null,null,null,null,1.645E-3,3.5608300000000001E-3,"","","/",{"$error":"#N/A"}]
[null,null,null,{"$f":"VLOOKUP($C2472,'SEI ISD'!$A$4:$B$124,2,0)","v":{"$error":"#N/A"}},null,null,null,null,1.645E-3,3.5608300000000001E-3,"","","/",{"$error":"#N/A"}]
[null,null,null,{"$f":"VLOOKUP($C2473,'SEI ISD'!$A$4:$B$124,2,0)","v":{"$error":"#N/A"}},null,null,null,null,1.645E-3,3.5608300000000001E-3,"","","/",{"$error":"#N/A"}]
[null,null,null,{"$f":"VLOOKUP($C2474,'SEI ISD'!$A$4:$B$124,2,0)","v":{"$error":"#N/A"}},null,null,null,null,1.645E-3,3.5608300000000001E-3,"","","/",{"$error":"#N/A"}]
[null,null,null,{"$f":"VLOOKUP($C2475,'SEI ISD'!$A$4:$B$124,2,0)","v":{"$error":"#N/A"}},null,null,null,null,1.645E-3,3.5608300000000001E-3,"","","/",{"$error":"#N/A"}]
[null,null,null,{"$f":"VLOOKUP($C2476,'SEI ISD'!$A$4:$B$124,2,0)","v":{"$error":"#N/A"}},null,null,null,null,1.645E-3,3.5608300000000001E-3,"","","/",{"$error":"#N/A"}]
[null,null,null,{"$f":"VLOOKUP($C2477,'SEI ISD'!$A$4:$B$124,2,0)","v":{"$error":"#N/A"}},null,null,null,null,1.645E-3,3.5608300000000001E-3,"","","/",{"$error":"#N/A"}]
[null,null,null,{"$f":"VLOOKUP($C2478,'SEI ISD'!$A$4:$B$124,2,0)","v":{"$error":"#N/A"}},null,null,null,null,1.645E-3,3.5608300000000001E-3,"","","/",{"$error":"#N/A"}]
[null,null,null,{"$f":"VLOOKUP($C2479,'SEI ISD'!$A$4:$B$124,2,0)","v":{"$error":"#N/A"}},null,null,null,null,1.645E-3,3.5608300000000001E-3,"","","/",{"$error":"#N/A"}]
[null,null,null,{"$f":"VLOOKUP($C2480,'SEI ISD'!$A$4:$B$124,2,0)","v":{"$error":"#N/A"}},null,null,null,null,1.645E-3,3.5608300000000001E-3,"","","/",{"$error":"#N/A"}]
[null,null,null,{"$f":"VLOOKUP($C2481,'SEI ISD'!$A$4:$B$124,2,0)","v":{"$error":"#N/A"}},null,null,null,null,1.645E-3,3.5608300000000001E-3,"","","/",{"$error":"#N/A"}]
[null,null,null,{"$f":"VLOOKUP($C2482,'SEI ISD'!$A$4:$B$124,2,0)","v":{"$error":"#N/A"}},null,null,null,null,1.645E-3,3.5608300000000001E-3,"","","/",{"$error":"#N/A"}]
[null,null,null,{"$f":"VLOOKUP($C2483,'SEI ISD'!$A$4:$B$124,2,0)","v":{"$error":"#N/A"}},null,null,null,null,1.645E-3,3.5608300000000001E-3,"","","/",{"$error":"#N/A"}]
[null,null,null,{"$f":"VLOOKUP($C2484,'SEI ISD'!$A$4:$B$124,2,0)","v":{"$error":"#N/A"}},null,null,null,null,1.645E-3,3.5608300000000001E-3,"","","/",{"$error":"#N/A"}]
[null,null,null,{"$f":"VLOOKUP($C2485,'SEI ISD'!$A$4:$B$124,2,0)","v":{"$error":"#N/A"}},null,null,null,null,1.645E-3,3.5608300000000001E-3,"","","/",{"$error":"#N/A"}]
[null,null,null,{"$f":"VLOOKUP($C2486,'SEI ISD'!$A$4:$B$124,2,0)","v":{"$error":"#N/A"}},null,null,null,null,1.645E-3,3.5608300000000001E-3,"","","/",{"$error":"#N/A"}]
[null,null,null,{"$f":"VLOOKUP($C2487,'SEI ISD'!$A$4:$B$124,2,0)","v":{"$error":"#N/A"}},null,null,null,null,1.645E-3,3.5608300000000001E-3,"","","/",{"$error":"#N/A"}]
[null,null,null,{"$f":"VLOOKUP($C2488,'SEI ISD'!$A$4:$B$124,2,0)","v":{"$error":"#N/A"}},null,null,null,null,1.645E-3,3.5608300000000001E-3,"","","/",{"$error":"#N/A"}]
[null,null,null,{"$f":"VLOOKUP($C2489,'SEI ISD'!$A$4:$B$124,2,0)","v":{"$error":"#N/A"}},null,null,null,null,1.645E-3,3.5608300000000001E-3,"","","/",{"$error":"#N/A"}]
[null,null,null,{"$f":"VLOOKUP($C2490,'SEI ISD'!$A$4:$B$124,2,0)","v":{"$error":"#N/A"}},null,null,null,null,1.645E-3,3.5608300000000001E-3,"","","/",{"$error":"#N/A"}]
[null,null,null,{"$f":"VLOOKUP($C2491,'SEI ISD'!$A$4:$B$124,2,0)","v":{"$error":"#N/A"}},null,null,null,null,1.645E-3,3.5608300000000001E-3,"","","/",{"$error":"#N/A"}]
[null,null,null,{"$f":"VLOOKUP($C2492,'SEI ISD'!$A$4:$B$124,2,0)","v":{"$error":"#N/A"}},null,null,null,null,1.645E-3,3.5608300000000001E-3,"","","/",{"$error":"#N/A"}]
[null,null,null,{"$f":"VLOOKUP($C2493,'SEI ISD'!$A$4:$B$124,2,0)","v":{"$error":"#N/A"}},null,null,null,null,1.645E-3,3.5608300000000001E-3,"","","/",{"$error":"#N/A"}]
[null,null,null,{"$f":"VLOOKUP($C2494,'SEI ISD'!$A$4:$B$124,2,0)","v":{"$error":"#N/A"}},null,null,null,null,1.645E-3,3.5608300000000001E-3,"","","/",{"$error":"#N/A"}]
[null,null,null,{"$f":"VLOOKUP($C2495,'SEI ISD'!$A$4:$B$124,2,0)","v":{"$error":"#N/A"}},null,null,null,null,1.645E-3,3.5608300000000001E-3,"","","/",{"$error":"#N/A"}]
[null,null,null,{"$f":"VLOOKUP($C2496,'SEI ISD'!$A$4:$B$124,2,0)","v":{"$error":"#N/A"}},null,null,null,null,1.645E-3,3.5608300000000001E-3,"","","/",{"$error":"#N/A"}]
[null,null,null,{"$f":"VLOOKUP($C2497,'SEI ISD'!$A$4:$B$124,2,0)","v":{"$error":"#N/A"}},null,null,null,null,1.645E-3,3.5608300000000001E-3,"","","/",{"$error":"#N/A"}]
[null,null,null,{"$f":"VLOOKUP($C2498,'SEI ISD'!$A$4:$B$124,2,0)","v":{"$error":"#N/A"}},null,null,null,null,1.645E-3,3.5608300000000001E-3,"","","/",{"$error":"#N/A"}]
[null,null,null,{"$f":"VLOOKUP($C2499,'SEI ISD'!$A$4:$B$124,2,0)","v":{"$error":"#N/A"}},null,null,null,null,1.645E-3,3.5608300000000001E-3,"","","/",{"$error":"#N/A"}]
[null,null,null,{"$f":"VLOOKUP($C2500,'SEI ISD'!$A$4:$B$124,2,0)","v":{"$error":"#N/A"}},null,null,null,null,1.645E-3,3.5608300000000001E-3,"","","/",{"$error":"#N/A"}]
[null,null,null,{"$f":"VLOOKUP($C2501,'SEI ISD'!$A$4:$B$124,2,0)","v":{"$error":"#N/A"}},null,null,null,null,1.645E-3,3.5608300000000001E-3,"","","/",{"$error":"#N/A"}]
[null,null,null,{"$f":"VLOOKUP($C2502,'SEI ISD'!$A$4:$B$124,2,0)","v":{"$error":"#N/A"}},null,null,null,null,1.645E-3,3.5608300000000001E-3,"","","/",{"$error":"#N/A"}]
[null,null,null,{"$f":"VLOOKUP($C2503,'SEI ISD'!$A$4:$B$124,2,0)","v":{"$error":"#N/A"}},null,null,null,null,1.645E-3,3.5608300000000001E-3,"","","/",{"$error":"#N/A"}]
[null,null,null,{"$f":"VLOOKUP($C2504,'SEI ISD'!$A$4:$B$124,2,0)","v":{"$error":"#N/A"}},null,null,null,null,1.645E-3,3.5608300000000001E-3,"","","/",{"$error":"#N/A"}]
[null,null,null,{"$f":"VLOOKUP($C2505,'SEI ISD'!$A$4:$B$124,2,0)","v":{"$error":"#N/A"}},null,null,null,null,1.645E-3,3.5608300000000001E-3,"","","/",{"$error":"#N/A"}]
[null,null,null,{"$f":"VLOOKUP($C2506,'SEI ISD'!$A$4:$B$124,2,0)","v":{"$error":"#N/A"}},null,null,null,null,1.645E-3,3.5608300000000001E-3,"","","/",{"$error":"#N/A"}]
[null,null,null,{"$f":"VLOOKUP($C2507,'SEI ISD'!$A$4:$B$124,2,0)","v":{"$error":"#N/A"}},null,null,null,null,1.645E-3,3.5608300000000001E-3,"","","/",{"$error":"#N/A"}]
[null,null,null,{"$f":"VLOOKUP($C2508,'SEI ISD'!$A$4:$B$124,2,0)","v":{"$error":"#N/A"}},null,null,null,null,1.645E-3,3.5608300000000001E-3,"","","/",{"$error":"#N/A"}]
[null,null,null,{"$f":"VLOOKUP($C2509,'SEI ISD'!$A$4:$B$124,2,0)","v":{"$error":"#N/A"}},null,null,null,null,1.645E-3,3.5608300000000001E-3,"","","/",{"$error":"#N/A"}]
[null,null,null,{"$f":"VLOOKUP($C2510,'SEI ISD'!$A$4:$B$124,2,0)","v":{"$error":"#N/A"}},null,null,null,null,1.645E-3,3.5608300000000001E-3,{"$f":"RIGHT(G2510,2)","v":""},{"$f":"LEFT(G2510,4)","v":""},{"$f":"_xlfn.CONCAT(K2510,\"/\",L2510)","v":"/"},{"$f":"EOMONTH(D2510,0)","v":{"$error":"#N/A"}}]
[null,null,null,{"$f":"VLOOKUP($C2511,'SEI ISD'!$A$4:$B$124,2,0)","v":{"$error":"#N/A"}},null,null,null,null,1.645E-3,3.5608300000000001E-3,"","","/",{"$error":"#N/A"}]
[null,null,null,{"$f":"VLOOKUP($C2512,'SEI ISD'!$A$4:$B$124,2,0)","v":{"$error":"#N/A"}},null,null,null,null,1.645E-3,3.5608300000000001E-3,"","","/",{"$error":"#N/A"}]
[null,null,null,{"$f":"VLOOKUP($C2513,'SEI ISD'!$A$4:$B$124,2,0)","v":{"$error":"#N/A"}},null,null,null,null,1.645E-3,3.5608300000000001E-3,"","","/",{"$error":"#N/A"}]
[null,null,null,{"$f":"VLOOKUP($C2514,'SEI ISD'!$A$4:$B$124,2,0)","v":{"$error":"#N/A"}},null,null,null,null,1.645E-3,3.5608300000000001E-3,"","","/",{"$error":"#N/A"}]
[null,null,null,{"$f":"VLOOKUP($C2515,'SEI ISD'!$A$4:$B$124,2,0)","v":{"$error":"#N/A"}},null,null,null,null,1.645E-3,3.5608300000000001E-3,"","","/",{"$error":"#N/A"}]
[null,null,null,{"$f":"VLOOKUP($C2516,'SEI ISD'!$A$4:$B$124,2,0)","v":{"$error":"#N/A"}},null,null,null,null,1.645E-3,3.5608300000000001E-3,"","","/",{"$error":"#N/A"}]
[null,null,null,{"$f":"VLOOKUP($C2517,'SEI ISD'!$A$4:$B$124,2,0)","v":{"$error":"#N/A"}},null,null,null,null,1.645E-3,3.5608300000000001E-3,"","","/",{"$error":"#N/A"}]
[null,null,null,{"$f":"VLOOKUP($C2518,'SEI ISD'!$A$4:$B$124,2,0)","v":{"$error":"#N/A"}},null,null,null,null,1.645E-3,3.5608300000000001E-3,"","","/",{"$error":"#N/A"}]
[null,null,null,{"$f":"VLOOKUP($C2519,'SEI ISD'!$A$4:$B$124,2,0)","v":{"$error":"#N/A"}},null,null,null,null,1.645E-3,3.5608300000000001E-3,"","","/",{"$error":"#N/A"}]
[null,null,null,{"$f":"VLOOKUP($C2520,'SEI ISD'!$A$4:$B$124,2,0)","v":{"$error":"#N/A"}},null,null,null,null,1.645E-3,3.5608300000000001E-3,"","","/",{"$error":"#N/A"}]
[null,null,null,{"$f":"VLOOKUP($C2521,'SEI ISD'!$A$4:$B$124,2,0)","v":{"$error":"#N/A"}},null,null,null,null,1.645E-3,3.5608300000000001E-3,"","","/",{"$error":"#N/A"}]
[null,null,null,{"$f":"VLOOKUP($C2522,'SEI ISD'!$A$4:$B$124,2,0)","v":{"$error":"#N/A"}},null,null,null,null,1.645E-3,3.5608300000000001E-3,"","","/",{"$error":"#N/A"}]
[null,null,null,{"$f":"VLOOKUP($C2523,'SEI ISD'!$A$4:$B$124,2,0)","v":{"$error":"#N/A"}},null,null,null,null,1.645E-3,3.5608300000000001E-3,"","","/",{"$error":"#N/A"}]
[null,null,null,{"$f":"VLOOKUP($C2524,'SEI ISD'!$A$4:$B$124,2,0)","v":{"$error":"#N/A"}},null,null,null,null,1.645E-3,3.5608300000000001E-3,"","","/",{"$error":"#N/A"}]
[null,null,null,{"$f":"VLOOKUP($C2525,'SEI ISD'!$A$4:$B$124,2,0)","v":{"$error":"#N/A"}},null,null,null,null,1.645E-3,3.5608300000000001E-3,"","","/",{"$error":"#N/A"}]
[null,null,null,{"$f":"VLOOKUP($C2526,'SEI ISD'!$A$4:$B$124,2,0)","v":{"$error":"#N/A"}},null,null,null,null,1.645E-3,3.5608300000000001E-3,"","","/",{"$error":"#N/A"}]
[null,null,null,{"$f":"VLOOKUP($C2527,'SEI ISD'!$A$4:$B$124,2,0)","v":{"$error":"#N/A"}},null,null,null,null,1.645E-3,3.5608300000000001E-3,"","","/",{"$error":"#N/A"}]
[null,null,null,{"$f":"VLOOKUP($C2528,'SEI ISD'!$A$4:$B$124,2,0)","v":{"$error":"#N/A"}},null,null,null,null,1.645E-3,3.5608300000000001E-3,"","","/",{"$error":"#N/A"}]
[null,null,null,{"$f":"VLOOKUP($C2529,'SEI ISD'!$A$4:$B$124,2,0)","v":{"$error":"#N/A"}},null,null,null,null,1.645E-3,3.5608300000000001E-3,"","","/",{"$error":"#N/A"}]
[null,null,null,{"$f":"VLOOKUP($C2530,'SEI ISD'!$A$4:$B$124,2,0)","v":{"$error":"#N/A"}},null,null,null,null,1.645E-3,3.5608300000000001E-3,"","","/",{"$error":"#N/A"}]
[null,null,null,{"$f":"VLOOKUP($C2531,'SEI ISD'!$A$4:$B$124,2,0)","v":{"$error":"#N/A"}},null,null,null,null,1.645E-3,3.5608300000000001E-3,"","","/",{"$error":"#N/A"}]
[null,null,null,{"$f":"VLOOKUP($C2532,'SEI ISD'!$A$4:$B$124,2,0)","v":{"$error":"#N/A"}},null,null,null,null,1.645E-3,3.5608300000000001E-3,"","","/",{"$error":"#N/A"}]
[null,null,null,{"$f":"VLOOKUP($C2533,'SEI ISD'!$A$4:$B$124,2,0)","v":{"$error":"#N/A"}},null,null,null,null,1.645E-3,3.5608300000000001E-3,"","","/",{"$error":"#N/A"}]
[null,null,null,{"$f":"VLOOKUP($C2534,'SEI ISD'!$A$4:$B$124,2,0)","v":{"$error":"#N/A"}},null,null,null,null,1.645E-3,3.5608300000000001E-3,"","","/",{"$error":"#N/A"}]
[null,null,null,{"$f":"VLOOKUP($C2535,'SEI ISD'!$A$4:$B$124,2,0)","v":{"$error":"#N/A"}},null,null,null,null,1.645E-3,3.5608300000000001E-3,"","","/",{"$error":"#N/A"}]
[null,null,null,{"$f":"VLOOKUP($C2536,'SEI ISD'!$A$4:$B$124,2,0)","v":{"$error":"#N/A"}},null,null,null,null,1.645E-3,3.5608300000000001E-3,"","","/",{"$error":"#N/A"}]
[null,null,null,{"$f":"VLOOKUP($C2537,'SEI ISD'!$A$4:$B$124,2,0)","v":{"$error":"#N/A"}},null,null,null,null,1.645E-3,3.5608300000000001E-3,"","","/",{"$error":"#N/A"}]
[null,null,null,{"$f":"VLOOKUP($C2538,'SEI ISD'!$A$4:$B$124,2,0)","v":{"$error":"#N/A"}},null,null,null,null,1.645E-3,3.5608300000000001E-3,"","","/",{"$error":"#N/A"}]
[null,null,null,{"$f":"VLOOKUP($C2539,'SEI ISD'!$A$4:$B$124,2,0)","v":{"$error":"#N/A"}},null,null,null,null,1.645E-3,3.5608300000000001E-3,"","","/",{"$error":"#N/A"}]
[null,null,null,{"$f":"VLOOKUP($C2540,'SEI ISD'!$A$4:$B$124,2,0)","v":{"$error":"#N/A"}},null,null,null,null,1.645E-3,3.5608300000000001E-3,"","","/",{"$error":"#N/A"}]
[null,null,null,{"$f":"VLOOKUP($C2541,'SEI ISD'!$A$4:$B$124,2,0)","v":{"$error":"#N/A"}},null,null,null,null,1.645E-3,3.5608300000000001E-3,"","","/",{"$error":"#N/A"}]
[null,null,null,{"$f":"VLOOKUP($C2542,'SEI ISD'!$A$4:$B$124,2,0)","v":{"$error":"#N/A"}},null,null,null,null,1.645E-3,3.5608300000000001E-3,"","","/",{"$error":"#N/A"}]
[null,null,null,{"$f":"VLOOKUP($C2543,'SEI ISD'!$A$4:$B$124,2,0)","v":{"$error":"#N/A"}},null,null,null,null,1.645E-3,3.5608300000000001E-3,"","","/",{"$error":"#N/A"}]
[null,null,null,{"$f":"VLOOKUP($C2544,'SEI ISD'!$A$4:$B$124,2,0)","v":{"$error":"#N/A"}},null,null,null,null,1.645E-3,3.5608300000000001E-3,"","","/",{"$error":"#N/A"}]
[null,null,null,{"$f":"VLOOKUP($C2545,'SEI ISD'!$A$4:$B$124,2,0)","v":{"$error":"#N/A"}},null,null,null,null,1.645E-3,3.5608300000000001E-3,"","","/",{"$error":"#N/A"}]
[null,null,null,{"$f":"VLOOKUP($C2546,'SEI ISD'!$A$4:$B$124,2,0)","v":{"$error":"#N/A"}},null,null,null,null,1.645E-3,3.5608300000000001E-3,"","","/",{"$error":"#N/A"}]
[null,null,null,{"$f":"VLOOKUP($C2547,'SEI ISD'!$A$4:$B$124,2,0)","v":{"$error":"#N/A"}},null,null,null,null,1.645E-3,3.5608300000000001E-3,"","","/",{"$error":"#N/A"}]
[null,null,null,{"$f":"VLOOKUP($C2548,'SEI ISD'!$A$4:$B$124,2,0)","v":{"$error":"#N/A"}},null,null,null,null,1.645E-3,3.5608300000000001E-3,"","","/",{"$error":"#N/A"}]
[null,null,null,{"$f":"VLOOKUP($C2549,'SEI ISD'!$A$4:$B$124,2,0)","v":{"$error":"#N/A"}},null,null,null,null,1.645E-3,3.5608300000000001E-3,"","","/",{"$error":"#N/A"}]
[null,null,null,{"$f":"VLOOKUP($C2550,'SEI ISD'!$A$4:$B$124,2,0)","v":{"$error":"#N/A"}},null,null,null,null,1.645E-3,3.5608300000000001E-3,"","","/",{"$error":"#N/A"}]
[null,null,null,{"$f":"VLOOKUP($C2551,'SEI ISD'!$A$4:$B$124,2,0)","v":{"$error":"#N/A"}},null,null,null,null,1.645E-3,3.5608300000000001E-3,"","","/",{"$error":"#N/A"}]
[null,null,null,{"$f":"VLOOKUP($C2552,'SEI ISD'!$A$4:$B$124,2,0)","v":{"$error":"#N/A"}},null,null,null,null,1.645E-3,3.5608300000000001E-3,"","","/",{"$error":"#N/A"}]
[null,null,null,{"$f":"VLOOKUP($C2553,'SEI ISD'!$A$4:$B$124,2,0)","v":{"$error":"#N/A"}},null,null,null,null,1.645E-3,3.5608300000000001E-3,"","","/",{"$error":"#N/A"}]
[null,null,null,{"$f":"VLOOKUP($C2554,'SEI ISD'!$A$4:$B$124,2,0)","v":{"$error":"#N/A"}},null,null,null,null,1.645E-3,3.5608300000000001E-3,"","","/",{"$error":"#N/A"}]
[null,null,null,{"$f":"VLOOKUP($C2555,'SEI ISD'!$A$4:$B$124,2,0)","v":{"$error":"#N/A"}},null,null,null,null,1.645E-3,3.5608300000000001E-3,"","","/",{"$error":"#N/A"}]
[null,null,null,{"$f":"VLOOKUP($C2556,'SEI ISD'!$A$4:$B$124,2,0)","v":{"$error":"#N/A"}},null,null,null,null,1.645E-3,3.5608300000000001E-3,"","","/",{"$error":"#N/A"}]
[null,null,null,{"$f":"VLOOKUP($C2557,'SEI ISD'!$A$4:$B$124,2,0)","v":{"$error":"#N/A"}},null,null,null,null,1.645E-3,3.5608300000000001E-3,"","","/",{"$error":"#N/A"}]
[null,null,null,{"$f":"VLOOKUP($C2558,'SEI ISD'!$A$4:$B$124,2,0)","v":{"$error":"#N/A"}},null,null,null,null,1.645E-3,3.5608300000000001E-3,"","","/",{"$error":"#N/A"}]
[null,null,null,{"$f":"VLOOKUP($C2559,'SEI ISD'!$A$4:$B$124,2,0)","v":{"$error":"#N/A"}},null,null,null,null,1.645E-3,3.5608300000000001E-3,"","","/",{"$error":"#N/A"}]
[null,null,null,{"$f":"VLOOKUP($C2560,'SEI ISD'!$A$4:$B$124,2,0)","v":{"$error":"#N/A"}},null,null,null,null,1.645E-3,3.5608300000000001E-3,"","","/",{"$error":"#N/A"}]
[null,null,null,{"$f":"VLOOKUP($C2561,'SEI ISD'!$A$4:$B$124,2,0)","v":{"$error":"#N/A"}},null,null,null,null,1.645E-3,3.5608300000000001E-3,"","","/",{"$error":"#N/A"}]
[null,null,null,{"$f":"VLOOKUP($C2562,'SEI ISD'!$A$4:$B$124,2,0)","v":{"$error":"#N/A"}},null,null,null,null,1.645E-3,3.5608300000000001E-3,"","","/",{"$error":"#N/A"}]
[null,null,null,{"$f":"VLOOKUP($C2563,'SEI ISD'!$A$4:$B$124,2,0)","v":{"$error":"#N/A"}},null,null,null,null,1.645E-3,3.5608300000000001E-3,"","","/",{"$error":"#N/A"}]
[null,null,null,{"$f":"VLOOKUP($C2564,'SEI ISD'!$A$4:$B$124,2,0)","v":{"$error":"#N/A"}},null,null,null,null,1.645E-3,3.5608300000000001E-3,"","","/",{"$error":"#N/A"}]
[null,null,null,{"$f":"VLOOKUP($C2565,'SEI ISD'!$A$4:$B$124,2,0)","v":{"$error":"#N/A"}},null,null,null,null,1.645E-3,3.5608300000000001E-3,"","","/",{"$error":"#N/A"}]
[null,null,null,{"$f":"VLOOKUP($C2566,'SEI ISD'!$A$4:$B$124,2,0)","v":{"$error":"#N/A"}},null,null,null,null,1.645E-3,3.5608300000000001E-3,"","","/",{"$error":"#N/A"}]
[null,null,null,{"$f":"VLOOKUP($C2567,'SEI ISD'!$A$4:$B$124,2,0)","v":{"$error":"#N/A"}},null,null,null,null,1.645E-3,3.5608300000000001E-3,"","","/",{"$error":"#N/A"}]
[null,null,null,{"$f":"VLOOKUP($C2568,'SEI ISD'!$A$4:$B$124,2,0)","v":{"$error":"#N/A"}},null,null,null,null,1.645E-3,3.5608300000000001E-3,"","","/",{"$error":"#N/A"}]
[null,null,null,{"$f":"VLOOKUP($C2569,'SEI ISD'!$A$4:$B$124,2,0)","v":{"$error":"#N/A"}},null,null,null,null,1.645E-3,3.5608300000000001E-3,"","","/",{"$error":"#N/A"}]
[null,null,null,{"$f":"VLOOKUP($C2570,'SEI ISD'!$A$4:$B$124,2,0)","v":{"$error":"#N/A"}},null,null,null,null,1.645E-3,3.5608300000000001E-3,"","","/",{"$error":"#N/A"}]
[null,null,null,{"$f":"VLOOKUP($C2571,'SEI ISD'!$A$4:$B$124,2,0)","v":{"$error":"#N/A"}},null,null,null,null,1.645E-3,3.5608300000000001E-3,"","","/",{"$error":"#N/A"}]
[null,null,null,{"$f":"VLOOKUP($C2572,'SEI ISD'!$A$4:$B$124,2,0)","v":{"$error":"#N/A"}},null,null,null,null,1.645E-3,3.5608300000000001E-3,"","","/",{"$error":"#N/A"}]
[null,null,null,{"$f":"VLOOKUP($C2573,'SEI ISD'!$A$4:$B$124,2,0)","v":{"$error":"#N/A"}},null,null,null,null,1.645E-3,3.5608300000000001E-3,"","","/",{"$error":"#N/A"}]
[null,null,null,{"$f":"VLOOKUP($C2574,'SEI ISD'!$A$4:$B$124,2,0)","v":{"$error":"#N/A"}},null,null,null,null,1.645E-3,3.5608300000000001E-3,{"$f":"RIGHT(G2574,2)","v":""},{"$f":"LEFT(G2574,4)","v":""},{"$f":"_xlfn.CONCAT(K2574,\"/\",L2574)","v":"/"},{"$f":"EOMONTH(D2574,0)","v":{"$error":"#N/A"}}]
[null,null,null,{"$f":"VLOOKUP($C2575,'SEI ISD'!$A$4:$B$124,2,0)","v":{"$error":"#N/A"}},null,null,null,null,1.645E-3,3.5608300000000001E-3,"","","/",{"$error":"#N/A"}]
[null,null,null,{"$f":"VLOOKUP($C2576,'SEI ISD'!$A$4:$B$124,2,0)","v":{"$error":"#N/A"}},null,null,null,null,1.645E-3,3.5608300000000001E-3,"","","/",{"$error":"#N/A"}]
[null,null,null,{"$f":"VLOOKUP($C2577,'SEI ISD'!$A$4:$B$124,2,0)","v":{"$error":"#N/A"}},null,null,null,null,1.645E-3,3.5608300000000001E-3,"","","/",{"$error":"#N/A"}]
[null,null,null,{"$f":"VLOOKUP($C2578,'SEI ISD'!$A$4:$B$124,2,0)","v":{"$error":"#N/A"}},null,null,null,null,1.645E-3,3.5608300000000001E-3,"","","/",{"$error":"#N/A"}]
[null,null,null,{"$f":"VLOOKUP($C2579,'SEI ISD'!$A$4:$B$124,2,0)","v":{"$error":"#N/A"}},null,null,null,null,1.645E-3,3.5608300000000001E-3,"","","/",{"$error":"#N/A"}]
[null,null,null,{"$f":"VLOOKUP($C2580,'SEI ISD'!$A$4:$B$124,2,0)","v":{"$error":"#N/A"}},null,null,null,null,1.645E-3,3.5608300000000001E-3,"","","/",{"$error":"#N/A"}]
[null,null,null,{"$f":"VLOOKUP($C2581,'SEI ISD'!$A$4:$B$124,2,0)","v":{"$error":"#N/A"}},null,null,null,null,1.645E-3,3.5608300000000001E-3,"","","/",{"$error":"#N/A"}]
[null,null,null,{"$f":"VLOOKUP($C2582,'SEI ISD'!$A$4:$B$124,2,0)","v":{"$error":"#N/A"}},null,null,null,null,1.645E-3,3.5608300000000001E-3,"","","/",{"$error":"#N/A"}]
[null,null,null,{"$f":"VLOOKUP($C2583,'SEI ISD'!$A$4:$B$124,2,0)","v":{"$error":"#N/A"}},null,null,null,null,1.645E-3,3.5608300000000001E-3,"","","/",{"$error":"#N/A"}]
[null,null,null,{"$f":"VLOOKUP($C2584,'SEI ISD'!$A$4:$B$124,2,0)","v":{"$error":"#N/A"}},null,null,null,null,1.645E-3,3.5608300000000001E-3,"","","/",{"$error":"#N/A"}]
[null,null,null,{"$f":"VLOOKUP($C2585,'SEI ISD'!$A$4:$B$124,2,0)","v":{"$error":"#N/A"}},null,null,null,null,1.645E-3,3.5608300000000001E-3,"","","/",{"$error":"#N/A"}]
[null,null,null,{"$f":"VLOOKUP($C2586,'SEI ISD'!$A$4:$B$124,2,0)","v":{"$error":"#N/A"}},null,null,null,null,1.645E-3,3.5608300000000001E-3,"","","/",{"$error":"#N/A"}]
[null,null,null,{"$f":"VLOOKUP($C2587,'SEI ISD'!$A$4:$B$124,2,0)","v":{"$error":"#N/A"}},null,null,null,null,1.645E-3,3.5608300000000001E-3,"","","/",{"$error":"#N/A"}]
[null,null,null,{"$f":"VLOOKUP($C2588,'SEI ISD'!$A$4:$B$124,2,0)","v":{"$error":"#N/A"}},null,null,null,null,1.645E-3,3.5608300000000001E-3,"","","/",{"$error":"#N/A"}]
[null,null,null,{"$f":"VLOOKUP($C2589,'SEI ISD'!$A$4:$B$124,2,0)","v":{"$error":"#N/A"}},null,null,null,null,1.645E-3,3.5608300000000001E-3,"","","/",{"$error":"#N/A"}]
[null,null,null,{"$f":"VLOOKUP($C2590,'SEI ISD'!$A$4:$B$124,2,0)","v":{"$error":"#N/A"}},null,null,null,null,1.645E-3,3.5608300000000001E-3,"","","/",{"$error":"#N/A"}]
[null,null,null,{"$f":"VLOOKUP($C2591,'SEI ISD'!$A$4:$B$124,2,0)","v":{"$error":"#N/A"}},null,null,null,null,1.645E-3,3.5608300000000001E-3,"","","/",{"$error":"#N/A"}]
[null,null,null,{"$f":"VLOOKUP($C2592,'SEI ISD'!$A$4:$B$124,2,0)","v":{"$error":"#N/A"}},null,null,null,null,1.645E-3,3.5608300000000001E-3,"","","/",{"$error":"#N/A"}]
[null,null,null,{"$f":"VLOOKUP($C2593,'SEI ISD'!$A$4:$B$124,2,0)","v":{"$error":"#N/A"}},null,null,null,null,1.645E-3,3.5608300000000001E-3,"","","/",{"$error":"#N/A"}]
[null,null,null,{"$f":"VLOOKUP($C2594,'SEI ISD'!$A$4:$B$124,2,0)","v":{"$error":"#N/A"}},null,null,null,null,1.645E-3,3.5608300000000001E-3,"","","/",{"$error":"#N/A"}]
[null,null,null,{"$f":"VLOOKUP($C2595,'SEI ISD'!$A$4:$B$124,2,0)","v":{"$error":"#N/A"}},null,null,null,null,1.645E-3,3.5608300000000001E-3,"","","/",{"$error":"#N/A"}]
[null,null,null,{"$f":"VLOOKUP($C2596,'SEI ISD'!$A$4:$B$124,2,0)","v":{"$error":"#N/A"}},null,null,null,null,1.645E-3,3.5608300000000001E-3,"","","/",{"$error":"#N/A"}]
[null,null,null,{"$f":"VLOOKUP($C2597,'SEI ISD'!$A$4:$B$124,2,0)","v":{"$error":"#N/A"}},null,null,null,null,1.645E-3,3.5608300000000001E-3,"","","/",{"$error":"#N/A"}]
[null,null,null,{"$f":"VLOOKUP($C2598,'SEI ISD'!$A$4:$B$124,2,0)","v":{"$error":"#N/A"}},null,null,null,null,1.645E-3,3.5608300000000001E-3,"","","/",{"$error":"#N/A"}]
[null,null,null,{"$f":"VLOOKUP($C2599,'SEI ISD'!$A$4:$B$124,2,0)","v":{"$error":"#N/A"}},null,null,null,null,1.645E-3,3.5608300000000001E-3,"","","/",{"$error":"#N/A"}]
[null,null,null,{"$f":"VLOOKUP($C2600,'SEI ISD'!$A$4:$B$124,2,0)","v":{"$error":"#N/A"}},null,null,null,null,1.645E-3,3.5608300000000001E-3,"","","/",{"$error":"#N/A"}]
[null,null,null,{"$f":"VLOOKUP($C2601,'SEI ISD'!$A$4:$B$124,2,0)","v":{"$error":"#N/A"}},null,null,null,null,1.645E-3,3.5608300000000001E-3,"","","/",{"$error":"#N/A"}]
[null,null,null,{"$f":"VLOOKUP($C2602,'SEI ISD'!$A$4:$B$124,2,0)","v":{"$error":"#N/A"}},null,null,null,null,1.645E-3,3.5608300000000001E-3,"","","/",{"$error":"#N/A"}]
[null,null,null,{"$f":"VLOOKUP($C2603,'SEI ISD'!$A$4:$B$124,2,0)","v":{"$error":"#N/A"}},null,null,null,null,1.645E-3,3.5608300000000001E-3,"","","/",{"$error":"#N/A"}]
[null,null,null,{"$f":"VLOOKUP($C2604,'SEI ISD'!$A$4:$B$124,2,0)","v":{"$error":"#N/A"}},null,null,null,null,1.645E-3,3.5608300000000001E-3,"","","/",{"$error":"#N/A"}]
[null,null,null,{"$f":"VLOOKUP($C2605,'SEI ISD'!$A$4:$B$124,2,0)","v":{"$error":"#N/A"}},null,null,null,null,1.645E-3,3.5608300000000001E-3,"","","/",{"$error":"#N/A"}]
[null,null,null,{"$f":"VLOOKUP($C2606,'SEI ISD'!$A$4:$B$124,2,0)","v":{"$error":"#N/A"}},null,null,null,null,1.645E-3,3.5608300000000001E-3,"","","/",{"$error":"#N/A"}]
[null,null,null,{"$f":"VLOOKUP($C2607,'SEI ISD'!$A$4:$B$124,2,0)","v":{"$error":"#N/A"}},null,null,null,null,1.645E-3,3.5608300000000001E-3,"","","/",{"$error":"#N/A"}]
[null,null,null,{"$f":"VLOOKUP($C2608,'SEI ISD'!$A$4:$B$124,2,0)","v":{"$error":"#N/A"}},null,null,null,null,1.645E-3,3.5608300000000001E-3,"","","/",{"$error":"#N/A"}]
[null,null,null,{"$f":"VLOOKUP($C2609,'SEI ISD'!$A$4:$B$124,2,0)","v":{"$error":"#N/A"}},null,null,null,null,1.645E-3,3.5608300000000001E-3,"","","/",{"$error":"#N/A"}]
[null,null,null,{"$f":"VLOOKUP($C2610,'SEI ISD'!$A$4:$B$124,2,0)","v":{"$error":"#N/A"}},null,null,null,null,1.645E-3,3.5608300000000001E-3,"","","/",{"$error":"#N/A"}]
[null,null,null,{"$f":"VLOOKUP($C2611,'SEI ISD'!$A$4:$B$124,2,0)","v":{"$error":"#N/A"}},null,null,null,null,1.645E-3,3.5608300000000001E-3,"","","/",{"$error":"#N/A"}]
[null,null,null,{"$f":"VLOOKUP($C2612,'SEI ISD'!$A$4:$B$124,2,0)","v":{"$error":"#N/A"}},null,null,null,null,1.645E-3,3.5608300000000001E-3,"","","/",{"$error":"#N/A"}]
[null,null,null,{"$f":"VLOOKUP($C2613,'SEI ISD'!$A$4:$B$124,2,0)","v":{"$error":"#N/A"}},null,null,null,null,1.645E-3,3.5608300000000001E-3,"","","/",{"$error":"#N/A"}]
[null,null,null,{"$f":"VLOOKUP($C2614,'SEI ISD'!$A$4:$B$124,2,0)","v":{"$error":"#N/A"}},null,null,null,null,1.645E-3,3.5608300000000001E-3,"","","/",{"$error":"#N/A"}]
[null,null,null,{"$f":"VLOOKUP($C2615,'SEI ISD'!$A$4:$B$124,2,0)","v":{"$error":"#N/A"}},null,null,null,null,1.645E-3,3.5608300000000001E-3,"","","/",{"$error":"#N/A"}]
[null,null,null,{"$f":"VLOOKUP($C2616,'SEI ISD'!$A$4:$B$124,2,0)","v":{"$error":"#N/A"}},null,null,null,null,1.645E-3,3.5608300000000001E-3,"","","/",{"$error":"#N/A"}]
[null,null,null,{"$f":"VLOOKUP($C2617,'SEI ISD'!$A$4:$B$124,2,0)","v":{"$error":"#N/A"}},null,null,null,null,1.645E-3,3.5608300000000001E-3,"","","/",{"$error":"#N/A"}]
[null,null,null,{"$f":"VLOOKUP($C2618,'SEI ISD'!$A$4:$B$124,2,0)","v":{"$error":"#N/A"}},null,null,null,null,1.645E-3,3.5608300000000001E-3,"","","/",{"$error":"#N/A"}]
[null,null,null,{"$f":"VLOOKUP($C2619,'SEI ISD'!$A$4:$B$124,2,0)","v":{"$error":"#N/A"}},null,null,null,null,1.645E-3,3.5608300000000001E-3,"","","/",{"$error":"#N/A"}]
[null,null,null,{"$f":"VLOOKUP($C2620,'SEI ISD'!$A$4:$B$124,2,0)","v":{"$error":"#N/A"}},null,null,null,null,1.645E-3,3.5608300000000001E-3,"","","/",{"$error":"#N/A"}]
[null,null,null,{"$f":"VLOOKUP($C2621,'SEI ISD'!$A$4:$B$124,2,0)","v":{"$error":"#N/A"}},null,null,null,null,1.645E-3,3.5608300000000001E-3,"","","/",{"$error":"#N/A"}]
[null,null,null,{"$f":"VLOOKUP($C2622,'SEI ISD'!$A$4:$B$124,2,0)","v":{"$error":"#N/A"}},null,null,null,null,1.645E-3,3.5608300000000001E-3,"","","/",{"$error":"#N/A"}]
[null,null,null,{"$f":"VLOOKUP($C2623,'SEI ISD'!$A$4:$B$124,2,0)","v":{"$error":"#N/A"}},null,null,null,null,1.645E-3,3.5608300000000001E-3,"","","/",{"$error":"#N/A"}]
[null,null,null,{"$f":"VLOOKUP($C2624,'SEI ISD'!$A$4:$B$124,2,0)","v":{"$error":"#N/A"}},null,null,null,null,1.645E-3,3.5608300000000001E-3,"","","/",{"$error":"#N/A"}]
[null,null,null,{"$f":"VLOOKUP($C2625,'SEI ISD'!$A$4:$B$124,2,0)","v":{"$error":"#N/A"}},null,null,null,null,1.645E-3,3.5608300000000001E-3,"","","/",{"$error":"#N/A"}]
[null,null,null,{"$f":"VLOOKUP($C2626,'SEI ISD'!$A$4:$B$124,2,0)","v":{"$error":"#N/A"}},null,null,null,null,1.645E-3,3.5608300000000001E-3,"","","/",{"$error":"#N/A"}]
[null,null,null,{"$f":"VLOOKUP($C2627,'SEI ISD'!$A$4:$B$124,2,0)","v":{"$error":"#N/A"}},null,null,null,null,1.645E-3,3.5608300000000001E-3,"","","/",{"$error":"#N/A"}]
[null,null,null,{"$f":"VLOOKUP($C2628,'SEI ISD'!$A$4:$B$124,2,0)","v":{"$error":"#N/A"}},null,null,null,null,1.645E-3,3.5608300000000001E-3,"","","/",{"$error":"#N/A"}]
[null,null,null,{"$f":"VLOOKUP($C2629,'SEI ISD'!$A$4:$B$124,2,0)","v":{"$error":"#N/A"}},null,null,null,null,1.645E-3,3.5608300000000001E-3,"","","/",{"$error":"#N/A"}]
[null,null,null,{"$f":"VLOOKUP($C2630,'SEI ISD'!$A$4:$B$124,2,0)","v":{"$error":"#N/A"}},null,null,null,null,1.645E-3,3.5608300000000001E-3,"","","/",{"$error":"#N/A"}]
[null,null,null,{"$f":"VLOOKUP($C2631,'SEI ISD'!$A$4:$B$124,2,0)","v":{"$error":"#N/A"}},null,null,null,null,1.645E-3,3.5608300000000001E-3,"","","/",{"$error":"#N/A"}]
[null,null,null,{"$f":"VLOOKUP($C2632,'SEI ISD'!$A$4:$B$124,2,0)","v":{"$error":"#N/A"}},null,null,null,null,1.645E-3,3.5608300000000001E-3,"","","/",{"$error":"#N/A"}]
[null,null,null,{"$f":"VLOOKUP($C2633,'SEI ISD'!$A$4:$B$124,2,0)","v":{"$error":"#N/A"}},null,null,null,null,1.645E-3,3.5608300000000001E-3,"","","/",{"$error":"#N/A"}]
[null,null,null,{"$f":"VLOOKUP($C2634,'SEI ISD'!$A$4:$B$124,2,0)","v":{"$error":"#N/A"}},null,null,null,null,1.645E-3,3.5608300000000001E-3,"","","/",{"$error":"#N/A"}]
[null,null,null,{"$f":"VLOOKUP($C2635,'SEI ISD'!$A$4:$B$124,2,0)","v":{"$error":"#N/A"}},null,null,null,null,1.645E-3,3.5608300000000001E-3,"","","/",{"$error":"#N/A"}]
[null,null,null,{"$f":"VLOOKUP($C2636,'SEI ISD'!$A$4:$B$124,2,0)","v":{"$error":"#N/A"}},null,null,null,null,1.645E-3,3.5608300000000001E-3,"","","/",{"$error":"#N/A"}]
[null,null,null,{"$f":"VLOOKUP($C2637,'SEI ISD'!$A$4:$B$124,2,0)","v":{"$error":"#N/A"}},null,null,null,null,1.645E-3,3.5608300000000001E-3,"","","/",{"$error":"#N/A"}]
[null,null,null,{"$f":"VLOOKUP($C2638,'SEI ISD'!$A$4:$B$124,2,0)","v":{"$error":"#N/A"}},null,null,null,null,1.645E-3,3.5608300000000001E-3,{"$f":"RIGHT(G2638,2)","v":""},{"$f":"LEFT(G2638,4)","v":""},{"$f":"_xlfn.CONCAT(K2638,\"/\",L2638)","v":"/"},{"$f":"EOMONTH(D2638,0)","v":{"$error":"#N/A"}}]
[null,null,null,{"$f":"VLOOKUP($C2639,'SEI ISD'!$A$4:$B$124,2,0)","v":{"$error":"#N/A"}},null,null,null,null,1.645E-3,3.5608300000000001E-3,"","","/",{"$error":"#N/A"}]
[null,null,null,{"$f":"VLOOKUP($C2640,'SEI ISD'!$A$4:$B$124,2,0)","v":{"$error":"#N/A"}},null,null,null,null,1.645E-3,3.5608300000000001E-3,"","","/",{"$error":"#N/A"}]
[null,null,null,{"$f":"VLOOKUP($C2641,'SEI ISD'!$A$4:$B$124,2,0)","v":{"$error":"#N/A"}},null,null,null,null,1.645E-3,3.5608300000000001E-3,"","","/",{"$error":"#N/A"}]
[null,null,null,{"$f":"VLOOKUP($C2642,'SEI ISD'!$A$4:$B$124,2,0)","v":{"$error":"#N/A"}},null,null,null,null,1.645E-3,3.5608300000000001E-3,"","","/",{"$error":"#N/A"}]
[null,null,null,{"$f":"VLOOKUP($C2643,'SEI ISD'!$A$4:$B$124,2,0)","v":{"$error":"#N/A"}},null,null,null,null,1.645E-3,3.5608300000000001E-3,"","","/",{"$error":"#N/A"}]
[null,null,null,{"$f":"VLOOKUP($C2644,'SEI ISD'!$A$4:$B$124,2,0)","v":{"$error":"#N/A"}},null,null,null,null,1.645E-3,3.5608300000000001E-3,"","","/",{"$error":"#N/A"}]
[null,null,null,{"$f":"VLOOKUP($C2645,'SEI ISD'!$A$4:$B$124,2,0)","v":{"$error":"#N/A"}},null,null,null,null,1.645E-3,3.5608300000000001E-3,"","","/",{"$error":"#N/A"}]
[null,null,null,{"$f":"VLOOKUP($C2646,'SEI ISD'!$A$4:$B$124,2,0)","v":{"$error":"#N/A"}},null,null,null,null,1.645E-3,3.5608300000000001E-3,"","","/",{"$error":"#N/A"}]
[null,null,null,{"$f":"VLOOKUP($C2647,'SEI ISD'!$A$4:$B$124,2,0)","v":{"$error":"#N/A"}},null,null,null,null,1.645E-3,3.5608300000000001E-3,"","","/",{"$error":"#N/A"}]
[null,null,null,{"$f":"VLOOKUP($C2648,'SEI ISD'!$A$4:$B$124,2,0)","v":{"$error":"#N/A"}},null,null,null,null,1.645E-3,3.5608300000000001E-3,"","","/",{"$error":"#N/A"}]
[null,null,null,{"$f":"VLOOKUP($C2649,'SEI ISD'!$A$4:$B$124,2,0)","v":{"$error":"#N/A"}},null,null,null,null,1.645E-3,3.5608300000000001E-3,"","","/",{"$error":"#N/A"}]
[null,null,null,{"$f":"VLOOKUP($C2650,'SEI ISD'!$A$4:$B$124,2,0)","v":{"$error":"#N/A"}},null,null,null,null,1.645E-3,3.5608300000000001E-3,"","","/",{"$error":"#N/A"}]
[null,null,null,{"$f":"VLOOKUP($C2651,'SEI ISD'!$A$4:$B$124,2,0)","v":{"$error":"#N/A"}},null,null,null,null,1.645E-3,3.5608300000000001E-3,"","","/",{"$error":"#N/A"}]
[null,null,null,{"$f":"VLOOKUP($C2652,'SEI ISD'!$A$4:$B$124,2,0)","v":{"$error":"#N/A"}},null,null,null,null,1.645E-3,3.5608300000000001E-3,"","","/",{"$error":"#N/A"}]
[null,null,null,{"$f":"VLOOKUP($C2653,'SEI ISD'!$A$4:$B$124,2,0)","v":{"$error":"#N/A"}},null,null,null,null,1.645E-3,3.5608300000000001E-3,"","","/",{"$error":"#N/A"}]
[null,null,null,{"$f":"VLOOKUP($C2654,'SEI ISD'!$A$4:$B$124,2,0)","v":{"$error":"#N/A"}},null,null,null,null,1.645E-3,3.5608300000000001E-3,"","","/",{"$error":"#N/A"}]
[null,null,null,{"$f":"VLOOKUP($C2655,'SEI ISD'!$A$4:$B$124,2,0)","v":{"$error":"#N/A"}},null,null,null,null,1.645E-3,3.5608300000000001E-3,"","","/",{"$error":"#N/A"}]
[null,null,null,{"$f":"VLOOKUP($C2656,'SEI ISD'!$A$4:$B$124,2,0)","v":{"$error":"#N/A"}},null,null,null,null,1.645E-3,3.5608300000000001E-3,"","","/",{"$error":"#N/A"}]
[null,null,null,{"$f":"VLOOKUP($C2657,'SEI ISD'!$A$4:$B$124,2,0)","v":{"$error":"#N/A"}},null,null,null,null,1.645E-3,3.5608300000000001E-3,"","","/",{"$error":"#N/A"}]
[null,null,null,{"$f":"VLOOKUP($C2658,'SEI ISD'!$A$4:$B$124,2,0)","v":{"$error":"#N/A"}},null,null,null,null,1.645E-3,3.5608300000000001E-3,"","","/",{"$error":"#N/A"}]
[null,null,null,{"$f":"VLOOKUP($C2659,'SEI ISD'!$A$4:$B$124,2,0)","v":{"$error":"#N/A"}},null,null,null,null,1.645E-3,3.5608300000000001E-3,"","","/",{"$error":"#N/A"}]
[null,null,null,{"$f":"VLOOKUP($C2660,'SEI ISD'!$A$4:$B$124,2,0)","v":{"$error":"#N/A"}},null,null,null,null,1.645E-3,3.5608300000000001E-3,"","","/",{"$error":"#N/A"}]
[null,null,null,{"$f":"VLOOKUP($C2661,'SEI ISD'!$A$4:$B$124,2,0)","v":{"$error":"#N/A"}},null,null,null,null,1.645E-3,3.5608300000000001E-3,"","","/",{"$error":"#N/A"}]
[null,null,null,{"$f":"VLOOKUP($C2662,'SEI ISD'!$A$4:$B$124,2,0)","v":{"$error":"#N/A"}},null,null,null,null,1.645E-3,3.5608300000000001E-3,"","","/",{"$error":"#N/A"}]
[null,null,null,{"$f":"VLOOKUP($C2663,'SEI ISD'!$A$4:$B$124,2,0)","v":{"$error":"#N/A"}},null,null,null,null,1.645E-3,3.5608300000000001E-3,"","","/",{"$error":"#N/A"}]
[null,null,null,{"$f":"VLOOKUP($C2664,'SEI ISD'!$A$4:$B$124,2,0)","v":{"$error":"#N/A"}},null,null,null,null,1.645E-3,3.5608300000000001E-3,"","","/",{"$error":"#N/A"}]
[null,null,null,{"$f":"VLOOKUP($C2665,'SEI ISD'!$A$4:$B$124,2,0)","v":{"$error":"#N/A"}},null,null,null,null,1.645E-3,3.5608300000000001E-3,"","","/",{"$error":"#N/A"}]
[null,null,null,{"$f":"VLOOKUP($C2666,'SEI ISD'!$A$4:$B$124,2,0)","v":{"$error":"#N/A"}},null,null,null,null,1.645E-3,3.5608300000000001E-3,"","","/",{"$error":"#N/A"}]
[null,null,null,{"$f":"VLOOKUP($C2667,'SEI ISD'!$A$4:$B$124,2,0)","v":{"$error":"#N/A"}},null,null,null,null,1.645E-3,3.5608300000000001E-3,"","","/",{"$error":"#N/A"}]
[null,null,null,{"$f":"VLOOKUP($C2668,'SEI ISD'!$A$4:$B$124,2,0)","v":{"$error":"#N/A"}},null,null,null,null,1.645E-3,3.5608300000000001E-3,"","","/",{"$error":"#N/A"}]
[null,null,null,{"$f":"VLOOKUP($C2669,'SEI ISD'!$A$4:$B$124,2,0)","v":{"$error":"#N/A"}},null,null,null,null,1.645E-3,3.5608300000000001E-3,"","","/",{"$error":"#N/A"}]
[null,null,null,{"$f":"VLOOKUP($C2670,'SEI ISD'!$A$4:$B$124,2,0)","v":{"$error":"#N/A"}},null,null,null,null,1.645E-3,3.5608300000000001E-3,"","","/",{"$error":"#N/A"}]
[null,null,null,{"$f":"VLOOKUP($C2671,'SEI ISD'!$A$4:$B$124,2,0)","v":{"$error":"#N/A"}},null,null,null,null,1.645E-3,3.5608300000000001E-3,"","","/",{"$error":"#N/A"}]
[null,null,null,{"$f":"VLOOKUP($C2672,'SEI ISD'!$A$4:$B$124,2,0)","v":{"$error":"#N/A"}},null,null,null,null,1.645E-3,3.5608300000000001E-3,"","","/",{"$error":"#N/A"}]
[null,null,null,{"$f":"VLOOKUP($C2673,'SEI ISD'!$A$4:$B$124,2,0)","v":{"$error":"#N/A"}},null,null,null,null,1.645E-3,3.5608300000000001E-3,"","","/",{"$error":"#N/A"}]
[null,null,null,{"$f":"VLOOKUP($C2674,'SEI ISD'!$A$4:$B$124,2,0)","v":{"$error":"#N/A"}},null,null,null,null,1.645E-3,3.5608300000000001E-3,"","","/",{"$error":"#N/A"}]
[null,null,null,{"$f":"VLOOKUP($C2675,'SEI ISD'!$A$4:$B$124,2,0)","v":{"$error":"#N/A"}},null,null,null,null,1.645E-3,3.5608300000000001E-3,"","","/",{"$error":"#N/A"}]
[null,null,null,{"$f":"VLOOKUP($C2676,'SEI ISD'!$A$4:$B$124,2,0)","v":{"$error":"#N/A"}},null,null,null,null,1.645E-3,3.5608300000000001E-3,"","","/",{"$error":"#N/A"}]
[null,null,null,{"$f":"VLOOKUP($C2677,'SEI ISD'!$A$4:$B$124,2,0)","v":{"$error":"#N/A"}},null,null,null,null,1.645E-3,3.5608300000000001E-3,"","","/",{"$error":"#N/A"}]
[null,null,null,{"$f":"VLOOKUP($C2678,'SEI ISD'!$A$4:$B$124,2,0)","v":{"$error":"#N/A"}},null,null,null,null,1.645E-3,3.5608300000000001E-3,"","","/",{"$error":"#N/A"}]
[null,null,null,{"$f":"VLOOKUP($C2679,'SEI ISD'!$A$4:$B$124,2,0)","v":{"$error":"#N/A"}},null,null,null,null,1.645E-3,3.5608300000000001E-3,"","","/",{"$error":"#N/A"}]
[null,null,null,{"$f":"VLOOKUP($C2680,'SEI ISD'!$A$4:$B$124,2,0)","v":{"$error":"#N/A"}},null,null,null,null,1.645E-3,3.5608300000000001E-3,"","","/",{"$error":"#N/A"}]
[null,null,null,{"$f":"VLOOKUP($C2681,'SEI ISD'!$A$4:$B$124,2,0)","v":{"$error":"#N/A"}},null,null,null,null,1.645E-3,3.5608300000000001E-3,"","","/",{"$error":"#N/A"}]
[null,null,null,{"$f":"VLOOKUP($C2682,'SEI ISD'!$A$4:$B$124,2,0)","v":{"$error":"#N/A"}},null,null,null,null,1.645E-3,3.5608300000000001E-3,"","","/",{"$error":"#N/A"}]
[null,null,null,{"$f":"VLOOKUP($C2683,'SEI ISD'!$A$4:$B$124,2,0)","v":{"$error":"#N/A"}},null,null,null,null,1.645E-3,3.5608300000000001E-3,"","","/",{"$error":"#N/A"}]
[null,null,null,{"$f":"VLOOKUP($C2684,'SEI ISD'!$A$4:$B$124,2,0)","v":{"$error":"#N/A"}},null,null,null,null,1.645E-3,3.5608300000000001E-3,"","","/",{"$error":"#N/A"}]
[null,null,null,{"$f":"VLOOKUP($C2685,'SEI ISD'!$A$4:$B$124,2,0)","v":{"$error":"#N/A"}},null,null,null,null,1.645E-3,3.5608300000000001E-3,"","","/",{"$error":"#N/A"}]
[null,null,null,{"$f":"VLOOKUP($C2686,'SEI ISD'!$A$4:$B$124,2,0)","v":{"$error":"#N/A"}},null,null,null,null,1.645E-3,3.5608300000000001E-3,"","","/",{"$error":"#N/A"}]
[null,null,null,{"$f":"VLOOKUP($C2687,'SEI ISD'!$A$4:$B$124,2,0)","v":{"$error":"#N/A"}},null,null,null,null,1.645E-3,3.5608300000000001E-3,"","","/",{"$error":"#N/A"}]
[null,null,null,{"$f":"VLOOKUP($C2688,'SEI ISD'!$A$4:$B$124,2,0)","v":{"$error":"#N/A"}},null,null,null,null,1.645E-3,3.5608300000000001E-3,"","","/",{"$error":"#N/A"}]
[null,null,null,{"$f":"VLOOKUP($C2689,'SEI ISD'!$A$4:$B$124,2,0)","v":{"$error":"#N/A"}},null,null,null,null,1.645E-3,3.5608300000000001E-3,"","","/",{"$error":"#N/A"}]
[null,null,null,{"$f":"VLOOKUP($C2690,'SEI ISD'!$A$4:$B$124,2,0)","v":{"$error":"#N/A"}},null,null,null,null,1.645E-3,3.5608300000000001E-3,"","","/",{"$error":"#N/A"}]
[null,null,null,{"$f":"VLOOKUP($C2691,'SEI ISD'!$A$4:$B$124,2,0)","v":{"$error":"#N/A"}},null,null,null,null,1.645E-3,3.5608300000000001E-3,"","","/",{"$error":"#N/A"}]
[null,null,null,{"$f":"VLOOKUP($C2692,'SEI ISD'!$A$4:$B$124,2,0)","v":{"$error":"#N/A"}},null,null,null,null,1.645E-3,3.5608300000000001E-3,"","","/",{"$error":"#N/A"}]
[null,null,null,{"$f":"VLOOKUP($C2693,'SEI ISD'!$A$4:$B$124,2,0)","v":{"$error":"#N/A"}},null,null,null,null,1.645E-3,3.5608300000000001E-3,"","","/",{"$error":"#N/A"}]
[null,null,null,{"$f":"VLOOKUP($C2694,'SEI ISD'!$A$4:$B$124,2,0)","v":{"$error":"#N/A"}},null,null,null,null,1.645E-3,3.5608300000000001E-3,"","","/",{"$error":"#N/A"}]
[null,null,null,{"$f":"VLOOKUP($C2695,'SEI ISD'!$A$4:$B$124,2,0)","v":{"$error":"#N/A"}},null,null,null,null,1.645E-3,3.5608300000000001E-3,"","","/",{"$error":"#N/A"}]
[null,null,null,{"$f":"VLOOKUP($C2696,'SEI ISD'!$A$4:$B$124,2,0)","v":{"$error":"#N/A"}},null,null,null,null,1.645E-3,3.5608300000000001E-3,"","","/",{"$error":"#N/A"}]
[null,null,null,{"$f":"VLOOKUP($C2697,'SEI ISD'!$A$4:$B$124,2,0)","v":{"$error":"#N/A"}},null,null,null,null,1.645E-3,3.5608300000000001E-3,"","","/",{"$error":"#N/A"}]
[null,null,null,{"$f":"VLOOKUP($C2698,'SEI ISD'!$A$4:$B$124,2,0)","v":{"$error":"#N/A"}},null,null,null,null,1.645E-3,3.5608300000000001E-3,"","","/",{"$error":"#N/A"}]
[null,null,null,{"$f":"VLOOKUP($C2699,'SEI ISD'!$A$4:$B$124,2,0)","v":{"$error":"#N/A"}},null,null,null,null,1.645E-3,3.5608300000000001E-3,"","","/",{"$error":"#N/A"}]
[null,null,null,{"$f":"VLOOKUP($C2700,'SEI ISD'!$A$4:$B$124,2,0)","v":{"$error":"#N/A"}},null,null,null,null,1.645E-3,3.5608300000000001E-3,"","","/",{"$error":"#N/A"}]
[null,null,null,{"$f":"VLOOKUP($C2701,'SEI ISD'!$A$4:$B$124,2,0)","v":{"$error":"#N/A"}},null,null,null,null,1.645E-3,3.5608300000000001E-3,"","","/",{"$error":"#N/A"}]
[null,null,null,{"$f":"VLOOKUP($C2702,'SEI ISD'!$A$4:$B$124,2,0)","v":{"$error":"#N/A"}},null,null,null,null,1.645E-3,3.5608300000000001E-3,{"$f":"RIGHT(G2702,2)","v":""},{"$f":"LEFT(G2702,4)","v":""},{"$f":"_xlfn.CONCAT(K2702,\"/\",L2702)","v":"/"},{"$f":"EOMONTH(D2702,0)","v":{"$error":"#N/A"}}]
[null,null,null,{"$f":"VLOOKUP($C2703,'SEI ISD'!$A$4:$B$124,2,0)","v":{"$error":"#N/A"}},null,null,null,null,1.645E-3,3.5608300000000001E-3,"","","/",{"$error":"#N/A"}]
[null,null,null,{"$f":"VLOOKUP($C2704,'SEI ISD'!$A$4:$B$124,2,0)","v":{"$error":"#N/A"}},null,null,null,null,1.645E-3,3.5608300000000001E-3,"","","/",{"$error":"#N/A"}]
[null,null,null,{"$f":"VLOOKUP($C2705,'SEI ISD'!$A$4:$B$124,2,0)","v":{"$error":"#N/A"}},null,null,null,null,1.645E-3,3.5608300000000001E-3,"","","/",{"$error":"#N/A"}]
[null,null,null,{"$f":"VLOOKUP($C2706,'SEI ISD'!$A$4:$B$124,2,0)","v":{"$error":"#N/A"}},null,null,null,null,1.645E-3,3.5608300000000001E-3,"","","/",{"$error":"#N/A"}]
[null,null,null,{"$f":"VLOOKUP($C2707,'SEI ISD'!$A$4:$B$124,2,0)","v":{"$error":"#N/A"}},null,null,null,null,1.645E-3,3.5608300000000001E-3,"","","/",{"$error":"#N/A"}]
[null,null,null,{"$f":"VLOOKUP($C2708,'SEI ISD'!$A$4:$B$124,2,0)","v":{"$error":"#N/A"}},null,null,null,null,1.645E-3,3.5608300000000001E-3,"","","/",{"$error":"#N/A"}]
[null,null,null,{"$f":"VLOOKUP($C2709,'SEI ISD'!$A$4:$B$124,2,0)","v":{"$error":"#N/A"}},null,null,null,null,1.645E-3,3.5608300000000001E-3,"","","/",{"$error":"#N/A"}]
[null,null,null,{"$f":"VLOOKUP($C2710,'SEI ISD'!$A$4:$B$124,2,0)","v":{"$error":"#N/A"}},null,null,null,null,1.645E-3,3.5608300000000001E-3,"","","/",{"$error":"#N/A"}]
[null,null,null,{"$f":"VLOOKUP($C2711,'SEI ISD'!$A$4:$B$124,2,0)","v":{"$error":"#N/A"}},null,null,null,null,1.645E-3,3.5608300000000001E-3,"","","/",{"$error":"#N/A"}]
[null,null,null,{"$f":"VLOOKUP($C2712,'SEI ISD'!$A$4:$B$124,2,0)","v":{"$error":"#N/A"}},null,null,null,null,1.645E-3,3.5608300000000001E-3,"","","/",{"$error":"#N/A"}]
[null,null,null,{"$f":"VLOOKUP($C2713,'SEI ISD'!$A$4:$B$124,2,0)","v":{"$error":"#N/A"}},null,null,null,null,1.645E-3,3.5608300000000001E-3,"","","/",{"$error":"#N/A"}]
[null,null,null,{"$f":"VLOOKUP($C2714,'SEI ISD'!$A$4:$B$124,2,0)","v":{"$error":"#N/A"}},null,null,null,null,1.645E-3,3.5608300000000001E-3,"","","/",{"$error":"#N/A"}]
[null,null,null,{"$f":"VLOOKUP($C2715,'SEI ISD'!$A$4:$B$124,2,0)","v":{"$error":"#N/A"}},null,null,null,null,1.645E-3,3.5608300000000001E-3,"","","/",{"$error":"#N/A"}]
[null,null,null,{"$f":"VLOOKUP($C2716,'SEI ISD'!$A$4:$B$124,2,0)","v":{"$error":"#N/A"}},null,null,null,null,1.645E-3,3.5608300000000001E-3,"","","/",{"$error":"#N/A"}]
[null,null,null,{"$f":"VLOOKUP($C2717,'SEI ISD'!$A$4:$B$124,2,0)","v":{"$error":"#N/A"}},null,null,null,null,1.645E-3,3.5608300000000001E-3,"","","/",{"$error":"#N/A"}]
[null,null,null,{"$f":"VLOOKUP($C2718,'SEI ISD'!$A$4:$B$124,2,0)","v":{"$error":"#N/A"}},null,null,null,null,1.645E-3,3.5608300000000001E-3,"","","/",{"$error":"#N/A"}]
[null,null,null,{"$f":"VLOOKUP($C2719,'SEI ISD'!$A$4:$B$124,2,0)","v":{"$error":"#N/A"}},null,null,null,null,1.645E-3,3.5608300000000001E-3,"","","/",{"$error":"#N/A"}]
[null,null,null,{"$f":"VLOOKUP($C2720,'SEI ISD'!$A$4:$B$124,2,0)","v":{"$error":"#N/A"}},null,null,null,null,1.645E-3,3.5608300000000001E-3,"","","/",{"$error":"#N/A"}]
[null,null,null,{"$f":"VLOOKUP($C2721,'SEI ISD'!$A$4:$B$124,2,0)","v":{"$error":"#N/A"}},null,null,null,null,1.645E-3,3.5608300000000001E-3,"","","/",{"$error":"#N/A"}]
[null,null,null,{"$f":"VLOOKUP($C2722,'SEI ISD'!$A$4:$B$124,2,0)","v":{"$error":"#N/A"}},null,null,null,null,1.645E-3,3.5608300000000001E-3,"","","/",{"$error":"#N/A"}]
[null,null,null,{"$f":"VLOOKUP($C2723,'SEI ISD'!$A$4:$B$124,2,0)","v":{"$error":"#N/A"}},null,null,null,null,1.645E-3,3.5608300000000001E-3,"","","/",{"$error":"#N/A"}]
[null,null,null,{"$f":"VLOOKUP($C2724,'SEI ISD'!$A$4:$B$124,2,0)","v":{"$error":"#N/A"}},null,null,null,null,1.645E-3,3.5608300000000001E-3,"","","/",{"$error":"#N/A"}]
[null,null,null,{"$f":"VLOOKUP($C2725,'SEI ISD'!$A$4:$B$124,2,0)","v":{"$error":"#N/A"}},null,null,null,null,1.645E-3,3.5608300000000001E-3,"","","/",{"$error":"#N/A"}]
[null,null,null,{"$f":"VLOOKUP($C2726,'SEI ISD'!$A$4:$B$124,2,0)","v":{"$error":"#N/A"}},null,null,null,null,1.645E-3,3.5608300000000001E-3,"","","/",{"$error":"#N/A"}]
[null,null,null,{"$f":"VLOOKUP($C2727,'SEI ISD'!$A$4:$B$124,2,0)","v":{"$error":"#N/A"}},null,null,null,null,1.645E-3,3.5608300000000001E-3,"","","/",{"$error":"#N/A"}]
[null,null,null,{"$f":"VLOOKUP($C2728,'SEI ISD'!$A$4:$B$124,2,0)","v":{"$error":"#N/A"}},null,null,null,null,1.645E-3,3.5608300000000001E-3,"","","/",{"$error":"#N/A"}]
[null,null,null,{"$f":"VLOOKUP($C2729,'SEI ISD'!$A$4:$B$124,2,0)","v":{"$error":"#N/A"}},null,null,null,null,1.645E-3,3.5608300000000001E-3,"","","/",{"$error":"#N/A"}]
[null,null,null,{"$f":"VLOOKUP($C2730,'SEI ISD'!$A$4:$B$124,2,0)","v":{"$error":"#N/A"}},null,null,null,null,1.645E-3,3.5608300000000001E-3,"","","/",{"$error":"#N/A"}]
[null,null,null,{"$f":"VLOOKUP($C2731,'SEI ISD'!$A$4:$B$124,2,0)","v":{"$error":"#N/A"}},null,null,null,null,1.645E-3,3.5608300000000001E-3,"","","/",{"$error":"#N/A"}]
[null,null,null,{"$f":"VLOOKUP($C2732,'SEI ISD'!$A$4:$B$124,2,0)","v":{"$error":"#N/A"}},null,null,null,null,1.645E-3,3.5608300000000001E-3,"","","/",{"$error":"#N/A"}]
[null,null,null,{"$f":"VLOOKUP($C2733,'SEI ISD'!$A$4:$B$124,2,0)","v":{"$error":"#N/A"}},null,null,null,null,1.645E-3,3.5608300000000001E-3,"","","/",{"$error":"#N/A"}]
[null,null,null,{"$f":"VLOOKUP($C2734,'SEI ISD'!$A$4:$B$124,2,0)","v":{"$error":"#N/A"}},null,null,null,null,1.645E-3,3.5608300000000001E-3,"","","/",{"$error":"#N/A"}]
[null,null,null,{"$f":"VLOOKUP($C2735,'SEI ISD'!$A$4:$B$124,2,0)","v":{"$error":"#N/A"}},null,null,null,null,1.645E-3,3.5608300000000001E-3,"","","/",{"$error":"#N/A"}]
[null,null,null,{"$f":"VLOOKUP($C2736,'SEI ISD'!$A$4:$B$124,2,0)","v":{"$error":"#N/A"}},null,null,null,null,1.645E-3,3.5608300000000001E-3,"","","/",{"$error":"#N/A"}]
[null,null,null,{"$f":"VLOOKUP($C2737,'SEI ISD'!$A$4:$B$124,2,0)","v":{"$error":"#N/A"}},null,null,null,null,1.645E-3,3.5608300000000001E-3,"","","/",{"$error":"#N/A"}]
[null,null,null,{"$f":"VLOOKUP($C2738,'SEI ISD'!$A$4:$B$124,2,0)","v":{"$error":"#N/A"}},null,null,null,null,1.645E-3,3.5608300000000001E-3,"","","/",{"$error":"#N/A"}]
[null,null,null,{"$f":"VLOOKUP($C2739,'SEI ISD'!$A$4:$B$124,2,0)","v":{"$error":"#N/A"}},null,null,null,null,1.645E-3,3.5608300000000001E-3,"","","/",{"$error":"#N/A"}]
[null,null,null,{"$f":"VLOOKUP($C2740,'SEI ISD'!$A$4:$B$124,2,0)","v":{"$error":"#N/A"}},null,null,null,null,1.645E-3,3.5608300000000001E-3,"","","/",{"$error":"#N/A"}]
[null,null,null,{"$f":"VLOOKUP($C2741,'SEI ISD'!$A$4:$B$124,2,0)","v":{"$error":"#N/A"}},null,null,null,null,1.645E-3,3.5608300000000001E-3,"","","/",{"$error":"#N/A"}]
[null,null,null,{"$f":"VLOOKUP($C2742,'SEI ISD'!$A$4:$B$124,2,0)","v":{"$error":"#N/A"}},null,null,null,null,1.645E-3,3.5608300000000001E-3,"","","/",{"$error":"#N/A"}]
[null,null,null,{"$f":"VLOOKUP($C2743,'SEI ISD'!$A$4:$B$124,2,0)","v":{"$error":"#N/A"}},null,null,null,null,1.645E-3,3.5608300000000001E-3,"","","/",{"$error":"#N/A"}]
[null,null,null,{"$f":"VLOOKUP($C2744,'SEI ISD'!$A$4:$B$124,2,0)","v":{"$error":"#N/A"}},null,null,null,null,1.645E-3,3.5608300000000001E-3,"","","/",{"$error":"#N/A"}]
[null,null,null,{"$f":"VLOOKUP($C2745,'SEI ISD'!$A$4:$B$124,2,0)","v":{"$error":"#N/A"}},null,null,null,null,1.645E-3,3.5608300000000001E-3,"","","/",{"$error":"#N/A"}]
[null,null,null,{"$f":"VLOOKUP($C2746,'SEI ISD'!$A$4:$B$124,2,0)","v":{"$error":"#N/A"}},null,null,null,null,1.645E-3,3.5608300000000001E-3,"","","/",{"$error":"#N/A"}]
[null,null,null,{"$f":"VLOOKUP($C2747,'SEI ISD'!$A$4:$B$124,2,0)","v":{"$error":"#N/A"}},null,null,null,null,1.645E-3,3.5608300000000001E-3,"","","/",{"$error":"#N/A"}]
[null,null,null,{"$f":"VLOOKUP($C2748,'SEI ISD'!$A$4:$B$124,2,0)","v":{"$error":"#N/A"}},null,null,null,null,1.645E-3,3.5608300000000001E-3,"","","/",{"$error":"#N/A"}]
[null,null,null,{"$f":"VLOOKUP($C2749,'SEI ISD'!$A$4:$B$124,2,0)","v":{"$error":"#N/A"}},null,null,null,null,1.645E-3,3.5608300000000001E-3,"","","/",{"$error":"#N/A"}]
[null,null,null,{"$f":"VLOOKUP($C2750,'SEI ISD'!$A$4:$B$124,2,0)","v":{"$error":"#N/A"}},null,null,null,null,1.645E-3,3.5608300000000001E-3,"","","/",{"$error":"#N/A"}]
[null,null,null,{"$f":"VLOOKUP($C2751,'SEI ISD'!$A$4:$B$124,2,0)","v":{"$error":"#N/A"}},null,null,null,null,1.645E-3,3.5608300000000001E-3,"","","/",{"$error":"#N/A"}]
[null,null,null,{"$f":"VLOOKUP($C2752,'SEI ISD'!$A$4:$B$124,2,0)","v":{"$error":"#N/A"}},null,null,null,null,1.645E-3,3.5608300000000001E-3,"","","/",{"$error":"#N/A"}]
[null,null,null,{"$f":"VLOOKUP($C2753,'SEI ISD'!$A$4:$B$124,2,0)","v":{"$error":"#N/A"}},null,null,null,null,1.645E-3,3.5608300000000001E-3,"","","/",{"$error":"#N/A"}]
[null,null,null,{"$f":"VLOOKUP($C2754,'SEI ISD'!$A$4:$B$124,2,0)","v":{"$error":"#N/A"}},null,null,null,null,1.645E-3,3.5608300000000001E-3,"","","/",{"$error":"#N/A"}]
[null,null,null,{"$f":"VLOOKUP($C2755,'SEI ISD'!$A$4:$B$124,2,0)","v":{"$error":"#N/A"}},null,null,null,null,1.645E-3,3.5608300000000001E-3,"","","/",{"$error":"#N/A"}]
[null,null,null,{"$f":"VLOOKUP($C2756,'SEI ISD'!$A$4:$B$124,2,0)","v":{"$error":"#N/A"}},null,null,null,null,1.645E-3,3.5608300000000001E-3,"","","/",{"$error":"#N/A"}]
[null,null,null,{"$f":"VLOOKUP($C2757,'SEI ISD'!$A$4:$B$124,2,0)","v":{"$error":"#N/A"}},null,null,null,null,1.645E-3,3.5608300000000001E-3,"","","/",{"$error":"#N/A"}]
[null,null,null,{"$f":"VLOOKUP($C2758,'SEI ISD'!$A$4:$B$124,2,0)","v":{"$error":"#N/A"}},null,null,null,null,1.645E-3,3.5608300000000001E-3,"","","/",{"$error":"#N/A"}]
[null,null,null,{"$f":"VLOOKUP($C2759,'SEI ISD'!$A$4:$B$124,2,0)","v":{"$error":"#N/A"}},null,null,null,null,1.645E-3,3.5608300000000001E-3,"","","/",{"$error":"#N/A"}]
[null,null,null,{"$f":"VLOOKUP($C2760,'SEI ISD'!$A$4:$B$124,2,0)","v":{"$error":"#N/A"}},null,null,null,null,1.645E-3,3.5608300000000001E-3,"","","/",{"$error":"#N/A"}]
[null,null,null,{"$f":"VLOOKUP($C2761,'SEI ISD'!$A$4:$B$124,2,0)","v":{"$error":"#N/A"}},null,null,null,null,1.645E-3,3.5608300000000001E-3,"","","/",{"$error":"#N/A"}]
[null,null,null,{"$f":"VLOOKUP($C2762,'SEI ISD'!$A$4:$B$124,2,0)","v":{"$error":"#N/A"}},null,null,null,null,1.645E-3,3.5608300000000001E-3,"","","/",{"$error":"#N/A"}]
[null,null,null,{"$f":"VLOOKUP($C2763,'SEI ISD'!$A$4:$B$124,2,0)","v":{"$error":"#N/A"}},null,null,null,null,1.645E-3,3.5608300000000001E-3,"","","/",{"$error":"#N/A"}]
[null,null,null,{"$f":"VLOOKUP($C2764,'SEI ISD'!$A$4:$B$124,2,0)","v":{"$error":"#N/A"}},null,null,null,null,1.645E-3,3.5608300000000001E-3,"","","/",{"$error":"#N/A"}]
[null,null,null,{"$f":"VLOOKUP($C2765,'SEI ISD'!$A$4:$B$124,2,0)","v":{"$error":"#N/A"}},null,null,null,null,1.645E-3,3.5608300000000001E-3,"","","/",{"$error":"#N/A"}]
[null,null,null,{"$f":"VLOOKUP($C2766,'SEI ISD'!$A$4:$B$124,2,0)","v":{"$error":"#N/A"}},null,null,null,null,1.645E-3,3.5608300000000001E-3,{"$f":"RIGHT(G2766,2)","v":""},{"$f":"LEFT(G2766,4)","v":""},{"$f":"_xlfn.CONCAT(K2766,\"/\",L2766)","v":"/"},{"$f":"EOMONTH(D2766,0)","v":{"$error":"#N/A"}}]
[null,null,null,{"$f":"VLOOKUP($C2767,'SEI ISD'!$A$4:$B$124,2,0)","v":{"$error":"#N/A"}},null,null,null,null,1.645E-3,3.5608300000000001E-3,"","","/",{"$error":"#N/A"}]
[null,null,null,{"$f":"VLOOKUP($C2768,'SEI ISD'!$A$4:$B$124,2,0)","v":{"$error":"#N/A"}},null,null,null,null,1.645E-3,3.5608300000000001E-3,"","","/",{"$error":"#N/A"}]
[null,null,null,{"$f":"VLOOKUP($C2769,'SEI ISD'!$A$4:$B$124,2,0)","v":{"$error":"#N/A"}},null,null,null,null,1.645E-3,3.5608300000000001E-3,"","","/",{"$error":"#N/A"}]
[null,null,null,{"$f":"VLOOKUP($C2770,'SEI ISD'!$A$4:$B$124,2,0)","v":{"$error":"#N/A"}},null,null,null,null,1.645E-3,3.5608300000000001E-3,"","","/",{"$error":"#N/A"}]
[null,null,null,{"$f":"VLOOKUP($C2771,'SEI ISD'!$A$4:$B$124,2,0)","v":{"$error":"#N/A"}},null,null,null,null,1.645E-3,3.5608300000000001E-3,"","","/",{"$error":"#N/A"}]
[null,null,null,{"$f":"VLOOKUP($C2772,'SEI ISD'!$A$4:$B$124,2,0)","v":{"$error":"#N/A"}},null,null,null,null,1.645E-3,3.5608300000000001E-3,"","","/",{"$error":"#N/A"}]
[null,null,null,{"$f":"VLOOKUP($C2773,'SEI ISD'!$A$4:$B$124,2,0)","v":{"$error":"#N/A"}},null,null,null,null,1.645E-3,3.5608300000000001E-3,"","","/",{"$error":"#N/A"}]
[null,null,null,{"$f":"VLOOKUP($C2774,'SEI ISD'!$A$4:$B$124,2,0)","v":{"$error":"#N/A"}},null,null,null,null,1.645E-3,3.5608300000000001E-3,"","","/",{"$error":"#N/A"}]
[null,null,null,{"$f":"VLOOKUP($C2775,'SEI ISD'!$A$4:$B$124,2,0)","v":{"$error":"#N/A"}},null,null,null,null,1.645E-3,3.5608300000000001E-3,"","","/",{"$error":"#N/A"}]
[null,null,null,{"$f":"VLOOKUP($C2776,'SEI ISD'!$A$4:$B$124,2,0)","v":{"$error":"#N/A"}},null,null,null,null,1.645E-3,3.5608300000000001E-3,"","","/",{"$error":"#N/A"}]
[null,null,null,{"$f":"VLOOKUP($C2777,'SEI ISD'!$A$4:$B$124,2,0)","v":{"$error":"#N/A"}},null,null,null,null,1.645E-3,3.5608300000000001E-3,"","","/",{"$error":"#N/A"}]
[null,null,null,{"$f":"VLOOKUP($C2778,'SEI ISD'!$A$4:$B$124,2,0)","v":{"$error":"#N/A"}},null,null,null,null,1.645E-3,3.5608300000000001E-3,"","","/",{"$error":"#N/A"}]
[null,null,null,{"$f":"VLOOKUP($C2779,'SEI ISD'!$A$4:$B$124,2,0)","v":{"$error":"#N/A"}},null,null,null,null,1.645E-3,3.5608300000000001E-3,"","","/",{"$error":"#N/A"}]
[null,null,null,{"$f":"VLOOKUP($C2780,'SEI ISD'!$A$4:$B$124,2,0)","v":{"$error":"#N/A"}},null,null,null,null,1.645E-3,3.5608300000000001E-3,"","","/",{"$error":"#N/A"}]
[null,null,null,{"$f":"VLOOKUP($C2781,'SEI ISD'!$A$4:$B$124,2,0)","v":{"$error":"#N/A"}},null,null,null,null,1.645E-3,3.5608300000000001E-3,"","","/",{"$error":"#N/A"}]
[null,null,null,{"$f":"VLOOKUP($C2782,'SEI ISD'!$A$4:$B$124,2,0)","v":{"$error":"#N/A"}},null,null,null,null,1.645E-3,3.5608300000000001E-3,"","","/",{"$error":"#N/A"}]
[null,null,null,{"$f":"VLOOKUP($C2783,'SEI ISD'!$A$4:$B$124,2,0)","v":{"$error":"#N/A"}},null,null,null,null,1.645E-3,3.5608300000000001E-3,"","","/",{"$error":"#N/A"}]
[null,null,null,{"$f":"VLOOKUP($C2784,'SEI ISD'!$A$4:$B$124,2,0)","v":{"$error":"#N/A"}},null,null,null,null,1.645E-3,3.5608300000000001E-3,"","","/",{"$error":"#N/A"}]
[null,null,null,{"$f":"VLOOKUP($C2785,'SEI ISD'!$A$4:$B$124,2,0)","v":{"$error":"#N/A"}},null,null,null,null,1.645E-3,3.5608300000000001E-3,"","","/",{"$error":"#N/A"}]
[null,null,null,{"$f":"VLOOKUP($C2786,'SEI ISD'!$A$4:$B$124,2,0)","v":{"$error":"#N/A"}},null,null,null,null,1.645E-3,3.5608300000000001E-3,"","","/",{"$error":"#N/A"}]
[null,null,null,{"$f":"VLOOKUP($C2787,'SEI ISD'!$A$4:$B$124,2,0)","v":{"$error":"#N/A"}},null,null,null,null,1.645E-3,3.5608300000000001E-3,"","","/",{"$error":"#N/A"}]
[null,null,null,{"$f":"VLOOKUP($C2788,'SEI ISD'!$A$4:$B$124,2,0)","v":{"$error":"#N/A"}},null,null,null,null,1.645E-3,3.5608300000000001E-3,"","","/",{"$error":"#N/A"}]
[null,null,null,{"$f":"VLOOKUP($C2789,'SEI ISD'!$A$4:$B$124,2,0)","v":{"$error":"#N/A"}},null,null,null,null,1.645E-3,3.5608300000000001E-3,"","","/",{"$error":"#N/A"}]
[null,null,null,{"$f":"VLOOKUP($C2790,'SEI ISD'!$A$4:$B$124,2,0)","v":{"$error":"#N/A"}},null,null,null,null,1.645E-3,3.5608300000000001E-3,"","","/",{"$error":"#N/A"}]
[null,null,null,{"$f":"VLOOKUP($C2791,'SEI ISD'!$A$4:$B$124,2,0)","v":{"$error":"#N/A"}},null,null,null,null,1.645E-3,3.5608300000000001E-3,"","","/",{"$error":"#N/A"}]
[null,null,null,{"$f":"VLOOKUP($C2792,'SEI ISD'!$A$4:$B$124,2,0)","v":{"$error":"#N/A"}},null,null,null,null,1.645E-3,3.5608300000000001E-3,"","","/",{"$error":"#N/A"}]
[null,null,null,{"$f":"VLOOKUP($C2793,'SEI ISD'!$A$4:$B$124,2,0)","v":{"$error":"#N/A"}},null,null,null,null,1.645E-3,3.5608300000000001E-3,"","","/",{"$error":"#N/A"}]
[null,null,null,{"$f":"VLOOKUP($C2794,'SEI ISD'!$A$4:$B$124,2,0)","v":{"$error":"#N/A"}},null,null,null,null,1.645E-3,3.5608300000000001E-3,"","","/",{"$error":"#N/A"}]
[null,null,null,{"$f":"VLOOKUP($C2795,'SEI ISD'!$A$4:$B$124,2,0)","v":{"$error":"#N/A"}},null,null,null,null,1.645E-3,3.5608300000000001E-3,"","","/",{"$error":"#N/A"}]
[null,null,null,{"$f":"VLOOKUP($C2796,'SEI ISD'!$A$4:$B$124,2,0)","v":{"$error":"#N/A"}},null,null,null,null,1.645E-3,3.5608300000000001E-3,"","","/",{"$error":"#N/A"}]
[null,null,null,{"$f":"VLOOKUP($C2797,'SEI ISD'!$A$4:$B$124,2,0)","v":{"$error":"#N/A"}},null,null,null,null,1.645E-3,3.5608300000000001E-3,"","","/",{"$error":"#N/A"}]
[null,null,null,{"$f":"VLOOKUP($C2798,'SEI ISD'!$A$4:$B$124,2,0)","v":{"$error":"#N/A"}},null,null,null,null,1.645E-3,3.5608300000000001E-3,"","","/",{"$error":"#N/A"}]
[null,null,null,{"$f":"VLOOKUP($C2799,'SEI ISD'!$A$4:$B$124,2,0)","v":{"$error":"#N/A"}},null,null,null,null,1.645E-3,3.5608300000000001E-3,"","","/",{"$error":"#N/A"}]
[null,null,null,{"$f":"VLOOKUP($C2800,'SEI ISD'!$A$4:$B$124,2,0)","v":{"$error":"#N/A"}},null,null,null,null,1.645E-3,3.5608300000000001E-3,"","","/",{"$error":"#N/A"}]
[null,null,null,{"$f":"VLOOKUP($C2801,'SEI ISD'!$A$4:$B$124,2,0)","v":{"$error":"#N/A"}},null,null,null,null,1.645E-3,3.5608300000000001E-3,"","","/",{"$error":"#N/A"}]
[null,null,null,{"$f":"VLOOKUP($C2802,'SEI ISD'!$A$4:$B$124,2,0)","v":{"$error":"#N/A"}},null,null,null,null,1.645E-3,3.5608300000000001E-3,"","","/",{"$error":"#N/A"}]
[null,null,null,{"$f":"VLOOKUP($C2803,'SEI ISD'!$A$4:$B$124,2,0)","v":{"$error":"#N/A"}},null,null,null,null,1.645E-3,3.5608300000000001E-3,"","","/",{"$error":"#N/A"}]
[null,null,null,{"$f":"VLOOKUP($C2804,'SEI ISD'!$A$4:$B$124,2,0)","v":{"$error":"#N/A"}},null,null,null,null,1.645E-3,3.5608300000000001E-3,"","","/",{"$error":"#N/A"}]
[null,null,null,{"$f":"VLOOKUP($C2805,'SEI ISD'!$A$4:$B$124,2,0)","v":{"$error":"#N/A"}},null,null,null,null,1.645E-3,3.5608300000000001E-3,"","","/",{"$error":"#N/A"}]
[null,null,null,{"$f":"VLOOKUP($C2806,'SEI ISD'!$A$4:$B$124,2,0)","v":{"$error":"#N/A"}},null,null,null,null,1.645E-3,3.5608300000000001E-3,"","","/",{"$error":"#N/A"}]
[null,null,null,{"$f":"VLOOKUP($C2807,'SEI ISD'!$A$4:$B$124,2,0)","v":{"$error":"#N/A"}},null,null,null,null,1.645E-3,3.5608300000000001E-3,"","","/",{"$error":"#N/A"}]
[null,null,null,{"$f":"VLOOKUP($C2808,'SEI ISD'!$A$4:$B$124,2,0)","v":{"$error":"#N/A"}},null,null,null,null,1.645E-3,3.5608300000000001E-3,"","","/",{"$error":"#N/A"}]
[null,null,null,{"$f":"VLOOKUP($C2809,'SEI ISD'!$A$4:$B$124,2,0)","v":{"$error":"#N/A"}},null,null,null,null,1.645E-3,3.5608300000000001E-3,"","","/",{"$error":"#N/A"}]
[null,null,null,{"$f":"VLOOKUP($C2810,'SEI ISD'!$A$4:$B$124,2,0)","v":{"$error":"#N/A"}},null,null,null,null,1.645E-3,3.5608300000000001E-3,"","","/",{"$error":"#N/A"}]
[null,null,null,{"$f":"VLOOKUP($C2811,'SEI ISD'!$A$4:$B$124,2,0)","v":{"$error":"#N/A"}},null,null,null,null,1.645E-3,3.5608300000000001E-3,"","","/",{"$error":"#N/A"}]
[null,null,null,{"$f":"VLOOKUP($C2812,'SEI ISD'!$A$4:$B$124,2,0)","v":{"$error":"#N/A"}},null,null,null,null,1.645E-3,3.5608300000000001E-3,"","","/",{"$error":"#N/A"}]
[null,null,null,{"$f":"VLOOKUP($C2813,'SEI ISD'!$A$4:$B$124,2,0)","v":{"$error":"#N/A"}},null,null,null,null,1.645E-3,3.5608300000000001E-3,"","","/",{"$error":"#N/A"}]
[null,null,null,{"$f":"VLOOKUP($C2814,'SEI ISD'!$A$4:$B$124,2,0)","v":{"$error":"#N/A"}},null,null,null,null,1.645E-3,3.5608300000000001E-3,"","","/",{"$error":"#N/A"}]
[null,null,null,{"$f":"VLOOKUP($C2815,'SEI ISD'!$A$4:$B$124,2,0)","v":{"$error":"#N/A"}},null,null,null,null,1.645E-3,3.5608300000000001E-3,"","","/",{"$error":"#N/A"}]
[null,null,null,{"$f":"VLOOKUP($C2816,'SEI ISD'!$A$4:$B$124,2,0)","v":{"$error":"#N/A"}},null,null,null,null,1.645E-3,3.5608300000000001E-3,"","","/",{"$error":"#N/A"}]
[null,null,null,{"$f":"VLOOKUP($C2817,'SEI ISD'!$A$4:$B$124,2,0)","v":{"$error":"#N/A"}},null,null,null,null,1.645E-3,3.5608300000000001E-3,"","","/",{"$error":"#N/A"}]
[null,null,null,{"$f":"VLOOKUP($C2818,'SEI ISD'!$A$4:$B$124,2,0)","v":{"$error":"#N/A"}},null,null,null,null,1.645E-3,3.5608300000000001E-3,"","","/",{"$error":"#N/A"}]
[null,null,null,{"$f":"VLOOKUP($C2819,'SEI ISD'!$A$4:$B$124,2,0)","v":{"$error":"#N/A"}},null,null,null,null,1.645E-3,3.5608300000000001E-3,"","","/",{"$error":"#N/A"}]
[null,null,null,{"$f":"VLOOKUP($C2820,'SEI ISD'!$A$4:$B$124,2,0)","v":{"$error":"#N/A"}},null,null,null,null,1.645E-3,3.5608300000000001E-3,"","","/",{"$error":"#N/A"}]
[null,null,null,{"$f":"VLOOKUP($C2821,'SEI ISD'!$A$4:$B$124,2,0)","v":{"$error":"#N/A"}},null,null,null,null,1.645E-3,3.5608300000000001E-3,"","","/",{"$error":"#N/A"}]
[null,null,null,{"$f":"VLOOKUP($C2822,'SEI ISD'!$A$4:$B$124,2,0)","v":{"$error":"#N/A"}},null,null,null,null,1.645E-3,3.5608300000000001E-3,"","","/",{"$error":"#N/A"}]
[null,null,null,{"$f":"VLOOKUP($C2823,'SEI ISD'!$A$4:$B$124,2,0)","v":{"$error":"#N/A"}},null,null,null,null,1.645E-3,3.5608300000000001E-3,"","","/",{"$error":"#N/A"}]
[null,null,null,{"$f":"VLOOKUP($C2824,'SEI ISD'!$A$4:$B$124,2,0)","v":{"$error":"#N/A"}},null,null,null,null,1.645E-3,3.5608300000000001E-3,"","","/",{"$error":"#N/A"}]
[null,null,null,{"$f":"VLOOKUP($C2825,'SEI ISD'!$A$4:$B$124,2,0)","v":{"$error":"#N/A"}},null,null,null,null,1.645E-3,3.5608300000000001E-3,"","","/",{"$error":"#N/A"}]
[null,null,null,{"$f":"VLOOKUP($C2826,'SEI ISD'!$A$4:$B$124,2,0)","v":{"$error":"#N/A"}},null,null,null,null,1.645E-3,3.5608300000000001E-3,"","","/",{"$error":"#N/A"}]
[null,null,null,{"$f":"VLOOKUP($C2827,'SEI ISD'!$A$4:$B$124,2,0)","v":{"$error":"#N/A"}},null,null,null,null,1.645E-3,3.5608300000000001E-3,"","","/",{"$error":"#N/A"}]
[null,null,null,{"$f":"VLOOKUP($C2828,'SEI ISD'!$A$4:$B$124,2,0)","v":{"$error":"#N/A"}},null,null,null,null,1.645E-3,3.5608300000000001E-3,"","","/",{"$error":"#N/A"}]
[null,null,null,{"$f":"VLOOKUP($C2829,'SEI ISD'!$A$4:$B$124,2,0)","v":{"$error":"#N/A"}},null,null,null,null,1.645E-3,3.5608300000000001E-3,"","","/",{"$error":"#N/A"}]
[null,null,null,{"$f":"VLOOKUP($C2830,'SEI ISD'!$A$4:$B$124,2,0)","v":{"$error":"#N/A"}},null,null,null,null,1.645E-3,3.5608300000000001E-3,{"$f":"RIGHT(G2830,2)","v":""},{"$f":"LEFT(G2830,4)","v":""},{"$f":"_xlfn.CONCAT(K2830,\"/\",L2830)","v":"/"},{"$f":"EOMONTH(D2830,0)","v":{"$error":"#N/A"}}]
[null,null,null,{"$f":"VLOOKUP($C2831,'SEI ISD'!$A$4:$B$124,2,0)","v":{"$error":"#N/A"}},null,null,null,null,1.645E-3,3.5608300000000001E-3,"","","/",{"$error":"#N/A"}]
[null,null,null,{"$f":"VLOOKUP($C2832,'SEI ISD'!$A$4:$B$124,2,0)","v":{"$error":"#N/A"}},null,null,null,null,1.645E-3,3.5608300000000001E-3,"","","/",{"$error":"#N/A"}]
[null,null,null,{"$f":"VLOOKUP($C2833,'SEI ISD'!$A$4:$B$124,2,0)","v":{"$error":"#N/A"}},null,null,null,null,1.645E-3,3.5608300000000001E-3,"","","/",{"$error":"#N/A"}]
[null,null,null,{"$f":"VLOOKUP($C2834,'SEI ISD'!$A$4:$B$124,2,0)","v":{"$error":"#N/A"}},null,null,null,null,1.645E-3,3.5608300000000001E-3,"","","/",{"$error":"#N/A"}]
[null,null,null,{"$f":"VLOOKUP($C2835,'SEI ISD'!$A$4:$B$124,2,0)","v":{"$error":"#N/A"}},null,null,null,null,1.645E-3,3.5608300000000001E-3,"","","/",{"$error":"#N/A"}]
[null,null,null,{"$f":"VLOOKUP($C2836,'SEI ISD'!$A$4:$B$124,2,0)","v":{"$error":"#N/A"}},null,null,null,null,1.645E-3,3.5608300000000001E-3,"","","/",{"$error":"#N/A"}]
[null,null,null,{"$f":"VLOOKUP($C2837,'SEI ISD'!$A$4:$B$124,2,0)","v":{"$error":"#N/A"}},null,null,null,null,1.645E-3,3.5608300000000001E-3,"","","/",{"$error":"#N/A"}]
[null,null,null,{"$f":"VLOOKUP($C2838,'SEI ISD'!$A$4:$B$124,2,0)","v":{"$error":"#N/A"}},null,null,null,null,1.645E-3,3.5608300000000001E-3,"","","/",{"$error":"#N/A"}]
[null,null,null,{"$f":"VLOOKUP($C2839,'SEI ISD'!$A$4:$B$124,2,0)","v":{"$error":"#N/A"}},null,null,null,null,1.645E-3,3.5608300000000001E-3,"","","/",{"$error":"#N/A"}]
[null,null,null,{"$f":"VLOOKUP($C2840,'SEI ISD'!$A$4:$B$124,2,0)","v":{"$error":"#N/A"}},null,null,null,null,1.645E-3,3.5608300000000001E-3,"","","/",{"$error":"#N/A"}]
[null,null,null,{"$f":"VLOOKUP($C2841,'SEI ISD'!$A$4:$B$124,2,0)","v":{"$error":"#N/A"}},null,null,null,null,1.645E-3,3.5608300000000001E-3,"","","/",{"$error":"#N/A"}]
[null,null,null,{"$f":"VLOOKUP($C2842,'SEI ISD'!$A$4:$B$124,2,0)","v":{"$error":"#N/A"}},null,null,null,null,1.645E-3,3.5608300000000001E-3,"","","/",{"$error":"#N/A"}]
[null,null,null,{"$f":"VLOOKUP($C2843,'SEI ISD'!$A$4:$B$124,2,0)","v":{"$error":"#N/A"}},null,null,null,null,1.645E-3,3.5608300000000001E-3,"","","/",{"$error":"#N/A"}]
[null,null,null,{"$f":"VLOOKUP($C2844,'SEI ISD'!$A$4:$B$124,2,0)","v":{"$error":"#N/A"}},null,null,null,null,1.645E-3,3.5608300000000001E-3,"","","/",{"$error":"#N/A"}]
[null,null,null,{"$f":"VLOOKUP($C2845,'SEI ISD'!$A$4:$B$124,2,0)","v":{"$error":"#N/A"}},null,null,null,null,1.645E-3,3.5608300000000001E-3,"","","/",{"$error":"#N/A"}]
[null,null,null,{"$f":"VLOOKUP($C2846,'SEI ISD'!$A$4:$B$124,2,0)","v":{"$error":"#N/A"}},null,null,null,null,1.645E-3,3.5608300000000001E-3,"","","/",{"$error":"#N/A"}]
[null,null,null,{"$f":"VLOOKUP($C2847,'SEI ISD'!$A$4:$B$124,2,0)","v":{"$error":"#N/A"}},null,null,null,null,1.645E-3,3.5608300000000001E-3,"","","/",{"$error":"#N/A"}]
[null,null,null,{"$f":"VLOOKUP($C2848,'SEI ISD'!$A$4:$B$124,2,0)","v":{"$error":"#N/A"}},null,null,null,null,1.645E-3,3.5608300000000001E-3,"","","/",{"$error":"#N/A"}]
[null,null,null,{"$f":"VLOOKUP($C2849,'SEI ISD'!$A$4:$B$124,2,0)","v":{"$error":"#N/A"}},null,null,null,null,1.645E-3,3.5608300000000001E-3,"","","/",{"$error":"#N/A"}]
[null,null,null,{"$f":"VLOOKUP($C2850,'SEI ISD'!$A$4:$B$124,2,0)","v":{"$error":"#N/A"}},null,null,null,null,1.645E-3,3.5608300000000001E-3,"","","/",{"$error":"#N/A"}]
[null,null,null,{"$f":"VLOOKUP($C2851,'SEI ISD'!$A$4:$B$124,2,0)","v":{"$error":"#N/A"}},null,null,null,null,1.645E-3,3.5608300000000001E-3,"","","/",{"$error":"#N/A"}]
[null,null,null,{"$f":"VLOOKUP($C2852,'SEI ISD'!$A$4:$B$124,2,0)","v":{"$error":"#N/A"}},null,null,null,null,1.645E-3,3.5608300000000001E-3,"","","/",{"$error":"#N/A"}]
[null,null,null,{"$f":"VLOOKUP($C2853,'SEI ISD'!$A$4:$B$124,2,0)","v":{"$error":"#N/A"}},null,null,null,null,1.645E-3,3.5608300000000001E-3,"","","/",{"$error":"#N/A"}]
[null,null,null,{"$f":"VLOOKUP($C2854,'SEI ISD'!$A$4:$B$124,2,0)","v":{"$error":"#N/A"}},null,null,null,null,1.645E-3,3.5608300000000001E-3,"","","/",{"$error":"#N/A"}]
[null,null,null,{"$f":"VLOOKUP($C2855,'SEI ISD'!$A$4:$B$124,2,0)","v":{"$error":"#N/A"}},null,null,null,null,1.645E-3,3.5608300000000001E-3,"","","/",{"$error":"#N/A"}]
[null,null,null,{"$f":"VLOOKUP($C2856,'SEI ISD'!$A$4:$B$124,2,0)","v":{"$error":"#N/A"}},null,null,null,null,1.645E-3,3.5608300000000001E-3,"","","/",{"$error":"#N/A"}]
[null,null,null,{"$f":"VLOOKUP($C2857,'SEI ISD'!$A$4:$B$124,2,0)","v":{"$error":"#N/A"}},null,null,null,null,1.645E-3,3.5608300000000001E-3,"","","/",{"$error":"#N/A"}]
[null,null,null,{"$f":"VLOOKUP($C2858,'SEI ISD'!$A$4:$B$124,2,0)","v":{"$error":"#N/A"}},null,null,null,null,1.645E-3,3.5608300000000001E-3,"","","/",{"$error":"#N/A"}]
[null,null,null,{"$f":"VLOOKUP($C2859,'SEI ISD'!$A$4:$B$124,2,0)","v":{"$error":"#N/A"}},null,null,null,null,1.645E-3,3.5608300000000001E-3,"","","/",{"$error":"#N/A"}]
[null,null,null,{"$f":"VLOOKUP($C2860,'SEI ISD'!$A$4:$B$124,2,0)","v":{"$error":"#N/A"}},null,null,null,null,1.645E-3,3.5608300000000001E-3,"","","/",{"$error":"#N/A"}]
[null,null,null,{"$f":"VLOOKUP($C2861,'SEI ISD'!$A$4:$B$124,2,0)","v":{"$error":"#N/A"}},null,null,null,null,1.645E-3,3.5608300000000001E-3,"","","/",{"$error":"#N/A"}]
[null,null,null,{"$f":"VLOOKUP($C2862,'SEI ISD'!$A$4:$B$124,2,0)","v":{"$error":"#N/A"}},null,null,null,null,1.645E-3,3.5608300000000001E-3,"","","/",{"$error":"#N/A"}]
[null,null,null,{"$f":"VLOOKUP($C2863,'SEI ISD'!$A$4:$B$124,2,0)","v":{"$error":"#N/A"}},null,null,null,null,1.645E-3,3.5608300000000001E-3,"","","/",{"$error":"#N/A"}]
[null,null,null,{"$f":"VLOOKUP($C2864,'SEI ISD'!$A$4:$B$124,2,0)","v":{"$error":"#N/A"}},null,null,null,null,1.645E-3,3.5608300000000001E-3,"","","/",{"$error":"#N/A"}]
[null,null,null,{"$f":"VLOOKUP($C2865,'SEI ISD'!$A$4:$B$124,2,0)","v":{"$error":"#N/A"}},null,null,null,null,1.645E-3,3.5608300000000001E-3,"","","/",{"$error":"#N/A"}]
[null,null,null,{"$f":"VLOOKUP($C2866,'SEI ISD'!$A$4:$B$124,2,0)","v":{"$error":"#N/A"}},null,null,null,null,1.645E-3,3.5608300000000001E-3,"","","/",{"$error":"#N/A"}]
[null,null,null,{"$f":"VLOOKUP($C2867,'SEI ISD'!$A$4:$B$124,2,0)","v":{"$error":"#N/A"}},null,null,null,null,1.645E-3,3.5608300000000001E-3,"","","/",{"$error":"#N/A"}]
[null,null,null,{"$f":"VLOOKUP($C2868,'SEI ISD'!$A$4:$B$124,2,0)","v":{"$error":"#N/A"}},null,null,null,null,1.645E-3,3.5608300000000001E-3,"","","/",{"$error":"#N/A"}]
[null,null,null,{"$f":"VLOOKUP($C2869,'SEI ISD'!$A$4:$B$124,2,0)","v":{"$error":"#N/A"}},null,null,null,null,1.645E-3,3.5608300000000001E-3,"","","/",{"$error":"#N/A"}]
[null,null,null,{"$f":"VLOOKUP($C2870,'SEI ISD'!$A$4:$B$124,2,0)","v":{"$error":"#N/A"}},null,null,null,null,1.645E-3,3.5608300000000001E-3,"","","/",{"$error":"#N/A"}]
[null,null,null,{"$f":"VLOOKUP($C2871,'SEI ISD'!$A$4:$B$124,2,0)","v":{"$error":"#N/A"}},null,null,null,null,1.645E-3,3.5608300000000001E-3,"","","/",{"$error":"#N/A"}]
[null,null,null,{"$f":"VLOOKUP($C2872,'SEI ISD'!$A$4:$B$124,2,0)","v":{"$error":"#N/A"}},null,null,null,null,1.645E-3,3.5608300000000001E-3,"","","/",{"$error":"#N/A"}]
[null,null,null,{"$f":"VLOOKUP($C2873,'SEI ISD'!$A$4:$B$124,2,0)","v":{"$error":"#N/A"}},null,null,null,null,1.645E-3,3.5608300000000001E-3,"","","/",{"$error":"#N/A"}]
[null,null,null,{"$f":"VLOOKUP($C2874,'SEI ISD'!$A$4:$B$124,2,0)","v":{"$error":"#N/A"}},null,null,null,null,1.645E-3,3.5608300000000001E-3,"","","/",{"$error":"#N/A"}]
[null,null,null,{"$f":"VLOOKUP($C2875,'SEI ISD'!$A$4:$B$124,2,0)","v":{"$error":"#N/A"}},null,null,null,null,1.645E-3,3.5608300000000001E-3,"","","/",{"$error":"#N/A"}]
[null,null,null,{"$f":"VLOOKUP($C2876,'SEI ISD'!$A$4:$B$124,2,0)","v":{"$error":"#N/A"}},null,null,null,null,1.645E-3,3.5608300000000001E-3,"","","/",{"$error":"#N/A"}]
[null,null,null,{"$f":"VLOOKUP($C2877,'SEI ISD'!$A$4:$B$124,2,0)","v":{"$error":"#N/A"}},null,null,null,null,1.645E-3,3.5608300000000001E-3,"","","/",{"$error":"#N/A"}]
[null,null,null,{"$f":"VLOOKUP($C2878,'SEI ISD'!$A$4:$B$124,2,0)","v":{"$error":"#N/A"}},null,null,null,null,1.645E-3,3.5608300000000001E-3,"","","/",{"$error":"#N/A"}]
[null,null,null,{"$f":"VLOOKUP($C2879,'SEI ISD'!$A$4:$B$124,2,0)","v":{"$error":"#N/A"}},null,null,null,null,1.645E-3,3.5608300000000001E-3,"","","/",{"$error":"#N/A"}]
[null,null,null,{"$f":"VLOOKUP($C2880,'SEI ISD'!$A$4:$B$124,2,0)","v":{"$error":"#N/A"}},null,null,null,null,1.645E-3,3.5608300000000001E-3,"","","/",{"$error":"#N/A"}]
[null,null,null,{"$f":"VLOOKUP($C2881,'SEI ISD'!$A$4:$B$124,2,0)","v":{"$error":"#N/A"}},null,null,null,null,1.645E-3,3.5608300000000001E-3,"","","/",{"$error":"#N/A"}]
[null,null,null,{"$f":"VLOOKUP($C2882,'SEI ISD'!$A$4:$B$124,2,0)","v":{"$error":"#N/A"}},null,null,null,null,1.645E-3,3.5608300000000001E-3,"","","/",{"$error":"#N/A"}]
[null,null,null,{"$f":"VLOOKUP($C2883,'SEI ISD'!$A$4:$B$124,2,0)","v":{"$error":"#N/A"}},null,null,null,null,1.645E-3,3.5608300000000001E-3,"","","/",{"$error":"#N/A"}]
[null,null,null,{"$f":"VLOOKUP($C2884,'SEI ISD'!$A$4:$B$124,2,0)","v":{"$error":"#N/A"}},null,null,null,null,1.645E-3,3.5608300000000001E-3,"","","/",{"$error":"#N/A"}]
[null,null,null,{"$f":"VLOOKUP($C2885,'SEI ISD'!$A$4:$B$124,2,0)","v":{"$error":"#N/A"}},null,null,null,null,1.645E-3,3.5608300000000001E-3,"","","/",{"$error":"#N/A"}]
[null,null,null,{"$f":"VLOOKUP($C2886,'SEI ISD'!$A$4:$B$124,2,0)","v":{"$error":"#N/A"}},null,null,null,null,1.645E-3,3.5608300000000001E-3,"","","/",{"$error":"#N/A"}]
[null,null,null,{"$f":"VLOOKUP($C2887,'SEI ISD'!$A$4:$B$124,2,0)","v":{"$error":"#N/A"}},null,null,null,null,1.645E-3,3.5608300000000001E-3,"","","/",{"$error":"#N/A"}]
[null,null,null,{"$f":"VLOOKUP($C2888,'SEI ISD'!$A$4:$B$124,2,0)","v":{"$error":"#N/A"}},null,null,null,null,1.645E-3,3.5608300000000001E-3,"","","/",{"$error":"#N/A"}]
[null,null,null,{"$f":"VLOOKUP($C2889,'SEI ISD'!$A$4:$B$124,2,0)","v":{"$error":"#N/A"}},null,null,null,null,1.645E-3,3.5608300000000001E-3,"","","/",{"$error":"#N/A"}]
[null,null,null,{"$f":"VLOOKUP($C2890,'SEI ISD'!$A$4:$B$124,2,0)","v":{"$error":"#N/A"}},null,null,null,null,1.645E-3,3.5608300000000001E-3,"","","/",{"$error":"#N/A"}]
[null,null,null,{"$f":"VLOOKUP($C2891,'SEI ISD'!$A$4:$B$124,2,0)","v":{"$error":"#N/A"}},null,null,null,null,1.645E-3,3.5608300000000001E-3,"","","/",{"$error":"#N/A"}]
[null,null,null,{"$f":"VLOOKUP($C2892,'SEI ISD'!$A$4:$B$124,2,0)","v":{"$error":"#N/A"}},null,null,null,null,1.645E-3,3.5608300000000001E-3,"","","/",{"$error":"#N/A"}]
[null,null,null,{"$f":"VLOOKUP($C2893,'SEI ISD'!$A$4:$B$124,2,0)","v":{"$error":"#N/A"}},null,null,null,null,1.645E-3,3.5608300000000001E-3,"","","/",{"$error":"#N/A"}]
[null,null,null,{"$f":"VLOOKUP($C2894,'SEI ISD'!$A$4:$B$124,2,0)","v":{"$error":"#N/A"}},null,null,null,null,1.645E-3,3.5608300000000001E-3,{"$f":"RIGHT(G2894,2)","v":""},{"$f":"LEFT(G2894,4)","v":""},{"$f":"_xlfn.CONCAT(K2894,\"/\",L2894)","v":"/"},{"$f":"EOMONTH(D2894,0)","v":{"$error":"#N/A"}}]
[null,null,null,{"$f":"VLOOKUP($C2895,'SEI ISD'!$A$4:$B$124,2,0)","v":{"$error":"#N/A"}},null,null,null,null,1.645E-3,3.5608300000000001E-3,"","","/",{"$error":"#N/A"}]
[null,null,null,{"$f":"VLOOKUP($C2896,'SEI ISD'!$A$4:$B$124,2,0)","v":{"$error":"#N/A"}},null,null,null,null,1.645E-3,3.5608300000000001E-3,"","","/",{"$error":"#N/A"}]
[null,null,null,{"$f":"VLOOKUP($C2897,'SEI ISD'!$A$4:$B$124,2,0)","v":{"$error":"#N/A"}},null,null,null,null,1.645E-3,3.5608300000000001E-3,"","","/",{"$error":"#N/A"}]
[null,null,null,{"$f":"VLOOKUP($C2898,'SEI ISD'!$A$4:$B$124,2,0)","v":{"$error":"#N/A"}},null,null,null,null,1.645E-3,3.5608300000000001E-3,"","","/",{"$error":"#N/A"}]
[null,null,null,{"$f":"VLOOKUP($C2899,'SEI ISD'!$A$4:$B$124,2,0)","v":{"$error":"#N/A"}},null,null,null,null,1.645E-3,3.5608300000000001E-3,"","","/",{"$error":"#N/A"}]
[null,null,null,{"$f":"VLOOKUP($C2900,'SEI ISD'!$A$4:$B$124,2,0)","v":{"$error":"#N/A"}},null,null,null,null,1.645E-3,3.5608300000000001E-3,"","","/",{"$error":"#N/A"}]
[null,null,null,{"$f":"VLOOKUP($C2901,'SEI ISD'!$A$4:$B$124,2,0)","v":{"$error":"#N/A"}},null,null,null,null,1.645E-3,3.5608300000000001E-3,"","","/",{"$error":"#N/A"}]
[null,null,null,{"$f":"VLOOKUP($C2902,'SEI ISD'!$A$4:$B$124,2,0)","v":{"$error":"#N/A"}},null,null,null,null,1.645E-3,3.5608300000000001E-3,"","","/",{"$error":"#N/A"}]
[null,null,null,{"$f":"VLOOKUP($C2903,'SEI ISD'!$A$4:$B$124,2,0)","v":{"$error":"#N/A"}},null,null,null,null,1.645E-3,3.5608300000000001E-3,"","","/",{"$error":"#N/A"}]
[null,null,null,{"$f":"VLOOKUP($C2904,'SEI ISD'!$A$4:$B$124,2,0)","v":{"$error":"#N/A"}},null,null,null,null,1.645E-3,3.5608300000000001E-3,"","","/",{"$error":"#N/A"}]
[null,null,null,{"$f":"VLOOKUP($C2905,'SEI ISD'!$A$4:$B$124,2,0)","v":{"$error":"#N/A"}},null,null,null,null,1.645E-3,3.5608300000000001E-3,"","","/",{"$error":"#N/A"}]
[null,null,null,{"$f":"VLOOKUP($C2906,'SEI ISD'!$A$4:$B$124,2,0)","v":{"$error":"#N/A"}},null,null,null,null,1.645E-3,3.5608300000000001E-3,"","","/",{"$error":"#N/A"}]
[null,null,null,{"$f":"VLOOKUP($C2907,'SEI ISD'!$A$4:$B$124,2,0)","v":{"$error":"#N/A"}},null,null,null,null,1.645E-3,3.5608300000000001E-3,"","","/",{"$error":"#N/A"}]
[null,null,null,{"$f":"VLOOKUP($C2908,'SEI ISD'!$A$4:$B$124,2,0)","v":{"$error":"#N/A"}},null,null,null,null,1.645E-3,3.5608300000000001E-3,"","","/",{"$error":"#N/A"}]
[null,null,null,{"$f":"VLOOKUP($C2909,'SEI ISD'!$A$4:$B$124,2,0)","v":{"$error":"#N/A"}},null,null,null,null,1.645E-3,3.5608300000000001E-3,"","","/",{"$error":"#N/A"}]
[null,null,null,{"$f":"VLOOKUP($C2910,'SEI ISD'!$A$4:$B$124,2,0)","v":{"$error":"#N/A"}},null,null,null,null,1.645E-3,3.5608300000000001E-3,"","","/",{"$error":"#N/A"}]
[null,null,null,{"$f":"VLOOKUP($C2911,'SEI ISD'!$A$4:$B$124,2,0)","v":{"$error":"#N/A"}},null,null,null,null,1.645E-3,3.5608300000000001E-3,"","","/",{"$error":"#N/A"}]
[null,null,null,{"$f":"VLOOKUP($C2912,'SEI ISD'!$A$4:$B$124,2,0)","v":{"$error":"#N/A"}},null,null,null,null,1.645E-3,3.5608300000000001E-3,"","","/",{"$error":"#N/A"}]
[null,null,null,{"$f":"VLOOKUP($C2913,'SEI ISD'!$A$4:$B$124,2,0)","v":{"$error":"#N/A"}},null,null,null,null,1.645E-3,3.5608300000000001E-3,"","","/",{"$error":"#N/A"}]
[null,null,null,{"$f":"VLOOKUP($C2914,'SEI ISD'!$A$4:$B$124,2,0)","v":{"$error":"#N/A"}},null,null,null,null,1.645E-3,3.5608300000000001E-3,"","","/",{"$error":"#N/A"}]
[null,null,null,{"$f":"VLOOKUP($C2915,'SEI ISD'!$A$4:$B$124,2,0)","v":{"$error":"#N/A"}},null,null,null,null,1.645E-3,3.5608300000000001E-3,"","","/",{"$error":"#N/A"}]
[null,null,null,{"$f":"VLOOKUP($C2916,'SEI ISD'!$A$4:$B$124,2,0)","v":{"$error":"#N/A"}},null,null,null,null,1.645E-3,3.5608300000000001E-3,"","","/",{"$error":"#N/A"}]
[null,null,null,{"$f":"VLOOKUP($C2917,'SEI ISD'!$A$4:$B$124,2,0)","v":{"$error":"#N/A"}},null,null,null,null,1.645E-3,3.5608300000000001E-3,"","","/",{"$error":"#N/A"}]
[null,null,null,{"$f":"VLOOKUP($C2918,'SEI ISD'!$A$4:$B$124,2,0)","v":{"$error":"#N/A"}},null,null,null,null,1.645E-3,3.5608300000000001E-3,"","","/",{"$error":"#N/A"}]
[null,null,null,{"$f":"VLOOKUP($C2919,'SEI ISD'!$A$4:$B$124,2,0)","v":{"$error":"#N/A"}},null,null,null,null,1.645E-3,3.5608300000000001E-3,"","","/",{"$error":"#N/A"}]
[null,null,null,{"$f":"VLOOKUP($C2920,'SEI ISD'!$A$4:$B$124,2,0)","v":{"$error":"#N/A"}},null,null,null,null,1.645E-3,3.5608300000000001E-3,"","","/",{"$error":"#N/A"}]
[null,null,null,{"$f":"VLOOKUP($C2921,'SEI ISD'!$A$4:$B$124,2,0)","v":{"$error":"#N/A"}},null,null,null,null,1.645E-3,3.5608300000000001E-3,"","","/",{"$error":"#N/A"}]
[null,null,null,{"$f":"VLOOKUP($C2922,'SEI ISD'!$A$4:$B$124,2,0)","v":{"$error":"#N/A"}},null,null,null,null,1.645E-3,3.5608300000000001E-3,"","","/",{"$error":"#N/A"}]
[null,null,null,{"$f":"VLOOKUP($C2923,'SEI ISD'!$A$4:$B$124,2,0)","v":{"$error":"#N/A"}},null,null,null,null,1.645E-3,3.5608300000000001E-3,"","","/",{"$error":"#N/A"}]
[null,null,null,{"$f":"VLOOKUP($C2924,'SEI ISD'!$A$4:$B$124,2,0)","v":{"$error":"#N/A"}},null,null,null,null,1.645E-3,3.5608300000000001E-3,"","","/",{"$error":"#N/A"}]
[null,null,null,{"$f":"VLOOKUP($C2925,'SEI ISD'!$A$4:$B$124,2,0)","v":{"$error":"#N/A"}},null,null,null,null,1.645E-3,3.5608300000000001E-3,"","","/",{"$error":"#N/A"}]
[null,null,null,{"$f":"VLOOKUP($C2926,'SEI ISD'!$A$4:$B$124,2,0)","v":{"$error":"#N/A"}},null,null,null,null,1.645E-3,3.5608300000000001E-3,"","","/",{"$error":"#N/A"}]
[null,null,null,{"$f":"VLOOKUP($C2927,'SEI ISD'!$A$4:$B$124,2,0)","v":{"$error":"#N/A"}},null,null,null,null,1.645E-3,3.5608300000000001E-3,"","","/",{"$error":"#N/A"}]
[null,null,null,{"$f":"VLOOKUP($C2928,'SEI ISD'!$A$4:$B$124,2,0)","v":{"$error":"#N/A"}},null,null,null,null,1.645E-3,3.5608300000000001E-3,"","","/",{"$error":"#N/A"}]
[null,null,null,{"$f":"VLOOKUP($C2929,'SEI ISD'!$A$4:$B$124,2,0)","v":{"$error":"#N/A"}},null,null,null,null,1.645E-3,3.5608300000000001E-3,"","","/",{"$error":"#N/A"}]
[null,null,null,{"$f":"VLOOKUP($C2930,'SEI ISD'!$A$4:$B$124,2,0)","v":{"$error":"#N/A"}},null,null,null,null,1.645E-3,3.5608300000000001E-3,"","","/",{"$error":"#N/A"}]
[null,null,null,{"$f":"VLOOKUP($C2931,'SEI ISD'!$A$4:$B$124,2,0)","v":{"$error":"#N/A"}},null,null,null,null,1.645E-3,3.5608300000000001E-3,"","","/",{"$error":"#N/A"}]
[null,null,null,{"$f":"VLOOKUP($C2932,'SEI ISD'!$A$4:$B$124,2,0)","v":{"$error":"#N/A"}},null,null,null,null,1.645E-3,3.5608300000000001E-3,"","","/",{"$error":"#N/A"}]
[null,null,null,{"$f":"VLOOKUP($C2933,'SEI ISD'!$A$4:$B$124,2,0)","v":{"$error":"#N/A"}},null,null,null,null,1.645E-3,3.5608300000000001E-3,"","","/",{"$error":"#N/A"}]
[null,null,null,{"$f":"VLOOKUP($C2934,'SEI ISD'!$A$4:$B$124,2,0)","v":{"$error":"#N/A"}},null,null,null,null,1.645E-3,3.5608300000000001E-3,"","","/",{"$error":"#N/A"}]
[null,null,null,{"$f":"VLOOKUP($C2935,'SEI ISD'!$A$4:$B$124,2,0)","v":{"$error":"#N/A"}},null,null,null,null,1.645E-3,3.5608300000000001E-3,"","","/",{"$error":"#N/A"}]
[null,null,null,{"$f":"VLOOKUP($C2936,'SEI ISD'!$A$4:$B$124,2,0)","v":{"$error":"#N/A"}},null,null,null,null,1.645E-3,3.5608300000000001E-3,"","","/",{"$error":"#N/A"}]
[null,null,null,{"$f":"VLOOKUP($C2937,'SEI ISD'!$A$4:$B$124,2,0)","v":{"$error":"#N/A"}},null,null,null,null,1.645E-3,3.5608300000000001E-3,"","","/",{"$error":"#N/A"}]
[null,null,null,{"$f":"VLOOKUP($C2938,'SEI ISD'!$A$4:$B$124,2,0)","v":{"$error":"#N/A"}},null,null,null,null,1.645E-3,3.5608300000000001E-3,"","","/",{"$error":"#N/A"}]
[null,null,null,{"$f":"VLOOKUP($C2939,'SEI ISD'!$A$4:$B$124,2,0)","v":{"$error":"#N/A"}},null,null,null,null,1.645E-3,3.5608300000000001E-3,"","","/",{"$error":"#N/A"}]
[null,null,null,{"$f":"VLOOKUP($C2940,'SEI ISD'!$A$4:$B$124,2,0)","v":{"$error":"#N/A"}},null,null,null,null,1.645E-3,3.5608300000000001E-3,"","","/",{"$error":"#N/A"}]
[null,null,null,{"$f":"VLOOKUP($C2941,'SEI ISD'!$A$4:$B$124,2,0)","v":{"$error":"#N/A"}},null,null,null,null,1.645E-3,3.5608300000000001E-3,"","","/",{"$error":"#N/A"}]
[null,null,null,{"$f":"VLOOKUP($C2942,'SEI ISD'!$A$4:$B$124,2,0)","v":{"$error":"#N/A"}},null,null,null,null,1.645E-3,3.5608300000000001E-3,"","","/",{"$error":"#N/A"}]
[null,null,null,{"$f":"VLOOKUP($C2943,'SEI ISD'!$A$4:$B$124,2,0)","v":{"$error":"#N/A"}},null,null,null,null,1.645E-3,3.5608300000000001E-3,"","","/",{"$error":"#N/A"}]
[null,null,null,{"$f":"VLOOKUP($C2944,'SEI ISD'!$A$4:$B$124,2,0)","v":{"$error":"#N/A"}},null,null,null,null,1.645E-3,3.5608300000000001E-3,"","","/",{"$error":"#N/A"}]
[null,null,null,{"$f":"VLOOKUP($C2945,'SEI ISD'!$A$4:$B$124,2,0)","v":{"$error":"#N/A"}},null,null,null,null,1.645E-3,3.5608300000000001E-3,"","","/",{"$error":"#N/A"}]
[null,null,null,{"$f":"VLOOKUP($C2946,'SEI ISD'!$A$4:$B$124,2,0)","v":{"$error":"#N/A"}},null,null,null,null,1.645E-3,3.5608300000000001E-3,"","","/",{"$error":"#N/A"}]
[null,null,null,{"$f":"VLOOKUP($C2947,'SEI ISD'!$A$4:$B$124,2,0)","v":{"$error":"#N/A"}},null,null,null,null,1.645E-3,3.5608300000000001E-3,"","","/",{"$error":"#N/A"}]
[null,null,null,{"$f":"VLOOKUP($C2948,'SEI ISD'!$A$4:$B$124,2,0)","v":{"$error":"#N/A"}},null,null,null,null,1.645E-3,3.5608300000000001E-3,"","","/",{"$error":"#N/A"}]
[null,null,null,{"$f":"VLOOKUP($C2949,'SEI ISD'!$A$4:$B$124,2,0)","v":{"$error":"#N/A"}},null,null,null,null,1.645E-3,3.5608300000000001E-3,"","","/",{"$error":"#N/A"}]
[null,null,null,{"$f":"VLOOKUP($C2950,'SEI ISD'!$A$4:$B$124,2,0)","v":{"$error":"#N/A"}},null,null,null,null,1.645E-3,3.5608300000000001E-3,"","","/",{"$error":"#N/A"}]
[null,null,null,{"$f":"VLOOKUP($C2951,'SEI ISD'!$A$4:$B$124,2,0)","v":{"$error":"#N/A"}},null,null,null,null,1.645E-3,3.5608300000000001E-3,"","","/",{"$error":"#N/A"}]
[null,null,null,{"$f":"VLOOKUP($C2952,'SEI ISD'!$A$4:$B$124,2,0)","v":{"$error":"#N/A"}},null,null,null,null,1.645E-3,3.5608300000000001E-3,"","","/",{"$error":"#N/A"}]
[null,null,null,{"$f":"VLOOKUP($C2953,'SEI ISD'!$A$4:$B$124,2,0)","v":{"$error":"#N/A"}},null,null,null,null,1.645E-3,3.5608300000000001E-3,"","","/",{"$error":"#N/A"}]
[null,null,null,{"$f":"VLOOKUP($C2954,'SEI ISD'!$A$4:$B$124,2,0)","v":{"$error":"#N/A"}},null,null,null,null,1.645E-3,3.5608300000000001E-3,"","","/",{"$error":"#N/A"}]
[null,null,null,{"$f":"VLOOKUP($C2955,'SEI ISD'!$A$4:$B$124,2,0)","v":{"$error":"#N/A"}},null,null,null,null,1.645E-3,3.5608300000000001E-3,"","","/",{"$error":"#N/A"}]
[null,null,null,{"$f":"VLOOKUP($C2956,'SEI ISD'!$A$4:$B$124,2,0)","v":{"$error":"#N/A"}},null,null,null,null,1.645E-3,3.5608300000000001E-3,"","","/",{"$error":"#N/A"}]
[null,null,null,{"$f":"VLOOKUP($C2957,'SEI ISD'!$A$4:$B$124,2,0)","v":{"$error":"#N/A"}},null,null,null,null,1.645E-3,3.5608300000000001E-3,"","","/",{"$error":"#N/A"}]
[null,null,null,{"$f":"VLOOKUP($C2958,'SEI ISD'!$A$4:$B$124,2,0)","v":{"$error":"#N/A"}},null,null,null,null,1.645E-3,3.5608300000000001E-3,{"$f":"RIGHT(G2958,2)","v":""},{"$f":"LEFT(G2958,4)","v":""},{"$f":"_xlfn.CONCAT(K2958,\"/\",L2958)","v":"/"},{"$f":"EOMONTH(D2958,0)","v":{"$error":"#N/A"}}]
[null,null,null,{"$f":"VLOOKUP($C2959,'SEI ISD'!$A$4:$B$124,2,0)","v":{"$error":"#N/A"}},null,null,null,null,1.645E-3,3.5608300000000001E-3,"","","/",{"$error":"#N/A"}]
[null,null,null,{"$f":"VLOOKUP($C2960,'SEI ISD'!$A$4:$B$124,2,0)","v":{"$error":"#N/A"}},null,null,null,null,1.645E-3,3.5608300000000001E-3,"","","/",{"$error":"#N/A"}]
[null,null,null,{"$f":"VLOOKUP($C2961,'SEI ISD'!$A$4:$B$124,2,0)","v":{"$error":"#N/A"}},null,null,null,null,1.645E-3,3.5608300000000001E-3,"","","/",{"$error":"#N/A"}]
[null,null,null,{"$f":"VLOOKUP($C2962,'SEI ISD'!$A$4:$B$124,2,0)","v":{"$error":"#N/A"}},null,null,null,null,1.645E-3,3.5608300000000001E-3,"","","/",{"$error":"#N/A"}]
[null,null,null,{"$f":"VLOOKUP($C2963,'SEI ISD'!$A$4:$B$124,2,0)","v":{"$error":"#N/A"}},null,null,null,null,1.645E-3,3.5608300000000001E-3,"","","/",{"$error":"#N/A"}]
[null,null,null,{"$f":"VLOOKUP($C2964,'SEI ISD'!$A$4:$B$124,2,0)","v":{"$error":"#N/A"}},null,null,null,null,1.645E-3,3.5608300000000001E-3,"","","/",{"$error":"#N/A"}]
[null,null,null,{"$f":"VLOOKUP($C2965,'SEI ISD'!$A$4:$B$124,2,0)","v":{"$error":"#N/A"}},null,null,null,null,1.645E-3,3.5608300000000001E-3,"","","/",{"$error":"#N/A"}]
[null,null,null,{"$f":"VLOOKUP($C2966,'SEI ISD'!$A$4:$B$124,2,0)","v":{"$error":"#N/A"}},null,null,null,null,1.645E-3,3.5608300000000001E-3,"","","/",{"$error":"#N/A"}]
[null,null,null,{"$f":"VLOOKUP($C2967,'SEI ISD'!$A$4:$B$124,2,0)","v":{"$error":"#N/A"}},null,null,null,null,1.645E-3,3.5608300000000001E-3,"","","/",{"$error":"#N/A"}]
[null,null,null,{"$f":"VLOOKUP($C2968,'SEI ISD'!$A$4:$B$124,2,0)","v":{"$error":"#N/A"}},null,null,null,null,1.645E-3,3.5608300000000001E-3,"","","/",{"$error":"#N/A"}]
[null,null,null,{"$f":"VLOOKUP($C2969,'SEI ISD'!$A$4:$B$124,2,0)","v":{"$error":"#N/A"}},null,null,null,null,1.645E-3,3.5608300000000001E-3,"","","/",{"$error":"#N/A"}]
[null,null,null,{"$f":"VLOOKUP($C2970,'SEI ISD'!$A$4:$B$124,2,0)","v":{"$error":"#N/A"}},null,null,null,null,1.645E-3,3.5608300000000001E-3,"","","/",{"$error":"#N/A"}]
[null,null,null,{"$f":"VLOOKUP($C2971,'SEI ISD'!$A$4:$B$124,2,0)","v":{"$error":"#N/A"}},null,null,null,null,1.645E-3,3.5608300000000001E-3,"","","/",{"$error":"#N/A"}]
[null,null,null,{"$f":"VLOOKUP($C2972,'SEI ISD'!$A$4:$B$124,2,0)","v":{"$error":"#N/A"}},null,null,null,null,1.645E-3,3.5608300000000001E-3,"","","/",{"$error":"#N/A"}]
[null,null,null,{"$f":"VLOOKUP($C2973,'SEI ISD'!$A$4:$B$124,2,0)","v":{"$error":"#N/A"}},null,null,null,null,1.645E-3,3.5608300000000001E-3,"","","/",{"$error":"#N/A"}]
[null,null,null,{"$f":"VLOOKUP($C2974,'SEI ISD'!$A$4:$B$124,2,0)","v":{"$error":"#N/A"}},null,null,null,null,1.645E-3,3.5608300000000001E-3,"","","/",{"$error":"#N/A"}]
[null,null,null,{"$f":"VLOOKUP($C2975,'SEI ISD'!$A$4:$B$124,2,0)","v":{"$error":"#N/A"}},null,null,null,null,1.645E-3,3.5608300000000001E-3,"","","/",{"$error":"#N/A"}]
[null,null,null,{"$f":"VLOOKUP($C2976,'SEI ISD'!$A$4:$B$124,2,0)","v":{"$error":"#N/A"}},null,null,null,null,1.645E-3,3.5608300000000001E-3,"","","/",{"$error":"#N/A"}]
[null,null,null,{"$f":"VLOOKUP($C2977,'SEI ISD'!$A$4:$B$124,2,0)","v":{"$error":"#N/A"}},null,null,null,null,1.645E-3,3.5608300000000001E-3,"","","/",{"$error":"#N/A"}]
[null,null,null,{"$f":"VLOOKUP($C2978,'SEI ISD'!$A$4:$B$124,2,0)","v":{"$error":"#N/A"}},null,null,null,null,1.645E-3,3.5608300000000001E-3,"","","/",{"$error":"#N/A"}]
[null,null,null,{"$f":"VLOOKUP($C2979,'SEI ISD'!$A$4:$B$124,2,0)","v":{"$error":"#N/A"}},null,null,null,null,1.645E-3,3.5608300000000001E-3,"","","/",{"$error":"#N/A"}]
[null,null,null,{"$f":"VLOOKUP($C2980,'SEI ISD'!$A$4:$B$124,2,0)","v":{"$error":"#N/A"}},null,null,null,null,1.645E-3,3.5608300000000001E-3,"","","/",{"$error":"#N/A"}]
[null,null,null,{"$f":"VLOOKUP($C2981,'SEI ISD'!$A$4:$B$124,2,0)","v":{"$error":"#N/A"}},null,null,null,null,1.645E-3,3.5608300000000001E-3,"","","/",{"$error":"#N/A"}]
[null,null,null,{"$f":"VLOOKUP($C2982,'SEI ISD'!$A$4:$B$124,2,0)","v":{"$error":"#N/A"}},null,null,null,null,1.645E-3,3.5608300000000001E-3,"","","/",{"$error":"#N/A"}]
[null,null,null,{"$f":"VLOOKUP($C2983,'SEI ISD'!$A$4:$B$124,2,0)","v":{"$error":"#N/A"}},null,null,null,null,1.645E-3,3.5608300000000001E-3,"","","/",{"$error":"#N/A"}]
[null,null,null,{"$f":"VLOOKUP($C2984,'SEI ISD'!$A$4:$B$124,2,0)","v":{"$error":"#N/A"}},null,null,null,null,1.645E-3,3.5608300000000001E-3,"","","/",{"$error":"#N/A"}]
[null,null,null,{"$f":"VLOOKUP($C2985,'SEI ISD'!$A$4:$B$124,2,0)","v":{"$error":"#N/A"}},null,null,null,null,1.645E-3,3.5608300000000001E-3,"","","/",{"$error":"#N/A"}]
[null,null,null,{"$f":"VLOOKUP($C2986,'SEI ISD'!$A$4:$B$124,2,0)","v":{"$error":"#N/A"}},null,null,null,null,1.645E-3,3.5608300000000001E-3,"","","/",{"$error":"#N/A"}]
[null,null,null,{"$f":"VLOOKUP($C2987,'SEI ISD'!$A$4:$B$124,2,0)","v":{"$error":"#N/A"}},null,null,null,null,1.645E-3,3.5608300000000001E-3,"","","/",{"$error":"#N/A"}]
[null,null,null,{"$f":"VLOOKUP($C2988,'SEI ISD'!$A$4:$B$124,2,0)","v":{"$error":"#N/A"}},null,null,null,null,1.645E-3,3.5608300000000001E-3,"","","/",{"$error":"#N/A"}]
[null,null,null,{"$f":"VLOOKUP($C2989,'SEI ISD'!$A$4:$B$124,2,0)","v":{"$error":"#N/A"}},null,null,null,null,1.645E-3,3.5608300000000001E-3,"","","/",{"$error":"#N/A"}]
[null,null,null,{"$f":"VLOOKUP($C2990,'SEI ISD'!$A$4:$B$124,2,0)","v":{"$error":"#N/A"}},null,null,null,null,1.645E-3,3.5608300000000001E-3,"","","/",{"$error":"#N/A"}]
[null,null,null,{"$f":"VLOOKUP($C2991,'SEI ISD'!$A$4:$B$124,2,0)","v":{"$error":"#N/A"}},null,null,null,null,1.645E-3,3.5608300000000001E-3,"","","/",{"$error":"#N/A"}]
[null,null,null,{"$f":"VLOOKUP($C2992,'SEI ISD'!$A$4:$B$124,2,0)","v":{"$error":"#N/A"}},null,null,null,null,1.645E-3,3.5608300000000001E-3,"","","/",{"$error":"#N/A"}]
[null,null,null,{"$f":"VLOOKUP($C2993,'SEI ISD'!$A$4:$B$124,2,0)","v":{"$error":"#N/A"}},null,null,null,null,1.645E-3,3.5608300000000001E-3,"","","/",{"$error":"#N/A"}]
[null,null,null,{"$f":"VLOOKUP($C2994,'SEI ISD'!$A$4:$B$124,2,0)","v":{"$error":"#N/A"}},null,null,null,null,1.645E-3,3.5608300000000001E-3,"","","/",{"$error":"#N/A"}]
[null,null,null,{"$f":"VLOOKUP($C2995,'SEI ISD'!$A$4:$B$124,2,0)","v":{"$error":"#N/A"}},null,null,null,null,1.645E-3,3.5608300000000001E-3,"","","/",{"$error":"#N/A"}]
[null,null,null,{"$f":"VLOOKUP($C2996,'SEI ISD'!$A$4:$B$124,2,0)","v":{"$error":"#N/A"}},null,null,null,null,1.645E-3,3.5608300000000001E-3,"","","/",{"$error":"#N/A"}]
[null,null,null,{"$f":"VLOOKUP($C2997,'SEI ISD'!$A$4:$B$124,2,0)","v":{"$error":"#N/A"}},null,null,null,null,1.645E-3,3.5608300000000001E-3,"","","/",{"$error":"#N/A"}]
[null,null,null,{"$f":"VLOOKUP($C2998,'SEI ISD'!$A$4:$B$124,2,0)","v":{"$error":"#N/A"}},null,null,null,null,1.645E-3,3.5608300000000001E-3,"","","/",{"$error":"#N/A"}]
[null,null,null,{"$f":"VLOOKUP($C2999,'SEI ISD'!$A$4:$B$124,2,0)","v":{"$error":"#N/A"}},null,null,null,null,1.645E-3,3.5608300000000001E-3,"","","/",{"$error":"#N/A"}]
[null,null,null,{"$f":"VLOOKUP($C3000,'SEI ISD'!$A$4:$B$124,2,0)","v":{"$error":"#N/A"}},null,null,null,null,1.645E-3,3.5608300000000001E-3,"","","/",{"$error":"#N/A"}]
[null,null,null,{"$f":"VLOOKUP($C3001,'SEI ISD'!$A$4:$B$124,2,0)","v":{"$error":"#N/A"}},null,null,null,null,1.645E-3,3.5608300000000001E-3,"","","/",{"$error":"#N/A"}]
[null,null,null,{"$f":"VLOOKUP($C3002,'SEI ISD'!$A$4:$B$124,2,0)","v":{"$error":"#N/A"}},null,null,null,null,1.645E-3,3.5608300000000001E-3,"","","/",{"$error":"#N/A"}]
[null,null,null,{"$f":"VLOOKUP($C3003,'SEI ISD'!$A$4:$B$124,2,0)","v":{"$error":"#N/A"}},null,null,null,null,1.645E-3,3.5608300000000001E-3,"","","/",{"$error":"#N/A"}]
[null,null,null,{"$f":"VLOOKUP($C3004,'SEI ISD'!$A$4:$B$124,2,0)","v":{"$error":"#N/A"}},null,null,null,null,1.645E-3,3.5608300000000001E-3,"","","/",{"$error":"#N/A"}]
[null,null,null,{"$f":"VLOOKUP($C3005,'SEI ISD'!$A$4:$B$124,2,0)","v":{"$error":"#N/A"}},null,null,null,null,1.645E-3,3.5608300000000001E-3,"","","/",{"$error":"#N/A"}]
[null,null,null,{"$f":"VLOOKUP($C3006,'SEI ISD'!$A$4:$B$124,2,0)","v":{"$error":"#N/A"}},null,null,null,null,1.645E-3,3.5608300000000001E-3,"","","/",{"$error":"#N/A"}]
[null,null,null,{"$f":"VLOOKUP($C3007,'SEI ISD'!$A$4:$B$124,2,0)","v":{"$error":"#N/A"}},null,null,null,null,1.645E-3,3.5608300000000001E-3,"","","/",{"$error":"#N/A"}]
[null,null,null,{"$f":"VLOOKUP($C3008,'SEI ISD'!$A$4:$B$124,2,0)","v":{"$error":"#N/A"}},null,null,null,null,1.645E-3,3.5608300000000001E-3,"","","/",{"$error":"#N/A"}]
[null,null,null,{"$f":"VLOOKUP($C3009,'SEI ISD'!$A$4:$B$124,2,0)","v":{"$error":"#N/A"}},null,null,null,null,1.645E-3,3.5608300000000001E-3,"","","/",{"$error":"#N/A"}]
[null,null,null,{"$f":"VLOOKUP($C3010,'SEI ISD'!$A$4:$B$124,2,0)","v":{"$error":"#N/A"}},null,null,null,null,1.645E-3,3.5608300000000001E-3,"","","/",{"$error":"#N/A"}]
[null,null,null,{"$f":"VLOOKUP($C3011,'SEI ISD'!$A$4:$B$124,2,0)","v":{"$error":"#N/A"}},null,null,null,null,1.645E-3,3.5608300000000001E-3,"","","/",{"$error":"#N/A"}]
[null,null,null,{"$f":"VLOOKUP($C3012,'SEI ISD'!$A$4:$B$124,2,0)","v":{"$error":"#N/A"}},null,null,null,null,1.645E-3,3.5608300000000001E-3,"","","/",{"$error":"#N/A"}]
[null,null,null,{"$f":"VLOOKUP($C3013,'SEI ISD'!$A$4:$B$124,2,0)","v":{"$error":"#N/A"}},null,null,null,null,1.645E-3,3.5608300000000001E-3,"","","/",{"$error":"#N/A"}]
[null,null,null,{"$f":"VLOOKUP($C3014,'SEI ISD'!$A$4:$B$124,2,0)","v":{"$error":"#N/A"}},null,null,null,null,1.645E-3,3.5608300000000001E-3,"","","/",{"$error":"#N/A"}]
[null,null,null,{"$f":"VLOOKUP($C3015,'SEI ISD'!$A$4:$B$124,2,0)","v":{"$error":"#N/A"}},null,null,null,null,1.645E-3,3.5608300000000001E-3,"","","/",{"$error":"#N/A"}]
[null,null,null,{"$f":"VLOOKUP($C3016,'SEI ISD'!$A$4:$B$124,2,0)","v":{"$error":"#N/A"}},null,null,null,null,1.645E-3,3.5608300000000001E-3,"","","/",{"$error":"#N/A"}]
[null,null,null,{"$f":"VLOOKUP($C3017,'SEI ISD'!$A$4:$B$124,2,0)","v":{"$error":"#N/A"}},null,null,null,null,1.645E-3,3.5608300000000001E-3,"","","/",{"$error":"#N/A"}]
[null,null,null,{"$f":"VLOOKUP($C3018,'SEI ISD'!$A$4:$B$124,2,0)","v":{"$error":"#N/A"}},null,null,null,null,1.645E-3,3.5608300000000001E-3,"","","/",{"$error":"#N/A"}]
[null,null,null,{"$f":"VLOOKUP($C3019,'SEI ISD'!$A$4:$B$124,2,0)","v":{"$error":"#N/A"}},null,null,null,null,1.645E-3,3.5608300000000001E-3,"","","/",{"$error":"#N/A"}]
[null,null,null,{"$f":"VLOOKUP($C3020,'SEI ISD'!$A$4:$B$124,2,0)","v":{"$error":"#N/A"}},null,null,null,null,1.645E-3,3.5608300000000001E-3,"","","/",{"$error":"#N/A"}]
[null,null,null,{"$f":"VLOOKUP($C3021,'SEI ISD'!$A$4:$B$124,2,0)","v":{"$error":"#N/A"}},null,null,null,null,1.645E-3,3.5608300000000001E-3,"","","/",{"$error":"#N/A"}]
[null,null,null,{"$f":"VLOOKUP($C3022,'SEI ISD'!$A$4:$B$124,2,0)","v":{"$error":"#N/A"}},null,null,null,null,1.645E-3,3.5608300000000001E-3,{"$f":"RIGHT(G3022,2)","v":""},{"$f":"LEFT(G3022,4)","v":""},{"$f":"_xlfn.CONCAT(K3022,\"/\",L3022)","v":"/"},{"$f":"EOMONTH(D3022,0)","v":{"$error":"#N/A"}}]
[null,null,null,{"$f":"VLOOKUP($C3023,'SEI ISD'!$A$4:$B$124,2,0)","v":{"$error":"#N/A"}},null,null,null,null,1.645E-3,3.5608300000000001E-3,"","","/",{"$error":"#N/A"}]
[null,null,null,{"$f":"VLOOKUP($C3024,'SEI ISD'!$A$4:$B$124,2,0)","v":{"$error":"#N/A"}},null,null,null,null,1.645E-3,3.5608300000000001E-3,"","","/",{"$error":"#N/A"}]
[null,null,null,{"$f":"VLOOKUP($C3025,'SEI ISD'!$A$4:$B$124,2,0)","v":{"$error":"#N/A"}},null,null,null,null,1.645E-3,3.5608300000000001E-3,"","","/",{"$error":"#N/A"}]
[null,null,null,{"$f":"VLOOKUP($C3026,'SEI ISD'!$A$4:$B$124,2,0)","v":{"$error":"#N/A"}},null,null,null,null,1.645E-3,3.5608300000000001E-3,"","","/",{"$error":"#N/A"}]
[null,null,null,{"$f":"VLOOKUP($C3027,'SEI ISD'!$A$4:$B$124,2,0)","v":{"$error":"#N/A"}},null,null,null,null,1.645E-3,3.5608300000000001E-3,"","","/",{"$error":"#N/A"}]
[null,null,null,{"$f":"VLOOKUP($C3028,'SEI ISD'!$A$4:$B$124,2,0)","v":{"$error":"#N/A"}},null,null,null,null,1.645E-3,3.5608300000000001E-3,"","","/",{"$error":"#N/A"}]
[null,null,null,{"$f":"VLOOKUP($C3029,'SEI ISD'!$A$4:$B$124,2,0)","v":{"$error":"#N/A"}},null,null,null,null,1.645E-3,3.5608300000000001E-3,"","","/",{"$error":"#N/A"}]
[null,null,null,{"$f":"VLOOKUP($C3030,'SEI ISD'!$A$4:$B$124,2,0)","v":{"$error":"#N/A"}},null,null,null,null,1.645E-3,3.5608300000000001E-3,"","","/",{"$error":"#N/A"}]
[null,null,null,{"$f":"VLOOKUP($C3031,'SEI ISD'!$A$4:$B$124,2,0)","v":{"$error":"#N/A"}},null,null,null,null,1.645E-3,3.5608300000000001E-3,"","","/",{"$error":"#N/A"}]
[null,null,null,{"$f":"VLOOKUP($C3032,'SEI ISD'!$A$4:$B$124,2,0)","v":{"$error":"#N/A"}},null,null,null,null,1.645E-3,3.5608300000000001E-3,"","","/",{"$error":"#N/A"}]
[null,null,null,{"$f":"VLOOKUP($C3033,'SEI ISD'!$A$4:$B$124,2,0)","v":{"$error":"#N/A"}},null,null,null,null,1.645E-3,3.5608300000000001E-3,"","","/",{"$error":"#N/A"}]
[null,null,null,{"$f":"VLOOKUP($C3034,'SEI ISD'!$A$4:$B$124,2,0)","v":{"$error":"#N/A"}},null,null,null,null,1.645E-3,3.5608300000000001E-3,"","","/",{"$error":"#N/A"}]
[null,null,null,{"$f":"VLOOKUP($C3035,'SEI ISD'!$A$4:$B$124,2,0)","v":{"$error":"#N/A"}},null,null,null,null,1.645E-3,3.5608300000000001E-3,"","","/",{"$error":"#N/A"}]
[null,null,null,{"$f":"VLOOKUP($C3036,'SEI ISD'!$A$4:$B$124,2,0)","v":{"$error":"#N/A"}},null,null,null,null,1.645E-3,3.5608300000000001E-3,"","","/",{"$error":"#N/A"}]
[null,null,null,{"$f":"VLOOKUP($C3037,'SEI ISD'!$A$4:$B$124,2,0)","v":{"$error":"#N/A"}},null,null,null,null,1.645E-3,3.5608300000000001E-3,"","","/",{"$error":"#N/A"}]
[null,null,null,{"$f":"VLOOKUP($C3038,'SEI ISD'!$A$4:$B$124,2,0)","v":{"$error":"#N/A"}},null,null,null,null,1.645E-3,3.5608300000000001E-3,"","","/",{"$error":"#N/A"}]
[null,null,null,{"$f":"VLOOKUP($C3039,'SEI ISD'!$A$4:$B$124,2,0)","v":{"$error":"#N/A"}},null,null,null,null,1.645E-3,3.5608300000000001E-3,"","","/",{"$error":"#N/A"}]
[null,null,null,{"$f":"VLOOKUP($C3040,'SEI ISD'!$A$4:$B$124,2,0)","v":{"$error":"#N/A"}},null,null,null,null,1.645E-3,3.5608300000000001E-3,"","","/",{"$error":"#N/A"}]
[null,null,null,{"$f":"VLOOKUP($C3041,'SEI ISD'!$A$4:$B$124,2,0)","v":{"$error":"#N/A"}},null,null,null,null,1.645E-3,3.5608300000000001E-3,"","","/",{"$error":"#N/A"}]
[null,null,null,{"$f":"VLOOKUP($C3042,'SEI ISD'!$A$4:$B$124,2,0)","v":{"$error":"#N/A"}},null,null,null,null,1.645E-3,3.5608300000000001E-3,"","","/",{"$error":"#N/A"}]
[null,null,null,{"$f":"VLOOKUP($C3043,'SEI ISD'!$A$4:$B$124,2,0)","v":{"$error":"#N/A"}},null,null,null,null,1.645E-3,3.5608300000000001E-3,"","","/",{"$error":"#N/A"}]
[null,null,null,{"$f":"VLOOKUP($C3044,'SEI ISD'!$A$4:$B$124,2,0)","v":{"$error":"#N/A"}},null,null,null,null,1.645E-3,3.5608300000000001E-3,"","","/",{"$error":"#N/A"}]
[null,null,null,{"$f":"VLOOKUP($C3045,'SEI ISD'!$A$4:$B$124,2,0)","v":{"$error":"#N/A"}},null,null,null,null,1.645E-3,3.5608300000000001E-3,"","","/",{"$error":"#N/A"}]
[null,null,null,{"$f":"VLOOKUP($C3046,'SEI ISD'!$A$4:$B$124,2,0)","v":{"$error":"#N/A"}},null,null,null,null,1.645E-3,3.5608300000000001E-3,"","","/",{"$error":"#N/A"}]
[null,null,null,{"$f":"VLOOKUP($C3047,'SEI ISD'!$A$4:$B$124,2,0)","v":{"$error":"#N/A"}},null,null,null,null,1.645E-3,3.5608300000000001E-3,"","","/",{"$error":"#N/A"}]
[null,null,null,{"$f":"VLOOKUP($C3048,'SEI ISD'!$A$4:$B$124,2,0)","v":{"$error":"#N/A"}},null,null,null,null,1.645E-3,3.5608300000000001E-3,"","","/",{"$error":"#N/A"}]
[null,null,null,{"$f":"VLOOKUP($C3049,'SEI ISD'!$A$4:$B$124,2,0)","v":{"$error":"#N/A"}},null,null,null,null,1.645E-3,3.5608300000000001E-3,"","","/",{"$error":"#N/A"}]
[null,null,null,{"$f":"VLOOKUP($C3050,'SEI ISD'!$A$4:$B$124,2,0)","v":{"$error":"#N/A"}},null,null,null,null,1.645E-3,3.5608300000000001E-3,"","","/",{"$error":"#N/A"}]
[null,null,null,{"$f":"VLOOKUP($C3051,'SEI ISD'!$A$4:$B$124,2,0)","v":{"$error":"#N/A"}},null,null,null,null,1.645E-3,3.5608300000000001E-3,"","","/",{"$error":"#N/A"}]
[null,null,null,{"$f":"VLOOKUP($C3052,'SEI ISD'!$A$4:$B$124,2,0)","v":{"$error":"#N/A"}},null,null,null,null,1.645E-3,3.5608300000000001E-3,"","","/",{"$error":"#N/A"}]
[null,null,null,{"$f":"VLOOKUP($C3053,'SEI ISD'!$A$4:$B$124,2,0)","v":{"$error":"#N/A"}},null,null,null,null,1.645E-3,3.5608300000000001E-3,"","","/",{"$error":"#N/A"}]
[null,null,null,{"$f":"VLOOKUP($C3054,'SEI ISD'!$A$4:$B$124,2,0)","v":{"$error":"#N/A"}},null,null,null,null,1.645E-3,3.5608300000000001E-3,"","","/",{"$error":"#N/A"}]
[null,null,null,{"$f":"VLOOKUP($C3055,'SEI ISD'!$A$4:$B$124,2,0)","v":{"$error":"#N/A"}},null,null,null,null,1.645E-3,3.5608300000000001E-3,"","","/",{"$error":"#N/A"}]
[null,null,null,{"$f":"VLOOKUP($C3056,'SEI ISD'!$A$4:$B$124,2,0)","v":{"$error":"#N/A"}},null,null,null,null,1.645E-3,3.5608300000000001E-3,"","","/",{"$error":"#N/A"}]
[null,null,null,{"$f":"VLOOKUP($C3057,'SEI ISD'!$A$4:$B$124,2,0)","v":{"$error":"#N/A"}},null,null,null,null,1.645E-3,3.5608300000000001E-3,"","","/",{"$error":"#N/A"}]
[null,null,null,{"$f":"VLOOKUP($C3058,'SEI ISD'!$A$4:$B$124,2,0)","v":{"$error":"#N/A"}},null,null,null,null,1.645E-3,3.5608300000000001E-3,"","","/",{"$error":"#N/A"}]
[null,null,null,{"$f":"VLOOKUP($C3059,'SEI ISD'!$A$4:$B$124,2,0)","v":{"$error":"#N/A"}},null,null,null,null,1.645E-3,3.5608300000000001E-3,"","","/",{"$error":"#N/A"}]
[null,null,null,{"$f":"VLOOKUP($C3060,'SEI ISD'!$A$4:$B$124,2,0)","v":{"$error":"#N/A"}},null,null,null,null,1.645E-3,3.5608300000000001E-3,"","","/",{"$error":"#N/A"}]
[null,null,null,{"$f":"VLOOKUP($C3061,'SEI ISD'!$A$4:$B$124,2,0)","v":{"$error":"#N/A"}},null,null,null,null,1.645E-3,3.5608300000000001E-3,"","","/",{"$error":"#N/A"}]
[null,null,null,{"$f":"VLOOKUP($C3062,'SEI ISD'!$A$4:$B$124,2,0)","v":{"$error":"#N/A"}},null,null,null,null,1.645E-3,3.5608300000000001E-3,"","","/",{"$error":"#N/A"}]
[null,null,null,{"$f":"VLOOKUP($C3063,'SEI ISD'!$A$4:$B$124,2,0)","v":{"$error":"#N/A"}},null,null,null,null,1.645E-3,3.5608300000000001E-3,"","","/",{"$error":"#N/A"}]
[null,null,null,{"$f":"VLOOKUP($C3064,'SEI ISD'!$A$4:$B$124,2,0)","v":{"$error":"#N/A"}},null,null,null,null,1.645E-3,3.5608300000000001E-3,"","","/",{"$error":"#N/A"}]
[null,null,null,{"$f":"VLOOKUP($C3065,'SEI ISD'!$A$4:$B$124,2,0)","v":{"$error":"#N/A"}},null,null,null,null,1.645E-3,3.5608300000000001E-3,"","","/",{"$error":"#N/A"}]
[null,null,null,{"$f":"VLOOKUP($C3066,'SEI ISD'!$A$4:$B$124,2,0)","v":{"$error":"#N/A"}},null,null,null,null,1.645E-3,3.5608300000000001E-3,"","","/",{"$error":"#N/A"}]
[null,null,null,{"$f":"VLOOKUP($C3067,'SEI ISD'!$A$4:$B$124,2,0)","v":{"$error":"#N/A"}},null,null,null,null,1.645E-3,3.5608300000000001E-3,"","","/",{"$error":"#N/A"}]
[null,null,null,{"$f":"VLOOKUP($C3068,'SEI ISD'!$A$4:$B$124,2,0)","v":{"$error":"#N/A"}},null,null,null,null,1.645E-3,3.5608300000000001E-3,"","","/",{"$error":"#N/A"}]
[null,null,null,{"$f":"VLOOKUP($C3069,'SEI ISD'!$A$4:$B$124,2,0)","v":{"$error":"#N/A"}},null,null,null,null,1.645E-3,3.5608300000000001E-3,"","","/",{"$error":"#N/A"}]
[null,null,null,{"$f":"VLOOKUP($C3070,'SEI ISD'!$A$4:$B$124,2,0)","v":{"$error":"#N/A"}},null,null,null,null,1.645E-3,3.5608300000000001E-3,"","","/",{"$error":"#N/A"}]
[null,null,null,{"$f":"VLOOKUP($C3071,'SEI ISD'!$A$4:$B$124,2,0)","v":{"$error":"#N/A"}},null,null,null,null,1.645E-3,3.5608300000000001E-3,"","","/",{"$error":"#N/A"}]
[null,null,null,{"$f":"VLOOKUP($C3072,'SEI ISD'!$A$4:$B$124,2,0)","v":{"$error":"#N/A"}},null,null,null,null,1.645E-3,3.5608300000000001E-3,"","","/",{"$error":"#N/A"}]
[null,null,null,{"$f":"VLOOKUP($C3073,'SEI ISD'!$A$4:$B$124,2,0)","v":{"$error":"#N/A"}},null,null,null,null,1.645E-3,3.5608300000000001E-3,"","","/",{"$error":"#N/A"}]
[null,null,null,{"$f":"VLOOKUP($C3074,'SEI ISD'!$A$4:$B$124,2,0)","v":{"$error":"#N/A"}},null,null,null,null,1.645E-3,3.5608300000000001E-3,"","","/",{"$error":"#N/A"}]
[null,null,null,{"$f":"VLOOKUP($C3075,'SEI ISD'!$A$4:$B$124,2,0)","v":{"$error":"#N/A"}},null,null,null,null,1.645E-3,3.5608300000000001E-3,"","","/",{"$error":"#N/A"}]
[null,null,null,{"$f":"VLOOKUP($C3076,'SEI ISD'!$A$4:$B$124,2,0)","v":{"$error":"#N/A"}},null,null,null,null,1.645E-3,3.5608300000000001E-3,"","","/",{"$error":"#N/A"}]
[null,null,null,{"$f":"VLOOKUP($C3077,'SEI ISD'!$A$4:$B$124,2,0)","v":{"$error":"#N/A"}},null,null,null,null,1.645E-3,3.5608300000000001E-3,"","","/",{"$error":"#N/A"}]
[null,null,null,{"$f":"VLOOKUP($C3078,'SEI ISD'!$A$4:$B$124,2,0)","v":{"$error":"#N/A"}},null,null,null,null,1.645E-3,3.5608300000000001E-3,"","","/",{"$error":"#N/A"}]
[null,null,null,{"$f":"VLOOKUP($C3079,'SEI ISD'!$A$4:$B$124,2,0)","v":{"$error":"#N/A"}},null,null,null,null,1.645E-3,3.5608300000000001E-3,"","","/",{"$error":"#N/A"}]
[null,null,null,{"$f":"VLOOKUP($C3080,'SEI ISD'!$A$4:$B$124,2,0)","v":{"$error":"#N/A"}},null,null,null,null,1.645E-3,3.5608300000000001E-3,"","","/",{"$error":"#N/A"}]
[null,null,null,{"$f":"VLOOKUP($C3081,'SEI ISD'!$A$4:$B$124,2,0)","v":{"$error":"#N/A"}},null,null,null,null,1.645E-3,3.5608300000000001E-3,"","","/",{"$error":"#N/A"}]
[null,null,null,{"$f":"VLOOKUP($C3082,'SEI ISD'!$A$4:$B$124,2,0)","v":{"$error":"#N/A"}},null,null,null,null,1.645E-3,3.5608300000000001E-3,"","","/",{"$error":"#N/A"}]
[null,null,null,{"$f":"VLOOKUP($C3083,'SEI ISD'!$A$4:$B$124,2,0)","v":{"$error":"#N/A"}},null,null,null,null,1.645E-3,3.5608300000000001E-3,"","","/",{"$error":"#N/A"}]
[null,null,null,{"$f":"VLOOKUP($C3084,'SEI ISD'!$A$4:$B$124,2,0)","v":{"$error":"#N/A"}},null,null,null,null,1.645E-3,3.5608300000000001E-3,"","","/",{"$error":"#N/A"}]
[null,null,null,{"$f":"VLOOKUP($C3085,'SEI ISD'!$A$4:$B$124,2,0)","v":{"$error":"#N/A"}},null,null,null,null,1.645E-3,3.5608300000000001E-3,"","","/",{"$error":"#N/A"}]
[null,null,null,{"$f":"VLOOKUP($C3086,'SEI ISD'!$A$4:$B$124,2,0)","v":{"$error":"#N/A"}},null,null,null,null,1.645E-3,3.5608300000000001E-3,{"$f":"RIGHT(G3086,2)","v":""},{"$f":"LEFT(G3086,4)","v":""},{"$f":"_xlfn.CONCAT(K3086,\"/\",L3086)","v":"/"},{"$f":"EOMONTH(D3086,0)","v":{"$error":"#N/A"}}]
[null,null,null,{"$f":"VLOOKUP($C3087,'SEI ISD'!$A$4:$B$124,2,0)","v":{"$error":"#N/A"}},null,null,null,null,1.645E-3,3.5608300000000001E-3,"","","/",{"$error":"#N/A"}]
[null,null,null,{"$f":"VLOOKUP($C3088,'SEI ISD'!$A$4:$B$124,2,0)","v":{"$error":"#N/A"}},null,null,null,null,1.645E-3,3.5608300000000001E-3,"","","/",{"$error":"#N/A"}]
[null,null,null,{"$f":"VLOOKUP($C3089,'SEI ISD'!$A$4:$B$124,2,0)","v":{"$error":"#N/A"}},null,null,null,null,1.645E-3,3.5608300000000001E-3,"","","/",{"$error":"#N/A"}]
[null,null,null,{"$f":"VLOOKUP($C3090,'SEI ISD'!$A$4:$B$124,2,0)","v":{"$error":"#N/A"}},null,null,null,null,1.645E-3,3.5608300000000001E-3,"","","/",{"$error":"#N/A"}]
[null,null,null,{"$f":"VLOOKUP($C3091,'SEI ISD'!$A$4:$B$124,2,0)","v":{"$error":"#N/A"}},null,null,null,null,1.645E-3,3.5608300000000001E-3,"","","/",{"$error":"#N/A"}]
[null,null,null,{"$f":"VLOOKUP($C3092,'SEI ISD'!$A$4:$B$124,2,0)","v":{"$error":"#N/A"}},null,null,null,null,1.645E-3,3.5608300000000001E-3,"","","/",{"$error":"#N/A"}]
[null,null,null,{"$f":"VLOOKUP($C3093,'SEI ISD'!$A$4:$B$124,2,0)","v":{"$error":"#N/A"}},null,null,null,null,1.645E-3,3.5608300000000001E-3,"","","/",{"$error":"#N/A"}]
[null,null,null,{"$f":"VLOOKUP($C3094,'SEI ISD'!$A$4:$B$124,2,0)","v":{"$error":"#N/A"}},null,null,null,null,1.645E-3,3.5608300000000001E-3,"","","/",{"$error":"#N/A"}]
[null,null,null,{"$f":"VLOOKUP($C3095,'SEI ISD'!$A$4:$B$124,2,0)","v":{"$error":"#N/A"}},null,null,null,null,1.645E-3,3.5608300000000001E-3,"","","/",{"$error":"#N/A"}]
[null,null,null,{"$f":"VLOOKUP($C3096,'SEI ISD'!$A$4:$B$124,2,0)","v":{"$error":"#N/A"}},null,null,null,null,1.645E-3,3.5608300000000001E-3,"","","/",{"$error":"#N/A"}]
[null,null,null,{"$f":"VLOOKUP($C3097,'SEI ISD'!$A$4:$B$124,2,0)","v":{"$error":"#N/A"}},null,null,null,null,1.645E-3,3.5608300000000001E-3,"","","/",{"$error":"#N/A"}]
[null,null,null,{"$f":"VLOOKUP($C3098,'SEI ISD'!$A$4:$B$124,2,0)","v":{"$error":"#N/A"}},null,null,null,null,1.645E-3,3.5608300000000001E-3,"","","/",{"$error":"#N/A"}]
[null,null,null,{"$f":"VLOOKUP($C3099,'SEI ISD'!$A$4:$B$124,2,0)","v":{"$error":"#N/A"}},null,null,null,null,1.645E-3,3.5608300000000001E-3,"","","/",{"$error":"#N/A"}]
[null,null,null,{"$f":"VLOOKUP($C3100,'SEI ISD'!$A$4:$B$124,2,0)","v":{"$error":"#N/A"}},null,null,null,null,1.645E-3,3.5608300000000001E-3,"","","/",{"$error":"#N/A"}]
[null,null,null,{"$f":"VLOOKUP($C3101,'SEI ISD'!$A$4:$B$124,2,0)","v":{"$error":"#N/A"}},null,null,null,null,1.645E-3,3.5608300000000001E-3,"","","/",{"$error":"#N/A"}]
[null,null,null,{"$f":"VLOOKUP($C3102,'SEI ISD'!$A$4:$B$124,2,0)","v":{"$error":"#N/A"}},null,null,null,null,1.645E-3,3.5608300000000001E-3,"","","/",{"$error":"#N/A"}]
[null,null,null,{"$f":"VLOOKUP($C3103,'SEI ISD'!$A$4:$B$124,2,0)","v":{"$error":"#N/A"}},null,null,null,null,1.645E-3,3.5608300000000001E-3,"","","/",{"$error":"#N/A"}]
[null,null,null,{"$f":"VLOOKUP($C3104,'SEI ISD'!$A$4:$B$124,2,0)","v":{"$error":"#N/A"}},null,null,null,null,1.645E-3,3.5608300000000001E-3,"","","/",{"$error":"#N/A"}]
[null,null,null,{"$f":"VLOOKUP($C3105,'SEI ISD'!$A$4:$B$124,2,0)","v":{"$error":"#N/A"}},null,null,null,null,1.645E-3,3.5608300000000001E-3,"","","/",{"$error":"#N/A"}]
[null,null,null,{"$f":"VLOOKUP($C3106,'SEI ISD'!$A$4:$B$124,2,0)","v":{"$error":"#N/A"}},null,null,null,null,1.645E-3,3.5608300000000001E-3,"","","/",{"$error":"#N/A"}]
[null,null,null,{"$f":"VLOOKUP($C3107,'SEI ISD'!$A$4:$B$124,2,0)","v":{"$error":"#N/A"}},null,null,null,null,1.645E-3,3.5608300000000001E-3,"","","/",{"$error":"#N/A"}]
[null,null,null,{"$f":"VLOOKUP($C3108,'SEI ISD'!$A$4:$B$124,2,0)","v":{"$error":"#N/A"}},null,null,null,null,1.645E-3,3.5608300000000001E-3,"","","/",{"$error":"#N/A"}]
[null,null,null,{"$f":"VLOOKUP($C3109,'SEI ISD'!$A$4:$B$124,2,0)","v":{"$error":"#N/A"}},null,null,null,null,1.645E-3,3.5608300000000001E-3,"","","/",{"$error":"#N/A"}]
[null,null,null,{"$f":"VLOOKUP($C3110,'SEI ISD'!$A$4:$B$124,2,0)","v":{"$error":"#N/A"}},null,null,null,null,1.645E-3,3.5608300000000001E-3,"","","/",{"$error":"#N/A"}]
[null,null,null,{"$f":"VLOOKUP($C3111,'SEI ISD'!$A$4:$B$124,2,0)","v":{"$error":"#N/A"}},null,null,null,null,1.645E-3,3.5608300000000001E-3,"","","/",{"$error":"#N/A"}]
[null,null,null,{"$f":"VLOOKUP($C3112,'SEI ISD'!$A$4:$B$124,2,0)","v":{"$error":"#N/A"}},null,null,null,null,1.645E-3,3.5608300000000001E-3,"","","/",{"$error":"#N/A"}]
[null,null,null,{"$f":"VLOOKUP($C3113,'SEI ISD'!$A$4:$B$124,2,0)","v":{"$error":"#N/A"}},null,null,null,null,1.645E-3,3.5608300000000001E-3,"","","/",{"$error":"#N/A"}]
[null,null,null,{"$f":"VLOOKUP($C3114,'SEI ISD'!$A$4:$B$124,2,0)","v":{"$error":"#N/A"}},null,null,null,null,1.645E-3,3.5608300000000001E-3,"","","/",{"$error":"#N/A"}]
[null,null,null,{"$f":"VLOOKUP($C3115,'SEI ISD'!$A$4:$B$124,2,0)","v":{"$error":"#N/A"}},null,null,null,null,1.645E-3,3.5608300000000001E-3,"","","/",{"$error":"#N/A"}]
[null,null,null,{"$f":"VLOOKUP($C3116,'SEI ISD'!$A$4:$B$124,2,0)","v":{"$error":"#N/A"}},null,null,null,null,1.645E-3,3.5608300000000001E-3,"","","/",{"$error":"#N/A"}]
[null,null,null,{"$f":"VLOOKUP($C3117,'SEI ISD'!$A$4:$B$124,2,0)","v":{"$error":"#N/A"}},null,null,null,null,1.645E-3,3.5608300000000001E-3,"","","/",{"$error":"#N/A"}]
[null,null,null,{"$f":"VLOOKUP($C3118,'SEI ISD'!$A$4:$B$124,2,0)","v":{"$error":"#N/A"}},null,null,null,null,1.645E-3,3.5608300000000001E-3,"","","/",{"$error":"#N/A"}]
[null,null,null,{"$f":"VLOOKUP($C3119,'SEI ISD'!$A$4:$B$124,2,0)","v":{"$error":"#N/A"}},null,null,null,null,1.645E-3,3.5608300000000001E-3,"","","/",{"$error":"#N/A"}]
[null,null,null,{"$f":"VLOOKUP($C3120,'SEI ISD'!$A$4:$B$124,2,0)","v":{"$error":"#N/A"}},null,null,null,null,1.645E-3,3.5608300000000001E-3,"","","/",{"$error":"#N/A"}]
[null,null,null,{"$f":"VLOOKUP($C3121,'SEI ISD'!$A$4:$B$124,2,0)","v":{"$error":"#N/A"}},null,null,null,null,1.645E-3,3.5608300000000001E-3,"","","/",{"$error":"#N/A"}]
[null,null,null,{"$f":"VLOOKUP($C3122,'SEI ISD'!$A$4:$B$124,2,0)","v":{"$error":"#N/A"}},null,null,null,null,1.645E-3,3.5608300000000001E-3,"","","/",{"$error":"#N/A"}]
[null,null,null,{"$f":"VLOOKUP($C3123,'SEI ISD'!$A$4:$B$124,2,0)","v":{"$error":"#N/A"}},null,null,null,null,1.645E-3,3.5608300000000001E-3,"","","/",{"$error":"#N/A"}]
[null,null,null,{"$f":"VLOOKUP($C3124,'SEI ISD'!$A$4:$B$124,2,0)","v":{"$error":"#N/A"}},null,null,null,null,1.645E-3,3.5608300000000001E-3,"","","/",{"$error":"#N/A"}]
[null,null,null,{"$f":"VLOOKUP($C3125,'SEI ISD'!$A$4:$B$124,2,0)","v":{"$error":"#N/A"}},null,null,null,null,1.645E-3,3.5608300000000001E-3,"","","/",{"$error":"#N/A"}]
[null,null,null,{"$f":"VLOOKUP($C3126,'SEI ISD'!$A$4:$B$124,2,0)","v":{"$error":"#N/A"}},null,null,null,null,1.645E-3,3.5608300000000001E-3,"","","/",{"$error":"#N/A"}]
[null,null,null,{"$f":"VLOOKUP($C3127,'SEI ISD'!$A$4:$B$124,2,0)","v":{"$error":"#N/A"}},null,null,null,null,1.645E-3,3.5608300000000001E-3,"","","/",{"$error":"#N/A"}]
[null,null,null,{"$f":"VLOOKUP($C3128,'SEI ISD'!$A$4:$B$124,2,0)","v":{"$error":"#N/A"}},null,null,null,null,1.645E-3,3.5608300000000001E-3,"","","/",{"$error":"#N/A"}]
[null,null,null,{"$f":"VLOOKUP($C3129,'SEI ISD'!$A$4:$B$124,2,0)","v":{"$error":"#N/A"}},null,null,null,null,1.645E-3,3.5608300000000001E-3,"","","/",{"$error":"#N/A"}]
[null,null,null,{"$f":"VLOOKUP($C3130,'SEI ISD'!$A$4:$B$124,2,0)","v":{"$error":"#N/A"}},null,null,null,null,1.645E-3,3.5608300000000001E-3,"","","/",{"$error":"#N/A"}]
[null,null,null,{"$f":"VLOOKUP($C3131,'SEI ISD'!$A$4:$B$124,2,0)","v":{"$error":"#N/A"}},null,null,null,null,1.645E-3,3.5608300000000001E-3,"","","/",{"$error":"#N/A"}]
[null,null,null,{"$f":"VLOOKUP($C3132,'SEI ISD'!$A$4:$B$124,2,0)","v":{"$error":"#N/A"}},null,null,null,null,1.645E-3,3.5608300000000001E-3,"","","/",{"$error":"#N/A"}]
[null,null,null,{"$f":"VLOOKUP($C3133,'SEI ISD'!$A$4:$B$124,2,0)","v":{"$error":"#N/A"}},null,null,null,null,1.645E-3,3.5608300000000001E-3,"","","/",{"$error":"#N/A"}]
[null,null,null,{"$f":"VLOOKUP($C3134,'SEI ISD'!$A$4:$B$124,2,0)","v":{"$error":"#N/A"}},null,null,null,null,1.645E-3,3.5608300000000001E-3,"","","/",{"$error":"#N/A"}]
[null,null,null,{"$f":"VLOOKUP($C3135,'SEI ISD'!$A$4:$B$124,2,0)","v":{"$error":"#N/A"}},null,null,null,null,1.645E-3,3.5608300000000001E-3,"","","/",{"$error":"#N/A"}]
[null,null,null,{"$f":"VLOOKUP($C3136,'SEI ISD'!$A$4:$B$124,2,0)","v":{"$error":"#N/A"}},null,null,null,null,1.645E-3,3.5608300000000001E-3,"","","/",{"$error":"#N/A"}]
[null,null,null,{"$f":"VLOOKUP($C3137,'SEI ISD'!$A$4:$B$124,2,0)","v":{"$error":"#N/A"}},null,null,null,null,1.645E-3,3.5608300000000001E-3,"","","/",{"$error":"#N/A"}]
[null,null,null,{"$f":"VLOOKUP($C3138,'SEI ISD'!$A$4:$B$124,2,0)","v":{"$error":"#N/A"}},null,null,null,null,1.645E-3,3.5608300000000001E-3,"","","/",{"$error":"#N/A"}]
[null,null,null,{"$f":"VLOOKUP($C3139,'SEI ISD'!$A$4:$B$124,2,0)","v":{"$error":"#N/A"}},null,null,null,null,1.645E-3,3.5608300000000001E-3,"","","/",{"$error":"#N/A"}]
[null,null,null,{"$f":"VLOOKUP($C3140,'SEI ISD'!$A$4:$B$124,2,0)","v":{"$error":"#N/A"}},null,null,null,null,1.645E-3,3.5608300000000001E-3,"","","/",{"$error":"#N/A"}]
[null,null,null,{"$f":"VLOOKUP($C3141,'SEI ISD'!$A$4:$B$124,2,0)","v":{"$error":"#N/A"}},null,null,null,null,1.645E-3,3.5608300000000001E-3,"","","/",{"$error":"#N/A"}]
[null,null,null,{"$f":"VLOOKUP($C3142,'SEI ISD'!$A$4:$B$124,2,0)","v":{"$error":"#N/A"}},null,null,null,null,1.645E-3,3.5608300000000001E-3,"","","/",{"$error":"#N/A"}]
[null,null,null,{"$f":"VLOOKUP($C3143,'SEI ISD'!$A$4:$B$124,2,0)","v":{"$error":"#N/A"}},null,null,null,null,1.645E-3,3.5608300000000001E-3,"","","/",{"$error":"#N/A"}]
[null,null,null,{"$f":"VLOOKUP($C3144,'SEI ISD'!$A$4:$B$124,2,0)","v":{"$error":"#N/A"}},null,null,null,null,1.645E-3,3.5608300000000001E-3,"","","/",{"$error":"#N/A"}]
[null,null,null,{"$f":"VLOOKUP($C3145,'SEI ISD'!$A$4:$B$124,2,0)","v":{"$error":"#N/A"}},null,null,null,null,1.645E-3,3.5608300000000001E-3,"","","/",{"$error":"#N/A"}]
[null,null,null,{"$f":"VLOOKUP($C3146,'SEI ISD'!$A$4:$B$124,2,0)","v":{"$error":"#N/A"}},null,null,null,null,1.645E-3,3.5608300000000001E-3,"","","/",{"$error":"#N/A"}]
[null,null,null,{"$f":"VLOOKUP($C3147,'SEI ISD'!$A$4:$B$124,2,0)","v":{"$error":"#N/A"}},null,null,null,null,1.645E-3,3.5608300000000001E-3,"","","/",{"$error":"#N/A"}]
[null,null,null,{"$f":"VLOOKUP($C3148,'SEI ISD'!$A$4:$B$124,2,0)","v":{"$error":"#N/A"}},null,null,null,null,1.645E-3,3.5608300000000001E-3,"","","/",{"$error":"#N/A"}]
[null,null,null,{"$f":"VLOOKUP($C3149,'SEI ISD'!$A$4:$B$124,2,0)","v":{"$error":"#N/A"}},null,null,null,null,1.645E-3,3.5608300000000001E-3,"","","/",{"$error":"#N/A"}]
[null,null,null,{"$f":"VLOOKUP($C3150,'SEI ISD'!$A$4:$B$124,2,0)","v":{"$error":"#N/A"}},null,null,null,null,1.645E-3,3.5608300000000001E-3,{"$f":"RIGHT(G3150,2)","v":""},{"$f":"LEFT(G3150,4)","v":""},{"$f":"_xlfn.CONCAT(K3150,\"/\",L3150)","v":"/"},{"$f":"EOMONTH(D3150,0)","v":{"$error":"#N/A"}}]
[null,null,null,{"$f":"VLOOKUP($C3151,'SEI ISD'!$A$4:$B$124,2,0)","v":{"$error":"#N/A"}},null,null,null,null,1.645E-3,3.5608300000000001E-3,"","","/",{"$error":"#N/A"}]
[null,null,null,{"$f":"VLOOKUP($C3152,'SEI ISD'!$A$4:$B$124,2,0)","v":{"$error":"#N/A"}},null,null,null,null,1.645E-3,3.5608300000000001E-3,"","","/",{"$error":"#N/A"}]
[null,null,null,{"$f":"VLOOKUP($C3153,'SEI ISD'!$A$4:$B$124,2,0)","v":{"$error":"#N/A"}},null,null,null,null,1.645E-3,3.5608300000000001E-3,"","","/",{"$error":"#N/A"}]
[null,null,null,{"$f":"VLOOKUP($C3154,'SEI ISD'!$A$4:$B$124,2,0)","v":{"$error":"#N/A"}},null,null,null,null,1.645E-3,3.5608300000000001E-3,"","","/",{"$error":"#N/A"}]
[null,null,null,{"$f":"VLOOKUP($C3155,'SEI ISD'!$A$4:$B$124,2,0)","v":{"$error":"#N/A"}},null,null,null,null,1.645E-3,3.5608300000000001E-3,"","","/",{"$error":"#N/A"}]
[null,null,null,{"$f":"VLOOKUP($C3156,'SEI ISD'!$A$4:$B$124,2,0)","v":{"$error":"#N/A"}},null,null,null,null,1.645E-3,3.5608300000000001E-3,"","","/",{"$error":"#N/A"}]
[null,null,null,{"$f":"VLOOKUP($C3157,'SEI ISD'!$A$4:$B$124,2,0)","v":{"$error":"#N/A"}},null,null,null,null,1.645E-3,3.5608300000000001E-3,"","","/",{"$error":"#N/A"}]
[null,null,null,{"$f":"VLOOKUP($C3158,'SEI ISD'!$A$4:$B$124,2,0)","v":{"$error":"#N/A"}},null,null,null,null,1.645E-3,3.5608300000000001E-3,"","","/",{"$error":"#N/A"}]
[null,null,null,{"$f":"VLOOKUP($C3159,'SEI ISD'!$A$4:$B$124,2,0)","v":{"$error":"#N/A"}},null,null,null,null,1.645E-3,3.5608300000000001E-3,"","","/",{"$error":"#N/A"}]
[null,null,null,{"$f":"VLOOKUP($C3160,'SEI ISD'!$A$4:$B$124,2,0)","v":{"$error":"#N/A"}},null,null,null,null,1.645E-3,3.5608300000000001E-3,"","","/",{"$error":"#N/A"}]
[null,null,null,{"$f":"VLOOKUP($C3161,'SEI ISD'!$A$4:$B$124,2,0)","v":{"$error":"#N/A"}},null,null,null,null,1.645E-3,3.5608300000000001E-3,"","","/",{"$error":"#N/A"}]
[null,null,null,{"$f":"VLOOKUP($C3162,'SEI ISD'!$A$4:$B$124,2,0)","v":{"$error":"#N/A"}},null,null,null,null,1.645E-3,3.5608300000000001E-3,"","","/",{"$error":"#N/A"}]
[null,null,null,{"$f":"VLOOKUP($C3163,'SEI ISD'!$A$4:$B$124,2,0)","v":{"$error":"#N/A"}},null,null,null,null,1.645E-3,3.5608300000000001E-3,"","","/",{"$error":"#N/A"}]
[null,null,null,{"$f":"VLOOKUP($C3164,'SEI ISD'!$A$4:$B$124,2,0)","v":{"$error":"#N/A"}},null,null,null,null,1.645E-3,3.5608300000000001E-3,"","","/",{"$error":"#N/A"}]
[null,null,null,{"$f":"VLOOKUP($C3165,'SEI ISD'!$A$4:$B$124,2,0)","v":{"$error":"#N/A"}},null,null,null,null,1.645E-3,3.5608300000000001E-3,"","","/",{"$error":"#N/A"}]
[null,null,null,{"$f":"VLOOKUP($C3166,'SEI ISD'!$A$4:$B$124,2,0)","v":{"$error":"#N/A"}},null,null,null,null,1.645E-3,3.5608300000000001E-3,"","","/",{"$error":"#N/A"}]
[null,null,null,{"$f":"VLOOKUP($C3167,'SEI ISD'!$A$4:$B$124,2,0)","v":{"$error":"#N/A"}},null,null,null,null,1.645E-3,3.5608300000000001E-3,"","","/",{"$error":"#N/A"}]
[null,null,null,{"$f":"VLOOKUP($C3168,'SEI ISD'!$A$4:$B$124,2,0)","v":{"$error":"#N/A"}},null,null,null,null,1.645E-3,3.5608300000000001E-3,"","","/",{"$error":"#N/A"}]
[null,null,null,{"$f":"VLOOKUP($C3169,'SEI ISD'!$A$4:$B$124,2,0)","v":{"$error":"#N/A"}},null,null,null,null,1.645E-3,3.5608300000000001E-3,"","","/",{"$error":"#N/A"}]
[null,null,null,{"$f":"VLOOKUP($C3170,'SEI ISD'!$A$4:$B$124,2,0)","v":{"$error":"#N/A"}},null,null,null,null,1.645E-3,3.5608300000000001E-3,"","","/",{"$error":"#N/A"}]
[null,null,null,{"$f":"VLOOKUP($C3171,'SEI ISD'!$A$4:$B$124,2,0)","v":{"$error":"#N/A"}},null,null,null,null,1.645E-3,3.5608300000000001E-3,"","","/",{"$error":"#N/A"}]
[null,null,null,{"$f":"VLOOKUP($C3172,'SEI ISD'!$A$4:$B$124,2,0)","v":{"$error":"#N/A"}},null,null,null,null,1.645E-3,3.5608300000000001E-3,"","","/",{"$error":"#N/A"}]
[null,null,null,{"$f":"VLOOKUP($C3173,'SEI ISD'!$A$4:$B$124,2,0)","v":{"$error":"#N/A"}},null,null,null,null,1.645E-3,3.5608300000000001E-3,"","","/",{"$error":"#N/A"}]
[null,null,null,{"$f":"VLOOKUP($C3174,'SEI ISD'!$A$4:$B$124,2,0)","v":{"$error":"#N/A"}},null,null,null,null,1.645E-3,3.5608300000000001E-3,"","","/",{"$error":"#N/A"}]
[null,null,null,{"$f":"VLOOKUP($C3175,'SEI ISD'!$A$4:$B$124,2,0)","v":{"$error":"#N/A"}},null,null,null,null,1.645E-3,3.5608300000000001E-3,"","","/",{"$error":"#N/A"}]
[null,null,null,{"$f":"VLOOKUP($C3176,'SEI ISD'!$A$4:$B$124,2,0)","v":{"$error":"#N/A"}},null,null,null,null,1.645E-3,3.5608300000000001E-3,"","","/",{"$error":"#N/A"}]
[null,null,null,{"$f":"VLOOKUP($C3177,'SEI ISD'!$A$4:$B$124,2,0)","v":{"$error":"#N/A"}},null,null,null,null,1.645E-3,3.5608300000000001E-3,"","","/",{"$error":"#N/A"}]
[null,null,null,{"$f":"VLOOKUP($C3178,'SEI ISD'!$A$4:$B$124,2,0)","v":{"$error":"#N/A"}},null,null,null,null,1.645E-3,3.5608300000000001E-3,"","","/",{"$error":"#N/A"}]
[null,null,null,{"$f":"VLOOKUP($C3179,'SEI ISD'!$A$4:$B$124,2,0)","v":{"$error":"#N/A"}},null,null,null,null,1.645E-3,3.5608300000000001E-3,"","","/",{"$error":"#N/A"}]
[null,null,null,{"$f":"VLOOKUP($C3180,'SEI ISD'!$A$4:$B$124,2,0)","v":{"$error":"#N/A"}},null,null,null,null,1.645E-3,3.5608300000000001E-3,"","","/",{"$error":"#N/A"}]
[null,null,null,{"$f":"VLOOKUP($C3181,'SEI ISD'!$A$4:$B$124,2,0)","v":{"$error":"#N/A"}},null,null,null,null,1.645E-3,3.5608300000000001E-3,"","","/",{"$error":"#N/A"}]
[null,null,null,{"$f":"VLOOKUP($C3182,'SEI ISD'!$A$4:$B$124,2,0)","v":{"$error":"#N/A"}},null,null,null,null,1.645E-3,3.5608300000000001E-3,"","","/",{"$error":"#N/A"}]
[null,null,null,{"$f":"VLOOKUP($C3183,'SEI ISD'!$A$4:$B$124,2,0)","v":{"$error":"#N/A"}},null,null,null,null,1.645E-3,3.5608300000000001E-3,"","","/",{"$error":"#N/A"}]
[null,null,null,{"$f":"VLOOKUP($C3184,'SEI ISD'!$A$4:$B$124,2,0)","v":{"$error":"#N/A"}},null,null,null,null,1.645E-3,3.5608300000000001E-3,"","","/",{"$error":"#N/A"}]
[null,null,null,{"$f":"VLOOKUP($C3185,'SEI ISD'!$A$4:$B$124,2,0)","v":{"$error":"#N/A"}},null,null,null,null,1.645E-3,3.5608300000000001E-3,"","","/",{"$error":"#N/A"}]
[null,null,null,{"$f":"VLOOKUP($C3186,'SEI ISD'!$A$4:$B$124,2,0)","v":{"$error":"#N/A"}},null,null,null,null,1.645E-3,3.5608300000000001E-3,"","","/",{"$error":"#N/A"}]
[null,null,null,{"$f":"VLOOKUP($C3187,'SEI ISD'!$A$4:$B$124,2,0)","v":{"$error":"#N/A"}},null,null,null,null,1.645E-3,3.5608300000000001E-3,"","","/",{"$error":"#N/A"}]
[null,null,null,{"$f":"VLOOKUP($C3188,'SEI ISD'!$A$4:$B$124,2,0)","v":{"$error":"#N/A"}},null,null,null,null,1.645E-3,3.5608300000000001E-3,"","","/",{"$error":"#N/A"}]
[null,null,null,{"$f":"VLOOKUP($C3189,'SEI ISD'!$A$4:$B$124,2,0)","v":{"$error":"#N/A"}},null,null,null,null,1.645E-3,3.5608300000000001E-3,"","","/",{"$error":"#N/A"}]
[null,null,null,{"$f":"VLOOKUP($C3190,'SEI ISD'!$A$4:$B$124,2,0)","v":{"$error":"#N/A"}},null,null,null,null,1.645E-3,3.5608300000000001E-3,"","","/",{"$error":"#N/A"}]
[null,null,null,{"$f":"VLOOKUP($C3191,'SEI ISD'!$A$4:$B$124,2,0)","v":{"$error":"#N/A"}},null,null,null,null,1.645E-3,3.5608300000000001E-3,"","","/",{"$error":"#N/A"}]
[null,null,null,{"$f":"VLOOKUP($C3192,'SEI ISD'!$A$4:$B$124,2,0)","v":{"$error":"#N/A"}},null,null,null,null,1.645E-3,3.5608300000000001E-3,"","","/",{"$error":"#N/A"}]
[null,null,null,{"$f":"VLOOKUP($C3193,'SEI ISD'!$A$4:$B$124,2,0)","v":{"$error":"#N/A"}},null,null,null,null,1.645E-3,3.5608300000000001E-3,"","","/",{"$error":"#N/A"}]
[null,null,null,{"$f":"VLOOKUP($C3194,'SEI ISD'!$A$4:$B$124,2,0)","v":{"$error":"#N/A"}},null,null,null,null,1.645E-3,3.5608300000000001E-3,"","","/",{"$error":"#N/A"}]
[null,null,null,{"$f":"VLOOKUP($C3195,'SEI ISD'!$A$4:$B$124,2,0)","v":{"$error":"#N/A"}},null,null,null,null,1.645E-3,3.5608300000000001E-3,"","","/",{"$error":"#N/A"}]
[null,null,null,{"$f":"VLOOKUP($C3196,'SEI ISD'!$A$4:$B$124,2,0)","v":{"$error":"#N/A"}},null,null,null,null,1.645E-3,3.5608300000000001E-3,"","","/",{"$error":"#N/A"}]
[null,null,null,{"$f":"VLOOKUP($C3197,'SEI ISD'!$A$4:$B$124,2,0)","v":{"$error":"#N/A"}},null,null,null,null,1.645E-3,3.5608300000000001E-3,"","","/",{"$error":"#N/A"}]
[null,null,null,{"$f":"VLOOKUP($C3198,'SEI ISD'!$A$4:$B$124,2,0)","v":{"$error":"#N/A"}},null,null,null,null,1.645E-3,3.5608300000000001E-3,"","","/",{"$error":"#N/A"}]
[null,null,null,{"$f":"VLOOKUP($C3199,'SEI ISD'!$A$4:$B$124,2,0)","v":{"$error":"#N/A"}},null,null,null,null,1.645E-3,3.5608300000000001E-3,"","","/",{"$error":"#N/A"}]
[null,null,null,{"$f":"VLOOKUP($C3200,'SEI ISD'!$A$4:$B$124,2,0)","v":{"$error":"#N/A"}},null,null,null,null,1.645E-3,3.5608300000000001E-3,"","","/",{"$error":"#N/A"}]
[null,null,null,{"$f":"VLOOKUP($C3201,'SEI ISD'!$A$4:$B$124,2,0)","v":{"$error":"#N/A"}},null,null,null,null,1.645E-3,3.5608300000000001E-3,"","","/",{"$error":"#N/A"}]
[null,null,null,{"$f":"VLOOKUP($C3202,'SEI ISD'!$A$4:$B$124,2,0)","v":{"$error":"#N/A"}},null,null,null,null,1.645E-3,3.5608300000000001E-3,"","","/",{"$error":"#N/A"}]
[null,null,null,{"$f":"VLOOKUP($C3203,'SEI ISD'!$A$4:$B$124,2,0)","v":{"$error":"#N/A"}},null,null,null,null,1.645E-3,3.5608300000000001E-3,"","","/",{"$error":"#N/A"}]
[null,null,null,{"$f":"VLOOKUP($C3204,'SEI ISD'!$A$4:$B$124,2,0)","v":{"$error":"#N/A"}},null,null,null,null,1.645E-3,3.5608300000000001E-3,"","","/",{"$error":"#N/A"}]
[null,null,null,{"$f":"VLOOKUP($C3205,'SEI ISD'!$A$4:$B$124,2,0)","v":{"$error":"#N/A"}},null,null,null,null,1.645E-3,3.5608300000000001E-3,"","","/",{"$error":"#N/A"}]
[null,null,null,{"$f":"VLOOKUP($C3206,'SEI ISD'!$A$4:$B$124,2,0)","v":{"$error":"#N/A"}},null,null,null,null,1.645E-3,3.5608300000000001E-3,"","","/",{"$error":"#N/A"}]
[null,null,null,{"$f":"VLOOKUP($C3207,'SEI ISD'!$A$4:$B$124,2,0)","v":{"$error":"#N/A"}},null,null,null,null,1.645E-3,3.5608300000000001E-3,"","","/",{"$error":"#N/A"}]
[null,null,null,{"$f":"VLOOKUP($C3208,'SEI ISD'!$A$4:$B$124,2,0)","v":{"$error":"#N/A"}},null,null,null,null,1.645E-3,3.5608300000000001E-3,"","","/",{"$error":"#N/A"}]
[null,null,null,{"$f":"VLOOKUP($C3209,'SEI ISD'!$A$4:$B$124,2,0)","v":{"$error":"#N/A"}},null,null,null,null,1.645E-3,3.5608300000000001E-3,"","","/",{"$error":"#N/A"}]
[null,null,null,{"$f":"VLOOKUP($C3210,'SEI ISD'!$A$4:$B$124,2,0)","v":{"$error":"#N/A"}},null,null,null,null,1.645E-3,3.5608300000000001E-3,"","","/",{"$error":"#N/A"}]
[null,null,null,{"$f":"VLOOKUP($C3211,'SEI ISD'!$A$4:$B$124,2,0)","v":{"$error":"#N/A"}},null,null,null,null,1.645E-3,3.5608300000000001E-3,"","","/",{"$error":"#N/A"}]
[null,null,null,{"$f":"VLOOKUP($C3212,'SEI ISD'!$A$4:$B$124,2,0)","v":{"$error":"#N/A"}},null,null,null,null,1.645E-3,3.5608300000000001E-3,"","","/",{"$error":"#N/A"}]
[null,null,null,{"$f":"VLOOKUP($C3213,'SEI ISD'!$A$4:$B$124,2,0)","v":{"$error":"#N/A"}},null,null,null,null,1.645E-3,3.5608300000000001E-3,"","","/",{"$error":"#N/A"}]
[null,null,null,{"$f":"VLOOKUP($C3214,'SEI ISD'!$A$4:$B$124,2,0)","v":{"$error":"#N/A"}},null,null,null,null,1.645E-3,3.5608300000000001E-3,{"$f":"RIGHT(G3214,2)","v":""},{"$f":"LEFT(G3214,4)","v":""},{"$f":"_xlfn.CONCAT(K3214,\"/\",L3214)","v":"/"},{"$f":"EOMONTH(D3214,0)","v":{"$error":"#N/A"}}]
[null,null,null,{"$f":"VLOOKUP($C3215,'SEI ISD'!$A$4:$B$124,2,0)","v":{"$error":"#N/A"}},null,null,null,null,1.645E-3,3.5608300000000001E-3,"","","/",{"$error":"#N/A"}]
[null,null,null,{"$f":"VLOOKUP($C3216,'SEI ISD'!$A$4:$B$124,2,0)","v":{"$error":"#N/A"}},null,null,null,null,1.645E-3,3.5608300000000001E-3,"","","/",{"$error":"#N/A"}]
[null,null,null,{"$f":"VLOOKUP($C3217,'SEI ISD'!$A$4:$B$124,2,0)","v":{"$error":"#N/A"}},null,null,null,null,1.645E-3,3.5608300000000001E-3,"","","/",{"$error":"#N/A"}]
[null,null,null,{"$f":"VLOOKUP($C3218,'SEI ISD'!$A$4:$B$124,2,0)","v":{"$error":"#N/A"}},null,null,null,null,1.645E-3,3.5608300000000001E-3,"","","/",{"$error":"#N/A"}]
[null,null,null,{"$f":"VLOOKUP($C3219,'SEI ISD'!$A$4:$B$124,2,0)","v":{"$error":"#N/A"}},null,null,null,null,1.645E-3,3.5608300000000001E-3,"","","/",{"$error":"#N/A"}]
[null,null,null,{"$f":"VLOOKUP($C3220,'SEI ISD'!$A$4:$B$124,2,0)","v":{"$error":"#N/A"}},null,null,null,null,1.645E-3,3.5608300000000001E-3,"","","/",{"$error":"#N/A"}]
[null,null,null,{"$f":"VLOOKUP($C3221,'SEI ISD'!$A$4:$B$124,2,0)","v":{"$error":"#N/A"}},null,null,null,null,1.645E-3,3.5608300000000001E-3,"","","/",{"$error":"#N/A"}]
[null,null,null,{"$f":"VLOOKUP($C3222,'SEI ISD'!$A$4:$B$124,2,0)","v":{"$error":"#N/A"}},null,null,null,null,1.645E-3,3.5608300000000001E-3,"","","/",{"$error":"#N/A"}]
[null,null,null,{"$f":"VLOOKUP($C3223,'SEI ISD'!$A$4:$B$124,2,0)","v":{"$error":"#N/A"}},null,null,null,null,1.645E-3,3.5608300000000001E-3,"","","/",{"$error":"#N/A"}]
[null,null,null,{"$f":"VLOOKUP($C3224,'SEI ISD'!$A$4:$B$124,2,0)","v":{"$error":"#N/A"}},null,null,null,null,1.645E-3,3.5608300000000001E-3,"","","/",{"$error":"#N/A"}]
[null,null,null,{"$f":"VLOOKUP($C3225,'SEI ISD'!$A$4:$B$124,2,0)","v":{"$error":"#N/A"}},null,null,null,null,1.645E-3,3.5608300000000001E-3,"","","/",{"$error":"#N/A"}]
[null,null,null,{"$f":"VLOOKUP($C3226,'SEI ISD'!$A$4:$B$124,2,0)","v":{"$error":"#N/A"}},null,null,null,null,1.645E-3,3.5608300000000001E-3,"","","/",{"$error":"#N/A"}]
[null,null,null,{"$f":"VLOOKUP($C3227,'SEI ISD'!$A$4:$B$124,2,0)","v":{"$error":"#N/A"}},null,null,null,null,1.645E-3,3.5608300000000001E-3,"","","/",{"$error":"#N/A"}]
[null,null,null,{"$f":"VLOOKUP($C3228,'SEI ISD'!$A$4:$B$124,2,0)","v":{"$error":"#N/A"}},null,null,null,null,1.645E-3,3.5608300000000001E-3,"","","/",{"$error":"#N/A"}]
[null,null,null,{"$f":"VLOOKUP($C3229,'SEI ISD'!$A$4:$B$124,2,0)","v":{"$error":"#N/A"}},null,null,null,null,1.645E-3,3.5608300000000001E-3,"","","/",{"$error":"#N/A"}]
[null,null,null,{"$f":"VLOOKUP($C3230,'SEI ISD'!$A$4:$B$124,2,0)","v":{"$error":"#N/A"}},null,null,null,null,1.645E-3,3.5608300000000001E-3,"","","/",{"$error":"#N/A"}]
[null,null,null,{"$f":"VLOOKUP($C3231,'SEI ISD'!$A$4:$B$124,2,0)","v":{"$error":"#N/A"}},null,null,null,null,1.645E-3,3.5608300000000001E-3,"","","/",{"$error":"#N/A"}]
[null,null,null,{"$f":"VLOOKUP($C3232,'SEI ISD'!$A$4:$B$124,2,0)","v":{"$error":"#N/A"}},null,null,null,null,1.645E-3,3.5608300000000001E-3,"","","/",{"$error":"#N/A"}]
[null,null,null,{"$f":"VLOOKUP($C3233,'SEI ISD'!$A$4:$B$124,2,0)","v":{"$error":"#N/A"}},null,null,null,null,1.645E-3,3.5608300000000001E-3,"","","/",{"$error":"#N/A"}]
[null,null,null,{"$f":"VLOOKUP($C3234,'SEI ISD'!$A$4:$B$124,2,0)","v":{"$error":"#N/A"}},null,null,null,null,1.645E-3,3.5608300000000001E-3,"","","/",{"$error":"#N/A"}]
[null,null,null,{"$f":"VLOOKUP($C3235,'SEI ISD'!$A$4:$B$124,2,0)","v":{"$error":"#N/A"}},null,null,null,null,1.645E-3,3.5608300000000001E-3,"","","/",{"$error":"#N/A"}]
[null,null,null,{"$f":"VLOOKUP($C3236,'SEI ISD'!$A$4:$B$124,2,0)","v":{"$error":"#N/A"}},null,null,null,null,1.645E-3,3.5608300000000001E-3,"","","/",{"$error":"#N/A"}]
[null,null,null,{"$f":"VLOOKUP($C3237,'SEI ISD'!$A$4:$B$124,2,0)","v":{"$error":"#N/A"}},null,null,null,null,1.645E-3,3.5608300000000001E-3,"","","/",{"$error":"#N/A"}]
[null,null,null,{"$f":"VLOOKUP($C3238,'SEI ISD'!$A$4:$B$124,2,0)","v":{"$error":"#N/A"}},null,null,null,null,1.645E-3,3.5608300000000001E-3,"","","/",{"$error":"#N/A"}]
[null,null,null,{"$f":"VLOOKUP($C3239,'SEI ISD'!$A$4:$B$124,2,0)","v":{"$error":"#N/A"}},null,null,null,null,1.645E-3,3.5608300000000001E-3,"","","/",{"$error":"#N/A"}]
[null,null,null,{"$f":"VLOOKUP($C3240,'SEI ISD'!$A$4:$B$124,2,0)","v":{"$error":"#N/A"}},null,null,null,null,1.645E-3,3.5608300000000001E-3,"","","/",{"$error":"#N/A"}]
[null,null,null,{"$f":"VLOOKUP($C3241,'SEI ISD'!$A$4:$B$124,2,0)","v":{"$error":"#N/A"}},null,null,null,null,1.645E-3,3.5608300000000001E-3,"","","/",{"$error":"#N/A"}]
[null,null,null,{"$f":"VLOOKUP($C3242,'SEI ISD'!$A$4:$B$124,2,0)","v":{"$error":"#N/A"}},null,null,null,null,1.645E-3,3.5608300000000001E-3,"","","/",{"$error":"#N/A"}]
[null,null,null,{"$f":"VLOOKUP($C3243,'SEI ISD'!$A$4:$B$124,2,0)","v":{"$error":"#N/A"}},null,null,null,null,1.645E-3,3.5608300000000001E-3,"","","/",{"$error":"#N/A"}]
[null,null,null,{"$f":"VLOOKUP($C3244,'SEI ISD'!$A$4:$B$124,2,0)","v":{"$error":"#N/A"}},null,null,null,null,1.645E-3,3.5608300000000001E-3,"","","/",{"$error":"#N/A"}]
[null,null,null,{"$f":"VLOOKUP($C3245,'SEI ISD'!$A$4:$B$124,2,0)","v":{"$error":"#N/A"}},null,null,null,null,1.645E-3,3.5608300000000001E-3,"","","/",{"$error":"#N/A"}]
[null,null,null,{"$f":"VLOOKUP($C3246,'SEI ISD'!$A$4:$B$124,2,0)","v":{"$error":"#N/A"}},null,null,null,null,1.645E-3,3.5608300000000001E-3,"","","/",{"$error":"#N/A"}]
[null,null,null,{"$f":"VLOOKUP($C3247,'SEI ISD'!$A$4:$B$124,2,0)","v":{"$error":"#N/A"}},null,null,null,null,1.645E-3,3.5608300000000001E-3,"","","/",{"$error":"#N/A"}]
[null,null,null,{"$f":"VLOOKUP($C3248,'SEI ISD'!$A$4:$B$124,2,0)","v":{"$error":"#N/A"}},null,null,null,null,1.645E-3,3.5608300000000001E-3,"","","/",{"$error":"#N/A"}]
[null,null,null,{"$f":"VLOOKUP($C3249,'SEI ISD'!$A$4:$B$124,2,0)","v":{"$error":"#N/A"}},null,null,null,null,1.645E-3,3.5608300000000001E-3,"","","/",{"$error":"#N/A"}]
[null,null,null,{"$f":"VLOOKUP($C3250,'SEI ISD'!$A$4:$B$124,2,0)","v":{"$error":"#N/A"}},null,null,null,null,1.645E-3,3.5608300000000001E-3,"","","/",{"$error":"#N/A"}]
[null,null,null,{"$f":"VLOOKUP($C3251,'SEI ISD'!$A$4:$B$124,2,0)","v":{"$error":"#N/A"}},null,null,null,null,1.645E-3,3.5608300000000001E-3,"","","/",{"$error":"#N/A"}]
[null,null,null,{"$f":"VLOOKUP($C3252,'SEI ISD'!$A$4:$B$124,2,0)","v":{"$error":"#N/A"}},null,null,null,null,1.645E-3,3.5608300000000001E-3,"","","/",{"$error":"#N/A"}]
[null,null,null,{"$f":"VLOOKUP($C3253,'SEI ISD'!$A$4:$B$124,2,0)","v":{"$error":"#N/A"}},null,null,null,null,1.645E-3,3.5608300000000001E-3,"","","/",{"$error":"#N/A"}]
[null,null,null,{"$f":"VLOOKUP($C3254,'SEI ISD'!$A$4:$B$124,2,0)","v":{"$error":"#N/A"}},null,null,null,null,1.645E-3,3.5608300000000001E-3,"","","/",{"$error":"#N/A"}]
[null,null,null,{"$f":"VLOOKUP($C3255,'SEI ISD'!$A$4:$B$124,2,0)","v":{"$error":"#N/A"}},null,null,null,null,1.645E-3,3.5608300000000001E-3,"","","/",{"$error":"#N/A"}]
[null,null,null,{"$f":"VLOOKUP($C3256,'SEI ISD'!$A$4:$B$124,2,0)","v":{"$error":"#N/A"}},null,null,null,null,1.645E-3,3.5608300000000001E-3,"","","/",{"$error":"#N/A"}]
[null,null,null,{"$f":"VLOOKUP($C3257,'SEI ISD'!$A$4:$B$124,2,0)","v":{"$error":"#N/A"}},null,null,null,null,1.645E-3,3.5608300000000001E-3,"","","/",{"$error":"#N/A"}]
[null,null,null,{"$f":"VLOOKUP($C3258,'SEI ISD'!$A$4:$B$124,2,0)","v":{"$error":"#N/A"}},null,null,null,null,1.645E-3,3.5608300000000001E-3,"","","/",{"$error":"#N/A"}]
[null,null,null,{"$f":"VLOOKUP($C3259,'SEI ISD'!$A$4:$B$124,2,0)","v":{"$error":"#N/A"}},null,null,null,null,1.645E-3,3.5608300000000001E-3,"","","/",{"$error":"#N/A"}]
[null,null,null,{"$f":"VLOOKUP($C3260,'SEI ISD'!$A$4:$B$124,2,0)","v":{"$error":"#N/A"}},null,null,null,null,1.645E-3,3.5608300000000001E-3,"","","/",{"$error":"#N/A"}]
[null,null,null,{"$f":"VLOOKUP($C3261,'SEI ISD'!$A$4:$B$124,2,0)","v":{"$error":"#N/A"}},null,null,null,null,1.645E-3,3.5608300000000001E-3,"","","/",{"$error":"#N/A"}]
[null,null,null,{"$f":"VLOOKUP($C3262,'SEI ISD'!$A$4:$B$124,2,0)","v":{"$error":"#N/A"}},null,null,null,null,1.645E-3,3.5608300000000001E-3,"","","/",{"$error":"#N/A"}]
[null,null,null,{"$f":"VLOOKUP($C3263,'SEI ISD'!$A$4:$B$124,2,0)","v":{"$error":"#N/A"}},null,null,null,null,1.645E-3,3.5608300000000001E-3,"","","/",{"$error":"#N/A"}]
[null,null,null,{"$f":"VLOOKUP($C3264,'SEI ISD'!$A$4:$B$124,2,0)","v":{"$error":"#N/A"}},null,null,null,null,1.645E-3,3.5608300000000001E-3,"","","/",{"$error":"#N/A"}]
[null,null,null,{"$f":"VLOOKUP($C3265,'SEI ISD'!$A$4:$B$124,2,0)","v":{"$error":"#N/A"}},null,null,null,null,1.645E-3,3.5608300000000001E-3,"","","/",{"$error":"#N/A"}]
[null,null,null,{"$f":"VLOOKUP($C3266,'SEI ISD'!$A$4:$B$124,2,0)","v":{"$error":"#N/A"}},null,null,null,null,1.645E-3,3.5608300000000001E-3,"","","/",{"$error":"#N/A"}]
[null,null,null,{"$f":"VLOOKUP($C3267,'SEI ISD'!$A$4:$B$124,2,0)","v":{"$error":"#N/A"}},null,null,null,null,1.645E-3,3.5608300000000001E-3,"","","/",{"$error":"#N/A"}]
[null,null,null,{"$f":"VLOOKUP($C3268,'SEI ISD'!$A$4:$B$124,2,0)","v":{"$error":"#N/A"}},null,null,null,null,1.645E-3,3.5608300000000001E-3,"","","/",{"$error":"#N/A"}]
[null,null,null,{"$f":"VLOOKUP($C3269,'SEI ISD'!$A$4:$B$124,2,0)","v":{"$error":"#N/A"}},null,null,null,null,1.645E-3,3.5608300000000001E-3,"","","/",{"$error":"#N/A"}]
[null,null,null,{"$f":"VLOOKUP($C3270,'SEI ISD'!$A$4:$B$124,2,0)","v":{"$error":"#N/A"}},null,null,null,null,1.645E-3,3.5608300000000001E-3,"","","/",{"$error":"#N/A"}]
[null,null,null,{"$f":"VLOOKUP($C3271,'SEI ISD'!$A$4:$B$124,2,0)","v":{"$error":"#N/A"}},null,null,null,null,1.645E-3,3.5608300000000001E-3,"","","/",{"$error":"#N/A"}]
[null,null,null,{"$f":"VLOOKUP($C3272,'SEI ISD'!$A$4:$B$124,2,0)","v":{"$error":"#N/A"}},null,null,null,null,1.645E-3,3.5608300000000001E-3,"","","/",{"$error":"#N/A"}]
[null,null,null,{"$f":"VLOOKUP($C3273,'SEI ISD'!$A$4:$B$124,2,0)","v":{"$error":"#N/A"}},null,null,null,null,1.645E-3,3.5608300000000001E-3,"","","/",{"$error":"#N/A"}]
[null,null,null,{"$f":"VLOOKUP($C3274,'SEI ISD'!$A$4:$B$124,2,0)","v":{"$error":"#N/A"}},null,null,null,null,1.645E-3,3.5608300000000001E-3,"","","/",{"$error":"#N/A"}]
[null,null,null,{"$f":"VLOOKUP($C3275,'SEI ISD'!$A$4:$B$124,2,0)","v":{"$error":"#N/A"}},null,null,null,null,1.645E-3,3.5608300000000001E-3,"","","/",{"$error":"#N/A"}]
[null,null,null,{"$f":"VLOOKUP($C3276,'SEI ISD'!$A$4:$B$124,2,0)","v":{"$error":"#N/A"}},null,null,null,null,1.645E-3,3.5608300000000001E-3,"","","/",{"$error":"#N/A"}]
[null,null,null,{"$f":"VLOOKUP($C3277,'SEI ISD'!$A$4:$B$124,2,0)","v":{"$error":"#N/A"}},null,null,null,null,1.645E-3,3.5608300000000001E-3,"","","/",{"$error":"#N/A"}]
[null,null,null,{"$f":"VLOOKUP($C3278,'SEI ISD'!$A$4:$B$124,2,0)","v":{"$error":"#N/A"}},null,null,null,null,1.645E-3,3.5608300000000001E-3,{"$f":"RIGHT(G3278,2)","v":""},{"$f":"LEFT(G3278,4)","v":""},{"$f":"_xlfn.CONCAT(K3278,\"/\",L3278)","v":"/"},{"$f":"EOMONTH(D3278,0)","v":{"$error":"#N/A"}}]
[null,null,null,{"$f":"VLOOKUP($C3279,'SEI ISD'!$A$4:$B$124,2,0)","v":{"$error":"#N/A"}},null,null,null,null,1.645E-3,3.5608300000000001E-3,"","","/",{"$error":"#N/A"}]
[null,null,null,{"$f":"VLOOKUP($C3280,'SEI ISD'!$A$4:$B$124,2,0)","v":{"$error":"#N/A"}},null,null,null,null,1.645E-3,3.5608300000000001E-3,"","","/",{"$error":"#N/A"}]
[null,null,null,{"$f":"VLOOKUP($C3281,'SEI ISD'!$A$4:$B$124,2,0)","v":{"$error":"#N/A"}},null,null,null,null,1.645E-3,3.5608300000000001E-3,"","","/",{"$error":"#N/A"}]
[null,null,null,{"$f":"VLOOKUP($C3282,'SEI ISD'!$A$4:$B$124,2,0)","v":{"$error":"#N/A"}},null,null,null,null,1.645E-3,3.5608300000000001E-3,"","","/",{"$error":"#N/A"}]
[null,null,null,{"$f":"VLOOKUP($C3283,'SEI ISD'!$A$4:$B$124,2,0)","v":{"$error":"#N/A"}},null,null,null,null,1.645E-3,3.5608300000000001E-3,"","","/",{"$error":"#N/A"}]
[null,null,null,{"$f":"VLOOKUP($C3284,'SEI ISD'!$A$4:$B$124,2,0)","v":{"$error":"#N/A"}},null,null,null,null,1.645E-3,3.5608300000000001E-3,"","","/",{"$error":"#N/A"}]
[null,null,null,{"$f":"VLOOKUP($C3285,'SEI ISD'!$A$4:$B$124,2,0)","v":{"$error":"#N/A"}},null,null,null,null,1.645E-3,3.5608300000000001E-3,"","","/",{"$error":"#N/A"}]
[null,null,null,{"$f":"VLOOKUP($C3286,'SEI ISD'!$A$4:$B$124,2,0)","v":{"$error":"#N/A"}},null,null,null,null,1.645E-3,3.5608300000000001E-3,"","","/",{"$error":"#N/A"}]
[null,null,null,{"$f":"VLOOKUP($C3287,'SEI ISD'!$A$4:$B$124,2,0)","v":{"$error":"#N/A"}},null,null,null,null,1.645E-3,3.5608300000000001E-3,"","","/",{"$error":"#N/A"}]
[null,null,null,{"$f":"VLOOKUP($C3288,'SEI ISD'!$A$4:$B$124,2,0)","v":{"$error":"#N/A"}},null,null,null,null,1.645E-3,3.5608300000000001E-3,"","","/",{"$error":"#N/A"}]
[null,null,null,{"$f":"VLOOKUP($C3289,'SEI ISD'!$A$4:$B$124,2,0)","v":{"$error":"#N/A"}},null,null,null,null,1.645E-3,3.5608300000000001E-3,"","","/",{"$error":"#N/A"}]
[null,null,null,{"$f":"VLOOKUP($C3290,'SEI ISD'!$A$4:$B$124,2,0)","v":{"$error":"#N/A"}},null,null,null,null,1.645E-3,3.5608300000000001E-3,"","","/",{"$error":"#N/A"}]
[null,null,null,{"$f":"VLOOKUP($C3291,'SEI ISD'!$A$4:$B$124,2,0)","v":{"$error":"#N/A"}},null,null,null,null,1.645E-3,3.5608300000000001E-3,"","","/",{"$error":"#N/A"}]
[null,null,null,{"$f":"VLOOKUP($C3292,'SEI ISD'!$A$4:$B$124,2,0)","v":{"$error":"#N/A"}},null,null,null,null,1.645E-3,3.5608300000000001E-3,"","","/",{"$error":"#N/A"}]
[null,null,null,{"$f":"VLOOKUP($C3293,'SEI ISD'!$A$4:$B$124,2,0)","v":{"$error":"#N/A"}},null,null,null,null,1.645E-3,3.5608300000000001E-3,"","","/",{"$error":"#N/A"}]
[null,null,null,{"$f":"VLOOKUP($C3294,'SEI ISD'!$A$4:$B$124,2,0)","v":{"$error":"#N/A"}},null,null,null,null,1.645E-3,3.5608300000000001E-3,"","","/",{"$error":"#N/A"}]
[null,null,null,{"$f":"VLOOKUP($C3295,'SEI ISD'!$A$4:$B$124,2,0)","v":{"$error":"#N/A"}},null,null,null,null,1.645E-3,3.5608300000000001E-3,"","","/",{"$error":"#N/A"}]
[null,null,null,{"$f":"VLOOKUP($C3296,'SEI ISD'!$A$4:$B$124,2,0)","v":{"$error":"#N/A"}},null,null,null,null,1.645E-3,3.5608300000000001E-3,"","","/",{"$error":"#N/A"}]
[null,null,null,{"$f":"VLOOKUP($C3297,'SEI ISD'!$A$4:$B$124,2,0)","v":{"$error":"#N/A"}},null,null,null,null,1.645E-3,3.5608300000000001E-3,"","","/",{"$error":"#N/A"}]
[null,null,null,{"$f":"VLOOKUP($C3298,'SEI ISD'!$A$4:$B$124,2,0)","v":{"$error":"#N/A"}},null,null,null,null,1.645E-3,3.5608300000000001E-3,"","","/",{"$error":"#N/A"}]
[null,null,null,{"$f":"VLOOKUP($C3299,'SEI ISD'!$A$4:$B$124,2,0)","v":{"$error":"#N/A"}},null,null,null,null,1.645E-3,3.5608300000000001E-3,"","","/",{"$error":"#N/A"}]
[null,null,null,{"$f":"VLOOKUP($C3300,'SEI ISD'!$A$4:$B$124,2,0)","v":{"$error":"#N/A"}},null,null,null,null,1.645E-3,3.5608300000000001E-3,"","","/",{"$error":"#N/A"}]
[null,null,null,{"$f":"VLOOKUP($C3301,'SEI ISD'!$A$4:$B$124,2,0)","v":{"$error":"#N/A"}},null,null,null,null,1.645E-3,3.5608300000000001E-3,"","","/",{"$error":"#N/A"}]
[null,null,null,{"$f":"VLOOKUP($C3302,'SEI ISD'!$A$4:$B$124,2,0)","v":{"$error":"#N/A"}},null,null,null,null,1.645E-3,3.5608300000000001E-3,"","","/",{"$error":"#N/A"}]
[null,null,null,{"$f":"VLOOKUP($C3303,'SEI ISD'!$A$4:$B$124,2,0)","v":{"$error":"#N/A"}},null,null,null,null,1.645E-3,3.5608300000000001E-3,"","","/",{"$error":"#N/A"}]
[null,null,null,{"$f":"VLOOKUP($C3304,'SEI ISD'!$A$4:$B$124,2,0)","v":{"$error":"#N/A"}},null,null,null,null,1.645E-3,3.5608300000000001E-3,"","","/",{"$error":"#N/A"}]
[null,null,null,{"$f":"VLOOKUP($C3305,'SEI ISD'!$A$4:$B$124,2,0)","v":{"$error":"#N/A"}},null,null,null,null,1.645E-3,3.5608300000000001E-3,"","","/",{"$error":"#N/A"}]
[null,null,null,{"$f":"VLOOKUP($C3306,'SEI ISD'!$A$4:$B$124,2,0)","v":{"$error":"#N/A"}},null,null,null,null,1.645E-3,3.5608300000000001E-3,"","","/",{"$error":"#N/A"}]
[null,null,null,{"$f":"VLOOKUP($C3307,'SEI ISD'!$A$4:$B$124,2,0)","v":{"$error":"#N/A"}},null,null,null,null,1.645E-3,3.5608300000000001E-3,"","","/",{"$error":"#N/A"}]
[null,null,null,{"$f":"VLOOKUP($C3308,'SEI ISD'!$A$4:$B$124,2,0)","v":{"$error":"#N/A"}},null,null,null,null,1.645E-3,3.5608300000000001E-3,"","","/",{"$error":"#N/A"}]
[null,null,null,{"$f":"VLOOKUP($C3309,'SEI ISD'!$A$4:$B$124,2,0)","v":{"$error":"#N/A"}},null,null,null,null,1.645E-3,3.5608300000000001E-3,"","","/",{"$error":"#N/A"}]
[null,null,null,{"$f":"VLOOKUP($C3310,'SEI ISD'!$A$4:$B$124,2,0)","v":{"$error":"#N/A"}},null,null,null,null,1.645E-3,3.5608300000000001E-3,"","","/",{"$error":"#N/A"}]
[null,null,null,{"$f":"VLOOKUP($C3311,'SEI ISD'!$A$4:$B$124,2,0)","v":{"$error":"#N/A"}},null,null,null,null,1.645E-3,3.5608300000000001E-3,"","","/",{"$error":"#N/A"}]
[null,null,null,{"$f":"VLOOKUP($C3312,'SEI ISD'!$A$4:$B$124,2,0)","v":{"$error":"#N/A"}},null,null,null,null,1.645E-3,3.5608300000000001E-3,"","","/",{"$error":"#N/A"}]
[null,null,null,{"$f":"VLOOKUP($C3313,'SEI ISD'!$A$4:$B$124,2,0)","v":{"$error":"#N/A"}},null,null,null,null,1.645E-3,3.5608300000000001E-3,"","","/",{"$error":"#N/A"}]
[null,null,null,{"$f":"VLOOKUP($C3314,'SEI ISD'!$A$4:$B$124,2,0)","v":{"$error":"#N/A"}},null,null,null,null,1.645E-3,3.5608300000000001E-3,"","","/",{"$error":"#N/A"}]
[null,null,null,{"$f":"VLOOKUP($C3315,'SEI ISD'!$A$4:$B$124,2,0)","v":{"$error":"#N/A"}},null,null,null,null,1.645E-3,3.5608300000000001E-3,"","","/",{"$error":"#N/A"}]
[null,null,null,{"$f":"VLOOKUP($C3316,'SEI ISD'!$A$4:$B$124,2,0)","v":{"$error":"#N/A"}},null,null,null,null,1.645E-3,3.5608300000000001E-3,"","","/",{"$error":"#N/A"}]
[null,null,null,{"$f":"VLOOKUP($C3317,'SEI ISD'!$A$4:$B$124,2,0)","v":{"$error":"#N/A"}},null,null,null,null,1.645E-3,3.5608300000000001E-3,"","","/",{"$error":"#N/A"}]
[null,null,null,{"$f":"VLOOKUP($C3318,'SEI ISD'!$A$4:$B$124,2,0)","v":{"$error":"#N/A"}},null,null,null,null,1.645E-3,3.5608300000000001E-3,"","","/",{"$error":"#N/A"}]
[null,null,null,{"$f":"VLOOKUP($C3319,'SEI ISD'!$A$4:$B$124,2,0)","v":{"$error":"#N/A"}},null,null,null,null,1.645E-3,3.5608300000000001E-3,"","","/",{"$error":"#N/A"}]
[null,null,null,{"$f":"VLOOKUP($C3320,'SEI ISD'!$A$4:$B$124,2,0)","v":{"$error":"#N/A"}},null,null,null,null,1.645E-3,3.5608300000000001E-3,"","","/",{"$error":"#N/A"}]
[null,null,null,{"$f":"VLOOKUP($C3321,'SEI ISD'!$A$4:$B$124,2,0)","v":{"$error":"#N/A"}},null,null,null,null,1.645E-3,3.5608300000000001E-3,"","","/",{"$error":"#N/A"}]
[null,null,null,{"$f":"VLOOKUP($C3322,'SEI ISD'!$A$4:$B$124,2,0)","v":{"$error":"#N/A"}},null,null,null,null,1.645E-3,3.5608300000000001E-3,"","","/",{"$error":"#N/A"}]
[null,null,null,{"$f":"VLOOKUP($C3323,'SEI ISD'!$A$4:$B$124,2,0)","v":{"$error":"#N/A"}},null,null,null,null,1.645E-3,3.5608300000000001E-3,"","","/",{"$error":"#N/A"}]
[null,null,null,{"$f":"VLOOKUP($C3324,'SEI ISD'!$A$4:$B$124,2,0)","v":{"$error":"#N/A"}},null,null,null,null,1.645E-3,3.5608300000000001E-3,"","","/",{"$error":"#N/A"}]
[null,null,null,{"$f":"VLOOKUP($C3325,'SEI ISD'!$A$4:$B$124,2,0)","v":{"$error":"#N/A"}},null,null,null,null,1.645E-3,3.5608300000000001E-3,"","","/",{"$error":"#N/A"}]
[null,null,null,{"$f":"VLOOKUP($C3326,'SEI ISD'!$A$4:$B$124,2,0)","v":{"$error":"#N/A"}},null,null,null,null,1.645E-3,3.5608300000000001E-3,"","","/",{"$error":"#N/A"}]
[null,null,null,{"$f":"VLOOKUP($C3327,'SEI ISD'!$A$4:$B$124,2,0)","v":{"$error":"#N/A"}},null,null,null,null,1.645E-3,3.5608300000000001E-3,"","","/",{"$error":"#N/A"}]
[null,null,null,{"$f":"VLOOKUP($C3328,'SEI ISD'!$A$4:$B$124,2,0)","v":{"$error":"#N/A"}},null,null,null,null,1.645E-3,3.5608300000000001E-3,"","","/",{"$error":"#N/A"}]
[null,null,null,{"$f":"VLOOKUP($C3329,'SEI ISD'!$A$4:$B$124,2,0)","v":{"$error":"#N/A"}},null,null,null,null,1.645E-3,3.5608300000000001E-3,"","","/",{"$error":"#N/A"}]
[null,null,null,{"$f":"VLOOKUP($C3330,'SEI ISD'!$A$4:$B$124,2,0)","v":{"$error":"#N/A"}},null,null,null,null,1.645E-3,3.5608300000000001E-3,"","","/",{"$error":"#N/A"}]
[null,null,null,{"$f":"VLOOKUP($C3331,'SEI ISD'!$A$4:$B$124,2,0)","v":{"$error":"#N/A"}},null,null,null,null,1.645E-3,3.5608300000000001E-3,"","","/",{"$error":"#N/A"}]
[null,null,null,{"$f":"VLOOKUP($C3332,'SEI ISD'!$A$4:$B$124,2,0)","v":{"$error":"#N/A"}},null,null,null,null,1.645E-3,3.5608300000000001E-3,"","","/",{"$error":"#N/A"}]
[null,null,null,{"$f":"VLOOKUP($C3333,'SEI ISD'!$A$4:$B$124,2,0)","v":{"$error":"#N/A"}},null,null,null,null,1.645E-3,3.5608300000000001E-3,"","","/",{"$error":"#N/A"}]
[null,null,null,{"$f":"VLOOKUP($C3334,'SEI ISD'!$A$4:$B$124,2,0)","v":{"$error":"#N/A"}},null,null,null,null,1.645E-3,3.5608300000000001E-3,"","","/",{"$error":"#N/A"}]
[null,null,null,{"$f":"VLOOKUP($C3335,'SEI ISD'!$A$4:$B$124,2,0)","v":{"$error":"#N/A"}},null,null,null,null,1.645E-3,3.5608300000000001E-3,"","","/",{"$error":"#N/A"}]
[null,null,null,{"$f":"VLOOKUP($C3336,'SEI ISD'!$A$4:$B$124,2,0)","v":{"$error":"#N/A"}},null,null,null,null,1.645E-3,3.5608300000000001E-3,"","","/",{"$error":"#N/A"}]
[null,null,null,{"$f":"VLOOKUP($C3337,'SEI ISD'!$A$4:$B$124,2,0)","v":{"$error":"#N/A"}},null,null,null,null,1.645E-3,3.5608300000000001E-3,"","","/",{"$error":"#N/A"}]
[null,null,null,{"$f":"VLOOKUP($C3338,'SEI ISD'!$A$4:$B$124,2,0)","v":{"$error":"#N/A"}},null,null,null,null,1.645E-3,3.5608300000000001E-3,"","","/",{"$error":"#N/A"}]
[null,null,null,{"$f":"VLOOKUP($C3339,'SEI ISD'!$A$4:$B$124,2,0)","v":{"$error":"#N/A"}},null,null,null,null,1.645E-3,3.5608300000000001E-3,"","","/",{"$error":"#N/A"}]
[null,null,null,{"$f":"VLOOKUP($C3340,'SEI ISD'!$A$4:$B$124,2,0)","v":{"$error":"#N/A"}},null,null,null,null,1.645E-3,3.5608300000000001E-3,"","","/",{"$error":"#N/A"}]
[null,null,null,{"$f":"VLOOKUP($C3341,'SEI ISD'!$A$4:$B$124,2,0)","v":{"$error":"#N/A"}},null,null,null,null,1.645E-3,3.5608300000000001E-3,"","","/",{"$error":"#N/A"}]
[null,null,null,{"$f":"VLOOKUP($C3342,'SEI ISD'!$A$4:$B$124,2,0)","v":{"$error":"#N/A"}},null,null,null,null,1.645E-3,3.5608300000000001E-3,{"$f":"RIGHT(G3342,2)","v":""},{"$f":"LEFT(G3342,4)","v":""},{"$f":"_xlfn.CONCAT(K3342,\"/\",L3342)","v":"/"},{"$f":"EOMONTH(D3342,0)","v":{"$error":"#N/A"}}]
[null,null,null,{"$f":"VLOOKUP($C3343,'SEI ISD'!$A$4:$B$124,2,0)","v":{"$error":"#N/A"}},null,null,null,null,1.645E-3,3.5608300000000001E-3,"","","/",{"$error":"#N/A"}]
[null,null,null,{"$f":"VLOOKUP($C3344,'SEI ISD'!$A$4:$B$124,2,0)","v":{"$error":"#N/A"}},null,null,null,null,1.645E-3,3.5608300000000001E-3,"","","/",{"$error":"#N/A"}]
[null,null,null,{"$f":"VLOOKUP($C3345,'SEI ISD'!$A$4:$B$124,2,0)","v":{"$error":"#N/A"}},null,null,null,null,1.645E-3,3.5608300000000001E-3,"","","/",{"$error":"#N/A"}]
[null,null,null,{"$f":"VLOOKUP($C3346,'SEI ISD'!$A$4:$B$124,2,0)","v":{"$error":"#N/A"}},null,null,null,null,1.645E-3,3.5608300000000001E-3,"","","/",{"$error":"#N/A"}]
[null,null,null,{"$f":"VLOOKUP($C3347,'SEI ISD'!$A$4:$B$124,2,0)","v":{"$error":"#N/A"}},null,null,null,null,1.645E-3,3.5608300000000001E-3,"","","/",{"$error":"#N/A"}]
[null,null,null,{"$f":"VLOOKUP($C3348,'SEI ISD'!$A$4:$B$124,2,0)","v":{"$error":"#N/A"}},null,null,null,null,1.645E-3,3.5608300000000001E-3,"","","/",{"$error":"#N/A"}]
[null,null,null,{"$f":"VLOOKUP($C3349,'SEI ISD'!$A$4:$B$124,2,0)","v":{"$error":"#N/A"}},null,null,null,null,1.645E-3,3.5608300000000001E-3,"","","/",{"$error":"#N/A"}]
[null,null,null,{"$f":"VLOOKUP($C3350,'SEI ISD'!$A$4:$B$124,2,0)","v":{"$error":"#N/A"}},null,null,null,null,1.645E-3,3.5608300000000001E-3,"","","/",{"$error":"#N/A"}]
[null,null,null,{"$f":"VLOOKUP($C3351,'SEI ISD'!$A$4:$B$124,2,0)","v":{"$error":"#N/A"}},null,null,null,null,1.645E-3,3.5608300000000001E-3,"","","/",{"$error":"#N/A"}]
[null,null,null,{"$f":"VLOOKUP($C3352,'SEI ISD'!$A$4:$B$124,2,0)","v":{"$error":"#N/A"}},null,null,null,null,1.645E-3,3.5608300000000001E-3,"","","/",{"$error":"#N/A"}]
[null,null,null,{"$f":"VLOOKUP($C3353,'SEI ISD'!$A$4:$B$124,2,0)","v":{"$error":"#N/A"}},null,null,null,null,1.645E-3,3.5608300000000001E-3,"","","/",{"$error":"#N/A"}]
[null,null,null,{"$f":"VLOOKUP($C3354,'SEI ISD'!$A$4:$B$124,2,0)","v":{"$error":"#N/A"}},null,null,null,null,1.645E-3,3.5608300000000001E-3,"","","/",{"$error":"#N/A"}]
[null,null,null,{"$f":"VLOOKUP($C3355,'SEI ISD'!$A$4:$B$124,2,0)","v":{"$error":"#N/A"}},null,null,null,null,1.645E-3,3.5608300000000001E-3,"","","/",{"$error":"#N/A"}]
[null,null,null,{"$f":"VLOOKUP($C3356,'SEI ISD'!$A$4:$B$124,2,0)","v":{"$error":"#N/A"}},null,null,null,null,1.645E-3,3.5608300000000001E-3,"","","/",{"$error":"#N/A"}]
[null,null,null,{"$f":"VLOOKUP($C3357,'SEI ISD'!$A$4:$B$124,2,0)","v":{"$error":"#N/A"}},null,null,null,null,1.645E-3,3.5608300000000001E-3,"","","/",{"$error":"#N/A"}]
[null,null,null,{"$f":"VLOOKUP($C3358,'SEI ISD'!$A$4:$B$124,2,0)","v":{"$error":"#N/A"}},null,null,null,null,1.645E-3,3.5608300000000001E-3,"","","/",{"$error":"#N/A"}]
[null,null,null,{"$f":"VLOOKUP($C3359,'SEI ISD'!$A$4:$B$124,2,0)","v":{"$error":"#N/A"}},null,null,null,null,1.645E-3,3.5608300000000001E-3,"","","/",{"$error":"#N/A"}]
[null,null,null,{"$f":"VLOOKUP($C3360,'SEI ISD'!$A$4:$B$124,2,0)","v":{"$error":"#N/A"}},null,null,null,null,1.645E-3,3.5608300000000001E-3,"","","/",{"$error":"#N/A"}]
[null,null,null,{"$f":"VLOOKUP($C3361,'SEI ISD'!$A$4:$B$124,2,0)","v":{"$error":"#N/A"}},null,null,null,null,1.645E-3,3.5608300000000001E-3,"","","/",{"$error":"#N/A"}]
[null,null,null,{"$f":"VLOOKUP($C3362,'SEI ISD'!$A$4:$B$124,2,0)","v":{"$error":"#N/A"}},null,null,null,null,1.645E-3,3.5608300000000001E-3,"","","/",{"$error":"#N/A"}]
[null,null,null,{"$f":"VLOOKUP($C3363,'SEI ISD'!$A$4:$B$124,2,0)","v":{"$error":"#N/A"}},null,null,null,null,1.645E-3,3.5608300000000001E-3,"","","/",{"$error":"#N/A"}]
[null,null,null,{"$f":"VLOOKUP($C3364,'SEI ISD'!$A$4:$B$124,2,0)","v":{"$error":"#N/A"}},null,null,null,null,1.645E-3,3.5608300000000001E-3,"","","/",{"$error":"#N/A"}]
[null,null,null,{"$f":"VLOOKUP($C3365,'SEI ISD'!$A$4:$B$124,2,0)","v":{"$error":"#N/A"}},null,null,null,null,1.645E-3,3.5608300000000001E-3,"","","/",{"$error":"#N/A"}]
[null,null,null,{"$f":"VLOOKUP($C3366,'SEI ISD'!$A$4:$B$124,2,0)","v":{"$error":"#N/A"}},null,null,null,null,1.645E-3,3.5608300000000001E-3,"","","/",{"$error":"#N/A"}]
[null,null,null,{"$f":"VLOOKUP($C3367,'SEI ISD'!$A$4:$B$124,2,0)","v":{"$error":"#N/A"}},null,null,null,null,1.645E-3,3.5608300000000001E-3,"","","/",{"$error":"#N/A"}]
[null,null,null,{"$f":"VLOOKUP($C3368,'SEI ISD'!$A$4:$B$124,2,0)","v":{"$error":"#N/A"}},null,null,null,null,1.645E-3,3.5608300000000001E-3,"","","/",{"$error":"#N/A"}]
[null,null,null,{"$f":"VLOOKUP($C3369,'SEI ISD'!$A$4:$B$124,2,0)","v":{"$error":"#N/A"}},null,null,null,null,1.645E-3,3.5608300000000001E-3,"","","/",{"$error":"#N/A"}]
[null,null,null,{"$f":"VLOOKUP($C3370,'SEI ISD'!$A$4:$B$124,2,0)","v":{"$error":"#N/A"}},null,null,null,null,1.645E-3,3.5608300000000001E-3,"","","/",{"$error":"#N/A"}]
[null,null,null,{"$f":"VLOOKUP($C3371,'SEI ISD'!$A$4:$B$124,2,0)","v":{"$error":"#N/A"}},null,null,null,null,1.645E-3,3.5608300000000001E-3,"","","/",{"$error":"#N/A"}]
[null,null,null,{"$f":"VLOOKUP($C3372,'SEI ISD'!$A$4:$B$124,2,0)","v":{"$error":"#N/A"}},null,null,null,null,1.645E-3,3.5608300000000001E-3,"","","/",{"$error":"#N/A"}]
[null,null,null,{"$f":"VLOOKUP($C3373,'SEI ISD'!$A$4:$B$124,2,0)","v":{"$error":"#N/A"}},null,null,null,null,1.645E-3,3.5608300000000001E-3,"","","/",{"$error":"#N/A"}]
[null,null,null,{"$f":"VLOOKUP($C3374,'SEI ISD'!$A$4:$B$124,2,0)","v":{"$error":"#N/A"}},null,null,null,null,1.645E-3,3.5608300000000001E-3,"","","/",{"$error":"#N/A"}]
[null,null,null,{"$f":"VLOOKUP($C3375,'SEI ISD'!$A$4:$B$124,2,0)","v":{"$error":"#N/A"}},null,null,null,null,1.645E-3,3.5608300000000001E-3,"","","/",{"$error":"#N/A"}]
[null,null,null,{"$f":"VLOOKUP($C3376,'SEI ISD'!$A$4:$B$124,2,0)","v":{"$error":"#N/A"}},null,null,null,null,1.645E-3,3.5608300000000001E-3,"","","/",{"$error":"#N/A"}]
[null,null,null,{"$f":"VLOOKUP($C3377,'SEI ISD'!$A$4:$B$124,2,0)","v":{"$error":"#N/A"}},null,null,null,null,1.645E-3,3.5608300000000001E-3,"","","/",{"$error":"#N/A"}]
[null,null,null,{"$f":"VLOOKUP($C3378,'SEI ISD'!$A$4:$B$124,2,0)","v":{"$error":"#N/A"}},null,null,null,null,1.645E-3,3.5608300000000001E-3,"","","/",{"$error":"#N/A"}]
[null,null,null,{"$f":"VLOOKUP($C3379,'SEI ISD'!$A$4:$B$124,2,0)","v":{"$error":"#N/A"}},null,null,null,null,1.645E-3,3.5608300000000001E-3,"","","/",{"$error":"#N/A"}]
[null,null,null,{"$f":"VLOOKUP($C3380,'SEI ISD'!$A$4:$B$124,2,0)","v":{"$error":"#N/A"}},null,null,null,null,1.645E-3,3.5608300000000001E-3,"","","/",{"$error":"#N/A"}]
[null,null,null,{"$f":"VLOOKUP($C3381,'SEI ISD'!$A$4:$B$124,2,0)","v":{"$error":"#N/A"}},null,null,null,null,1.645E-3,3.5608300000000001E-3,"","","/",{"$error":"#N/A"}]
[null,null,null,{"$f":"VLOOKUP($C3382,'SEI ISD'!$A$4:$B$124,2,0)","v":{"$error":"#N/A"}},null,null,null,null,1.645E-3,3.5608300000000001E-3,"","","/",{"$error":"#N/A"}]
[null,null,null,{"$f":"VLOOKUP($C3383,'SEI ISD'!$A$4:$B$124,2,0)","v":{"$error":"#N/A"}},null,null,null,null,1.645E-3,3.5608300000000001E-3,"","","/",{"$error":"#N/A"}]
[null,null,null,{"$f":"VLOOKUP($C3384,'SEI ISD'!$A$4:$B$124,2,0)","v":{"$error":"#N/A"}},null,null,null,null,1.645E-3,3.5608300000000001E-3,"","","/",{"$error":"#N/A"}]
[null,null,null,{"$f":"VLOOKUP($C3385,'SEI ISD'!$A$4:$B$124,2,0)","v":{"$error":"#N/A"}},null,null,null,null,1.645E-3,3.5608300000000001E-3,"","","/",{"$error":"#N/A"}]
[null,null,null,{"$f":"VLOOKUP($C3386,'SEI ISD'!$A$4:$B$124,2,0)","v":{"$error":"#N/A"}},null,null,null,null,1.645E-3,3.5608300000000001E-3,"","","/",{"$error":"#N/A"}]
[null,null,null,{"$f":"VLOOKUP($C3387,'SEI ISD'!$A$4:$B$124,2,0)","v":{"$error":"#N/A"}},null,null,null,null,1.645E-3,3.5608300000000001E-3,"","","/",{"$error":"#N/A"}]
[null,null,null,{"$f":"VLOOKUP($C3388,'SEI ISD'!$A$4:$B$124,2,0)","v":{"$error":"#N/A"}},null,null,null,null,1.645E-3,3.5608300000000001E-3,"","","/",{"$error":"#N/A"}]
[null,null,null,{"$f":"VLOOKUP($C3389,'SEI ISD'!$A$4:$B$124,2,0)","v":{"$error":"#N/A"}},null,null,null,null,1.645E-3,3.5608300000000001E-3,"","","/",{"$error":"#N/A"}]
[null,null,null,{"$f":"VLOOKUP($C3390,'SEI ISD'!$A$4:$B$124,2,0)","v":{"$error":"#N/A"}},null,null,null,null,1.645E-3,3.5608300000000001E-3,"","","/",{"$error":"#N/A"}]
[null,null,null,{"$f":"VLOOKUP($C3391,'SEI ISD'!$A$4:$B$124,2,0)","v":{"$error":"#N/A"}},null,null,null,null,1.645E-3,3.5608300000000001E-3,"","","/",{"$error":"#N/A"}]
[null,null,null,{"$f":"VLOOKUP($C3392,'SEI ISD'!$A$4:$B$124,2,0)","v":{"$error":"#N/A"}},null,null,null,null,1.645E-3,3.5608300000000001E-3,"","","/",{"$error":"#N/A"}]
[null,null,null,{"$f":"VLOOKUP($C3393,'SEI ISD'!$A$4:$B$124,2,0)","v":{"$error":"#N/A"}},null,null,null,null,1.645E-3,3.5608300000000001E-3,"","","/",{"$error":"#N/A"}]
[null,null,null,{"$f":"VLOOKUP($C3394,'SEI ISD'!$A$4:$B$124,2,0)","v":{"$error":"#N/A"}},null,null,null,null,1.645E-3,3.5608300000000001E-3,"","","/",{"$error":"#N/A"}]
[null,null,null,{"$f":"VLOOKUP($C3395,'SEI ISD'!$A$4:$B$124,2,0)","v":{"$error":"#N/A"}},null,null,null,null,1.645E-3,3.5608300000000001E-3,"","","/",{"$error":"#N/A"}]
[null,null,null,{"$f":"VLOOKUP($C3396,'SEI ISD'!$A$4:$B$124,2,0)","v":{"$error":"#N/A"}},null,null,null,null,1.645E-3,3.5608300000000001E-3,"","","/",{"$error":"#N/A"}]
[null,null,null,{"$f":"VLOOKUP($C3397,'SEI ISD'!$A$4:$B$124,2,0)","v":{"$error":"#N/A"}},null,null,null,null,1.645E-3,3.5608300000000001E-3,"","","/",{"$error":"#N/A"}]
[null,null,null,{"$f":"VLOOKUP($C3398,'SEI ISD'!$A$4:$B$124,2,0)","v":{"$error":"#N/A"}},null,null,null,null,1.645E-3,3.5608300000000001E-3,"","","/",{"$error":"#N/A"}]
[null,null,null,{"$f":"VLOOKUP($C3399,'SEI ISD'!$A$4:$B$124,2,0)","v":{"$error":"#N/A"}},null,null,null,null,1.645E-3,3.5608300000000001E-3,"","","/",{"$error":"#N/A"}]
[null,null,null,{"$f":"VLOOKUP($C3400,'SEI ISD'!$A$4:$B$124,2,0)","v":{"$error":"#N/A"}},null,null,null,null,1.645E-3,3.5608300000000001E-3,"","","/",{"$error":"#N/A"}]
[null,null,null,{"$f":"VLOOKUP($C3401,'SEI ISD'!$A$4:$B$124,2,0)","v":{"$error":"#N/A"}},null,null,null,null,1.645E-3,3.5608300000000001E-3,"","","/",{"$error":"#N/A"}]
[null,null,null,{"$f":"VLOOKUP($C3402,'SEI ISD'!$A$4:$B$124,2,0)","v":{"$error":"#N/A"}},null,null,null,null,1.645E-3,3.5608300000000001E-3,"","","/",{"$error":"#N/A"}]
[null,null,null,{"$f":"VLOOKUP($C3403,'SEI ISD'!$A$4:$B$124,2,0)","v":{"$error":"#N/A"}},null,null,null,null,1.645E-3,3.5608300000000001E-3,"","","/",{"$error":"#N/A"}]
[null,null,null,{"$f":"VLOOKUP($C3404,'SEI ISD'!$A$4:$B$124,2,0)","v":{"$error":"#N/A"}},null,null,null,null,1.645E-3,3.5608300000000001E-3,"","","/",{"$error":"#N/A"}]
[null,null,null,{"$f":"VLOOKUP($C3405,'SEI ISD'!$A$4:$B$124,2,0)","v":{"$error":"#N/A"}},null,null,null,null,1.645E-3,3.5608300000000001E-3,"","","/",{"$error":"#N/A"}]
[null,null,null,{"$f":"VLOOKUP($C3406,'SEI ISD'!$A$4:$B$124,2,0)","v":{"$error":"#N/A"}},null,null,null,null,1.645E-3,3.5608300000000001E-3,{"$f":"RIGHT(G3406,2)","v":""},{"$f":"LEFT(G3406,4)","v":""},{"$f":"_xlfn.CONCAT(K3406,\"/\",L3406)","v":"/"},{"$f":"EOMONTH(D3406,0)","v":{"$error":"#N/A"}}]
[null,null,null,{"$f":"VLOOKUP($C3407,'SEI ISD'!$A$4:$B$124,2,0)","v":{"$error":"#N/A"}},null,null,null,null,1.645E-3,3.5608300000000001E-3,"","","/",{"$error":"#N/A"}]
[null,null,null,{"$f":"VLOOKUP($C3408,'SEI ISD'!$A$4:$B$124,2,0)","v":{"$error":"#N/A"}},null,null,null,null,1.645E-3,3.5608300000000001E-3,"","","/",{"$error":"#N/A"}]
[null,null,null,{"$f":"VLOOKUP($C3409,'SEI ISD'!$A$4:$B$124,2,0)","v":{"$error":"#N/A"}},null,null,null,null,1.645E-3,3.5608300000000001E-3,"","","/",{"$error":"#N/A"}]
[null,null,null,{"$f":"VLOOKUP($C3410,'SEI ISD'!$A$4:$B$124,2,0)","v":{"$error":"#N/A"}},null,null,null,null,1.645E-3,3.5608300000000001E-3,"","","/",{"$error":"#N/A"}]
[null,null,null,{"$f":"VLOOKUP($C3411,'SEI ISD'!$A$4:$B$124,2,0)","v":{"$error":"#N/A"}},null,null,null,null,1.645E-3,3.5608300000000001E-3,"","","/",{"$error":"#N/A"}]
[null,null,null,{"$f":"VLOOKUP($C3412,'SEI ISD'!$A$4:$B$124,2,0)","v":{"$error":"#N/A"}},null,null,null,null,1.645E-3,3.5608300000000001E-3,"","","/",{"$error":"#N/A"}]
[null,null,null,{"$f":"VLOOKUP($C3413,'SEI ISD'!$A$4:$B$124,2,0)","v":{"$error":"#N/A"}},null,null,null,null,1.645E-3,3.5608300000000001E-3,"","","/",{"$error":"#N/A"}]
[null,null,null,{"$f":"VLOOKUP($C3414,'SEI ISD'!$A$4:$B$124,2,0)","v":{"$error":"#N/A"}},null,null,null,null,1.645E-3,3.5608300000000001E-3,"","","/",{"$error":"#N/A"}]
[null,null,null,{"$f":"VLOOKUP($C3415,'SEI ISD'!$A$4:$B$124,2,0)","v":{"$error":"#N/A"}},null,null,null,null,1.645E-3,3.5608300000000001E-3,"","","/",{"$error":"#N/A"}]
[null,null,null,{"$f":"VLOOKUP($C3416,'SEI ISD'!$A$4:$B$124,2,0)","v":{"$error":"#N/A"}},null,null,null,null,1.645E-3,3.5608300000000001E-3,"","","/",{"$error":"#N/A"}]
[null,null,null,{"$f":"VLOOKUP($C3417,'SEI ISD'!$A$4:$B$124,2,0)","v":{"$error":"#N/A"}},null,null,null,null,1.645E-3,3.5608300000000001E-3,"","","/",{"$error":"#N/A"}]
[null,null,null,{"$f":"VLOOKUP($C3418,'SEI ISD'!$A$4:$B$124,2,0)","v":{"$error":"#N/A"}},null,null,null,null,1.645E-3,3.5608300000000001E-3,"","","/",{"$error":"#N/A"}]
[null,null,null,{"$f":"VLOOKUP($C3419,'SEI ISD'!$A$4:$B$124,2,0)","v":{"$error":"#N/A"}},null,null,null,null,1.645E-3,3.5608300000000001E-3,"","","/",{"$error":"#N/A"}]
[null,null,null,{"$f":"VLOOKUP($C3420,'SEI ISD'!$A$4:$B$124,2,0)","v":{"$error":"#N/A"}},null,null,null,null,1.645E-3,3.5608300000000001E-3,"","","/",{"$error":"#N/A"}]
[null,null,null,{"$f":"VLOOKUP($C3421,'SEI ISD'!$A$4:$B$124,2,0)","v":{"$error":"#N/A"}},null,null,null,null,1.645E-3,3.5608300000000001E-3,"","","/",{"$error":"#N/A"}]
[null,null,null,{"$f":"VLOOKUP($C3422,'SEI ISD'!$A$4:$B$124,2,0)","v":{"$error":"#N/A"}},null,null,null,null,1.645E-3,3.5608300000000001E-3,"","","/",{"$error":"#N/A"}]
[null,null,null,{"$f":"VLOOKUP($C3423,'SEI ISD'!$A$4:$B$124,2,0)","v":{"$error":"#N/A"}},null,null,null,null,1.645E-3,3.5608300000000001E-3,"","","/",{"$error":"#N/A"}]
[null,null,null,{"$f":"VLOOKUP($C3424,'SEI ISD'!$A$4:$B$124,2,0)","v":{"$error":"#N/A"}},null,null,null,null,1.645E-3,3.5608300000000001E-3,"","","/",{"$error":"#N/A"}]
[null,null,null,{"$f":"VLOOKUP($C3425,'SEI ISD'!$A$4:$B$124,2,0)","v":{"$error":"#N/A"}},null,null,null,null,1.645E-3,3.5608300000000001E-3,"","","/",{"$error":"#N/A"}]
[null,null,null,{"$f":"VLOOKUP($C3426,'SEI ISD'!$A$4:$B$124,2,0)","v":{"$error":"#N/A"}},null,null,null,null,1.645E-3,3.5608300000000001E-3,"","","/",{"$error":"#N/A"}]
[null,null,null,{"$f":"VLOOKUP($C3427,'SEI ISD'!$A$4:$B$124,2,0)","v":{"$error":"#N/A"}},null,null,null,null,1.645E-3,3.5608300000000001E-3,"","","/",{"$error":"#N/A"}]
[null,null,null,{"$f":"VLOOKUP($C3428,'SEI ISD'!$A$4:$B$124,2,0)","v":{"$error":"#N/A"}},null,null,null,null,1.645E-3,3.5608300000000001E-3,"","","/",{"$error":"#N/A"}]
[null,null,null,{"$f":"VLOOKUP($C3429,'SEI ISD'!$A$4:$B$124,2,0)","v":{"$error":"#N/A"}},null,null,null,null,1.645E-3,3.5608300000000001E-3,"","","/",{"$error":"#N/A"}]
[null,null,null,{"$f":"VLOOKUP($C3430,'SEI ISD'!$A$4:$B$124,2,0)","v":{"$error":"#N/A"}},null,null,null,null,1.645E-3,3.5608300000000001E-3,"","","/",{"$error":"#N/A"}]
[null,null,null,{"$f":"VLOOKUP($C3431,'SEI ISD'!$A$4:$B$124,2,0)","v":{"$error":"#N/A"}},null,null,null,null,1.645E-3,3.5608300000000001E-3,"","","/",{"$error":"#N/A"}]
[null,null,null,{"$f":"VLOOKUP($C3432,'SEI ISD'!$A$4:$B$124,2,0)","v":{"$error":"#N/A"}},null,null,null,null,1.645E-3,3.5608300000000001E-3,"","","/",{"$error":"#N/A"}]
[null,null,null,{"$f":"VLOOKUP($C3433,'SEI ISD'!$A$4:$B$124,2,0)","v":{"$error":"#N/A"}},null,null,null,null,1.645E-3,3.5608300000000001E-3,"","","/",{"$error":"#N/A"}]
[null,null,null,{"$f":"VLOOKUP($C3434,'SEI ISD'!$A$4:$B$124,2,0)","v":{"$error":"#N/A"}},null,null,null,null,1.645E-3,3.5608300000000001E-3,"","","/",{"$error":"#N/A"}]
[null,null,null,{"$f":"VLOOKUP($C3435,'SEI ISD'!$A$4:$B$124,2,0)","v":{"$error":"#N/A"}},null,null,null,null,1.645E-3,3.5608300000000001E-3,"","","/",{"$error":"#N/A"}]
[null,null,null,{"$f":"VLOOKUP($C3436,'SEI ISD'!$A$4:$B$124,2,0)","v":{"$error":"#N/A"}},null,null,null,null,1.645E-3,3.5608300000000001E-3,"","","/",{"$error":"#N/A"}]
[null,null,null,{"$f":"VLOOKUP($C3437,'SEI ISD'!$A$4:$B$124,2,0)","v":{"$error":"#N/A"}},null,null,null,null,1.645E-3,3.5608300000000001E-3,"","","/",{"$error":"#N/A"}]
[null,null,null,{"$f":"VLOOKUP($C3438,'SEI ISD'!$A$4:$B$124,2,0)","v":{"$error":"#N/A"}},null,null,null,null,1.645E-3,3.5608300000000001E-3,"","","/",{"$error":"#N/A"}]
[null,null,null,{"$f":"VLOOKUP($C3439,'SEI ISD'!$A$4:$B$124,2,0)","v":{"$error":"#N/A"}},null,null,null,null,1.645E-3,3.5608300000000001E-3,"","","/",{"$error":"#N/A"}]
[null,null,null,{"$f":"VLOOKUP($C3440,'SEI ISD'!$A$4:$B$124,2,0)","v":{"$error":"#N/A"}},null,null,null,null,1.645E-3,3.5608300000000001E-3,"","","/",{"$error":"#N/A"}]
[null,null,null,{"$f":"VLOOKUP($C3441,'SEI ISD'!$A$4:$B$124,2,0)","v":{"$error":"#N/A"}},null,null,null,null,1.645E-3,3.5608300000000001E-3,"","","/",{"$error":"#N/A"}]
[null,null,null,{"$f":"VLOOKUP($C3442,'SEI ISD'!$A$4:$B$124,2,0)","v":{"$error":"#N/A"}},null,null,null,null,1.645E-3,3.5608300000000001E-3,"","","/",{"$error":"#N/A"}]
[null,null,null,{"$f":"VLOOKUP($C3443,'SEI ISD'!$A$4:$B$124,2,0)","v":{"$error":"#N/A"}},null,null,null,null,1.645E-3,3.5608300000000001E-3,"","","/",{"$error":"#N/A"}]
[null,null,null,{"$f":"VLOOKUP($C3444,'SEI ISD'!$A$4:$B$124,2,0)","v":{"$error":"#N/A"}},null,null,null,null,1.645E-3,3.5608300000000001E-3,"","","/",{"$error":"#N/A"}]
[null,null,null,{"$f":"VLOOKUP($C3445,'SEI ISD'!$A$4:$B$124,2,0)","v":{"$error":"#N/A"}},null,null,null,null,1.645E-3,3.5608300000000001E-3,"","","/",{"$error":"#N/A"}]
[null,null,null,{"$f":"VLOOKUP($C3446,'SEI ISD'!$A$4:$B$124,2,0)","v":{"$error":"#N/A"}},null,null,null,null,1.645E-3,3.5608300000000001E-3,"","","/",{"$error":"#N/A"}]
[null,null,null,{"$f":"VLOOKUP($C3447,'SEI ISD'!$A$4:$B$124,2,0)","v":{"$error":"#N/A"}},null,null,null,null,1.645E-3,3.5608300000000001E-3,"","","/",{"$error":"#N/A"}]
[null,null,null,{"$f":"VLOOKUP($C3448,'SEI ISD'!$A$4:$B$124,2,0)","v":{"$error":"#N/A"}},null,null,null,null,1.645E-3,3.5608300000000001E-3,"","","/",{"$error":"#N/A"}]
[null,null,null,{"$f":"VLOOKUP($C3449,'SEI ISD'!$A$4:$B$124,2,0)","v":{"$error":"#N/A"}},null,null,null,null,1.645E-3,3.5608300000000001E-3,"","","/",{"$error":"#N/A"}]
[null,null,null,{"$f":"VLOOKUP($C3450,'SEI ISD'!$A$4:$B$124,2,0)","v":{"$error":"#N/A"}},null,null,null,null,1.645E-3,3.5608300000000001E-3,"","","/",{"$error":"#N/A"}]
[null,null,null,{"$f":"VLOOKUP($C3451,'SEI ISD'!$A$4:$B$124,2,0)","v":{"$error":"#N/A"}},null,null,null,null,1.645E-3,3.5608300000000001E-3,"","","/",{"$error":"#N/A"}]
[null,null,null,{"$f":"VLOOKUP($C3452,'SEI ISD'!$A$4:$B$124,2,0)","v":{"$error":"#N/A"}},null,null,null,null,1.645E-3,3.5608300000000001E-3,"","","/",{"$error":"#N/A"}]
[null,null,null,{"$f":"VLOOKUP($C3453,'SEI ISD'!$A$4:$B$124,2,0)","v":{"$error":"#N/A"}},null,null,null,null,1.645E-3,3.5608300000000001E-3,"","","/",{"$error":"#N/A"}]
[null,null,null,{"$f":"VLOOKUP($C3454,'SEI ISD'!$A$4:$B$124,2,0)","v":{"$error":"#N/A"}},null,null,null,null,1.645E-3,3.5608300000000001E-3,"","","/",{"$error":"#N/A"}]
[null,null,null,{"$f":"VLOOKUP($C3455,'SEI ISD'!$A$4:$B$124,2,0)","v":{"$error":"#N/A"}},null,null,null,null,1.645E-3,3.5608300000000001E-3,"","","/",{"$error":"#N/A"}]
[null,null,null,{"$f":"VLOOKUP($C3456,'SEI ISD'!$A$4:$B$124,2,0)","v":{"$error":"#N/A"}},null,null,null,null,1.645E-3,3.5608300000000001E-3,"","","/",{"$error":"#N/A"}]
[null,null,null,{"$f":"VLOOKUP($C3457,'SEI ISD'!$A$4:$B$124,2,0)","v":{"$error":"#N/A"}},null,null,null,null,1.645E-3,3.5608300000000001E-3,"","","/",{"$error":"#N/A"}]
[null,null,null,{"$f":"VLOOKUP($C3458,'SEI ISD'!$A$4:$B$124,2,0)","v":{"$error":"#N/A"}},null,null,null,null,1.645E-3,3.5608300000000001E-3,"","","/",{"$error":"#N/A"}]
[null,null,null,{"$f":"VLOOKUP($C3459,'SEI ISD'!$A$4:$B$124,2,0)","v":{"$error":"#N/A"}},null,null,null,null,1.645E-3,3.5608300000000001E-3,"","","/",{"$error":"#N/A"}]
[null,null,null,{"$f":"VLOOKUP($C3460,'SEI ISD'!$A$4:$B$124,2,0)","v":{"$error":"#N/A"}},null,null,null,null,1.645E-3,3.5608300000000001E-3,"","","/",{"$error":"#N/A"}]
[null,null,null,{"$f":"VLOOKUP($C3461,'SEI ISD'!$A$4:$B$124,2,0)","v":{"$error":"#N/A"}},null,null,null,null,1.645E-3,3.5608300000000001E-3,"","","/",{"$error":"#N/A"}]
[null,null,null,{"$f":"VLOOKUP($C3462,'SEI ISD'!$A$4:$B$124,2,0)","v":{"$error":"#N/A"}},null,null,null,null,1.645E-3,3.5608300000000001E-3,"","","/",{"$error":"#N/A"}]
[null,null,null,{"$f":"VLOOKUP($C3463,'SEI ISD'!$A$4:$B$124,2,0)","v":{"$error":"#N/A"}},null,null,null,null,1.645E-3,3.5608300000000001E-3,"","","/",{"$error":"#N/A"}]
[null,null,null,{"$f":"VLOOKUP($C3464,'SEI ISD'!$A$4:$B$124,2,0)","v":{"$error":"#N/A"}},null,null,null,null,1.645E-3,3.5608300000000001E-3,"","","/",{"$error":"#N/A"}]
[null,null,null,{"$f":"VLOOKUP($C3465,'SEI ISD'!$A$4:$B$124,2,0)","v":{"$error":"#N/A"}},null,null,null,null,1.645E-3,3.5608300000000001E-3,"","","/",{"$error":"#N/A"}]
[null,null,null,{"$f":"VLOOKUP($C3466,'SEI ISD'!$A$4:$B$124,2,0)","v":{"$error":"#N/A"}},null,null,null,null,1.645E-3,3.5608300000000001E-3,"","","/",{"$error":"#N/A"}]
[null,null,null,{"$f":"VLOOKUP($C3467,'SEI ISD'!$A$4:$B$124,2,0)","v":{"$error":"#N/A"}},null,null,null,null,1.645E-3,3.5608300000000001E-3,"","","/",{"$error":"#N/A"}]
[null,null,null,{"$f":"VLOOKUP($C3468,'SEI ISD'!$A$4:$B$124,2,0)","v":{"$error":"#N/A"}},null,null,null,null,1.645E-3,3.5608300000000001E-3,"","","/",{"$error":"#N/A"}]
[null,null,null,{"$f":"VLOOKUP($C3469,'SEI ISD'!$A$4:$B$124,2,0)","v":{"$error":"#N/A"}},null,null,null,null,1.645E-3,3.5608300000000001E-3,"","","/",{"$error":"#N/A"}]
[null,null,null,{"$f":"VLOOKUP($C3470,'SEI ISD'!$A$4:$B$124,2,0)","v":{"$error":"#N/A"}},null,null,null,null,1.645E-3,3.5608300000000001E-3,{"$f":"RIGHT(G3470,2)","v":""},{"$f":"LEFT(G3470,4)","v":""},{"$f":"_xlfn.CONCAT(K3470,\"/\",L3470)","v":"/"},{"$f":"EOMONTH(D3470,0)","v":{"$error":"#N/A"}}]
[null,null,null,{"$f":"VLOOKUP($C3471,'SEI ISD'!$A$4:$B$124,2,0)","v":{"$error":"#N/A"}},null,null,null,null,1.645E-3,3.5608300000000001E-3,"","","/",{"$error":"#N/A"}]
[null,null,null,{"$f":"VLOOKUP($C3472,'SEI ISD'!$A$4:$B$124,2,0)","v":{"$error":"#N/A"}},null,null,null,null,1.645E-3,3.5608300000000001E-3,"","","/",{"$error":"#N/A"}]
[null,null,null,{"$f":"VLOOKUP($C3473,'SEI ISD'!$A$4:$B$124,2,0)","v":{"$error":"#N/A"}},null,null,null,null,1.645E-3,3.5608300000000001E-3,"","","/",{"$error":"#N/A"}]
[null,null,null,{"$f":"VLOOKUP($C3474,'SEI ISD'!$A$4:$B$124,2,0)","v":{"$error":"#N/A"}},null,null,null,null,1.645E-3,3.5608300000000001E-3,"","","/",{"$error":"#N/A"}]
[null,null,null,{"$f":"VLOOKUP($C3475,'SEI ISD'!$A$4:$B$124,2,0)","v":{"$error":"#N/A"}},null,null,null,null,1.645E-3,3.5608300000000001E-3,"","","/",{"$error":"#N/A"}]
[null,null,null,{"$f":"VLOOKUP($C3476,'SEI ISD'!$A$4:$B$124,2,0)","v":{"$error":"#N/A"}},null,null,null,null,1.645E-3,3.5608300000000001E-3,"","","/",{"$error":"#N/A"}]
[null,null,null,{"$f":"VLOOKUP($C3477,'SEI ISD'!$A$4:$B$124,2,0)","v":{"$error":"#N/A"}},null,null,null,null,1.645E-3,3.5608300000000001E-3,"","","/",{"$error":"#N/A"}]
[null,null,null,{"$f":"VLOOKUP($C3478,'SEI ISD'!$A$4:$B$124,2,0)","v":{"$error":"#N/A"}},null,null,null,null,1.645E-3,3.5608300000000001E-3,"","","/",{"$error":"#N/A"}]
[null,null,null,{"$f":"VLOOKUP($C3479,'SEI ISD'!$A$4:$B$124,2,0)","v":{"$error":"#N/A"}},null,null,null,null,1.645E-3,3.5608300000000001E-3,"","","/",{"$error":"#N/A"}]
[null,null,null,{"$f":"VLOOKUP($C3480,'SEI ISD'!$A$4:$B$124,2,0)","v":{"$error":"#N/A"}},null,null,null,null,1.645E-3,3.5608300000000001E-3,"","","/",{"$error":"#N/A"}]
[null,null,null,{"$f":"VLOOKUP($C3481,'SEI ISD'!$A$4:$B$124,2,0)","v":{"$error":"#N/A"}},null,null,null,null,1.645E-3,3.5608300000000001E-3,"","","/",{"$error":"#N/A"}]
[null,null,null,{"$f":"VLOOKUP($C3482,'SEI ISD'!$A$4:$B$124,2,0)","v":{"$error":"#N/A"}},null,null,null,null,1.645E-3,3.5608300000000001E-3,"","","/",{"$error":"#N/A"}]
[null,null,null,{"$f":"VLOOKUP($C3483,'SEI ISD'!$A$4:$B$124,2,0)","v":{"$error":"#N/A"}},null,null,null,null,1.645E-3,3.5608300000000001E-3,"","","/",{"$error":"#N/A"}]
[null,null,null,{"$f":"VLOOKUP($C3484,'SEI ISD'!$A$4:$B$124,2,0)","v":{"$error":"#N/A"}},null,null,null,null,1.645E-3,3.5608300000000001E-3,"","","/",{"$error":"#N/A"}]
[null,null,null,{"$f":"VLOOKUP($C3485,'SEI ISD'!$A$4:$B$124,2,0)","v":{"$error":"#N/A"}},null,null,null,null,1.645E-3,3.5608300000000001E-3,"","","/",{"$error":"#N/A"}]
[null,null,null,{"$f":"VLOOKUP($C3486,'SEI ISD'!$A$4:$B$124,2,0)","v":{"$error":"#N/A"}},null,null,null,null,1.645E-3,3.5608300000000001E-3,"","","/",{"$error":"#N/A"}]
[null,null,null,{"$f":"VLOOKUP($C3487,'SEI ISD'!$A$4:$B$124,2,0)","v":{"$error":"#N/A"}},null,null,null,null,1.645E-3,3.5608300000000001E-3,"","","/",{"$error":"#N/A"}]
[null,null,null,{"$f":"VLOOKUP($C3488,'SEI ISD'!$A$4:$B$124,2,0)","v":{"$error":"#N/A"}},null,null,null,null,1.645E-3,3.5608300000000001E-3,"","","/",{"$error":"#N/A"}]
[null,null,null,{"$f":"VLOOKUP($C3489,'SEI ISD'!$A$4:$B$124,2,0)","v":{"$error":"#N/A"}},null,null,null,null,1.645E-3,3.5608300000000001E-3,"","","/",{"$error":"#N/A"}]
[null,null,null,{"$f":"VLOOKUP($C3490,'SEI ISD'!$A$4:$B$124,2,0)","v":{"$error":"#N/A"}},null,null,null,null,1.645E-3,3.5608300000000001E-3,"","","/",{"$error":"#N/A"}]
[null,null,null,{"$f":"VLOOKUP($C3491,'SEI ISD'!$A$4:$B$124,2,0)","v":{"$error":"#N/A"}},null,null,null,null,1.645E-3,3.5608300000000001E-3,"","","/",{"$error":"#N/A"}]
[null,null,null,{"$f":"VLOOKUP($C3492,'SEI ISD'!$A$4:$B$124,2,0)","v":{"$error":"#N/A"}},null,null,null,null,1.645E-3,3.5608300000000001E-3,"","","/",{"$error":"#N/A"}]
[null,null,null,{"$f":"VLOOKUP($C3493,'SEI ISD'!$A$4:$B$124,2,0)","v":{"$error":"#N/A"}},null,null,null,null,1.645E-3,3.5608300000000001E-3,"","","/",{"$error":"#N/A"}]
[null,null,null,{"$f":"VLOOKUP($C3494,'SEI ISD'!$A$4:$B$124,2,0)","v":{"$error":"#N/A"}},null,null,null,null,1.645E-3,3.5608300000000001E-3,"","","/",{"$error":"#N/A"}]
[null,null,null,{"$f":"VLOOKUP($C3495,'SEI ISD'!$A$4:$B$124,2,0)","v":{"$error":"#N/A"}},null,null,null,null,1.645E-3,3.5608300000000001E-3,"","","/",{"$error":"#N/A"}]
[null,null,null,{"$f":"VLOOKUP($C3496,'SEI ISD'!$A$4:$B$124,2,0)","v":{"$error":"#N/A"}},null,null,null,null,1.645E-3,3.5608300000000001E-3,"","","/",{"$error":"#N/A"}]
[null,null,null,{"$f":"VLOOKUP($C3497,'SEI ISD'!$A$4:$B$124,2,0)","v":{"$error":"#N/A"}},null,null,null,null,1.645E-3,3.5608300000000001E-3,"","","/",{"$error":"#N/A"}]
[null,null,null,{"$f":"VLOOKUP($C3498,'SEI ISD'!$A$4:$B$124,2,0)","v":{"$error":"#N/A"}},null,null,null,null,1.645E-3,3.5608300000000001E-3,"","","/",{"$error":"#N/A"}]
[null,null,null,{"$f":"VLOOKUP($C3499,'SEI ISD'!$A$4:$B$124,2,0)","v":{"$error":"#N/A"}},null,null,null,null,1.645E-3,3.5608300000000001E-3,"","","/",{"$error":"#N/A"}]
[null,null,null,{"$f":"VLOOKUP($C3500,'SEI ISD'!$A$4:$B$124,2,0)","v":{"$error":"#N/A"}},null,null,null,null,1.645E-3,3.5608300000000001E-3,"","","/",{"$error":"#N/A"}]
[null,null,null,{"$f":"VLOOKUP($C3501,'SEI ISD'!$A$4:$B$124,2,0)","v":{"$error":"#N/A"}},null,null,null,null,1.645E-3,3.5608300000000001E-3,"","","/",{"$error":"#N/A"}]
[null,null,null,{"$f":"VLOOKUP($C3502,'SEI ISD'!$A$4:$B$124,2,0)","v":{"$error":"#N/A"}},null,null,null,null,1.645E-3,3.5608300000000001E-3,"","","/",{"$error":"#N/A"}]
[null,null,null,{"$f":"VLOOKUP($C3503,'SEI ISD'!$A$4:$B$124,2,0)","v":{"$error":"#N/A"}},null,null,null,null,1.645E-3,3.5608300000000001E-3,"","","/",{"$error":"#N/A"}]
[null,null,null,{"$f":"VLOOKUP($C3504,'SEI ISD'!$A$4:$B$124,2,0)","v":{"$error":"#N/A"}},null,null,null,null,1.645E-3,3.5608300000000001E-3,"","","/",{"$error":"#N/A"}]
[null,null,null,{"$f":"VLOOKUP($C3505,'SEI ISD'!$A$4:$B$124,2,0)","v":{"$error":"#N/A"}},null,null,null,null,1.645E-3,3.5608300000000001E-3,"","","/",{"$error":"#N/A"}]
[null,null,null,{"$f":"VLOOKUP($C3506,'SEI ISD'!$A$4:$B$124,2,0)","v":{"$error":"#N/A"}},null,null,null,null,1.645E-3,3.5608300000000001E-3,"","","/",{"$error":"#N/A"}]
[null,null,null,{"$f":"VLOOKUP($C3507,'SEI ISD'!$A$4:$B$124,2,0)","v":{"$error":"#N/A"}},null,null,null,null,1.645E-3,3.5608300000000001E-3,"","","/",{"$error":"#N/A"}]
[null,null,null,{"$f":"VLOOKUP($C3508,'SEI ISD'!$A$4:$B$124,2,0)","v":{"$error":"#N/A"}},null,null,null,null,1.645E-3,3.5608300000000001E-3,"","","/",{"$error":"#N/A"}]
[null,null,null,{"$f":"VLOOKUP($C3509,'SEI ISD'!$A$4:$B$124,2,0)","v":{"$error":"#N/A"}},null,null,null,null,1.645E-3,3.5608300000000001E-3,"","","/",{"$error":"#N/A"}]
[null,null,null,{"$f":"VLOOKUP($C3510,'SEI ISD'!$A$4:$B$124,2,0)","v":{"$error":"#N/A"}},null,null,null,null,1.645E-3,3.5608300000000001E-3,"","","/",{"$error":"#N/A"}]
[null,null,null,{"$f":"VLOOKUP($C3511,'SEI ISD'!$A$4:$B$124,2,0)","v":{"$error":"#N/A"}},null,null,null,null,1.645E-3,3.5608300000000001E-3,"","","/",{"$error":"#N/A"}]
[null,null,null,{"$f":"VLOOKUP($C3512,'SEI ISD'!$A$4:$B$124,2,0)","v":{"$error":"#N/A"}},null,null,null,null,1.645E-3,3.5608300000000001E-3,"","","/",{"$error":"#N/A"}]
[null,null,null,{"$f":"VLOOKUP($C3513,'SEI ISD'!$A$4:$B$124,2,0)","v":{"$error":"#N/A"}},null,null,null,null,1.645E-3,3.5608300000000001E-3,"","","/",{"$error":"#N/A"}]
[null,null,null,{"$f":"VLOOKUP($C3514,'SEI ISD'!$A$4:$B$124,2,0)","v":{"$error":"#N/A"}},null,null,null,null,1.645E-3,3.5608300000000001E-3,"","","/",{"$error":"#N/A"}]
[null,null,null,{"$f":"VLOOKUP($C3515,'SEI ISD'!$A$4:$B$124,2,0)","v":{"$error":"#N/A"}},null,null,null,null,1.645E-3,3.5608300000000001E-3,"","","/",{"$error":"#N/A"}]
[null,null,null,{"$f":"VLOOKUP($C3516,'SEI ISD'!$A$4:$B$124,2,0)","v":{"$error":"#N/A"}},null,null,null,null,1.645E-3,3.5608300000000001E-3,"","","/",{"$error":"#N/A"}]
[null,null,null,{"$f":"VLOOKUP($C3517,'SEI ISD'!$A$4:$B$124,2,0)","v":{"$error":"#N/A"}},null,null,null,null,1.645E-3,3.5608300000000001E-3,"","","/",{"$error":"#N/A"}]
[null,null,null,{"$f":"VLOOKUP($C3518,'SEI ISD'!$A$4:$B$124,2,0)","v":{"$error":"#N/A"}},null,null,null,null,1.645E-3,3.5608300000000001E-3,"","","/",{"$error":"#N/A"}]
[null,null,null,{"$f":"VLOOKUP($C3519,'SEI ISD'!$A$4:$B$124,2,0)","v":{"$error":"#N/A"}},null,null,null,null,1.645E-3,3.5608300000000001E-3,"","","/",{"$error":"#N/A"}]
[null,null,null,{"$f":"VLOOKUP($C3520,'SEI ISD'!$A$4:$B$124,2,0)","v":{"$error":"#N/A"}},null,null,null,null,1.645E-3,3.5608300000000001E-3,"","","/",{"$error":"#N/A"}]
[null,null,null,{"$f":"VLOOKUP($C3521,'SEI ISD'!$A$4:$B$124,2,0)","v":{"$error":"#N/A"}},null,null,null,null,1.645E-3,3.5608300000000001E-3,"","","/",{"$error":"#N/A"}]
[null,null,null,{"$f":"VLOOKUP($C3522,'SEI ISD'!$A$4:$B$124,2,0)","v":{"$error":"#N/A"}},null,null,null,null,1.645E-3,3.5608300000000001E-3,"","","/",{"$error":"#N/A"}]
[null,null,null,{"$f":"VLOOKUP($C3523,'SEI ISD'!$A$4:$B$124,2,0)","v":{"$error":"#N/A"}},null,null,null,null,1.645E-3,3.5608300000000001E-3,"","","/",{"$error":"#N/A"}]
[null,null,null,{"$f":"VLOOKUP($C3524,'SEI ISD'!$A$4:$B$124,2,0)","v":{"$error":"#N/A"}},null,null,null,null,1.645E-3,3.5608300000000001E-3,"","","/",{"$error":"#N/A"}]
[null,null,null,{"$f":"VLOOKUP($C3525,'SEI ISD'!$A$4:$B$124,2,0)","v":{"$error":"#N/A"}},null,null,null,null,1.645E-3,3.5608300000000001E-3,"","","/",{"$error":"#N/A"}]
[null,null,null,{"$f":"VLOOKUP($C3526,'SEI ISD'!$A$4:$B$124,2,0)","v":{"$error":"#N/A"}},null,null,null,null,1.645E-3,3.5608300000000001E-3,"","","/",{"$error":"#N/A"}]
[null,null,null,{"$f":"VLOOKUP($C3527,'SEI ISD'!$A$4:$B$124,2,0)","v":{"$error":"#N/A"}},null,null,null,null,1.645E-3,3.5608300000000001E-3,"","","/",{"$error":"#N/A"}]
[null,null,null,{"$f":"VLOOKUP($C3528,'SEI ISD'!$A$4:$B$124,2,0)","v":{"$error":"#N/A"}},null,null,null,null,1.645E-3,3.5608300000000001E-3,"","","/",{"$error":"#N/A"}]
[null,null,null,{"$f":"VLOOKUP($C3529,'SEI ISD'!$A$4:$B$124,2,0)","v":{"$error":"#N/A"}},null,null,null,null,1.645E-3,3.5608300000000001E-3,"","","/",{"$error":"#N/A"}]
[null,null,null,{"$f":"VLOOKUP($C3530,'SEI ISD'!$A$4:$B$124,2,0)","v":{"$error":"#N/A"}},null,null,null,null,1.645E-3,3.5608300000000001E-3,"","","/",{"$error":"#N/A"}]
[null,null,null,{"$f":"VLOOKUP($C3531,'SEI ISD'!$A$4:$B$124,2,0)","v":{"$error":"#N/A"}},null,null,null,null,1.645E-3,3.5608300000000001E-3,"","","/",{"$error":"#N/A"}]
[null,null,null,{"$f":"VLOOKUP($C3532,'SEI ISD'!$A$4:$B$124,2,0)","v":{"$error":"#N/A"}},null,null,null,null,1.645E-3,3.5608300000000001E-3,"","","/",{"$error":"#N/A"}]
[null,null,null,{"$f":"VLOOKUP($C3533,'SEI ISD'!$A$4:$B$124,2,0)","v":{"$error":"#N/A"}},null,null,null,null,1.645E-3,3.5608300000000001E-3,"","","/",{"$error":"#N/A"}]
[null,null,null,{"$f":"VLOOKUP($C3534,'SEI ISD'!$A$4:$B$124,2,0)","v":{"$error":"#N/A"}},null,null,null,null,1.645E-3,3.5608300000000001E-3,{"$f":"RIGHT(G3534,2)","v":""},{"$f":"LEFT(G3534,4)","v":""},{"$f":"_xlfn.CONCAT(K3534,\"/\",L3534)","v":"/"},{"$f":"EOMONTH(D3534,0)","v":{"$error":"#N/A"}}]
[null,null,null,{"$f":"VLOOKUP($C3535,'SEI ISD'!$A$4:$B$124,2,0)","v":{"$error":"#N/A"}},null,null,null,null,1.645E-3,3.5608300000000001E-3,"","","/",{"$error":"#N/A"}]
[null,null,null,{"$f":"VLOOKUP($C3536,'SEI ISD'!$A$4:$B$124,2,0)","v":{"$error":"#N/A"}},null,null,null,null,1.645E-3,3.5608300000000001E-3,"","","/",{"$error":"#N/A"}]
[null,null,null,{"$f":"VLOOKUP($C3537,'SEI ISD'!$A$4:$B$124,2,0)","v":{"$error":"#N/A"}},null,null,null,null,1.645E-3,3.5608300000000001E-3,"","","/",{"$error":"#N/A"}]
[null,null,null,{"$f":"VLOOKUP($C3538,'SEI ISD'!$A$4:$B$124,2,0)","v":{"$error":"#N/A"}},null,null,null,null,1.645E-3,3.5608300000000001E-3,"","","/",{"$error":"#N/A"}]
[null,null,null,{"$f":"VLOOKUP($C3539,'SEI ISD'!$A$4:$B$124,2,0)","v":{"$error":"#N/A"}},null,null,null,null,1.645E-3,3.5608300000000001E-3,"","","/",{"$error":"#N/A"}]
[null,null,null,{"$f":"VLOOKUP($C3540,'SEI ISD'!$A$4:$B$124,2,0)","v":{"$error":"#N/A"}},null,null,null,null,1.645E-3,3.5608300000000001E-3,"","","/",{"$error":"#N/A"}]
[null,null,null,{"$f":"VLOOKUP($C3541,'SEI ISD'!$A$4:$B$124,2,0)","v":{"$error":"#N/A"}},null,null,null,null,1.645E-3,3.5608300000000001E-3,"","","/",{"$error":"#N/A"}]
[null,null,null,{"$f":"VLOOKUP($C3542,'SEI ISD'!$A$4:$B$124,2,0)","v":{"$error":"#N/A"}},null,null,null,null,1.645E-3,3.5608300000000001E-3,"","","/",{"$error":"#N/A"}]
[null,null,null,{"$f":"VLOOKUP($C3543,'SEI ISD'!$A$4:$B$124,2,0)","v":{"$error":"#N/A"}},null,null,null,null,1.645E-3,3.5608300000000001E-3,"","","/",{"$error":"#N/A"}]
[null,null,null,{"$f":"VLOOKUP($C3544,'SEI ISD'!$A$4:$B$124,2,0)","v":{"$error":"#N/A"}},null,null,null,null,1.645E-3,3.5608300000000001E-3,"","","/",{"$error":"#N/A"}]
[null,null,null,{"$f":"VLOOKUP($C3545,'SEI ISD'!$A$4:$B$124,2,0)","v":{"$error":"#N/A"}},null,null,null,null,1.645E-3,3.5608300000000001E-3,"","","/",{"$error":"#N/A"}]
[null,null,null,{"$f":"VLOOKUP($C3546,'SEI ISD'!$A$4:$B$124,2,0)","v":{"$error":"#N/A"}},null,null,null,null,1.645E-3,3.5608300000000001E-3,"","","/",{"$error":"#N/A"}]
[null,null,null,{"$f":"VLOOKUP($C3547,'SEI ISD'!$A$4:$B$124,2,0)","v":{"$error":"#N/A"}},null,null,null,null,1.645E-3,3.5608300000000001E-3,"","","/",{"$error":"#N/A"}]
[null,null,null,{"$f":"VLOOKUP($C3548,'SEI ISD'!$A$4:$B$124,2,0)","v":{"$error":"#N/A"}},null,null,null,null,1.645E-3,3.5608300000000001E-3,"","","/",{"$error":"#N/A"}]
[null,null,null,{"$f":"VLOOKUP($C3549,'SEI ISD'!$A$4:$B$124,2,0)","v":{"$error":"#N/A"}},null,null,null,null,1.645E-3,3.5608300000000001E-3,"","","/",{"$error":"#N/A"}]
[null,null,null,{"$f":"VLOOKUP($C3550,'SEI ISD'!$A$4:$B$124,2,0)","v":{"$error":"#N/A"}},null,null,null,null,1.645E-3,3.5608300000000001E-3,"","","/",{"$error":"#N/A"}]
[null,null,null,{"$f":"VLOOKUP($C3551,'SEI ISD'!$A$4:$B$124,2,0)","v":{"$error":"#N/A"}},null,null,null,null,1.645E-3,3.5608300000000001E-3,"","","/",{"$error":"#N/A"}]
[null,null,null,{"$f":"VLOOKUP($C3552,'SEI ISD'!$A$4:$B$124,2,0)","v":{"$error":"#N/A"}},null,null,null,null,1.645E-3,3.5608300000000001E-3,"","","/",{"$error":"#N/A"}]
[null,null,null,{"$f":"VLOOKUP($C3553,'SEI ISD'!$A$4:$B$124,2,0)","v":{"$error":"#N/A"}},null,null,null,null,1.645E-3,3.5608300000000001E-3,"","","/",{"$error":"#N/A"}]
[null,null,null,{"$f":"VLOOKUP($C3554,'SEI ISD'!$A$4:$B$124,2,0)","v":{"$error":"#N/A"}},null,null,null,null,1.645E-3,3.5608300000000001E-3,"","","/",{"$error":"#N/A"}]
[null,null,null,{"$f":"VLOOKUP($C3555,'SEI ISD'!$A$4:$B$124,2,0)","v":{"$error":"#N/A"}},null,null,null,null,1.645E-3,3.5608300000000001E-3,"","","/",{"$error":"#N/A"}]
[null,null,null,{"$f":"VLOOKUP($C3556,'SEI ISD'!$A$4:$B$124,2,0)","v":{"$error":"#N/A"}},null,null,null,null,1.645E-3,3.5608300000000001E-3,"","","/",{"$error":"#N/A"}]
[null,null,null,{"$f":"VLOOKUP($C3557,'SEI ISD'!$A$4:$B$124,2,0)","v":{"$error":"#N/A"}},null,null,null,null,1.645E-3,3.5608300000000001E-3,"","","/",{"$error":"#N/A"}]
[null,null,null,{"$f":"VLOOKUP($C3558,'SEI ISD'!$A$4:$B$124,2,0)","v":{"$error":"#N/A"}},null,null,null,null,1.645E-3,3.5608300000000001E-3,"","","/",{"$error":"#N/A"}]
[null,null,null,{"$f":"VLOOKUP($C3559,'SEI ISD'!$A$4:$B$124,2,0)","v":{"$error":"#N/A"}},null,null,null,null,1.645E-3,3.5608300000000001E-3,"","","/",{"$error":"#N/A"}]
[null,null,null,{"$f":"VLOOKUP($C3560,'SEI ISD'!$A$4:$B$124,2,0)","v":{"$error":"#N/A"}},null,null,null,null,1.645E-3,3.5608300000000001E-3,"","","/",{"$error":"#N/A"}]
[null,null,null,{"$f":"VLOOKUP($C3561,'SEI ISD'!$A$4:$B$124,2,0)","v":{"$error":"#N/A"}},null,null,null,null,1.645E-3,3.5608300000000001E-3,"","","/",{"$error":"#N/A"}]
[null,null,null,{"$f":"VLOOKUP($C3562,'SEI ISD'!$A$4:$B$124,2,0)","v":{"$error":"#N/A"}},null,null,null,null,1.645E-3,3.5608300000000001E-3,"","","/",{"$error":"#N/A"}]
[null,null,null,{"$f":"VLOOKUP($C3563,'SEI ISD'!$A$4:$B$124,2,0)","v":{"$error":"#N/A"}},null,null,null,null,1.645E-3,3.5608300000000001E-3,"","","/",{"$error":"#N/A"}]
[null,null,null,{"$f":"VLOOKUP($C3564,'SEI ISD'!$A$4:$B$124,2,0)","v":{"$error":"#N/A"}},null,null,null,null,1.645E-3,3.5608300000000001E-3,"","","/",{"$error":"#N/A"}]
[null,null,null,{"$f":"VLOOKUP($C3565,'SEI ISD'!$A$4:$B$124,2,0)","v":{"$error":"#N/A"}},null,null,null,null,1.645E-3,3.5608300000000001E-3,"","","/",{"$error":"#N/A"}]
[null,null,null,{"$f":"VLOOKUP($C3566,'SEI ISD'!$A$4:$B$124,2,0)","v":{"$error":"#N/A"}},null,null,null,null,1.645E-3,3.5608300000000001E-3,"","","/",{"$error":"#N/A"}]
[null,null,null,{"$f":"VLOOKUP($C3567,'SEI ISD'!$A$4:$B$124,2,0)","v":{"$error":"#N/A"}},null,null,null,null,1.645E-3,3.5608300000000001E-3,"","","/",{"$error":"#N/A"}]
[null,null,null,{"$f":"VLOOKUP($C3568,'SEI ISD'!$A$4:$B$124,2,0)","v":{"$error":"#N/A"}},null,null,null,null,1.645E-3,3.5608300000000001E-3,"","","/",{"$error":"#N/A"}]
[null,null,null,{"$f":"VLOOKUP($C3569,'SEI ISD'!$A$4:$B$124,2,0)","v":{"$error":"#N/A"}},null,null,null,null,1.645E-3,3.5608300000000001E-3,"","","/",{"$error":"#N/A"}]
[null,null,null,{"$f":"VLOOKUP($C3570,'SEI ISD'!$A$4:$B$124,2,0)","v":{"$error":"#N/A"}},null,null,null,null,1.645E-3,3.5608300000000001E-3,"","","/",{"$error":"#N/A"}]
[null,null,null,{"$f":"VLOOKUP($C3571,'SEI ISD'!$A$4:$B$124,2,0)","v":{"$error":"#N/A"}},null,null,null,null,1.645E-3,3.5608300000000001E-3,"","","/",{"$error":"#N/A"}]
[null,null,null,{"$f":"VLOOKUP($C3572,'SEI ISD'!$A$4:$B$124,2,0)","v":{"$error":"#N/A"}},null,null,null,null,1.645E-3,3.5608300000000001E-3,"","","/",{"$error":"#N/A"}]
[null,null,null,{"$f":"VLOOKUP($C3573,'SEI ISD'!$A$4:$B$124,2,0)","v":{"$error":"#N/A"}},null,null,null,null,1.645E-3,3.5608300000000001E-3,"","","/",{"$error":"#N/A"}]
[null,null,null,{"$f":"VLOOKUP($C3574,'SEI ISD'!$A$4:$B$124,2,0)","v":{"$error":"#N/A"}},null,null,null,null,1.645E-3,3.5608300000000001E-3,"","","/",{"$error":"#N/A"}]
[null,null,null,{"$f":"VLOOKUP($C3575,'SEI ISD'!$A$4:$B$124,2,0)","v":{"$error":"#N/A"}},null,null,null,null,1.645E-3,3.5608300000000001E-3,"","","/",{"$error":"#N/A"}]
[null,null,null,{"$f":"VLOOKUP($C3576,'SEI ISD'!$A$4:$B$124,2,0)","v":{"$error":"#N/A"}},null,null,null,null,1.645E-3,3.5608300000000001E-3,"","","/",{"$error":"#N/A"}]
[null,null,null,{"$f":"VLOOKUP($C3577,'SEI ISD'!$A$4:$B$124,2,0)","v":{"$error":"#N/A"}},null,null,null,null,1.645E-3,3.5608300000000001E-3,"","","/",{"$error":"#N/A"}]
[null,null,null,{"$f":"VLOOKUP($C3578,'SEI ISD'!$A$4:$B$124,2,0)","v":{"$error":"#N/A"}},null,null,null,null,1.645E-3,3.5608300000000001E-3,"","","/",{"$error":"#N/A"}]
[null,null,null,{"$f":"VLOOKUP($C3579,'SEI ISD'!$A$4:$B$124,2,0)","v":{"$error":"#N/A"}},null,null,null,null,1.645E-3,3.5608300000000001E-3,"","","/",{"$error":"#N/A"}]
[null,null,null,{"$f":"VLOOKUP($C3580,'SEI ISD'!$A$4:$B$124,2,0)","v":{"$error":"#N/A"}},null,null,null,null,1.645E-3,3.5608300000000001E-3,"","","/",{"$error":"#N/A"}]
[null,null,null,{"$f":"VLOOKUP($C3581,'SEI ISD'!$A$4:$B$124,2,0)","v":{"$error":"#N/A"}},null,null,null,null,1.645E-3,3.5608300000000001E-3,"","","/",{"$error":"#N/A"}]
[null,null,null,{"$f":"VLOOKUP($C3582,'SEI ISD'!$A$4:$B$124,2,0)","v":{"$error":"#N/A"}},null,null,null,null,1.645E-3,3.5608300000000001E-3,"","","/",{"$error":"#N/A"}]
[null,null,null,{"$f":"VLOOKUP($C3583,'SEI ISD'!$A$4:$B$124,2,0)","v":{"$error":"#N/A"}},null,null,null,null,1.645E-3,3.5608300000000001E-3,"","","/",{"$error":"#N/A"}]
[null,null,null,{"$f":"VLOOKUP($C3584,'SEI ISD'!$A$4:$B$124,2,0)","v":{"$error":"#N/A"}},null,null,null,null,1.645E-3,3.5608300000000001E-3,"","","/",{"$error":"#N/A"}]
[null,null,null,{"$f":"VLOOKUP($C3585,'SEI ISD'!$A$4:$B$124,2,0)","v":{"$error":"#N/A"}},null,null,null,null,1.645E-3,3.5608300000000001E-3,"","","/",{"$error":"#N/A"}]
[null,null,null,{"$f":"VLOOKUP($C3586,'SEI ISD'!$A$4:$B$124,2,0)","v":{"$error":"#N/A"}},null,null,null,null,1.645E-3,3.5608300000000001E-3,"","","/",{"$error":"#N/A"}]
[null,null,null,{"$f":"VLOOKUP($C3587,'SEI ISD'!$A$4:$B$124,2,0)","v":{"$error":"#N/A"}},null,null,null,null,1.645E-3,3.5608300000000001E-3,"","","/",{"$error":"#N/A"}]
[null,null,null,{"$f":"VLOOKUP($C3588,'SEI ISD'!$A$4:$B$124,2,0)","v":{"$error":"#N/A"}},null,null,null,null,1.645E-3,3.5608300000000001E-3,"","","/",{"$error":"#N/A"}]
[null,null,null,{"$f":"VLOOKUP($C3589,'SEI ISD'!$A$4:$B$124,2,0)","v":{"$error":"#N/A"}},null,null,null,null,1.645E-3,3.5608300000000001E-3,"","","/",{"$error":"#N/A"}]
[null,null,null,{"$f":"VLOOKUP($C3590,'SEI ISD'!$A$4:$B$124,2,0)","v":{"$error":"#N/A"}},null,null,null,null,1.645E-3,3.5608300000000001E-3,"","","/",{"$error":"#N/A"}]
[null,null,null,{"$f":"VLOOKUP($C3591,'SEI ISD'!$A$4:$B$124,2,0)","v":{"$error":"#N/A"}},null,null,null,null,1.645E-3,3.5608300000000001E-3,"","","/",{"$error":"#N/A"}]
[null,null,null,{"$f":"VLOOKUP($C3592,'SEI ISD'!$A$4:$B$124,2,0)","v":{"$error":"#N/A"}},null,null,null,null,1.645E-3,3.5608300000000001E-3,"","","/",{"$error":"#N/A"}]
[null,null,null,{"$f":"VLOOKUP($C3593,'SEI ISD'!$A$4:$B$124,2,0)","v":{"$error":"#N/A"}},null,null,null,null,1.645E-3,3.5608300000000001E-3,"","","/",{"$error":"#N/A"}]
[null,null,null,{"$f":"VLOOKUP($C3594,'SEI ISD'!$A$4:$B$124,2,0)","v":{"$error":"#N/A"}},null,null,null,null,1.645E-3,3.5608300000000001E-3,"","","/",{"$error":"#N/A"}]
[null,null,null,{"$f":"VLOOKUP($C3595,'SEI ISD'!$A$4:$B$124,2,0)","v":{"$error":"#N/A"}},null,null,null,null,1.645E-3,3.5608300000000001E-3,"","","/",{"$error":"#N/A"}]
[null,null,null,{"$f":"VLOOKUP($C3596,'SEI ISD'!$A$4:$B$124,2,0)","v":{"$error":"#N/A"}},null,null,null,null,1.645E-3,3.5608300000000001E-3,"","","/",{"$error":"#N/A"}]
[null,null,null,{"$f":"VLOOKUP($C3597,'SEI ISD'!$A$4:$B$124,2,0)","v":{"$error":"#N/A"}},null,null,null,null,1.645E-3,3.5608300000000001E-3,"","","/",{"$error":"#N/A"}]
[null,null,null,{"$f":"VLOOKUP($C3598,'SEI ISD'!$A$4:$B$124,2,0)","v":{"$error":"#N/A"}},null,null,null,null,1.645E-3,3.5608300000000001E-3,{"$f":"RIGHT(G3598,2)","v":""},{"$f":"LEFT(G3598,4)","v":""},{"$f":"_xlfn.CONCAT(K3598,\"/\",L3598)","v":"/"},{"$f":"EOMONTH(D3598,0)","v":{"$error":"#N/A"}}]
[null,null,null,{"$f":"VLOOKUP($C3599,'SEI ISD'!$A$4:$B$124,2,0)","v":{"$error":"#N/A"}},null,null,null,null,1.645E-3,3.5608300000000001E-3,"","","/",{"$error":"#N/A"}]
[null,null,null,{"$f":"VLOOKUP($C3600,'SEI ISD'!$A$4:$B$124,2,0)","v":{"$error":"#N/A"}},null,null,null,null,1.645E-3,3.5608300000000001E-3,"","","/",{"$error":"#N/A"}]
[null,null,null,{"$f":"VLOOKUP($C3601,'SEI ISD'!$A$4:$B$124,2,0)","v":{"$error":"#N/A"}},null,null,null,null,1.645E-3,3.5608300000000001E-3,"","","/",{"$error":"#N/A"}]
[null,null,null,{"$f":"VLOOKUP($C3602,'SEI ISD'!$A$4:$B$124,2,0)","v":{"$error":"#N/A"}},null,null,null,null,1.645E-3,3.5608300000000001E-3,"","","/",{"$error":"#N/A"}]
[null,null,null,{"$f":"VLOOKUP($C3603,'SEI ISD'!$A$4:$B$124,2,0)","v":{"$error":"#N/A"}},null,null,null,null,1.645E-3,3.5608300000000001E-3,"","","/",{"$error":"#N/A"}]
[null,null,null,{"$f":"VLOOKUP($C3604,'SEI ISD'!$A$4:$B$124,2,0)","v":{"$error":"#N/A"}},null,null,null,null,1.645E-3,3.5608300000000001E-3,"","","/",{"$error":"#N/A"}]
[null,null,null,{"$f":"VLOOKUP($C3605,'SEI ISD'!$A$4:$B$124,2,0)","v":{"$error":"#N/A"}},null,null,null,null,1.645E-3,3.5608300000000001E-3,"","","/",{"$error":"#N/A"}]
[null,null,null,{"$f":"VLOOKUP($C3606,'SEI ISD'!$A$4:$B$124,2,0)","v":{"$error":"#N/A"}},null,null,null,null,1.645E-3,3.5608300000000001E-3,"","","/",{"$error":"#N/A"}]
[null,null,null,{"$f":"VLOOKUP($C3607,'SEI ISD'!$A$4:$B$124,2,0)","v":{"$error":"#N/A"}},null,null,null,null,1.645E-3,3.5608300000000001E-3,"","","/",{"$error":"#N/A"}]
[null,null,null,{"$f":"VLOOKUP($C3608,'SEI ISD'!$A$4:$B$124,2,0)","v":{"$error":"#N/A"}},null,null,null,null,1.645E-3,3.5608300000000001E-3,"","","/",{"$error":"#N/A"}]
[null,null,null,{"$f":"VLOOKUP($C3609,'SEI ISD'!$A$4:$B$124,2,0)","v":{"$error":"#N/A"}},null,null,null,null,1.645E-3,3.5608300000000001E-3,"","","/",{"$error":"#N/A"}]
[null,null,null,{"$f":"VLOOKUP($C3610,'SEI ISD'!$A$4:$B$124,2,0)","v":{"$error":"#N/A"}},null,null,null,null,1.645E-3,3.5608300000000001E-3,"","","/",{"$error":"#N/A"}]
[null,null,null,{"$f":"VLOOKUP($C3611,'SEI ISD'!$A$4:$B$124,2,0)","v":{"$error":"#N/A"}},null,null,null,null,1.645E-3,3.5608300000000001E-3,"","","/",{"$error":"#N/A"}]
[null,null,null,{"$f":"VLOOKUP($C3612,'SEI ISD'!$A$4:$B$124,2,0)","v":{"$error":"#N/A"}},null,null,null,null,1.645E-3,3.5608300000000001E-3,"","","/",{"$error":"#N/A"}]
[null,null,null,{"$f":"VLOOKUP($C3613,'SEI ISD'!$A$4:$B$124,2,0)","v":{"$error":"#N/A"}},null,null,null,null,1.645E-3,3.5608300000000001E-3,"","","/",{"$error":"#N/A"}]
[null,null,null,{"$f":"VLOOKUP($C3614,'SEI ISD'!$A$4:$B$124,2,0)","v":{"$error":"#N/A"}},null,null,null,null,1.645E-3,3.5608300000000001E-3,"","","/",{"$error":"#N/A"}]
[null,null,null,{"$f":"VLOOKUP($C3615,'SEI ISD'!$A$4:$B$124,2,0)","v":{"$error":"#N/A"}},null,null,null,null,1.645E-3,3.5608300000000001E-3,"","","/",{"$error":"#N/A"}]
[null,null,null,{"$f":"VLOOKUP($C3616,'SEI ISD'!$A$4:$B$124,2,0)","v":{"$error":"#N/A"}},null,null,null,null,1.645E-3,3.5608300000000001E-3,"","","/",{"$error":"#N/A"}]
[null,null,null,{"$f":"VLOOKUP($C3617,'SEI ISD'!$A$4:$B$124,2,0)","v":{"$error":"#N/A"}},null,null,null,null,1.645E-3,3.5608300000000001E-3,"","","/",{"$error":"#N/A"}]
[null,null,null,{"$f":"VLOOKUP($C3618,'SEI ISD'!$A$4:$B$124,2,0)","v":{"$error":"#N/A"}},null,null,null,null,1.645E-3,3.5608300000000001E-3,"","","/",{"$error":"#N/A"}]
[null,null,null,{"$f":"VLOOKUP($C3619,'SEI ISD'!$A$4:$B$124,2,0)","v":{"$error":"#N/A"}},null,null,null,null,1.645E-3,3.5608300000000001E-3,"","","/",{"$error":"#N/A"}]
[null,null,null,{"$f":"VLOOKUP($C3620,'SEI ISD'!$A$4:$B$124,2,0)","v":{"$error":"#N/A"}},null,null,null,null,1.645E-3,3.5608300000000001E-3,"","","/",{"$error":"#N/A"}]
[null,null,null,{"$f":"VLOOKUP($C3621,'SEI ISD'!$A$4:$B$124,2,0)","v":{"$error":"#N/A"}},null,null,null,null,1.645E-3,3.5608300000000001E-3,"","","/",{"$error":"#N/A"}]
[null,null,null,{"$f":"VLOOKUP($C3622,'SEI ISD'!$A$4:$B$124,2,0)","v":{"$error":"#N/A"}},null,null,null,null,1.645E-3,3.5608300000000001E-3,"","","/",{"$error":"#N/A"}]
[null,null,null,{"$f":"VLOOKUP($C3623,'SEI ISD'!$A$4:$B$124,2,0)","v":{"$error":"#N/A"}},null,null,null,null,1.645E-3,3.5608300000000001E-3,"","","/",{"$error":"#N/A"}]
[null,null,null,{"$f":"VLOOKUP($C3624,'SEI ISD'!$A$4:$B$124,2,0)","v":{"$error":"#N/A"}},null,null,null,null,1.645E-3,3.5608300000000001E-3,"","","/",{"$error":"#N/A"}]
[null,null,null,{"$f":"VLOOKUP($C3625,'SEI ISD'!$A$4:$B$124,2,0)","v":{"$error":"#N/A"}},null,null,null,null,1.645E-3,3.5608300000000001E-3,"","","/",{"$error":"#N/A"}]
[null,null,null,{"$f":"VLOOKUP($C3626,'SEI ISD'!$A$4:$B$124,2,0)","v":{"$error":"#N/A"}},null,null,null,null,1.645E-3,3.5608300000000001E-3,"","","/",{"$error":"#N/A"}]
[null,null,null,{"$f":"VLOOKUP($C3627,'SEI ISD'!$A$4:$B$124,2,0)","v":{"$error":"#N/A"}},null,null,null,null,1.645E-3,3.5608300000000001E-3,"","","/",{"$error":"#N/A"}]
[null,null,null,{"$f":"VLOOKUP($C3628,'SEI ISD'!$A$4:$B$124,2,0)","v":{"$error":"#N/A"}},null,null,null,null,1.645E-3,3.5608300000000001E-3,"","","/",{"$error":"#N/A"}]
[null,null,null,{"$f":"VLOOKUP($C3629,'SEI ISD'!$A$4:$B$124,2,0)","v":{"$error":"#N/A"}},null,null,null,null,1.645E-3,3.5608300000000001E-3,"","","/",{"$error":"#N/A"}]
[null,null,null,{"$f":"VLOOKUP($C3630,'SEI ISD'!$A$4:$B$124,2,0)","v":{"$error":"#N/A"}},null,null,null,null,1.645E-3,3.5608300000000001E-3,"","","/",{"$error":"#N/A"}]
[null,null,null,{"$f":"VLOOKUP($C3631,'SEI ISD'!$A$4:$B$124,2,0)","v":{"$error":"#N/A"}},null,null,null,null,1.645E-3,3.5608300000000001E-3,"","","/",{"$error":"#N/A"}]
[null,null,null,{"$f":"VLOOKUP($C3632,'SEI ISD'!$A$4:$B$124,2,0)","v":{"$error":"#N/A"}},null,null,null,null,1.645E-3,3.5608300000000001E-3,"","","/",{"$error":"#N/A"}]
[null,null,null,{"$f":"VLOOKUP($C3633,'SEI ISD'!$A$4:$B$124,2,0)","v":{"$error":"#N/A"}},null,null,null,null,1.645E-3,3.5608300000000001E-3,"","","/",{"$error":"#N/A"}]
[null,null,null,{"$f":"VLOOKUP($C3634,'SEI ISD'!$A$4:$B$124,2,0)","v":{"$error":"#N/A"}},null,null,null,null,1.645E-3,3.5608300000000001E-3,"","","/",{"$error":"#N/A"}]
[null,null,null,{"$f":"VLOOKUP($C3635,'SEI ISD'!$A$4:$B$124,2,0)","v":{"$error":"#N/A"}},null,null,null,null,1.645E-3,3.5608300000000001E-3,"","","/",{"$error":"#N/A"}]
[null,null,null,{"$f":"VLOOKUP($C3636,'SEI ISD'!$A$4:$B$124,2,0)","v":{"$error":"#N/A"}},null,null,null,null,1.645E-3,3.5608300000000001E-3,"","","/",{"$error":"#N/A"}]
[null,null,null,{"$f":"VLOOKUP($C3637,'SEI ISD'!$A$4:$B$124,2,0)","v":{"$error":"#N/A"}},null,null,null,null,1.645E-3,3.5608300000000001E-3,"","","/",{"$error":"#N/A"}]
[null,null,null,{"$f":"VLOOKUP($C3638,'SEI ISD'!$A$4:$B$124,2,0)","v":{"$error":"#N/A"}},null,null,null,null,1.645E-3,3.5608300000000001E-3,"","","/",{"$error":"#N/A"}]
[null,null,null,{"$f":"VLOOKUP($C3639,'SEI ISD'!$A$4:$B$124,2,0)","v":{"$error":"#N/A"}},null,null,null,null,1.645E-3,3.5608300000000001E-3,"","","/",{"$error":"#N/A"}]
[null,null,null,{"$f":"VLOOKUP($C3640,'SEI ISD'!$A$4:$B$124,2,0)","v":{"$error":"#N/A"}},null,null,null,null,1.645E-3,3.5608300000000001E-3,"","","/",{"$error":"#N/A"}]
[null,null,null,{"$f":"VLOOKUP($C3641,'SEI ISD'!$A$4:$B$124,2,0)","v":{"$error":"#N/A"}},null,null,null,null,1.645E-3,3.5608300000000001E-3,"","","/",{"$error":"#N/A"}]
[null,null,null,{"$f":"VLOOKUP($C3642,'SEI ISD'!$A$4:$B$124,2,0)","v":{"$error":"#N/A"}},null,null,null,null,1.645E-3,3.5608300000000001E-3,"","","/",{"$error":"#N/A"}]
[null,null,null,{"$f":"VLOOKUP($C3643,'SEI ISD'!$A$4:$B$124,2,0)","v":{"$error":"#N/A"}},null,null,null,null,1.645E-3,3.5608300000000001E-3,"","","/",{"$error":"#N/A"}]
[null,null,null,{"$f":"VLOOKUP($C3644,'SEI ISD'!$A$4:$B$124,2,0)","v":{"$error":"#N/A"}},null,null,null,null,1.645E-3,3.5608300000000001E-3,"","","/",{"$error":"#N/A"}]
[null,null,null,{"$f":"VLOOKUP($C3645,'SEI ISD'!$A$4:$B$124,2,0)","v":{"$error":"#N/A"}},null,null,null,null,1.645E-3,3.5608300000000001E-3,"","","/",{"$error":"#N/A"}]
[null,null,null,{"$f":"VLOOKUP($C3646,'SEI ISD'!$A$4:$B$124,2,0)","v":{"$error":"#N/A"}},null,null,null,null,1.645E-3,3.5608300000000001E-3,"","","/",{"$error":"#N/A"}]
[null,null,null,{"$f":"VLOOKUP($C3647,'SEI ISD'!$A$4:$B$124,2,0)","v":{"$error":"#N/A"}},null,null,null,null,1.645E-3,3.5608300000000001E-3,"","","/",{"$error":"#N/A"}]
[null,null,null,{"$f":"VLOOKUP($C3648,'SEI ISD'!$A$4:$B$124,2,0)","v":{"$error":"#N/A"}},null,null,null,null,1.645E-3,3.5608300000000001E-3,"","","/",{"$error":"#N/A"}]
[null,null,null,{"$f":"VLOOKUP($C3649,'SEI ISD'!$A$4:$B$124,2,0)","v":{"$error":"#N/A"}},null,null,null,null,1.645E-3,3.5608300000000001E-3,"","","/",{"$error":"#N/A"}]
[null,null,null,{"$f":"VLOOKUP($C3650,'SEI ISD'!$A$4:$B$124,2,0)","v":{"$error":"#N/A"}},null,null,null,null,1.645E-3,3.5608300000000001E-3,"","","/",{"$error":"#N/A"}]
[null,null,null,{"$f":"VLOOKUP($C3651,'SEI ISD'!$A$4:$B$124,2,0)","v":{"$error":"#N/A"}},null,null,null,null,1.645E-3,3.5608300000000001E-3,"","","/",{"$error":"#N/A"}]
[null,null,null,{"$f":"VLOOKUP($C3652,'SEI ISD'!$A$4:$B$124,2,0)","v":{"$error":"#N/A"}},null,null,null,null,1.645E-3,3.5608300000000001E-3,"","","/",{"$error":"#N/A"}]
[null,null,null,{"$f":"VLOOKUP($C3653,'SEI ISD'!$A$4:$B$124,2,0)","v":{"$error":"#N/A"}},null,null,null,null,1.645E-3,3.5608300000000001E-3,"","","/",{"$error":"#N/A"}]
[null,null,null,{"$f":"VLOOKUP($C3654,'SEI ISD'!$A$4:$B$124,2,0)","v":{"$error":"#N/A"}},null,null,null,null,1.645E-3,3.5608300000000001E-3,"","","/",{"$error":"#N/A"}]
[null,null,null,{"$f":"VLOOKUP($C3655,'SEI ISD'!$A$4:$B$124,2,0)","v":{"$error":"#N/A"}},null,null,null,null,1.645E-3,3.5608300000000001E-3,"","","/",{"$error":"#N/A"}]
[null,null,null,{"$f":"VLOOKUP($C3656,'SEI ISD'!$A$4:$B$124,2,0)","v":{"$error":"#N/A"}},null,null,null,null,1.645E-3,3.5608300000000001E-3,"","","/",{"$error":"#N/A"}]
[null,null,null,{"$f":"VLOOKUP($C3657,'SEI ISD'!$A$4:$B$124,2,0)","v":{"$error":"#N/A"}},null,null,null,null,1.645E-3,3.5608300000000001E-3,"","","/",{"$error":"#N/A"}]
[null,null,null,{"$f":"VLOOKUP($C3658,'SEI ISD'!$A$4:$B$124,2,0)","v":{"$error":"#N/A"}},null,null,null,null,1.645E-3,3.5608300000000001E-3,"","","/",{"$error":"#N/A"}]
[null,null,null,{"$f":"VLOOKUP($C3659,'SEI ISD'!$A$4:$B$124,2,0)","v":{"$error":"#N/A"}},null,null,null,null,1.645E-3,3.5608300000000001E-3,"","","/",{"$error":"#N/A"}]
[null,null,null,{"$f":"VLOOKUP($C3660,'SEI ISD'!$A$4:$B$124,2,0)","v":{"$error":"#N/A"}},null,null,null,null,1.645E-3,3.5608300000000001E-3,"","","/",{"$error":"#N/A"}]
[null,null,null,{"$f":"VLOOKUP($C3661,'SEI ISD'!$A$4:$B$124,2,0)","v":{"$error":"#N/A"}},null,null,null,null,1.645E-3,3.5608300000000001E-3,"","","/",{"$error":"#N/A"}]
[null,null,null,{"$f":"VLOOKUP($C3662,'SEI ISD'!$A$4:$B$124,2,0)","v":{"$error":"#N/A"}},null,null,null,null,1.645E-3,3.5608300000000001E-3,{"$f":"RIGHT(G3662,2)","v":""},{"$f":"LEFT(G3662,4)","v":""},{"$f":"_xlfn.CONCAT(K3662,\"/\",L3662)","v":"/"},{"$f":"EOMONTH(D3662,0)","v":{"$error":"#N/A"}}]
[null,null,null,{"$f":"VLOOKUP($C3663,'SEI ISD'!$A$4:$B$124,2,0)","v":{"$error":"#N/A"}},null,null,null,null,1.645E-3,3.5608300000000001E-3,"","","/",{"$error":"#N/A"}]
[null,null,null,{"$f":"VLOOKUP($C3664,'SEI ISD'!$A$4:$B$124,2,0)","v":{"$error":"#N/A"}},null,null,null,null,1.645E-3,3.5608300000000001E-3,"","","/",{"$error":"#N/A"}]
[null,null,null,{"$f":"VLOOKUP($C3665,'SEI ISD'!$A$4:$B$124,2,0)","v":{"$error":"#N/A"}},null,null,null,null,1.645E-3,3.5608300000000001E-3,"","","/",{"$error":"#N/A"}]
[null,null,null,{"$f":"VLOOKUP($C3666,'SEI ISD'!$A$4:$B$124,2,0)","v":{"$error":"#N/A"}},null,null,null,null,1.645E-3,3.5608300000000001E-3,"","","/",{"$error":"#N/A"}]
[null,null,null,{"$f":"VLOOKUP($C3667,'SEI ISD'!$A$4:$B$124,2,0)","v":{"$error":"#N/A"}},null,null,null,null,1.645E-3,3.5608300000000001E-3,"","","/",{"$error":"#N/A"}]
[null,null,null,{"$f":"VLOOKUP($C3668,'SEI ISD'!$A$4:$B$124,2,0)","v":{"$error":"#N/A"}},null,null,null,null,1.645E-3,3.5608300000000001E-3,"","","/",{"$error":"#N/A"}]
[null,null,null,{"$f":"VLOOKUP($C3669,'SEI ISD'!$A$4:$B$124,2,0)","v":{"$error":"#N/A"}},null,null,null,null,1.645E-3,3.5608300000000001E-3,"","","/",{"$error":"#N/A"}]
[null,null,null,{"$f":"VLOOKUP($C3670,'SEI ISD'!$A$4:$B$124,2,0)","v":{"$error":"#N/A"}},null,null,null,null,1.645E-3,3.5608300000000001E-3,"","","/",{"$error":"#N/A"}]
[null,null,null,{"$f":"VLOOKUP($C3671,'SEI ISD'!$A$4:$B$124,2,0)","v":{"$error":"#N/A"}},null,null,null,null,1.645E-3,3.5608300000000001E-3,"","","/",{"$error":"#N/A"}]
[null,null,null,{"$f":"VLOOKUP($C3672,'SEI ISD'!$A$4:$B$124,2,0)","v":{"$error":"#N/A"}},null,null,null,null,1.645E-3,3.5608300000000001E-3,"","","/",{"$error":"#N/A"}]
[null,null,null,{"$f":"VLOOKUP($C3673,'SEI ISD'!$A$4:$B$124,2,0)","v":{"$error":"#N/A"}},null,null,null,null,1.645E-3,3.5608300000000001E-3,"","","/",{"$error":"#N/A"}]
[null,null,null,{"$f":"VLOOKUP($C3674,'SEI ISD'!$A$4:$B$124,2,0)","v":{"$error":"#N/A"}},null,null,null,null,1.645E-3,3.5608300000000001E-3,"","","/",{"$error":"#N/A"}]
[null,null,null,{"$f":"VLOOKUP($C3675,'SEI ISD'!$A$4:$B$124,2,0)","v":{"$error":"#N/A"}},null,null,null,null,1.645E-3,3.5608300000000001E-3,"","","/",{"$error":"#N/A"}]
[null,null,null,{"$f":"VLOOKUP($C3676,'SEI ISD'!$A$4:$B$124,2,0)","v":{"$error":"#N/A"}},null,null,null,null,1.645E-3,3.5608300000000001E-3,"","","/",{"$error":"#N/A"}]
[null,null,null,{"$f":"VLOOKUP($C3677,'SEI ISD'!$A$4:$B$124,2,0)","v":{"$error":"#N/A"}},null,null,null,null,1.645E-3,3.5608300000000001E-3,"","","/",{"$error":"#N/A"}]
[null,null,null,{"$f":"VLOOKUP($C3678,'SEI ISD'!$A$4:$B$124,2,0)","v":{"$error":"#N/A"}},null,null,null,null,1.645E-3,3.5608300000000001E-3,"","","/",{"$error":"#N/A"}]
[null,null,null,{"$f":"VLOOKUP($C3679,'SEI ISD'!$A$4:$B$124,2,0)","v":{"$error":"#N/A"}},null,null,null,null,1.645E-3,3.5608300000000001E-3,"","","/",{"$error":"#N/A"}]
[null,null,null,{"$f":"VLOOKUP($C3680,'SEI ISD'!$A$4:$B$124,2,0)","v":{"$error":"#N/A"}},null,null,null,null,1.645E-3,3.5608300000000001E-3,"","","/",{"$error":"#N/A"}]
[null,null,null,{"$f":"VLOOKUP($C3681,'SEI ISD'!$A$4:$B$124,2,0)","v":{"$error":"#N/A"}},null,null,null,null,1.645E-3,3.5608300000000001E-3,"","","/",{"$error":"#N/A"}]
[null,null,null,{"$f":"VLOOKUP($C3682,'SEI ISD'!$A$4:$B$124,2,0)","v":{"$error":"#N/A"}},null,null,null,null,1.645E-3,3.5608300000000001E-3,"","","/",{"$error":"#N/A"}]
[null,null,null,{"$f":"VLOOKUP($C3683,'SEI ISD'!$A$4:$B$124,2,0)","v":{"$error":"#N/A"}},null,null,null,null,1.645E-3,3.5608300000000001E-3,"","","/",{"$error":"#N/A"}]
[null,null,null,{"$f":"VLOOKUP($C3684,'SEI ISD'!$A$4:$B$124,2,0)","v":{"$error":"#N/A"}},null,null,null,null,1.645E-3,3.5608300000000001E-3,"","","/",{"$error":"#N/A"}]
[null,null,null,{"$f":"VLOOKUP($C3685,'SEI ISD'!$A$4:$B$124,2,0)","v":{"$error":"#N/A"}},null,null,null,null,1.645E-3,3.5608300000000001E-3,"","","/",{"$error":"#N/A"}]
[null,null,null,{"$f":"VLOOKUP($C3686,'SEI ISD'!$A$4:$B$124,2,0)","v":{"$error":"#N/A"}},null,null,null,null,1.645E-3,3.5608300000000001E-3,"","","/",{"$error":"#N/A"}]
[null,null,null,{"$f":"VLOOKUP($C3687,'SEI ISD'!$A$4:$B$124,2,0)","v":{"$error":"#N/A"}},null,null,null,null,1.645E-3,3.5608300000000001E-3,"","","/",{"$error":"#N/A"}]
[null,null,null,{"$f":"VLOOKUP($C3688,'SEI ISD'!$A$4:$B$124,2,0)","v":{"$error":"#N/A"}},null,null,null,null,1.645E-3,3.5608300000000001E-3,"","","/",{"$error":"#N/A"}]
[null,null,null,{"$f":"VLOOKUP($C3689,'SEI ISD'!$A$4:$B$124,2,0)","v":{"$error":"#N/A"}},null,null,null,null,1.645E-3,3.5608300000000001E-3,"","","/",{"$error":"#N/A"}]
[null,null,null,{"$f":"VLOOKUP($C3690,'SEI ISD'!$A$4:$B$124,2,0)","v":{"$error":"#N/A"}},null,null,null,null,1.645E-3,3.5608300000000001E-3,"","","/",{"$error":"#N/A"}]
[null,null,null,{"$f":"VLOOKUP($C3691,'SEI ISD'!$A$4:$B$124,2,0)","v":{"$error":"#N/A"}},null,null,null,null,1.645E-3,3.5608300000000001E-3,"","","/",{"$error":"#N/A"}]
[null,null,null,{"$f":"VLOOKUP($C3692,'SEI ISD'!$A$4:$B$124,2,0)","v":{"$error":"#N/A"}},null,null,null,null,1.645E-3,3.5608300000000001E-3,"","","/",{"$error":"#N/A"}]
[null,null,null,{"$f":"VLOOKUP($C3693,'SEI ISD'!$A$4:$B$124,2,0)","v":{"$error":"#N/A"}},null,null,null,null,1.645E-3,3.5608300000000001E-3,"","","/",{"$error":"#N/A"}]
[null,null,null,{"$f":"VLOOKUP($C3694,'SEI ISD'!$A$4:$B$124,2,0)","v":{"$error":"#N/A"}},null,null,null,null,1.645E-3,3.5608300000000001E-3,"","","/",{"$error":"#N/A"}]
[null,null,null,{"$f":"VLOOKUP($C3695,'SEI ISD'!$A$4:$B$124,2,0)","v":{"$error":"#N/A"}},null,null,null,null,1.645E-3,3.5608300000000001E-3,"","","/",{"$error":"#N/A"}]
[null,null,null,{"$f":"VLOOKUP($C3696,'SEI ISD'!$A$4:$B$124,2,0)","v":{"$error":"#N/A"}},null,null,null,null,1.645E-3,3.5608300000000001E-3,"","","/",{"$error":"#N/A"}]
[null,null,null,{"$f":"VLOOKUP($C3697,'SEI ISD'!$A$4:$B$124,2,0)","v":{"$error":"#N/A"}},null,null,null,null,1.645E-3,3.5608300000000001E-3,"","","/",{"$error":"#N/A"}]
[null,null,null,{"$f":"VLOOKUP($C3698,'SEI ISD'!$A$4:$B$124,2,0)","v":{"$error":"#N/A"}},null,null,null,null,1.645E-3,3.5608300000000001E-3,"","","/",{"$error":"#N/A"}]
[null,null,null,{"$f":"VLOOKUP($C3699,'SEI ISD'!$A$4:$B$124,2,0)","v":{"$error":"#N/A"}},null,null,null,null,1.645E-3,3.5608300000000001E-3,"","","/",{"$error":"#N/A"}]
[null,null,null,{"$f":"VLOOKUP($C3700,'SEI ISD'!$A$4:$B$124,2,0)","v":{"$error":"#N/A"}},null,null,null,null,1.645E-3,3.5608300000000001E-3,"","","/",{"$error":"#N/A"}]
[null,null,null,{"$f":"VLOOKUP($C3701,'SEI ISD'!$A$4:$B$124,2,0)","v":{"$error":"#N/A"}},null,null,null,null,1.645E-3,3.5608300000000001E-3,"","","/",{"$error":"#N/A"}]
[null,null,null,{"$f":"VLOOKUP($C3702,'SEI ISD'!$A$4:$B$124,2,0)","v":{"$error":"#N/A"}},null,null,null,null,1.645E-3,3.5608300000000001E-3,"","","/",{"$error":"#N/A"}]
[null,null,null,{"$f":"VLOOKUP($C3703,'SEI ISD'!$A$4:$B$124,2,0)","v":{"$error":"#N/A"}},null,null,null,null,1.645E-3,3.5608300000000001E-3,"","","/",{"$error":"#N/A"}]
[null,null,null,{"$f":"VLOOKUP($C3704,'SEI ISD'!$A$4:$B$124,2,0)","v":{"$error":"#N/A"}},null,null,null,null,1.645E-3,3.5608300000000001E-3,"","","/",{"$error":"#N/A"}]
[null,null,null,{"$f":"VLOOKUP($C3705,'SEI ISD'!$A$4:$B$124,2,0)","v":{"$error":"#N/A"}},null,null,null,null,1.645E-3,3.5608300000000001E-3,"","","/",{"$error":"#N/A"}]
[null,null,null,{"$f":"VLOOKUP($C3706,'SEI ISD'!$A$4:$B$124,2,0)","v":{"$error":"#N/A"}},null,null,null,null,1.645E-3,3.5608300000000001E-3,"","","/",{"$error":"#N/A"}]
[null,null,null,{"$f":"VLOOKUP($C3707,'SEI ISD'!$A$4:$B$124,2,0)","v":{"$error":"#N/A"}},null,null,null,null,1.645E-3,3.5608300000000001E-3,"","","/",{"$error":"#N/A"}]
[null,null,null,{"$f":"VLOOKUP($C3708,'SEI ISD'!$A$4:$B$124,2,0)","v":{"$error":"#N/A"}},null,null,null,null,1.645E-3,3.5608300000000001E-3,"","","/",{"$error":"#N/A"}]
[null,null,null,{"$f":"VLOOKUP($C3709,'SEI ISD'!$A$4:$B$124,2,0)","v":{"$error":"#N/A"}},null,null,null,null,1.645E-3,3.5608300000000001E-3,"","","/",{"$error":"#N/A"}]
[null,null,null,{"$f":"VLOOKUP($C3710,'SEI ISD'!$A$4:$B$124,2,0)","v":{"$error":"#N/A"}},null,null,null,null,1.645E-3,3.5608300000000001E-3,"","","/",{"$error":"#N/A"}]
[null,null,null,{"$f":"VLOOKUP($C3711,'SEI ISD'!$A$4:$B$124,2,0)","v":{"$error":"#N/A"}},null,null,null,null,1.645E-3,3.5608300000000001E-3,"","","/",{"$error":"#N/A"}]
[null,null,null,{"$f":"VLOOKUP($C3712,'SEI ISD'!$A$4:$B$124,2,0)","v":{"$error":"#N/A"}},null,null,null,null,1.645E-3,3.5608300000000001E-3,"","","/",{"$error":"#N/A"}]
[null,null,null,{"$f":"VLOOKUP($C3713,'SEI ISD'!$A$4:$B$124,2,0)","v":{"$error":"#N/A"}},null,null,null,null,1.645E-3,3.5608300000000001E-3,"","","/",{"$error":"#N/A"}]
[null,null,null,{"$f":"VLOOKUP($C3714,'SEI ISD'!$A$4:$B$124,2,0)","v":{"$error":"#N/A"}},null,null,null,null,1.645E-3,3.5608300000000001E-3,"","","/",{"$error":"#N/A"}]
[null,null,null,{"$f":"VLOOKUP($C3715,'SEI ISD'!$A$4:$B$124,2,0)","v":{"$error":"#N/A"}},null,null,null,null,1.645E-3,3.5608300000000001E-3,"","","/",{"$error":"#N/A"}]
[null,null,null,{"$f":"VLOOKUP($C3716,'SEI ISD'!$A$4:$B$124,2,0)","v":{"$error":"#N/A"}},null,null,null,null,1.645E-3,3.5608300000000001E-3,"","","/",{"$error":"#N/A"}]
[null,null,null,{"$f":"VLOOKUP($C3717,'SEI ISD'!$A$4:$B$124,2,0)","v":{"$error":"#N/A"}},null,null,null,null,1.645E-3,3.5608300000000001E-3,"","","/",{"$error":"#N/A"}]
[null,null,null,{"$f":"VLOOKUP($C3718,'SEI ISD'!$A$4:$B$124,2,0)","v":{"$error":"#N/A"}},null,null,null,null,1.645E-3,3.5608300000000001E-3,"","","/",{"$error":"#N/A"}]
[null,null,null,{"$f":"VLOOKUP($C3719,'SEI ISD'!$A$4:$B$124,2,0)","v":{"$error":"#N/A"}},null,null,null,null,1.645E-3,3.5608300000000001E-3,"","","/",{"$error":"#N/A"}]
[null,null,null,{"$f":"VLOOKUP($C3720,'SEI ISD'!$A$4:$B$124,2,0)","v":{"$error":"#N/A"}},null,null,null,null,1.645E-3,3.5608300000000001E-3,"","","/",{"$error":"#N/A"}]
[null,null,null,{"$f":"VLOOKUP($C3721,'SEI ISD'!$A$4:$B$124,2,0)","v":{"$error":"#N/A"}},null,null,null,null,1.645E-3,3.5608300000000001E-3,"","","/",{"$error":"#N/A"}]
[null,null,null,{"$f":"VLOOKUP($C3722,'SEI ISD'!$A$4:$B$124,2,0)","v":{"$error":"#N/A"}},null,null,null,null,1.645E-3,3.5608300000000001E-3,"","","/",{"$error":"#N/A"}]
[null,null,null,{"$f":"VLOOKUP($C3723,'SEI ISD'!$A$4:$B$124,2,0)","v":{"$error":"#N/A"}},null,null,null,null,1.645E-3,3.5608300000000001E-3,"","","/",{"$error":"#N/A"}]
[null,null,null,{"$f":"VLOOKUP($C3724,'SEI ISD'!$A$4:$B$124,2,0)","v":{"$error":"#N/A"}},null,null,null,null,1.645E-3,3.5608300000000001E-3,"","","/",{"$error":"#N/A"}]
[null,null,null,{"$f":"VLOOKUP($C3725,'SEI ISD'!$A$4:$B$124,2,0)","v":{"$error":"#N/A"}},null,null,null,null,1.645E-3,3.5608300000000001E-3,"","","/",{"$error":"#N/A"}]
[null,null,null,{"$f":"VLOOKUP($C3726,'SEI ISD'!$A$4:$B$124,2,0)","v":{"$error":"#N/A"}},null,null,null,null,1.645E-3,3.5608300000000001E-3,{"$f":"RIGHT(G3726,2)","v":""},{"$f":"LEFT(G3726,4)","v":""},{"$f":"_xlfn.CONCAT(K3726,\"/\",L3726)","v":"/"},{"$f":"EOMONTH(D3726,0)","v":{"$error":"#N/A"}}]
[null,null,null,{"$f":"VLOOKUP($C3727,'SEI ISD'!$A$4:$B$124,2,0)","v":{"$error":"#N/A"}},null,null,null,null,1.645E-3,3.5608300000000001E-3,"","","/",{"$error":"#N/A"}]
[null,null,null,{"$f":"VLOOKUP($C3728,'SEI ISD'!$A$4:$B$124,2,0)","v":{"$error":"#N/A"}},null,null,null,null,1.645E-3,3.5608300000000001E-3,"","","/",{"$error":"#N/A"}]
[null,null,null,{"$f":"VLOOKUP($C3729,'SEI ISD'!$A$4:$B$124,2,0)","v":{"$error":"#N/A"}},null,null,null,null,1.645E-3,3.5608300000000001E-3,"","","/",{"$error":"#N/A"}]
[null,null,null,{"$f":"VLOOKUP($C3730,'SEI ISD'!$A$4:$B$124,2,0)","v":{"$error":"#N/A"}},null,null,null,null,1.645E-3,3.5608300000000001E-3,"","","/",{"$error":"#N/A"}]
[null,null,null,{"$f":"VLOOKUP($C3731,'SEI ISD'!$A$4:$B$124,2,0)","v":{"$error":"#N/A"}},null,null,null,null,1.645E-3,3.5608300000000001E-3,"","","/",{"$error":"#N/A"}]
[null,null,null,{"$f":"VLOOKUP($C3732,'SEI ISD'!$A$4:$B$124,2,0)","v":{"$error":"#N/A"}},null,null,null,null,1.645E-3,3.5608300000000001E-3,"","","/",{"$error":"#N/A"}]
[null,null,null,{"$f":"VLOOKUP($C3733,'SEI ISD'!$A$4:$B$124,2,0)","v":{"$error":"#N/A"}},null,null,null,null,1.645E-3,3.5608300000000001E-3,"","","/",{"$error":"#N/A"}]
[null,null,null,{"$f":"VLOOKUP($C3734,'SEI ISD'!$A$4:$B$124,2,0)","v":{"$error":"#N/A"}},null,null,null,null,1.645E-3,3.5608300000000001E-3,"","","/",{"$error":"#N/A"}]
[null,null,null,{"$f":"VLOOKUP($C3735,'SEI ISD'!$A$4:$B$124,2,0)","v":{"$error":"#N/A"}},null,null,null,null,1.645E-3,3.5608300000000001E-3,"","","/",{"$error":"#N/A"}]
[null,null,null,{"$f":"VLOOKUP($C3736,'SEI ISD'!$A$4:$B$124,2,0)","v":{"$error":"#N/A"}},null,null,null,null,1.645E-3,3.5608300000000001E-3,"","","/",{"$error":"#N/A"}]
[null,null,null,{"$f":"VLOOKUP($C3737,'SEI ISD'!$A$4:$B$124,2,0)","v":{"$error":"#N/A"}},null,null,null,null,1.645E-3,3.5608300000000001E-3,"","","/",{"$error":"#N/A"}]
[null,null,null,{"$f":"VLOOKUP($C3738,'SEI ISD'!$A$4:$B$124,2,0)","v":{"$error":"#N/A"}},null,null,null,null,1.645E-3,3.5608300000000001E-3,"","","/",{"$error":"#N/A"}]
[null,null,null,{"$f":"VLOOKUP($C3739,'SEI ISD'!$A$4:$B$124,2,0)","v":{"$error":"#N/A"}},null,null,null,null,1.645E-3,3.5608300000000001E-3,"","","/",{"$error":"#N/A"}]
[null,null,null,{"$f":"VLOOKUP($C3740,'SEI ISD'!$A$4:$B$124,2,0)","v":{"$error":"#N/A"}},null,null,null,null,1.645E-3,3.5608300000000001E-3,"","","/",{"$error":"#N/A"}]
[null,null,null,{"$f":"VLOOKUP($C3741,'SEI ISD'!$A$4:$B$124,2,0)","v":{"$error":"#N/A"}},null,null,null,null,1.645E-3,3.5608300000000001E-3,"","","/",{"$error":"#N/A"}]
[null,null,null,{"$f":"VLOOKUP($C3742,'SEI ISD'!$A$4:$B$124,2,0)","v":{"$error":"#N/A"}},null,null,null,null,1.645E-3,3.5608300000000001E-3,"","","/",{"$error":"#N/A"}]
[null,null,null,{"$f":"VLOOKUP($C3743,'SEI ISD'!$A$4:$B$124,2,0)","v":{"$error":"#N/A"}},null,null,null,null,1.645E-3,3.5608300000000001E-3,"","","/",{"$error":"#N/A"}]
[null,null,null,{"$f":"VLOOKUP($C3744,'SEI ISD'!$A$4:$B$124,2,0)","v":{"$error":"#N/A"}},null,null,null,null,1.645E-3,3.5608300000000001E-3,"","","/",{"$error":"#N/A"}]
[null,null,null,{"$f":"VLOOKUP($C3745,'SEI ISD'!$A$4:$B$124,2,0)","v":{"$error":"#N/A"}},null,null,null,null,1.645E-3,3.5608300000000001E-3,"","","/",{"$error":"#N/A"}]
[null,null,null,{"$f":"VLOOKUP($C3746,'SEI ISD'!$A$4:$B$124,2,0)","v":{"$error":"#N/A"}},null,null,null,null,1.645E-3,3.5608300000000001E-3,"","","/",{"$error":"#N/A"}]
[null,null,null,{"$f":"VLOOKUP($C3747,'SEI ISD'!$A$4:$B$124,2,0)","v":{"$error":"#N/A"}},null,null,null,null,1.645E-3,3.5608300000000001E-3,"","","/",{"$error":"#N/A"}]
[null,null,null,{"$f":"VLOOKUP($C3748,'SEI ISD'!$A$4:$B$124,2,0)","v":{"$error":"#N/A"}},null,null,null,null,1.645E-3,3.5608300000000001E-3,"","","/",{"$error":"#N/A"}]
[null,null,null,{"$f":"VLOOKUP($C3749,'SEI ISD'!$A$4:$B$124,2,0)","v":{"$error":"#N/A"}},null,null,null,null,1.645E-3,3.5608300000000001E-3,"","","/",{"$error":"#N/A"}]
[null,null,null,{"$f":"VLOOKUP($C3750,'SEI ISD'!$A$4:$B$124,2,0)","v":{"$error":"#N/A"}},null,null,null,null,1.645E-3,3.5608300000000001E-3,"","","/",{"$error":"#N/A"}]
[null,null,null,{"$f":"VLOOKUP($C3751,'SEI ISD'!$A$4:$B$124,2,0)","v":{"$error":"#N/A"}},null,null,null,null,1.645E-3,3.5608300000000001E-3,"","","/",{"$error":"#N/A"}]
[null,null,null,{"$f":"VLOOKUP($C3752,'SEI ISD'!$A$4:$B$124,2,0)","v":{"$error":"#N/A"}},null,null,null,null,1.645E-3,3.5608300000000001E-3,"","","/",{"$error":"#N/A"}]
[null,null,null,{"$f":"VLOOKUP($C3753,'SEI ISD'!$A$4:$B$124,2,0)","v":{"$error":"#N/A"}},null,null,null,null,1.645E-3,3.5608300000000001E-3,"","","/",{"$error":"#N/A"}]
[null,null,null,{"$f":"VLOOKUP($C3754,'SEI ISD'!$A$4:$B$124,2,0)","v":{"$error":"#N/A"}},null,null,null,null,1.645E-3,3.5608300000000001E-3,"","","/",{"$error":"#N/A"}]
[null,null,null,{"$f":"VLOOKUP($C3755,'SEI ISD'!$A$4:$B$124,2,0)","v":{"$error":"#N/A"}},null,null,null,null,1.645E-3,3.5608300000000001E-3,"","","/",{"$error":"#N/A"}]
[null,null,null,{"$f":"VLOOKUP($C3756,'SEI ISD'!$A$4:$B$124,2,0)","v":{"$error":"#N/A"}},null,null,null,null,1.645E-3,3.5608300000000001E-3,"","","/",{"$error":"#N/A"}]
[null,null,null,{"$f":"VLOOKUP($C3757,'SEI ISD'!$A$4:$B$124,2,0)","v":{"$error":"#N/A"}},null,null,null,null,1.645E-3,3.5608300000000001E-3,"","","/",{"$error":"#N/A"}]
[null,null,null,{"$f":"VLOOKUP($C3758,'SEI ISD'!$A$4:$B$124,2,0)","v":{"$error":"#N/A"}},null,null,null,null,1.645E-3,3.5608300000000001E-3,"","","/",{"$error":"#N/A"}]
[null,null,null,{"$f":"VLOOKUP($C3759,'SEI ISD'!$A$4:$B$124,2,0)","v":{"$error":"#N/A"}},null,null,null,null,1.645E-3,3.5608300000000001E-3,"","","/",{"$error":"#N/A"}]
[null,null,null,{"$f":"VLOOKUP($C3760,'SEI ISD'!$A$4:$B$124,2,0)","v":{"$error":"#N/A"}},null,null,null,null,1.645E-3,3.5608300000000001E-3,"","","/",{"$error":"#N/A"}]
[null,null,null,{"$f":"VLOOKUP($C3761,'SEI ISD'!$A$4:$B$124,2,0)","v":{"$error":"#N/A"}},null,null,null,null,1.645E-3,3.5608300000000001E-3,"","","/",{"$error":"#N/A"}]
[null,null,null,{"$f":"VLOOKUP($C3762,'SEI ISD'!$A$4:$B$124,2,0)","v":{"$error":"#N/A"}},null,null,null,null,1.645E-3,3.5608300000000001E-3,"","","/",{"$error":"#N/A"}]
[null,null,null,{"$f":"VLOOKUP($C3763,'SEI ISD'!$A$4:$B$124,2,0)","v":{"$error":"#N/A"}},null,null,null,null,1.645E-3,3.5608300000000001E-3,"","","/",{"$error":"#N/A"}]
[null,null,null,{"$f":"VLOOKUP($C3764,'SEI ISD'!$A$4:$B$124,2,0)","v":{"$error":"#N/A"}},null,null,null,null,1.645E-3,3.5608300000000001E-3,"","","/",{"$error":"#N/A"}]
[null,null,null,{"$f":"VLOOKUP($C3765,'SEI ISD'!$A$4:$B$124,2,0)","v":{"$error":"#N/A"}},null,null,null,null,1.645E-3,3.5608300000000001E-3,"","","/",{"$error":"#N/A"}]
[null,null,null,{"$f":"VLOOKUP($C3766,'SEI ISD'!$A$4:$B$124,2,0)","v":{"$error":"#N/A"}},null,null,null,null,1.645E-3,3.5608300000000001E-3,"","","/",{"$error":"#N/A"}]
[null,null,null,{"$f":"VLOOKUP($C3767,'SEI ISD'!$A$4:$B$124,2,0)","v":{"$error":"#N/A"}},null,null,null,null,1.645E-3,3.5608300000000001E-3,"","","/",{"$error":"#N/A"}]
[null,null,null,{"$f":"VLOOKUP($C3768,'SEI ISD'!$A$4:$B$124,2,0)","v":{"$error":"#N/A"}},null,null,null,null,1.645E-3,3.5608300000000001E-3,"","","/",{"$error":"#N/A"}]
[null,null,null,{"$f":"VLOOKUP($C3769,'SEI ISD'!$A$4:$B$124,2,0)","v":{"$error":"#N/A"}},null,null,null,null,1.645E-3,3.5608300000000001E-3,"","","/",{"$error":"#N/A"}]
[null,null,null,{"$f":"VLOOKUP($C3770,'SEI ISD'!$A$4:$B$124,2,0)","v":{"$error":"#N/A"}},null,null,null,null,1.645E-3,3.5608300000000001E-3,"","","/",{"$error":"#N/A"}]
[null,null,null,{"$f":"VLOOKUP($C3771,'SEI ISD'!$A$4:$B$124,2,0)","v":{"$error":"#N/A"}},null,null,null,null,1.645E-3,3.5608300000000001E-3,"","","/",{"$error":"#N/A"}]
[null,null,null,{"$f":"VLOOKUP($C3772,'SEI ISD'!$A$4:$B$124,2,0)","v":{"$error":"#N/A"}},null,null,null,null,1.645E-3,3.5608300000000001E-3,"","","/",{"$error":"#N/A"}]
[null,null,null,{"$f":"VLOOKUP($C3773,'SEI ISD'!$A$4:$B$124,2,0)","v":{"$error":"#N/A"}},null,null,null,null,1.645E-3,3.5608300000000001E-3,"","","/",{"$error":"#N/A"}]
[null,null,null,{"$f":"VLOOKUP($C3774,'SEI ISD'!$A$4:$B$124,2,0)","v":{"$error":"#N/A"}},null,null,null,null,1.645E-3,3.5608300000000001E-3,"","","/",{"$error":"#N/A"}]
[null,null,null,{"$f":"VLOOKUP($C3775,'SEI ISD'!$A$4:$B$124,2,0)","v":{"$error":"#N/A"}},null,null,null,null,1.645E-3,3.5608300000000001E-3,"","","/",{"$error":"#N/A"}]
[null,null,null,{"$f":"VLOOKUP($C3776,'SEI ISD'!$A$4:$B$124,2,0)","v":{"$error":"#N/A"}},null,null,null,null,1.645E-3,3.5608300000000001E-3,"","","/",{"$error":"#N/A"}]
[null,null,null,{"$f":"VLOOKUP($C3777,'SEI ISD'!$A$4:$B$124,2,0)","v":{"$error":"#N/A"}},null,null,null,null,1.645E-3,3.5608300000000001E-3,"","","/",{"$error":"#N/A"}]
[null,null,null,{"$f":"VLOOKUP($C3778,'SEI ISD'!$A$4:$B$124,2,0)","v":{"$error":"#N/A"}},null,null,null,null,1.645E-3,3.5608300000000001E-3,"","","/",{"$error":"#N/A"}]
[null,null,null,{"$f":"VLOOKUP($C3779,'SEI ISD'!$A$4:$B$124,2,0)","v":{"$error":"#N/A"}},null,null,null,null,1.645E-3,3.5608300000000001E-3,"","","/",{"$error":"#N/A"}]
[null,null,null,{"$f":"VLOOKUP($C3780,'SEI ISD'!$A$4:$B$124,2,0)","v":{"$error":"#N/A"}},null,null,null,null,1.645E-3,3.5608300000000001E-3,"","","/",{"$error":"#N/A"}]
[null,null,null,{"$f":"VLOOKUP($C3781,'SEI ISD'!$A$4:$B$124,2,0)","v":{"$error":"#N/A"}},null,null,null,null,1.645E-3,3.5608300000000001E-3,"","","/",{"$error":"#N/A"}]
[null,null,null,{"$f":"VLOOKUP($C3782,'SEI ISD'!$A$4:$B$124,2,0)","v":{"$error":"#N/A"}},null,null,null,null,1.645E-3,3.5608300000000001E-3,"","","/",{"$error":"#N/A"}]
[null,null,null,{"$f":"VLOOKUP($C3783,'SEI ISD'!$A$4:$B$124,2,0)","v":{"$error":"#N/A"}},null,null,null,null,1.645E-3,3.5608300000000001E-3,"","","/",{"$error":"#N/A"}]
[null,null,null,{"$f":"VLOOKUP($C3784,'SEI ISD'!$A$4:$B$124,2,0)","v":{"$error":"#N/A"}},null,null,null,null,1.645E-3,3.5608300000000001E-3,"","","/",{"$error":"#N/A"}]
[null,null,null,{"$f":"VLOOKUP($C3785,'SEI ISD'!$A$4:$B$124,2,0)","v":{"$error":"#N/A"}},null,null,null,null,1.645E-3,3.5608300000000001E-3,"","","/",{"$error":"#N/A"}]
[null,null,null,{"$f":"VLOOKUP($C3786,'SEI ISD'!$A$4:$B$124,2,0)","v":{"$error":"#N/A"}},null,null,null,null,1.645E-3,3.5608300000000001E-3,"","","/",{"$error":"#N/A"}]
[null,null,null,{"$f":"VLOOKUP($C3787,'SEI ISD'!$A$4:$B$124,2,0)","v":{"$error":"#N/A"}},null,null,null,null,1.645E-3,3.5608300000000001E-3,"","","/",{"$error":"#N/A"}]
[null,null,null,{"$f":"VLOOKUP($C3788,'SEI ISD'!$A$4:$B$124,2,0)","v":{"$error":"#N/A"}},null,null,null,null,1.645E-3,3.5608300000000001E-3,"","","/",{"$error":"#N/A"}]
[null,null,null,{"$f":"VLOOKUP($C3789,'SEI ISD'!$A$4:$B$124,2,0)","v":{"$error":"#N/A"}},null,null,null,null,1.645E-3,3.5608300000000001E-3,"","","/",{"$error":"#N/A"}]
[null,null,null,{"$f":"VLOOKUP($C3790,'SEI ISD'!$A$4:$B$124,2,0)","v":{"$error":"#N/A"}},null,null,null,null,1.645E-3,3.5608300000000001E-3,{"$f":"RIGHT(G3790,2)","v":""},{"$f":"LEFT(G3790,4)","v":""},{"$f":"_xlfn.CONCAT(K3790,\"/\",L3790)","v":"/"},{"$f":"EOMONTH(D3790,0)","v":{"$error":"#N/A"}}]
[null,null,null,{"$f":"VLOOKUP($C3791,'SEI ISD'!$A$4:$B$124,2,0)","v":{"$error":"#N/A"}},null,null,null,null,1.645E-3,3.5608300000000001E-3,"","","/",{"$error":"#N/A"}]
[null,null,null,{"$f":"VLOOKUP($C3792,'SEI ISD'!$A$4:$B$124,2,0)","v":{"$error":"#N/A"}},null,null,null,null,1.645E-3,3.5608300000000001E-3,"","","/",{"$error":"#N/A"}]
[null,null,null,{"$f":"VLOOKUP($C3793,'SEI ISD'!$A$4:$B$124,2,0)","v":{"$error":"#N/A"}},null,null,null,null,1.645E-3,3.5608300000000001E-3,"","","/",{"$error":"#N/A"}]
[null,null,null,{"$f":"VLOOKUP($C3794,'SEI ISD'!$A$4:$B$124,2,0)","v":{"$error":"#N/A"}},null,null,null,null,1.645E-3,3.5608300000000001E-3,"","","/",{"$error":"#N/A"}]
[null,null,null,{"$f":"VLOOKUP($C3795,'SEI ISD'!$A$4:$B$124,2,0)","v":{"$error":"#N/A"}},null,null,null,null,1.645E-3,3.5608300000000001E-3,"","","/",{"$error":"#N/A"}]
[null,null,null,{"$f":"VLOOKUP($C3796,'SEI ISD'!$A$4:$B$124,2,0)","v":{"$error":"#N/A"}},null,null,null,null,1.645E-3,3.5608300000000001E-3,"","","/",{"$error":"#N/A"}]
[null,null,null,{"$f":"VLOOKUP($C3797,'SEI ISD'!$A$4:$B$124,2,0)","v":{"$error":"#N/A"}},null,null,null,null,1.645E-3,3.5608300000000001E-3,"","","/",{"$error":"#N/A"}]
[null,null,null,{"$f":"VLOOKUP($C3798,'SEI ISD'!$A$4:$B$124,2,0)","v":{"$error":"#N/A"}},null,null,null,null,1.645E-3,3.5608300000000001E-3,"","","/",{"$error":"#N/A"}]
[null,null,null,{"$f":"VLOOKUP($C3799,'SEI ISD'!$A$4:$B$124,2,0)","v":{"$error":"#N/A"}},null,null,null,null,1.645E-3,3.5608300000000001E-3,"","","/",{"$error":"#N/A"}]
[null,null,null,{"$f":"VLOOKUP($C3800,'SEI ISD'!$A$4:$B$124,2,0)","v":{"$error":"#N/A"}},null,null,null,null,1.645E-3,3.5608300000000001E-3,"","","/",{"$error":"#N/A"}]
[null,null,null,{"$f":"VLOOKUP($C3801,'SEI ISD'!$A$4:$B$124,2,0)","v":{"$error":"#N/A"}},null,null,null,null,1.645E-3,3.5608300000000001E-3,"","","/",{"$error":"#N/A"}]
[null,null,null,{"$f":"VLOOKUP($C3802,'SEI ISD'!$A$4:$B$124,2,0)","v":{"$error":"#N/A"}},null,null,null,null,1.645E-3,3.5608300000000001E-3,"","","/",{"$error":"#N/A"}]
[null,null,null,{"$f":"VLOOKUP($C3803,'SEI ISD'!$A$4:$B$124,2,0)","v":{"$error":"#N/A"}},null,null,null,null,1.645E-3,3.5608300000000001E-3,"","","/",{"$error":"#N/A"}]
[null,null,null,{"$f":"VLOOKUP($C3804,'SEI ISD'!$A$4:$B$124,2,0)","v":{"$error":"#N/A"}},null,null,null,null,1.645E-3,3.5608300000000001E-3,"","","/",{"$error":"#N/A"}]
[null,null,null,{"$f":"VLOOKUP($C3805,'SEI ISD'!$A$4:$B$124,2,0)","v":{"$error":"#N/A"}},null,null,null,null,1.645E-3,3.5608300000000001E-3,"","","/",{"$error":"#N/A"}]
[null,null,null,{"$f":"VLOOKUP($C3806,'SEI ISD'!$A$4:$B$124,2,0)","v":{"$error":"#N/A"}},null,null,null,null,1.645E-3,3.5608300000000001E-3,"","","/",{"$error":"#N/A"}]
[null,null,null,{"$f":"VLOOKUP($C3807,'SEI ISD'!$A$4:$B$124,2,0)","v":{"$error":"#N/A"}},null,null,null,null,1.645E-3,3.5608300000000001E-3,"","","/",{"$error":"#N/A"}]
[null,null,null,{"$f":"VLOOKUP($C3808,'SEI ISD'!$A$4:$B$124,2,0)","v":{"$error":"#N/A"}},null,null,null,null,1.645E-3,3.5608300000000001E-3,"","","/",{"$error":"#N/A"}]
[null,null,null,{"$f":"VLOOKUP($C3809,'SEI ISD'!$A$4:$B$124,2,0)","v":{"$error":"#N/A"}},null,null,null,null,1.645E-3,3.5608300000000001E-3,"","","/",{"$error":"#N/A"}]
[null,null,null,{"$f":"VLOOKUP($C3810,'SEI ISD'!$A$4:$B$124,2,0)","v":{"$error":"#N/A"}},null,null,null,null,1.645E-3,3.5608300000000001E-3,"","","/",{"$error":"#N/A"}]
[null,null,null,{"$f":"VLOOKUP($C3811,'SEI ISD'!$A$4:$B$124,2,0)","v":{"$error":"#N/A"}},null,null,null,null,1.645E-3,3.5608300000000001E-3,"","","/",{"$error":"#N/A"}]
[null,null,null,{"$f":"VLOOKUP($C3812,'SEI ISD'!$A$4:$B$124,2,0)","v":{"$error":"#N/A"}},null,null,null,null,1.645E-3,3.5608300000000001E-3,"","","/",{"$error":"#N/A"}]
[null,null,null,{"$f":"VLOOKUP($C3813,'SEI ISD'!$A$4:$B$124,2,0)","v":{"$error":"#N/A"}},null,null,null,null,1.645E-3,3.5608300000000001E-3,"","","/",{"$error":"#N/A"}]
[null,null,null,{"$f":"VLOOKUP($C3814,'SEI ISD'!$A$4:$B$124,2,0)","v":{"$error":"#N/A"}},null,null,null,null,1.645E-3,3.5608300000000001E-3,"","","/",{"$error":"#N/A"}]
[null,null,null,{"$f":"VLOOKUP($C3815,'SEI ISD'!$A$4:$B$124,2,0)","v":{"$error":"#N/A"}},null,null,null,null,1.645E-3,3.5608300000000001E-3,"","","/",{"$error":"#N/A"}]
[null,null,null,{"$f":"VLOOKUP($C3816,'SEI ISD'!$A$4:$B$124,2,0)","v":{"$error":"#N/A"}},null,null,null,null,1.645E-3,3.5608300000000001E-3,"","","/",{"$error":"#N/A"}]
[null,null,null,{"$f":"VLOOKUP($C3817,'SEI ISD'!$A$4:$B$124,2,0)","v":{"$error":"#N/A"}},null,null,null,null,1.645E-3,3.5608300000000001E-3,"","","/",{"$error":"#N/A"}]
[null,null,null,{"$f":"VLOOKUP($C3818,'SEI ISD'!$A$4:$B$124,2,0)","v":{"$error":"#N/A"}},null,null,null,null,1.645E-3,3.5608300000000001E-3,"","","/",{"$error":"#N/A"}]
[null,null,null,{"$f":"VLOOKUP($C3819,'SEI ISD'!$A$4:$B$124,2,0)","v":{"$error":"#N/A"}},null,null,null,null,1.645E-3,3.5608300000000001E-3,"","","/",{"$error":"#N/A"}]
[null,null,null,{"$f":"VLOOKUP($C3820,'SEI ISD'!$A$4:$B$124,2,0)","v":{"$error":"#N/A"}},null,null,null,null,1.645E-3,3.5608300000000001E-3,"","","/",{"$error":"#N/A"}]
[null,null,null,{"$f":"VLOOKUP($C3821,'SEI ISD'!$A$4:$B$124,2,0)","v":{"$error":"#N/A"}},null,null,null,null,1.645E-3,3.5608300000000001E-3,"","","/",{"$error":"#N/A"}]
[null,null,null,{"$f":"VLOOKUP($C3822,'SEI ISD'!$A$4:$B$124,2,0)","v":{"$error":"#N/A"}},null,null,null,null,1.645E-3,3.5608300000000001E-3,"","","/",{"$error":"#N/A"}]
[null,null,null,{"$f":"VLOOKUP($C3823,'SEI ISD'!$A$4:$B$124,2,0)","v":{"$error":"#N/A"}},null,null,null,null,1.645E-3,3.5608300000000001E-3,"","","/",{"$error":"#N/A"}]
[null,null,null,{"$f":"VLOOKUP($C3824,'SEI ISD'!$A$4:$B$124,2,0)","v":{"$error":"#N/A"}},null,null,null,null,1.645E-3,3.5608300000000001E-3,"","","/",{"$error":"#N/A"}]
[null,null,null,{"$f":"VLOOKUP($C3825,'SEI ISD'!$A$4:$B$124,2,0)","v":{"$error":"#N/A"}},null,null,null,null,1.645E-3,3.5608300000000001E-3,"","","/",{"$error":"#N/A"}]
[null,null,null,{"$f":"VLOOKUP($C3826,'SEI ISD'!$A$4:$B$124,2,0)","v":{"$error":"#N/A"}},null,null,null,null,1.645E-3,3.5608300000000001E-3,"","","/",{"$error":"#N/A"}]
[null,null,null,{"$f":"VLOOKUP($C3827,'SEI ISD'!$A$4:$B$124,2,0)","v":{"$error":"#N/A"}},null,null,null,null,1.645E-3,3.5608300000000001E-3,"","","/",{"$error":"#N/A"}]
[null,null,null,{"$f":"VLOOKUP($C3828,'SEI ISD'!$A$4:$B$124,2,0)","v":{"$error":"#N/A"}},null,null,null,null,1.645E-3,3.5608300000000001E-3,"","","/",{"$error":"#N/A"}]
[null,null,null,{"$f":"VLOOKUP($C3829,'SEI ISD'!$A$4:$B$124,2,0)","v":{"$error":"#N/A"}},null,null,null,null,1.645E-3,3.5608300000000001E-3,"","","/",{"$error":"#N/A"}]
[null,null,null,{"$f":"VLOOKUP($C3830,'SEI ISD'!$A$4:$B$124,2,0)","v":{"$error":"#N/A"}},null,null,null,null,1.645E-3,3.5608300000000001E-3,"","","/",{"$error":"#N/A"}]
[null,null,null,{"$f":"VLOOKUP($C3831,'SEI ISD'!$A$4:$B$124,2,0)","v":{"$error":"#N/A"}},null,null,null,null,1.645E-3,3.5608300000000001E-3,"","","/",{"$error":"#N/A"}]
[null,null,null,{"$f":"VLOOKUP($C3832,'SEI ISD'!$A$4:$B$124,2,0)","v":{"$error":"#N/A"}},null,null,null,null,1.645E-3,3.5608300000000001E-3,"","","/",{"$error":"#N/A"}]
[null,null,null,{"$f":"VLOOKUP($C3833,'SEI ISD'!$A$4:$B$124,2,0)","v":{"$error":"#N/A"}},null,null,null,null,1.645E-3,3.5608300000000001E-3,"","","/",{"$error":"#N/A"}]
[null,null,null,{"$f":"VLOOKUP($C3834,'SEI ISD'!$A$4:$B$124,2,0)","v":{"$error":"#N/A"}},null,null,null,null,1.645E-3,3.5608300000000001E-3,"","","/",{"$error":"#N/A"}]
[null,null,null,{"$f":"VLOOKUP($C3835,'SEI ISD'!$A$4:$B$124,2,0)","v":{"$error":"#N/A"}},null,null,null,null,1.645E-3,3.5608300000000001E-3,"","","/",{"$error":"#N/A"}]
[null,null,null,{"$f":"VLOOKUP($C3836,'SEI ISD'!$A$4:$B$124,2,0)","v":{"$error":"#N/A"}},null,null,null,null,1.645E-3,3.5608300000000001E-3,"","","/",{"$error":"#N/A"}]
[null,null,null,{"$f":"VLOOKUP($C3837,'SEI ISD'!$A$4:$B$124,2,0)","v":{"$error":"#N/A"}},null,null,null,null,1.645E-3,3.5608300000000001E-3,"","","/",{"$error":"#N/A"}]
[null,null,null,{"$f":"VLOOKUP($C3838,'SEI ISD'!$A$4:$B$124,2,0)","v":{"$error":"#N/A"}},null,null,null,null,1.645E-3,3.5608300000000001E-3,"","","/",{"$error":"#N/A"}]
[null,null,null,{"$f":"VLOOKUP($C3839,'SEI ISD'!$A$4:$B$124,2,0)","v":{"$error":"#N/A"}},null,null,null,null,1.645E-3,3.5608300000000001E-3,"","","/",{"$error":"#N/A"}]
[null,null,null,{"$f":"VLOOKUP($C3840,'SEI ISD'!$A$4:$B$124,2,0)","v":{"$error":"#N/A"}},null,null,null,null,1.645E-3,3.5608300000000001E-3,"","","/",{"$error":"#N/A"}]
[null,null,null,{"$f":"VLOOKUP($C3841,'SEI ISD'!$A$4:$B$124,2,0)","v":{"$error":"#N/A"}},null,null,null,null,1.645E-3,3.5608300000000001E-3,"","","/",{"$error":"#N/A"}]
[null,null,null,{"$f":"VLOOKUP($C3842,'SEI ISD'!$A$4:$B$124,2,0)","v":{"$error":"#N/A"}},null,null,null,null,1.645E-3,3.5608300000000001E-3,"","","/",{"$error":"#N/A"}]
[null,null,null,{"$f":"VLOOKUP($C3843,'SEI ISD'!$A$4:$B$124,2,0)","v":{"$error":"#N/A"}},null,null,null,null,1.645E-3,3.5608300000000001E-3,"","","/",{"$error":"#N/A"}]
[null,null,null,{"$f":"VLOOKUP($C3844,'SEI ISD'!$A$4:$B$124,2,0)","v":{"$error":"#N/A"}},null,null,null,null,1.645E-3,3.5608300000000001E-3,"","","/",{"$error":"#N/A"}]
[null,null,null,{"$f":"VLOOKUP($C3845,'SEI ISD'!$A$4:$B$124,2,0)","v":{"$error":"#N/A"}},null,null,null,null,1.645E-3,3.5608300000000001E-3,"","","/",{"$error":"#N/A"}]
[null,null,null,{"$f":"VLOOKUP($C3846,'SEI ISD'!$A$4:$B$124,2,0)","v":{"$error":"#N/A"}},null,null,null,null,1.645E-3,3.5608300000000001E-3,"","","/",{"$error":"#N/A"}]
[null,null,null,{"$f":"VLOOKUP($C3847,'SEI ISD'!$A$4:$B$124,2,0)","v":{"$error":"#N/A"}},null,null,null,null,1.645E-3,3.5608300000000001E-3,"","","/",{"$error":"#N/A"}]
[null,null,null,{"$f":"VLOOKUP($C3848,'SEI ISD'!$A$4:$B$124,2,0)","v":{"$error":"#N/A"}},null,null,null,null,1.645E-3,3.5608300000000001E-3,"","","/",{"$error":"#N/A"}]
[null,null,null,{"$f":"VLOOKUP($C3849,'SEI ISD'!$A$4:$B$124,2,0)","v":{"$error":"#N/A"}},null,null,null,null,1.645E-3,3.5608300000000001E-3,"","","/",{"$error":"#N/A"}]
[null,null,null,{"$f":"VLOOKUP($C3850,'SEI ISD'!$A$4:$B$124,2,0)","v":{"$error":"#N/A"}},null,null,null,null,1.645E-3,3.5608300000000001E-3,"","","/",{"$error":"#N/A"}]
[null,null,null,{"$f":"VLOOKUP($C3851,'SEI ISD'!$A$4:$B$124,2,0)","v":{"$error":"#N/A"}},null,null,null,null,1.645E-3,3.5608300000000001E-3,"","","/",{"$error":"#N/A"}]
[null,null,null,{"$f":"VLOOKUP($C3852,'SEI ISD'!$A$4:$B$124,2,0)","v":{"$error":"#N/A"}},null,null,null,null,1.645E-3,3.5608300000000001E-3,"","","/",{"$error":"#N/A"}]
[null,null,null,{"$f":"VLOOKUP($C3853,'SEI ISD'!$A$4:$B$124,2,0)","v":{"$error":"#N/A"}},null,null,null,null,1.645E-3,3.5608300000000001E-3,"","","/",{"$error":"#N/A"}]
[null,null,null,{"$f":"VLOOKUP($C3854,'SEI ISD'!$A$4:$B$124,2,0)","v":{"$error":"#N/A"}},null,null,null,null,1.645E-3,3.5608300000000001E-3,{"$f":"RIGHT(G3854,2)","v":""},{"$f":"LEFT(G3854,4)","v":""},{"$f":"_xlfn.CONCAT(K3854,\"/\",L3854)","v":"/"},{"$f":"EOMONTH(D3854,0)","v":{"$error":"#N/A"}}]
[null,null,null,{"$f":"VLOOKUP($C3855,'SEI ISD'!$A$4:$B$124,2,0)","v":{"$error":"#N/A"}},null,null,null,null,1.645E-3,3.5608300000000001E-3,"","","/",{"$error":"#N/A"}]
[null,null,null,{"$f":"VLOOKUP($C3856,'SEI ISD'!$A$4:$B$124,2,0)","v":{"$error":"#N/A"}},null,null,null,null,1.645E-3,3.5608300000000001E-3,"","","/",{"$error":"#N/A"}]
[null,null,null,{"$f":"VLOOKUP($C3857,'SEI ISD'!$A$4:$B$124,2,0)","v":{"$error":"#N/A"}},null,null,null,null,1.645E-3,3.5608300000000001E-3,"","","/",{"$error":"#N/A"}]
[null,null,null,{"$f":"VLOOKUP($C3858,'SEI ISD'!$A$4:$B$124,2,0)","v":{"$error":"#N/A"}},null,null,null,null,1.645E-3,3.5608300000000001E-3,"","","/",{"$error":"#N/A"}]
[null,null,null,{"$f":"VLOOKUP($C3859,'SEI ISD'!$A$4:$B$124,2,0)","v":{"$error":"#N/A"}},null,null,null,null,1.645E-3,3.5608300000000001E-3,"","","/",{"$error":"#N/A"}]
[null,null,null,{"$f":"VLOOKUP($C3860,'SEI ISD'!$A$4:$B$124,2,0)","v":{"$error":"#N/A"}},null,null,null,null,1.645E-3,3.5608300000000001E-3,"","","/",{"$error":"#N/A"}]
[null,null,null,{"$f":"VLOOKUP($C3861,'SEI ISD'!$A$4:$B$124,2,0)","v":{"$error":"#N/A"}},null,null,null,null,1.645E-3,3.5608300000000001E-3,"","","/",{"$error":"#N/A"}]
[null,null,null,{"$f":"VLOOKUP($C3862,'SEI ISD'!$A$4:$B$124,2,0)","v":{"$error":"#N/A"}},null,null,null,null,1.645E-3,3.5608300000000001E-3,"","","/",{"$error":"#N/A"}]
[null,null,null,{"$f":"VLOOKUP($C3863,'SEI ISD'!$A$4:$B$124,2,0)","v":{"$error":"#N/A"}},null,null,null,null,1.645E-3,3.5608300000000001E-3,"","","/",{"$error":"#N/A"}]
[null,null,null,{"$f":"VLOOKUP($C3864,'SEI ISD'!$A$4:$B$124,2,0)","v":{"$error":"#N/A"}},null,null,null,null,1.645E-3,3.5608300000000001E-3,"","","/",{"$error":"#N/A"}]
[null,null,null,{"$f":"VLOOKUP($C3865,'SEI ISD'!$A$4:$B$124,2,0)","v":{"$error":"#N/A"}},null,null,null,null,1.645E-3,3.5608300000000001E-3,"","","/",{"$error":"#N/A"}]
[null,null,null,{"$f":"VLOOKUP($C3866,'SEI ISD'!$A$4:$B$124,2,0)","v":{"$error":"#N/A"}},null,null,null,null,1.645E-3,3.5608300000000001E-3,"","","/",{"$error":"#N/A"}]
[null,null,null,{"$f":"VLOOKUP($C3867,'SEI ISD'!$A$4:$B$124,2,0)","v":{"$error":"#N/A"}},null,null,null,null,1.645E-3,3.5608300000000001E-3,"","","/",{"$error":"#N/A"}]
[null,null,null,{"$f":"VLOOKUP($C3868,'SEI ISD'!$A$4:$B$124,2,0)","v":{"$error":"#N/A"}},null,null,null,null,1.645E-3,3.5608300000000001E-3,"","","/",{"$error":"#N/A"}]
[null,null,null,{"$f":"VLOOKUP($C3869,'SEI ISD'!$A$4:$B$124,2,0)","v":{"$error":"#N/A"}},null,null,null,null,1.645E-3,3.5608300000000001E-3,"","","/",{"$error":"#N/A"}]
[null,null,null,{"$f":"VLOOKUP($C3870,'SEI ISD'!$A$4:$B$124,2,0)","v":{"$error":"#N/A"}},null,null,null,null,1.645E-3,3.5608300000000001E-3,"","","/",{"$error":"#N/A"}]
[null,null,null,{"$f":"VLOOKUP($C3871,'SEI ISD'!$A$4:$B$124,2,0)","v":{"$error":"#N/A"}},null,null,null,null,1.645E-3,3.5608300000000001E-3,"","","/",{"$error":"#N/A"}]
[null,null,null,{"$f":"VLOOKUP($C3872,'SEI ISD'!$A$4:$B$124,2,0)","v":{"$error":"#N/A"}},null,null,null,null,1.645E-3,3.5608300000000001E-3,"","","/",{"$error":"#N/A"}]
[null,null,null,{"$f":"VLOOKUP($C3873,'SEI ISD'!$A$4:$B$124,2,0)","v":{"$error":"#N/A"}},null,null,null,null,1.645E-3,3.5608300000000001E-3,"","","/",{"$error":"#N/A"}]
[null,null,null,{"$f":"VLOOKUP($C3874,'SEI ISD'!$A$4:$B$124,2,0)","v":{"$error":"#N/A"}},null,null,null,null,1.645E-3,3.5608300000000001E-3,"","","/",{"$error":"#N/A"}]
[null,null,null,{"$f":"VLOOKUP($C3875,'SEI ISD'!$A$4:$B$124,2,0)","v":{"$error":"#N/A"}},null,null,null,null,1.645E-3,3.5608300000000001E-3,"","","/",{"$error":"#N/A"}]
[null,null,null,{"$f":"VLOOKUP($C3876,'SEI ISD'!$A$4:$B$124,2,0)","v":{"$error":"#N/A"}},null,null,null,null,1.645E-3,3.5608300000000001E-3,"","","/",{"$error":"#N/A"}]
[null,null,null,{"$f":"VLOOKUP($C3877,'SEI ISD'!$A$4:$B$124,2,0)","v":{"$error":"#N/A"}},null,null,null,null,1.645E-3,3.5608300000000001E-3,"","","/",{"$error":"#N/A"}]
[null,null,null,{"$f":"VLOOKUP($C3878,'SEI ISD'!$A$4:$B$124,2,0)","v":{"$error":"#N/A"}},null,null,null,null,1.645E-3,3.5608300000000001E-3,"","","/",{"$error":"#N/A"}]
[null,null,null,{"$f":"VLOOKUP($C3879,'SEI ISD'!$A$4:$B$124,2,0)","v":{"$error":"#N/A"}},null,null,null,null,1.645E-3,3.5608300000000001E-3,"","","/",{"$error":"#N/A"}]
[null,null,null,{"$f":"VLOOKUP($C3880,'SEI ISD'!$A$4:$B$124,2,0)","v":{"$error":"#N/A"}},null,null,null,null,1.645E-3,3.5608300000000001E-3,"","","/",{"$error":"#N/A"}]
[null,null,null,{"$f":"VLOOKUP($C3881,'SEI ISD'!$A$4:$B$124,2,0)","v":{"$error":"#N/A"}},null,null,null,null,1.645E-3,3.5608300000000001E-3,"","","/",{"$error":"#N/A"}]
[null,null,null,{"$f":"VLOOKUP($C3882,'SEI ISD'!$A$4:$B$124,2,0)","v":{"$error":"#N/A"}},null,null,null,null,1.645E-3,3.5608300000000001E-3,"","","/",{"$error":"#N/A"}]
[null,null,null,{"$f":"VLOOKUP($C3883,'SEI ISD'!$A$4:$B$124,2,0)","v":{"$error":"#N/A"}},null,null,null,null,1.645E-3,3.5608300000000001E-3,"","","/",{"$error":"#N/A"}]
[null,null,null,{"$f":"VLOOKUP($C3884,'SEI ISD'!$A$4:$B$124,2,0)","v":{"$error":"#N/A"}},null,null,null,null,1.645E-3,3.5608300000000001E-3,"","","/",{"$error":"#N/A"}]
[null,null,null,{"$f":"VLOOKUP($C3885,'SEI ISD'!$A$4:$B$124,2,0)","v":{"$error":"#N/A"}},null,null,null,null,1.645E-3,3.5608300000000001E-3,"","","/",{"$error":"#N/A"}]
[null,null,null,{"$f":"VLOOKUP($C3886,'SEI ISD'!$A$4:$B$124,2,0)","v":{"$error":"#N/A"}},null,null,null,null,1.645E-3,3.5608300000000001E-3,"","","/",{"$error":"#N/A"}]
[null,null,null,{"$f":"VLOOKUP($C3887,'SEI ISD'!$A$4:$B$124,2,0)","v":{"$error":"#N/A"}},null,null,null,null,1.645E-3,3.5608300000000001E-3,"","","/",{"$error":"#N/A"}]
[null,null,null,{"$f":"VLOOKUP($C3888,'SEI ISD'!$A$4:$B$124,2,0)","v":{"$error":"#N/A"}},null,null,null,null,1.645E-3,3.5608300000000001E-3,"","","/",{"$error":"#N/A"}]
[null,null,null,{"$f":"VLOOKUP($C3889,'SEI ISD'!$A$4:$B$124,2,0)","v":{"$error":"#N/A"}},null,null,null,null,1.645E-3,3.5608300000000001E-3,"","","/",{"$error":"#N/A"}]
[null,null,null,{"$f":"VLOOKUP($C3890,'SEI ISD'!$A$4:$B$124,2,0)","v":{"$error":"#N/A"}},null,null,null,null,1.645E-3,3.5608300000000001E-3,"","","/",{"$error":"#N/A"}]
[null,null,null,{"$f":"VLOOKUP($C3891,'SEI ISD'!$A$4:$B$124,2,0)","v":{"$error":"#N/A"}},null,null,null,null,1.645E-3,3.5608300000000001E-3,"","","/",{"$error":"#N/A"}]
[null,null,null,{"$f":"VLOOKUP($C3892,'SEI ISD'!$A$4:$B$124,2,0)","v":{"$error":"#N/A"}},null,null,null,null,1.645E-3,3.5608300000000001E-3,"","","/",{"$error":"#N/A"}]
[null,null,null,{"$f":"VLOOKUP($C3893,'SEI ISD'!$A$4:$B$124,2,0)","v":{"$error":"#N/A"}},null,null,null,null,1.645E-3,3.5608300000000001E-3,"","","/",{"$error":"#N/A"}]
[null,null,null,{"$f":"VLOOKUP($C3894,'SEI ISD'!$A$4:$B$124,2,0)","v":{"$error":"#N/A"}},null,null,null,null,1.645E-3,3.5608300000000001E-3,"","","/",{"$error":"#N/A"}]
[null,null,null,{"$f":"VLOOKUP($C3895,'SEI ISD'!$A$4:$B$124,2,0)","v":{"$error":"#N/A"}},null,null,null,null,1.645E-3,3.5608300000000001E-3,"","","/",{"$error":"#N/A"}]
[null,null,null,{"$f":"VLOOKUP($C3896,'SEI ISD'!$A$4:$B$124,2,0)","v":{"$error":"#N/A"}},null,null,null,null,1.645E-3,3.5608300000000001E-3,"","","/",{"$error":"#N/A"}]
[null,null,null,{"$f":"VLOOKUP($C3897,'SEI ISD'!$A$4:$B$124,2,0)","v":{"$error":"#N/A"}},null,null,null,null,1.645E-3,3.5608300000000001E-3,"","","/",{"$error":"#N/A"}]
[null,null,null,{"$f":"VLOOKUP($C3898,'SEI ISD'!$A$4:$B$124,2,0)","v":{"$error":"#N/A"}},null,null,null,null,1.645E-3,3.5608300000000001E-3,"","","/",{"$error":"#N/A"}]
[null,null,null,{"$f":"VLOOKUP($C3899,'SEI ISD'!$A$4:$B$124,2,0)","v":{"$error":"#N/A"}},null,null,null,null,1.645E-3,3.5608300000000001E-3,"","","/",{"$error":"#N/A"}]
[null,null,null,{"$f":"VLOOKUP($C3900,'SEI ISD'!$A$4:$B$124,2,0)","v":{"$error":"#N/A"}},null,null,null,null,1.645E-3,3.5608300000000001E-3,"","","/",{"$error":"#N/A"}]
[null,null,null,{"$f":"VLOOKUP($C3901,'SEI ISD'!$A$4:$B$124,2,0)","v":{"$error":"#N/A"}},null,null,null,null,1.645E-3,3.5608300000000001E-3,"","","/",{"$error":"#N/A"}]
[null,null,null,{"$f":"VLOOKUP($C3902,'SEI ISD'!$A$4:$B$124,2,0)","v":{"$error":"#N/A"}},null,null,null,null,1.645E-3,3.5608300000000001E-3,"","","/",{"$error":"#N/A"}]
[null,null,null,{"$f":"VLOOKUP($C3903,'SEI ISD'!$A$4:$B$124,2,0)","v":{"$error":"#N/A"}},null,null,null,null,1.645E-3,3.5608300000000001E-3,"","","/",{"$error":"#N/A"}]
[null,null,null,{"$f":"VLOOKUP($C3904,'SEI ISD'!$A$4:$B$124,2,0)","v":{"$error":"#N/A"}},null,null,null,null,1.645E-3,3.5608300000000001E-3,"","","/",{"$error":"#N/A"}]
[null,null,null,{"$f":"VLOOKUP($C3905,'SEI ISD'!$A$4:$B$124,2,0)","v":{"$error":"#N/A"}},null,null,null,null,1.645E-3,3.5608300000000001E-3,"","","/",{"$error":"#N/A"}]
[null,null,null,{"$f":"VLOOKUP($C3906,'SEI ISD'!$A$4:$B$124,2,0)","v":{"$error":"#N/A"}},null,null,null,null,1.645E-3,3.5608300000000001E-3,"","","/",{"$error":"#N/A"}]
[null,null,null,{"$f":"VLOOKUP($C3907,'SEI ISD'!$A$4:$B$124,2,0)","v":{"$error":"#N/A"}},null,null,null,null,1.645E-3,3.5608300000000001E-3,"","","/",{"$error":"#N/A"}]
[null,null,null,{"$f":"VLOOKUP($C3908,'SEI ISD'!$A$4:$B$124,2,0)","v":{"$error":"#N/A"}},null,null,null,null,1.645E-3,3.5608300000000001E-3,"","","/",{"$error":"#N/A"}]
[null,null,null,{"$f":"VLOOKUP($C3909,'SEI ISD'!$A$4:$B$124,2,0)","v":{"$error":"#N/A"}},null,null,null,null,1.645E-3,3.5608300000000001E-3,"","","/",{"$error":"#N/A"}]
[null,null,null,{"$f":"VLOOKUP($C3910,'SEI ISD'!$A$4:$B$124,2,0)","v":{"$error":"#N/A"}},null,null,null,null,1.645E-3,3.5608300000000001E-3,"","","/",{"$error":"#N/A"}]
[null,null,null,{"$f":"VLOOKUP($C3911,'SEI ISD'!$A$4:$B$124,2,0)","v":{"$error":"#N/A"}},null,null,null,null,1.645E-3,3.5608300000000001E-3,"","","/",{"$error":"#N/A"}]
[null,null,null,{"$f":"VLOOKUP($C3912,'SEI ISD'!$A$4:$B$124,2,0)","v":{"$error":"#N/A"}},null,null,null,null,1.645E-3,3.5608300000000001E-3,"","","/",{"$error":"#N/A"}]
[null,null,null,{"$f":"VLOOKUP($C3913,'SEI ISD'!$A$4:$B$124,2,0)","v":{"$error":"#N/A"}},null,null,null,null,1.645E-3,3.5608300000000001E-3,"","","/",{"$error":"#N/A"}]
[null,null,null,{"$f":"VLOOKUP($C3914,'SEI ISD'!$A$4:$B$124,2,0)","v":{"$error":"#N/A"}},null,null,null,null,1.645E-3,3.5608300000000001E-3,"","","/",{"$error":"#N/A"}]
[null,null,null,{"$f":"VLOOKUP($C3915,'SEI ISD'!$A$4:$B$124,2,0)","v":{"$error":"#N/A"}},null,null,null,null,1.645E-3,3.5608300000000001E-3,"","","/",{"$error":"#N/A"}]
[null,null,null,{"$f":"VLOOKUP($C3916,'SEI ISD'!$A$4:$B$124,2,0)","v":{"$error":"#N/A"}},null,null,null,null,1.645E-3,3.5608300000000001E-3,"","","/",{"$error":"#N/A"}]
[null,null,null,{"$f":"VLOOKUP($C3917,'SEI ISD'!$A$4:$B$124,2,0)","v":{"$error":"#N/A"}},null,null,null,null,1.645E-3,3.5608300000000001E-3,"","","/",{"$error":"#N/A"}]
[null,null,null,{"$f":"VLOOKUP($C3918,'SEI ISD'!$A$4:$B$124,2,0)","v":{"$error":"#N/A"}},null,null,null,null,1.645E-3,3.5608300000000001E-3,{"$f":"RIGHT(G3918,2)","v":""},{"$f":"LEFT(G3918,4)","v":""},{"$f":"_xlfn.CONCAT(K3918,\"/\",L3918)","v":"/"},{"$f":"EOMONTH(D3918,0)","v":{"$error":"#N/A"}}]
[null,null,null,{"$f":"VLOOKUP($C3919,'SEI ISD'!$A$4:$B$124,2,0)","v":{"$error":"#N/A"}},null,null,null,null,1.645E-3,3.5608300000000001E-3,"","","/",{"$error":"#N/A"}]
[null,null,null,{"$f":"VLOOKUP($C3920,'SEI ISD'!$A$4:$B$124,2,0)","v":{"$error":"#N/A"}},null,null,null,null,1.645E-3,3.5608300000000001E-3,"","","/",{"$error":"#N/A"}]
[null,null,null,{"$f":"VLOOKUP($C3921,'SEI ISD'!$A$4:$B$124,2,0)","v":{"$error":"#N/A"}},null,null,null,null,1.645E-3,3.5608300000000001E-3,"","","/",{"$error":"#N/A"}]
[null,null,null,{"$f":"VLOOKUP($C3922,'SEI ISD'!$A$4:$B$124,2,0)","v":{"$error":"#N/A"}},null,null,null,null,1.645E-3,3.5608300000000001E-3,"","","/",{"$error":"#N/A"}]
[null,null,null,{"$f":"VLOOKUP($C3923,'SEI ISD'!$A$4:$B$124,2,0)","v":{"$error":"#N/A"}},null,null,null,null,1.645E-3,3.5608300000000001E-3,"","","/",{"$error":"#N/A"}]
[null,null,null,{"$f":"VLOOKUP($C3924,'SEI ISD'!$A$4:$B$124,2,0)","v":{"$error":"#N/A"}},null,null,null,null,1.645E-3,3.5608300000000001E-3,"","","/",{"$error":"#N/A"}]
[null,null,null,{"$f":"VLOOKUP($C3925,'SEI ISD'!$A$4:$B$124,2,0)","v":{"$error":"#N/A"}},null,null,null,null,1.645E-3,3.5608300000000001E-3,"","","/",{"$error":"#N/A"}]
[null,null,null,{"$f":"VLOOKUP($C3926,'SEI ISD'!$A$4:$B$124,2,0)","v":{"$error":"#N/A"}},null,null,null,null,1.645E-3,3.5608300000000001E-3,"","","/",{"$error":"#N/A"}]
[null,null,null,{"$f":"VLOOKUP($C3927,'SEI ISD'!$A$4:$B$124,2,0)","v":{"$error":"#N/A"}},null,null,null,null,1.645E-3,3.5608300000000001E-3,"","","/",{"$error":"#N/A"}]
[null,null,null,{"$f":"VLOOKUP($C3928,'SEI ISD'!$A$4:$B$124,2,0)","v":{"$error":"#N/A"}},null,null,null,null,1.645E-3,3.5608300000000001E-3,"","","/",{"$error":"#N/A"}]
[null,null,null,{"$f":"VLOOKUP($C3929,'SEI ISD'!$A$4:$B$124,2,0)","v":{"$error":"#N/A"}},null,null,null,null,1.645E-3,3.5608300000000001E-3,"","","/",{"$error":"#N/A"}]
[null,null,null,{"$f":"VLOOKUP($C3930,'SEI ISD'!$A$4:$B$124,2,0)","v":{"$error":"#N/A"}},null,null,null,null,1.645E-3,3.5608300000000001E-3,"","","/",{"$error":"#N/A"}]
[null,null,null,{"$f":"VLOOKUP($C3931,'SEI ISD'!$A$4:$B$124,2,0)","v":{"$error":"#N/A"}},null,null,null,null,1.645E-3,3.5608300000000001E-3,"","","/",{"$error":"#N/A"}]
[null,null,null,{"$f":"VLOOKUP($C3932,'SEI ISD'!$A$4:$B$124,2,0)","v":{"$error":"#N/A"}},null,null,null,null,1.645E-3,3.5608300000000001E-3,"","","/",{"$error":"#N/A"}]
[null,null,null,{"$f":"VLOOKUP($C3933,'SEI ISD'!$A$4:$B$124,2,0)","v":{"$error":"#N/A"}},null,null,null,null,1.645E-3,3.5608300000000001E-3,"","","/",{"$error":"#N/A"}]
[null,null,null,{"$f":"VLOOKUP($C3934,'SEI ISD'!$A$4:$B$124,2,0)","v":{"$error":"#N/A"}},null,null,null,null,1.645E-3,3.5608300000000001E-3,"","","/",{"$error":"#N/A"}]
[null,null,null,{"$f":"VLOOKUP($C3935,'SEI ISD'!$A$4:$B$124,2,0)","v":{"$error":"#N/A"}},null,null,null,null,1.645E-3,3.5608300000000001E-3,"","","/",{"$error":"#N/A"}]
[null,null,null,{"$f":"VLOOKUP($C3936,'SEI ISD'!$A$4:$B$124,2,0)","v":{"$error":"#N/A"}},null,null,null,null,1.645E-3,3.5608300000000001E-3,"","","/",{"$error":"#N/A"}]
[null,null,null,{"$f":"VLOOKUP($C3937,'SEI ISD'!$A$4:$B$124,2,0)","v":{"$error":"#N/A"}},null,null,null,null,1.645E-3,3.5608300000000001E-3,"","","/",{"$error":"#N/A"}]
[null,null,null,{"$f":"VLOOKUP($C3938,'SEI ISD'!$A$4:$B$124,2,0)","v":{"$error":"#N/A"}},null,null,null,null,1.645E-3,3.5608300000000001E-3,"","","/",{"$error":"#N/A"}]
[null,null,null,{"$f":"VLOOKUP($C3939,'SEI ISD'!$A$4:$B$124,2,0)","v":{"$error":"#N/A"}},null,null,null,null,1.645E-3,3.5608300000000001E-3,"","","/",{"$error":"#N/A"}]
[null,null,null,{"$f":"VLOOKUP($C3940,'SEI ISD'!$A$4:$B$124,2,0)","v":{"$error":"#N/A"}},null,null,null,null,1.645E-3,3.5608300000000001E-3,"","","/",{"$error":"#N/A"}]
[null,null,null,{"$f":"VLOOKUP($C3941,'SEI ISD'!$A$4:$B$124,2,0)","v":{"$error":"#N/A"}},null,null,null,null,1.645E-3,3.5608300000000001E-3,"","","/",{"$error":"#N/A"}]
[null,null,null,{"$f":"VLOOKUP($C3942,'SEI ISD'!$A$4:$B$124,2,0)","v":{"$error":"#N/A"}},null,null,null,null,1.645E-3,3.5608300000000001E-3,"","","/",{"$error":"#N/A"}]
[null,null,null,{"$f":"VLOOKUP($C3943,'SEI ISD'!$A$4:$B$124,2,0)","v":{"$error":"#N/A"}},null,null,null,null,1.645E-3,3.5608300000000001E-3,"","","/",{"$error":"#N/A"}]
[null,null,null,{"$f":"VLOOKUP($C3944,'SEI ISD'!$A$4:$B$124,2,0)","v":{"$error":"#N/A"}},null,null,null,null,1.645E-3,3.5608300000000001E-3,"","","/",{"$error":"#N/A"}]
[null,null,null,{"$f":"VLOOKUP($C3945,'SEI ISD'!$A$4:$B$124,2,0)","v":{"$error":"#N/A"}},null,null,null,null,1.645E-3,3.5608300000000001E-3,"","","/",{"$error":"#N/A"}]
[null,null,null,{"$f":"VLOOKUP($C3946,'SEI ISD'!$A$4:$B$124,2,0)","v":{"$error":"#N/A"}},null,null,null,null,1.645E-3,3.5608300000000001E-3,"","","/",{"$error":"#N/A"}]
[null,null,null,{"$f":"VLOOKUP($C3947,'SEI ISD'!$A$4:$B$124,2,0)","v":{"$error":"#N/A"}},null,null,null,null,1.645E-3,3.5608300000000001E-3,"","","/",{"$error":"#N/A"}]
[null,null,null,{"$f":"VLOOKUP($C3948,'SEI ISD'!$A$4:$B$124,2,0)","v":{"$error":"#N/A"}},null,null,null,null,1.645E-3,3.5608300000000001E-3,"","","/",{"$error":"#N/A"}]
[null,null,null,{"$f":"VLOOKUP($C3949,'SEI ISD'!$A$4:$B$124,2,0)","v":{"$error":"#N/A"}},null,null,null,null,1.645E-3,3.5608300000000001E-3,"","","/",{"$error":"#N/A"}]
[null,null,null,{"$f":"VLOOKUP($C3950,'SEI ISD'!$A$4:$B$124,2,0)","v":{"$error":"#N/A"}},null,null,null,null,1.645E-3,3.5608300000000001E-3,"","","/",{"$error":"#N/A"}]
[null,null,null,{"$f":"VLOOKUP($C3951,'SEI ISD'!$A$4:$B$124,2,0)","v":{"$error":"#N/A"}},null,null,null,null,1.645E-3,3.5608300000000001E-3,"","","/",{"$error":"#N/A"}]
[null,null,null,{"$f":"VLOOKUP($C3952,'SEI ISD'!$A$4:$B$124,2,0)","v":{"$error":"#N/A"}},null,null,null,null,1.645E-3,3.5608300000000001E-3,"","","/",{"$error":"#N/A"}]
[null,null,null,{"$f":"VLOOKUP($C3953,'SEI ISD'!$A$4:$B$124,2,0)","v":{"$error":"#N/A"}},null,null,null,null,1.645E-3,3.5608300000000001E-3,"","","/",{"$error":"#N/A"}]
[null,null,null,{"$f":"VLOOKUP($C3954,'SEI ISD'!$A$4:$B$124,2,0)","v":{"$error":"#N/A"}},null,null,null,null,1.645E-3,3.5608300000000001E-3,"","","/",{"$error":"#N/A"}]
[null,null,null,{"$f":"VLOOKUP($C3955,'SEI ISD'!$A$4:$B$124,2,0)","v":{"$error":"#N/A"}},null,null,null,null,1.645E-3,3.5608300000000001E-3,"","","/",{"$error":"#N/A"}]
[null,null,null,{"$f":"VLOOKUP($C3956,'SEI ISD'!$A$4:$B$124,2,0)","v":{"$error":"#N/A"}},null,null,null,null,1.645E-3,3.5608300000000001E-3,"","","/",{"$error":"#N/A"}]
[null,null,null,{"$f":"VLOOKUP($C3957,'SEI ISD'!$A$4:$B$124,2,0)","v":{"$error":"#N/A"}},null,null,null,null,1.645E-3,3.5608300000000001E-3,"","","/",{"$error":"#N/A"}]
[null,null,null,{"$f":"VLOOKUP($C3958,'SEI ISD'!$A$4:$B$124,2,0)","v":{"$error":"#N/A"}},null,null,null,null,1.645E-3,3.5608300000000001E-3,"","","/",{"$error":"#N/A"}]
[null,null,null,{"$f":"VLOOKUP($C3959,'SEI ISD'!$A$4:$B$124,2,0)","v":{"$error":"#N/A"}},null,null,null,null,1.645E-3,3.5608300000000001E-3,"","","/",{"$error":"#N/A"}]
[null,null,null,{"$f":"VLOOKUP($C3960,'SEI ISD'!$A$4:$B$124,2,0)","v":{"$error":"#N/A"}},null,null,null,null,1.645E-3,3.5608300000000001E-3,"","","/",{"$error":"#N/A"}]
[null,null,null,{"$f":"VLOOKUP($C3961,'SEI ISD'!$A$4:$B$124,2,0)","v":{"$error":"#N/A"}},null,null,null,null,1.645E-3,3.5608300000000001E-3,"","","/",{"$error":"#N/A"}]
[null,null,null,{"$f":"VLOOKUP($C3962,'SEI ISD'!$A$4:$B$124,2,0)","v":{"$error":"#N/A"}},null,null,null,null,1.645E-3,3.5608300000000001E-3,"","","/",{"$error":"#N/A"}]
[null,null,null,{"$f":"VLOOKUP($C3963,'SEI ISD'!$A$4:$B$124,2,0)","v":{"$error":"#N/A"}},null,null,null,null,1.645E-3,3.5608300000000001E-3,"","","/",{"$error":"#N/A"}]
[null,null,null,{"$f":"VLOOKUP($C3964,'SEI ISD'!$A$4:$B$124,2,0)","v":{"$error":"#N/A"}},null,null,null,null,1.645E-3,3.5608300000000001E-3,"","","/",{"$error":"#N/A"}]
[null,null,null,{"$f":"VLOOKUP($C3965,'SEI ISD'!$A$4:$B$124,2,0)","v":{"$error":"#N/A"}},null,null,null,null,1.645E-3,3.5608300000000001E-3,"","","/",{"$error":"#N/A"}]
[null,null,null,{"$f":"VLOOKUP($C3966,'SEI ISD'!$A$4:$B$124,2,0)","v":{"$error":"#N/A"}},null,null,null,null,1.645E-3,3.5608300000000001E-3,"","","/",{"$error":"#N/A"}]
[null,null,null,{"$f":"VLOOKUP($C3967,'SEI ISD'!$A$4:$B$124,2,0)","v":{"$error":"#N/A"}},null,null,null,null,1.645E-3,3.5608300000000001E-3,"","","/",{"$error":"#N/A"}]
[null,null,null,{"$f":"VLOOKUP($C3968,'SEI ISD'!$A$4:$B$124,2,0)","v":{"$error":"#N/A"}},null,null,null,null,1.645E-3,3.5608300000000001E-3,"","","/",{"$error":"#N/A"}]
[null,null,null,{"$f":"VLOOKUP($C3969,'SEI ISD'!$A$4:$B$124,2,0)","v":{"$error":"#N/A"}},null,null,null,null,1.645E-3,3.5608300000000001E-3,"","","/",{"$error":"#N/A"}]
[null,null,null,{"$f":"VLOOKUP($C3970,'SEI ISD'!$A$4:$B$124,2,0)","v":{"$error":"#N/A"}},null,null,null,null,1.645E-3,3.5608300000000001E-3,"","","/",{"$error":"#N/A"}]
[null,null,null,{"$f":"VLOOKUP($C3971,'SEI ISD'!$A$4:$B$124,2,0)","v":{"$error":"#N/A"}},null,null,null,null,1.645E-3,3.5608300000000001E-3,"","","/",{"$error":"#N/A"}]
[null,null,null,{"$f":"VLOOKUP($C3972,'SEI ISD'!$A$4:$B$124,2,0)","v":{"$error":"#N/A"}},null,null,null,null,1.645E-3,3.5608300000000001E-3,"","","/",{"$error":"#N/A"}]
[null,null,null,{"$f":"VLOOKUP($C3973,'SEI ISD'!$A$4:$B$124,2,0)","v":{"$error":"#N/A"}},null,null,null,null,1.645E-3,3.5608300000000001E-3,"","","/",{"$error":"#N/A"}]
[null,null,null,{"$f":"VLOOKUP($C3974,'SEI ISD'!$A$4:$B$124,2,0)","v":{"$error":"#N/A"}},null,null,null,null,1.645E-3,3.5608300000000001E-3,"","","/",{"$error":"#N/A"}]
[null,null,null,{"$f":"VLOOKUP($C3975,'SEI ISD'!$A$4:$B$124,2,0)","v":{"$error":"#N/A"}},null,null,null,null,1.645E-3,3.5608300000000001E-3,"","","/",{"$error":"#N/A"}]
[null,null,null,{"$f":"VLOOKUP($C3976,'SEI ISD'!$A$4:$B$124,2,0)","v":{"$error":"#N/A"}},null,null,null,null,1.645E-3,3.5608300000000001E-3,"","","/",{"$error":"#N/A"}]
[null,null,null,{"$f":"VLOOKUP($C3977,'SEI ISD'!$A$4:$B$124,2,0)","v":{"$error":"#N/A"}},null,null,null,null,1.645E-3,3.5608300000000001E-3,"","","/",{"$error":"#N/A"}]
[null,null,null,{"$f":"VLOOKUP($C3978,'SEI ISD'!$A$4:$B$124,2,0)","v":{"$error":"#N/A"}},null,null,null,null,1.645E-3,3.5608300000000001E-3,"","","/",{"$error":"#N/A"}]
[null,null,null,{"$f":"VLOOKUP($C3979,'SEI ISD'!$A$4:$B$124,2,0)","v":{"$error":"#N/A"}},null,null,null,null,1.645E-3,3.5608300000000001E-3,"","","/",{"$error":"#N/A"}]
[null,null,null,{"$f":"VLOOKUP($C3980,'SEI ISD'!$A$4:$B$124,2,0)","v":{"$error":"#N/A"}},null,null,null,null,1.645E-3,3.5608300000000001E-3,"","","/",{"$error":"#N/A"}]
[null,null,null,{"$f":"VLOOKUP($C3981,'SEI ISD'!$A$4:$B$124,2,0)","v":{"$error":"#N/A"}},null,null,null,null,1.645E-3,3.5608300000000001E-3,"","","/",{"$error":"#N/A"}]
[null,null,null,{"$f":"VLOOKUP($C3982,'SEI ISD'!$A$4:$B$124,2,0)","v":{"$error":"#N/A"}},null,null,null,null,1.645E-3,3.5608300000000001E-3,{"$f":"RIGHT(G3982,2)","v":""},{"$f":"LEFT(G3982,4)","v":""},{"$f":"_xlfn.CONCAT(K3982,\"/\",L3982)","v":"/"},{"$f":"EOMONTH(D3982,0)","v":{"$error":"#N/A"}}]
[null,null,null,{"$f":"VLOOKUP($C3983,'SEI ISD'!$A$4:$B$124,2,0)","v":{"$error":"#N/A"}},null,null,null,null,1.645E-3,3.5608300000000001E-3,"","","/",{"$error":"#N/A"}]
[null,null,null,{"$f":"VLOOKUP($C3984,'SEI ISD'!$A$4:$B$124,2,0)","v":{"$error":"#N/A"}},null,null,null,null,1.645E-3,3.5608300000000001E-3,"","","/",{"$error":"#N/A"}]
[null,null,null,{"$f":"VLOOKUP($C3985,'SEI ISD'!$A$4:$B$124,2,0)","v":{"$error":"#N/A"}},null,null,null,null,1.645E-3,3.5608300000000001E-3,"","","/",{"$error":"#N/A"}]
[null,null,null,{"$f":"VLOOKUP($C3986,'SEI ISD'!$A$4:$B$124,2,0)","v":{"$error":"#N/A"}},null,null,null,null,1.645E-3,3.5608300000000001E-3,"","","/",{"$error":"#N/A"}]
[null,null,null,{"$f":"VLOOKUP($C3987,'SEI ISD'!$A$4:$B$124,2,0)","v":{"$error":"#N/A"}},null,null,null,null,1.645E-3,3.5608300000000001E-3,"","","/",{"$error":"#N/A"}]
[null,null,null,{"$f":"VLOOKUP($C3988,'SEI ISD'!$A$4:$B$124,2,0)","v":{"$error":"#N/A"}},null,null,null,null,1.645E-3,3.5608300000000001E-3,"","","/",{"$error":"#N/A"}]
[null,null,null,{"$f":"VLOOKUP($C3989,'SEI ISD'!$A$4:$B$124,2,0)","v":{"$error":"#N/A"}},null,null,null,null,1.645E-3,3.5608300000000001E-3,"","","/",{"$error":"#N/A"}]
[null,null,null,{"$f":"VLOOKUP($C3990,'SEI ISD'!$A$4:$B$124,2,0)","v":{"$error":"#N/A"}},null,null,null,null,1.645E-3,3.5608300000000001E-3,"","","/",{"$error":"#N/A"}]
[null,null,null,{"$f":"VLOOKUP($C3991,'SEI ISD'!$A$4:$B$124,2,0)","v":{"$error":"#N/A"}},null,null,null,null,1.645E-3,3.5608300000000001E-3,"","","/",{"$error":"#N/A"}]
[null,null,null,{"$f":"VLOOKUP($C3992,'SEI ISD'!$A$4:$B$124,2,0)","v":{"$error":"#N/A"}},null,null,null,null,1.645E-3,3.5608300000000001E-3,"","","/",{"$error":"#N/A"}]
[null,null,null,{"$f":"VLOOKUP($C3993,'SEI ISD'!$A$4:$B$124,2,0)","v":{"$error":"#N/A"}},null,null,null,null,1.645E-3,3.5608300000000001E-3,"","","/",{"$error":"#N/A"}]
[null,null,null,{"$f":"VLOOKUP($C3994,'SEI ISD'!$A$4:$B$124,2,0)","v":{"$error":"#N/A"}},null,null,null,null,1.645E-3,3.5608300000000001E-3,"","","/",{"$error":"#N/A"}]
[null,null,null,{"$f":"VLOOKUP($C3995,'SEI ISD'!$A$4:$B$124,2,0)","v":{"$error":"#N/A"}},null,null,null,null,1.645E-3,3.5608300000000001E-3,"","","/",{"$error":"#N/A"}]
[null,null,null,{"$f":"VLOOKUP($C3996,'SEI ISD'!$A$4:$B$124,2,0)","v":{"$error":"#N/A"}},null,null,null,null,1.645E-3,3.5608300000000001E-3,"","","/",{"$error":"#N/A"}]
[null,null,null,{"$f":"VLOOKUP($C3997,'SEI ISD'!$A$4:$B$124,2,0)","v":{"$error":"#N/A"}},null,null,null,null,1.645E-3,3.5608300000000001E-3,"","","/",{"$error":"#N/A"}]
[null,null,null,{"$f":"VLOOKUP($C3998,'SEI ISD'!$A$4:$B$124,2,0)","v":{"$error":"#N/A"}},null,null,null,null,1.645E-3,3.5608300000000001E-3,"","","/",{"$error":"#N/A"}]
[null,null,null,{"$f":"VLOOKUP($C3999,'SEI ISD'!$A$4:$B$124,2,0)","v":{"$error":"#N/A"}},null,null,null,null,1.645E-3,3.5608300000000001E-3,"","","/",{"$error":"#N/A"}]
[null,null,null,{"$f":"VLOOKUP($C4000,'SEI ISD'!$A$4:$B$124,2,0)","v":{"$error":"#N/A"}},null,null,null,null,1.645E-3,3.5608300000000001E-3,"","","/",{"$error":"#N/A"}]
[null,null,null,{"$f":"VLOOKUP($C4001,'SEI ISD'!$A$4:$B$124,2,0)","v":{"$error":"#N/A"}},null,null,null,null,1.645E-3,3.5608300000000001E-3,"","","/",{"$error":"#N/A"}]
[null,null,null,{"$f":"VLOOKUP($C4002,'SEI ISD'!$A$4:$B$124,2,0)","v":{"$error":"#N/A"}},null,null,null,null,1.645E-3,3.5608300000000001E-3,"","","/",{"$error":"#N/A"}]
[null,null,null,{"$f":"VLOOKUP($C4003,'SEI ISD'!$A$4:$B$124,2,0)","v":{"$error":"#N/A"}},null,null,null,null,1.645E-3,3.5608300000000001E-3,"","","/",{"$error":"#N/A"}]
[null,null,null,{"$f":"VLOOKUP($C4004,'SEI ISD'!$A$4:$B$124,2,0)","v":{"$error":"#N/A"}},null,null,null,null,1.645E-3,3.5608300000000001E-3,"","","/",{"$error":"#N/A"}]
[null,null,null,{"$f":"VLOOKUP($C4005,'SEI ISD'!$A$4:$B$124,2,0)","v":{"$error":"#N/A"}},null,null,null,null,1.645E-3,3.5608300000000001E-3,"","","/",{"$error":"#N/A"}]
[null,null,null,{"$f":"VLOOKUP($C4006,'SEI ISD'!$A$4:$B$124,2,0)","v":{"$error":"#N/A"}},null,null,null,null,1.645E-3,3.5608300000000001E-3,"","","/",{"$error":"#N/A"}]
[null,null,null,{"$f":"VLOOKUP($C4007,'SEI ISD'!$A$4:$B$124,2,0)","v":{"$error":"#N/A"}},null,null,null,null,1.645E-3,3.5608300000000001E-3,"","","/",{"$error":"#N/A"}]
[null,null,null,{"$f":"VLOOKUP($C4008,'SEI ISD'!$A$4:$B$124,2,0)","v":{"$error":"#N/A"}},null,null,null,null,1.645E-3,3.5608300000000001E-3,"","","/",{"$error":"#N/A"}]
[null,null,null,{"$f":"VLOOKUP($C4009,'SEI ISD'!$A$4:$B$124,2,0)","v":{"$error":"#N/A"}},null,null,null,null,1.645E-3,3.5608300000000001E-3,"","","/",{"$error":"#N/A"}]
[null,null,null,{"$f":"VLOOKUP($C4010,'SEI ISD'!$A$4:$B$124,2,0)","v":{"$error":"#N/A"}},null,null,null,null,1.645E-3,3.5608300000000001E-3,"","","/",{"$error":"#N/A"}]
[null,null,null,{"$f":"VLOOKUP($C4011,'SEI ISD'!$A$4:$B$124,2,0)","v":{"$error":"#N/A"}},null,null,null,null,1.645E-3,3.5608300000000001E-3,"","","/",{"$error":"#N/A"}]
[null,null,null,{"$f":"VLOOKUP($C4012,'SEI ISD'!$A$4:$B$124,2,0)","v":{"$error":"#N/A"}},null,null,null,null,1.645E-3,3.5608300000000001E-3,"","","/",{"$error":"#N/A"}]
[null,null,null,{"$f":"VLOOKUP($C4013,'SEI ISD'!$A$4:$B$124,2,0)","v":{"$error":"#N/A"}},null,null,null,null,1.645E-3,3.5608300000000001E-3,"","","/",{"$error":"#N/A"}]
[null,null,null,{"$f":"VLOOKUP($C4014,'SEI ISD'!$A$4:$B$124,2,0)","v":{"$error":"#N/A"}},null,null,null,null,1.645E-3,3.5608300000000001E-3,"","","/",{"$error":"#N/A"}]
[null,null,null,{"$f":"VLOOKUP($C4015,'SEI ISD'!$A$4:$B$124,2,0)","v":{"$error":"#N/A"}},null,null,null,null,1.645E-3,3.5608300000000001E-3,"","","/",{"$error":"#N/A"}]
[null,null,null,{"$f":"VLOOKUP($C4016,'SEI ISD'!$A$4:$B$124,2,0)","v":{"$error":"#N/A"}},null,null,null,null,1.645E-3,3.5608300000000001E-3,"","","/",{"$error":"#N/A"}]
[null,null,null,{"$f":"VLOOKUP($C4017,'SEI ISD'!$A$4:$B$124,2,0)","v":{"$error":"#N/A"}},null,null,null,null,1.645E-3,3.5608300000000001E-3,"","","/",{"$error":"#N/A"}]
[null,null,null,{"$f":"VLOOKUP($C4018,'SEI ISD'!$A$4:$B$124,2,0)","v":{"$error":"#N/A"}},null,null,null,null,1.645E-3,3.5608300000000001E-3,"","","/",{"$error":"#N/A"}]
[null,null,null,{"$f":"VLOOKUP($C4019,'SEI ISD'!$A$4:$B$124,2,0)","v":{"$error":"#N/A"}},null,null,null,null,1.645E-3,3.5608300000000001E-3,"","","/",{"$error":"#N/A"}]
[null,null,null,{"$f":"VLOOKUP($C4020,'SEI ISD'!$A$4:$B$124,2,0)","v":{"$error":"#N/A"}},null,null,null,null,1.645E-3,3.5608300000000001E-3,"","","/",{"$error":"#N/A"}]
[null,null,null,{"$f":"VLOOKUP($C4021,'SEI ISD'!$A$4:$B$124,2,0)","v":{"$error":"#N/A"}},null,null,null,null,1.645E-3,3.5608300000000001E-3,"","","/",{"$error":"#N/A"}]

{"sheet":"CR CWIP query 112020 ISD","index":9,"n_rows":88,"n_cols":14,"rows_kept":88,"cut":false,"hidden":true,"merged":[]}
["Company","Cost Element","Work Order Number","In Service Dates","Account","Document Type","Month Number","Amount","AFUDC Debt Rate","AFUDC Equity Rate","month","year","Date","1st month PIS AFUDC"]
["1010","52801700","T10-0184-P-1000","2020-11-20","10700000","UZ",202103,24.41,1.645E-3,3.5608300000000001E-3,{"$f":"RIGHT(G2,2)","v":"03"},{"$f":"LEFT(G2,4)","v":"2021"},{"$f":"_xlfn.CONCAT(K2,\"/\",L2)","v":"03/2021"},{"$f":"EOMONTH(D2,0)","v":"2020-11-30"}]
["1010","53481000","T10-0184-P-1000","2020-11-20","10700000","UZ",202006,56.47,1.645E-3,3.5608300000000001E-3,{"$f":"RIGHT(G3,2)","v":"06"},{"$f":"LEFT(G3,4)","v":"2020"},{"$f":"_xlfn.CONCAT(K3,\"/\",L3)","v":"06/2020"},{"$f":"EOMONTH(D3,0)","v":"2020-11-30"}]
["1010","53481000","T10-0184-P-1000","2020-11-20","10700000","UZ",202007,229.09,1.645E-3,3.5608300000000001E-3,"07","2020","07/2020","2020-11-30"]
["1010","53481000","T10-0184-P-1000","2020-11-20","10700000","UZ",202008,1209.3699999999999,1.645E-3,3.5608300000000001E-3,"08","2020","08/2020","2020-11-30"]
["1010","53481000","T10-0184-P-1000","2020-11-20","10700000","UZ",202009,470.28,1.645E-3,3.5608300000000001E-3,"09","2020","09/2020","2020-11-30"]
["1010","53481000","T10-0184-P-1000","2020-11-20","10700000","UZ",202010,1244.99,1.645E-3,3.5608300000000001E-3,"10","2020","10/2020","2020-11-30"]
["1010","53481000","T10-0184-P-1000","2020-11-20","10700000","UZ",202011,257.41000000000003,1.645E-3,3.5608300000000001E-3,"11","2020","11/2020","2020-11-30"]
["1010","53481000","T10-0184-P-1000","2020-11-20","10700000","UZ",202012,320.37,1.645E-3,3.5608300000000001E-3,"12","2020","12/2020","2020-11-30"]
["1010","53481000","T10-0184-P-1000","2020-11-20","10700000","UZ",202101,395.1,1.645E-3,3.5608300000000001E-3,"01","2021","01/2021","2020-11-30"]
["1010","53481000","T10-0184-P-1000","2020-11-20","10700000","UZ",202102,341.01,1.645E-3,3.5608300000000001E-3,"02","2021","02/2021","2020-11-30"]
["1010","53481000","T10-0184-P-1000","2020-11-20","10700000","UZ",202103,-435.08,1.645E-3,3.5608300000000001E-3,"03","2021","03/2021","2020-11-30"]
["1010","53481100","T10-0184-P-1000","2020-11-20","10700000","UZ",202007,2.54,1.645E-3,3.5608300000000001E-3,"07","2020","07/2020","2020-11-30"]
["1010","53481100","T10-0184-P-1000","2020-11-20","10700000","UZ",202008,13.15,1.645E-3,3.5608300000000001E-3,"08","2020","08/2020","2020-11-30"]
["1010","53481100","T10-0184-P-1000","2020-11-20","10700000","UZ",202009,4.9000000000000004,1.645E-3,3.5608300000000001E-3,"09","2020","09/2020","2020-11-30"]
["1010","53481100","T10-0184-P-1000","2020-11-20","10700000","UZ",202010,13.03,1.645E-3,3.5608300000000001E-3,"10","2020","10/2020","2020-11-30"]
["1010","53481100","T10-0184-P-1000","2020-11-20","10700000","UZ",202011,3.38,1.645E-3,3.5608300000000001E-3,"11","2020","11/2020","2020-11-30"]
["1010","53481100","T10-0184-P-1000","2020-11-20","10700000","UZ",202012,3.82,1.645E-3,3.5608300000000001E-3,"12","2020","12/2020","2020-11-30"]
["1010","53481100","T10-0184-P-1000","2020-11-20","10700000","UZ",202101,5.17,1.645E-3,3.5608300000000001E-3,"01","2021","01/2021","2020-11-30"]
["1010","53481100","T10-0184-P-1000","2020-11-20","10700000","UZ",202102,4.96,1.645E-3,3.5608300000000001E-3,"02","2021","02/2021","2020-11-30"]
["1010","53481200","T10-0184-P-1000","2020-11-20","10700000","UZ",202006,4.99,1.645E-3,3.5608300000000001E-3,"06","2020","06/2020","2020-11-30"]
["1010","53481200","T10-0184-P-1000","2020-11-20","10700000","UZ",202007,23.83,1.645E-3,3.5608300000000001E-3,"07","2020","07/2020","2020-11-30"]
["1010","53481200","T10-0184-P-1000","2020-11-20","10700000","UZ",202008,141.63,1.645E-3,3.5608300000000001E-3,"08","2020","08/2020","2020-11-30"]
["1010","53481200","T10-0184-P-1000","2020-11-20","10700000","UZ",202009,36.340000000000003,1.645E-3,3.5608300000000001E-3,"09","2020","09/2020","2020-11-30"]
["1010","53481200","T10-0184-P-1000","2020-11-20","10700000","UZ",202010,132.74,1.645E-3,3.5608300000000001E-3,"10","2020","10/2020","2020-11-30"]
["1010","53481200","T10-0184-P-1000","2020-11-20","10700000","UZ",202011,9.5299999999999994,1.645E-3,3.5608300000000001E-3,"11","2020","11/2020","2020-11-30"]
["1010","53481200","T10-0184-P-1000","2020-11-20","10700000","UZ",202012,12.57,1.645E-3,3.5608300000000001E-3,"12","2020","12/2020","2020-11-30"]
["1010","53481200","T10-0184-P-1000","2020-11-20","10700000","UZ",202101,64.16,1.645E-3,3.5608300000000001E-3,"01","2021","01/2021","2020-11-30"]
["1010","53481200","T10-0184-P-1000","2020-11-20","10700000","UZ",202102,29.25,1.645E-3,3.5608300000000001E-3,"02","2021","02/2021","2020-11-30"]
["1010","53481200","T10-0184-P-1000","2020-11-20","10700000","UZ",202103,-37.200000000000003,1.645E-3,3.5608300000000001E-3,"03","2021","03/2021","2020-11-30"]
["1010","53481300","T10-0184-P-1000","2020-11-20","10700000","UZ",202006,4.99,1.645E-3,3.5608300000000001E-3,"06","2020","06/2020","2020-11-30"]
["1010","53481300","T10-0184-P-1000","2020-11-20","10700000","UZ",202007,18.22,1.645E-3,3.5608300000000001E-3,"07","2020","07/2020","2020-11-30"]
["1010","53481300","T10-0184-P-1000","2020-11-20","10700000","UZ",202008,104.21,1.645E-3,3.5608300000000001E-3,"08","2020","08/2020","2020-11-30"]
["1010","53481300","T10-0184-P-1000","2020-11-20","10700000","UZ",202009,46.84,1.645E-3,3.5608300000000001E-3,"09","2020","09/2020","2020-11-30"]
["1010","53481300","T10-0184-P-1000","2020-11-20","10700000","UZ",202010,115.88,1.645E-3,3.5608300000000001E-3,"10","2020","10/2020","2020-11-30"]
["1010","53481300","T10-0184-P-1000","2020-11-20","10700000","UZ",202011,23.48,1.645E-3,3.5608300000000001E-3,"11","2020","11/2020","2020-11-30"]
["1010","53481300","T10-0184-P-1000","2020-11-20","10700000","UZ",202012,28.38,1.645E-3,3.5608300000000001E-3,"12","2020","12/2020","2020-11-30"]
["1010","53481300","T10-0184-P-1000","2020-11-20","10700000","UZ",202101,37.11,1.645E-3,3.5608300000000001E-3,"01","2021","01/2021","2020-11-30"]
["1010","53481300","T10-0184-P-1000","2020-11-20","10700000","UZ",202102,31.69,1.645E-3,3.5608300000000001E-3,"02","2021","02/2021","2020-11-30"]
["1010","53481300","T10-0184-P-1000","2020-11-20","10700000","UZ",202103,-39.57,1.645E-3,3.5608300000000001E-3,"03","2021","03/2021","2020-11-30"]
["1010","53481400","T10-0184-P-1000","2020-11-20","10700000","UZ",202006,1885.68,1.645E-3,3.5608300000000001E-3,"06","2020","06/2020","2020-11-30"]
["1010","53481400","T10-0184-P-1000","2020-11-20","10700000","UZ",202007,0.12,1.645E-3,3.5608300000000001E-3,"07","2020","07/2020","2020-11-30"]
["1010","53481400","T10-0184-P-1000","2020-11-20","10700000","UZ",202008,0.57999999999999996,1.645E-3,3.5608300000000001E-3,"08","2020","08/2020","2020-11-30"]
["1010","53481400","T10-0184-P-1000","2020-11-20","10700000","UZ",202009,-0.34,1.645E-3,3.5608300000000001E-3,"09","2020","09/2020","2020-11-30"]
["1010","53481400","T10-0184-P-1000","2020-11-20","10700000","UZ",202010,10372.5,1.645E-3,3.5608300000000001E-3,"10","2020","10/2020","2020-11-30"]
["1010","53481400","T10-0184-P-1000","2020-11-20","10700000","UZ",202011,-0.08,1.645E-3,3.5608300000000001E-3,"11","2020","11/2020","2020-11-30"]
["1010","53481400","T10-0184-P-1000","2020-11-20","10700000","UZ",202012,16031.74,1.645E-3,3.5608300000000001E-3,"12","2020","12/2020","2020-11-30"]
["1010","53481400","T10-0184-P-1000","2020-11-20","10700000","UZ",202101,2.61,1.645E-3,3.5608300000000001E-3,"01","2021","01/2021","2020-11-30"]
["1010","53481400","T10-0184-P-1000","2020-11-20","10700000","UZ",202102,2.4,1.645E-3,3.5608300000000001E-3,"02","2021","02/2021","2020-11-30"]
["1010","53481700","T10-0184-P-1000","2020-11-20","10700000","UZ",202007,0.17,1.645E-3,3.5608300000000001E-3,"07","2020","07/2020","2020-11-30"]
["1010","53481700","T10-0184-P-1000","2020-11-20","10700000","UZ",202008,0.86,1.645E-3,3.5608300000000001E-3,"08","2020","08/2020","2020-11-30"]
["1010","53481700","T10-0184-P-1000","2020-11-20","10700000","UZ",202009,0.32,1.645E-3,3.5608300000000001E-3,"09","2020","09/2020","2020-11-30"]
["1010","53481700","T10-0184-P-1000","2020-11-20","10700000","UZ",202010,0.85,1.645E-3,3.5608300000000001E-3,"10","2020","10/2020","2020-11-30"]
["1010","53481700","T10-0184-P-1000","2020-11-20","10700000","UZ",202011,-1.8,1.645E-3,3.5608300000000001E-3,"11","2020","11/2020","2020-11-30"]
["1010","53481700","T10-0184-P-1000","2020-11-20","10700000","UZ",202012,0.04,1.645E-3,3.5608300000000001E-3,"12","2020","12/2020","2020-11-30"]
["1010","53481700","T10-0184-P-1000","2020-11-20","10700000","UZ",202101,0.05,1.645E-3,3.5608300000000001E-3,"01","2021","01/2021","2020-11-30"]
["1010","53481700","T10-0184-P-1000","2020-11-20","10700000","UZ",202102,0.05,1.645E-3,3.5608300000000001E-3,"02","2021","02/2021","2020-11-30"]
["1010","53481900","T10-0184-P-1000","2020-11-20","10700000","UZ",202007,-1.39,1.645E-3,3.5608300000000001E-3,"07","2020","07/2020","2020-11-30"]
["1010","53481900","T10-0184-P-1000","2020-11-20","10700000","UZ",202009,0.52,1.645E-3,3.5608300000000001E-3,"09","2020","09/2020","2020-11-30"]
["1010","53482100","T10-0184-P-1000","2020-11-20","10700000","UZ",202006,66985.56,1.645E-3,3.5608300000000001E-3,"06","2020","06/2020","2020-11-30"]
["1010","53482100","T10-0184-P-1000","2020-11-20","10700000","UZ",202007,39.49,1.645E-3,3.5608300000000001E-3,"07","2020","07/2020","2020-11-30"]
["1010","53482100","T10-0184-P-1000","2020-11-20","10700000","UZ",202008,214.87,1.645E-3,3.5608300000000001E-3,"08","2020","08/2020","2020-11-30"]
["1010","53482100","T10-0184-P-1000","2020-11-20","10700000","UZ",202009,57.16,1.645E-3,3.5608300000000001E-3,"09","2020","09/2020","2020-11-30"]
["1010","53482100","T10-0184-P-1000","2020-11-20","10700000","UZ",202010,226.46,1.645E-3,3.5608300000000001E-3,"10","2020","10/2020","2020-11-30"]
["1010","53482100","T10-0184-P-1000","2020-11-20","10700000","UZ",202011,52.18,1.645E-3,3.5608300000000001E-3,"11","2020","11/2020","2020-11-30"]
["1010","53482100","T10-0184-P-1000","2020-11-20","10700000","UZ",202012,51.93,1.645E-3,3.5608300000000001E-3,"12","2020","12/2020","2020-11-30"]
["1010","53482100","T10-0184-P-1000","2020-11-20","10700000","UZ",202101,73.16,1.645E-3,3.5608300000000001E-3,{"$f":"RIGHT(G67,2)","v":"01"},{"$f":"LEFT(G67,4)","v":"2021"},{"$f":"_xlfn.CONCAT(K67,\"/\",L67)","v":"01/2021"},{"$f":"EOMONTH(D67,0)","v":"2020-11-30"}]
["1010","53482100","T10-0184-P-1000","2020-11-20","10700000","UZ",202102,76.180000000000007,1.645E-3,3.5608300000000001E-3,"02","2021","02/2021","2020-11-30"]
["1010","53482300","T10-0184-P-1000","2020-11-20","10700000","UZ",202006,4.6100000000000003,1.645E-3,3.5608300000000001E-3,"06","2020","06/2020","2020-11-30"]
["1010","53482300","T10-0184-P-1000","2020-11-20","10700000","UZ",202007,15.93,1.645E-3,3.5608300000000001E-3,"07","2020","07/2020","2020-11-30"]
["1010","53482300","T10-0184-P-1000","2020-11-20","10700000","UZ",202008,91.2,1.645E-3,3.5608300000000001E-3,"08","2020","08/2020","2020-11-30"]
["1010","53482300","T10-0184-P-1000","2020-11-20","10700000","UZ",202009,37.81,1.645E-3,3.5608300000000001E-3,"09","2020","09/2020","2020-11-30"]
["1010","53482300","T10-0184-P-1000","2020-11-20","10700000","UZ",202010,93,1.645E-3,3.5608300000000001E-3,"10","2020","10/2020","2020-11-30"]
["1010","53482300","T10-0184-P-1000","2020-11-20","10700000","UZ",202011,19.579999999999998,1.645E-3,3.5608300000000001E-3,"11","2020","11/2020","2020-11-30"]
["1010","53482300","T10-0184-P-1000","2020-11-20","10700000","UZ",202012,24.8,1.645E-3,3.5608300000000001E-3,"12","2020","12/2020","2020-11-30"]
["1010","53482300","T10-0184-P-1000","2020-11-20","10700000","UZ",202101,38.5,1.645E-3,3.5608300000000001E-3,"01","2021","01/2021","2020-11-30"]
["1010","53482300","T10-0184-P-1000","2020-11-20","10700000","UZ",202102,32.130000000000003,1.645E-3,3.5608300000000001E-3,"02","2021","02/2021","2020-11-30"]
["1010","53482300","T10-0184-P-1000","2020-11-20","10700000","UZ",202103,-39.35,1.645E-3,3.5608300000000001E-3,"03","2021","03/2021","2020-11-30"]
["1010","70510000","T10-0184-P-1000","2020-11-20","10700000","UZ",202007,245.49,1.645E-3,3.5608300000000001E-3,"07","2020","07/2020","2020-11-30"]
["1010","70510000","T10-0184-P-1000","2020-11-20","10700000","UZ",202008,247.94,1.645E-3,3.5608300000000001E-3,"08","2020","08/2020","2020-11-30"]
["1010","70510000","T10-0184-P-1000","2020-11-20","10700000","UZ",202009,255.55,1.645E-3,3.5608300000000001E-3,"09","2020","09/2020","2020-11-30"]
["1010","70510000","T10-0184-P-1000","2020-11-20","10700000","UZ",202010,259.20999999999998,1.645E-3,3.5608300000000001E-3,"10","2020","10/2020","2020-11-30"]
["1010","70510000","T10-0184-P-1000","2020-11-20","10700000","UZ",202011,152,1.645E-3,3.5608300000000001E-3,"11","2020","11/2020","2020-11-30"]
["1010","85000000","T10-0184-P-1000","2020-11-20","10700000","UZ",202007,113.41,1.645E-3,3.5608300000000001E-3,"07","2020","07/2020","2020-11-30"]
["1010","85000000","T10-0184-P-1000","2020-11-20","10700000","UZ",202008,114.54,1.645E-3,3.5608300000000001E-3,"08","2020","08/2020","2020-11-30"]
["1010","85000000","T10-0184-P-1000","2020-11-20","10700000","UZ",202009,118.06,1.645E-3,3.5608300000000001E-3,"09","2020","09/2020","2020-11-30"]
["1010","85000000","T10-0184-P-1000","2020-11-20","10700000","UZ",202010,119.75,1.645E-3,3.5608300000000001E-3,"10","2020","10/2020","2020-11-30"]
["1010","85000000","T10-0184-P-1000","2020-11-20","10700000","UZ",202011,70.22,1.645E-3,3.5608300000000001E-3,"11","2020","11/2020","2020-11-30"]

{"sheet":"CR CWIP query 032021 ISD","index":10,"n_rows":195,"n_cols":14,"rows_kept":195,"cut":false,"hidden":true,"merged":[]}
["Company","Cost Element","Work Order Number","In Service Dates","Account","Document Type","Month Number","Amount","AFUDC Debt Rate","AFUDC Equity Rate","month","year","Date","1st month PIS AFUDC"]
["1010","53481000","R10-01K3.19-P-4031","2021-03-01","10700000","UZ",201909,28.98,1.645E-3,3.5608300000000001E-3,{"$f":"RIGHT(G2,2)","v":"09"},{"$f":"LEFT(G2,4)","v":"2019"},{"$f":"_xlfn.CONCAT(K2,\"/\",L2)","v":"09/2019"},{"$f":"EOMONTH(D2,0)","v":"2021-03-31"}]
["1010","53481000","R10-01K3.19-P-4031","2021-03-01","10700000","UZ",201910,-10.87,1.645E-3,3.5608300000000001E-3,{"$f":"RIGHT(G3,2)","v":"10"},{"$f":"LEFT(G3,4)","v":"2019"},{"$f":"_xlfn.CONCAT(K3,\"/\",L3)","v":"10/2019"},{"$f":"EOMONTH(D3,0)","v":"2021-03-31"}]
["1010","53481000","R10-01K3.19-P-4031","2021-03-01","10700000","UZ",201911,337.54,1.645E-3,3.5608300000000001E-3,"11","2019","11/2019","2021-03-31"]
["1010","53481000","R10-01K3.19-P-4031","2021-03-01","10700000","UZ",201912,39.67,1.645E-3,3.5608300000000001E-3,"12","2019","12/2019","2021-03-31"]
["1010","53481000","R10-01K3.19-P-4031","2021-03-01","10700000","UZ",202001,840.95,1.645E-3,3.5608300000000001E-3,"01","2020","01/2020","2021-03-31"]
["1010","53481000","R10-01K3.19-P-4031","2021-03-01","10700000","UZ",202002,467.31,1.645E-3,3.5608300000000001E-3,"02","2020","02/2020","2021-03-31"]
["1010","53481000","R10-01K3.19-P-4031","2021-03-01","10700000","UZ",202003,1452.08,1.645E-3,3.5608300000000001E-3,"03","2020","03/2020","2021-03-31"]
["1010","53481000","R10-01K3.19-P-4031","2021-03-01","10700000","UZ",202004,511.73,1.645E-3,3.5608300000000001E-3,"04","2020","04/2020","2021-03-31"]
["1010","53481000","R10-01K3.19-P-4031","2021-03-01","10700000","UZ",202005,871.4,1.645E-3,3.5608300000000001E-3,"05","2020","05/2020","2021-03-31"]
["1010","53481000","R10-01K3.19-P-4031","2021-03-01","10700000","UZ",202006,699.92,1.645E-3,3.5608300000000001E-3,"06","2020","06/2020","2021-03-31"]
["1010","53481000","R10-01K3.19-P-4031","2021-03-01","10700000","UZ",202007,748.83,1.645E-3,3.5608300000000001E-3,"07","2020","07/2020","2021-03-31"]
["1010","53481000","R10-01K3.19-P-4031","2021-03-01","10700000","UZ",202008,1637.95,1.645E-3,3.5608300000000001E-3,"08","2020","08/2020","2021-03-31"]
["1010","53481000","R10-01K3.19-P-4031","2021-03-01","10700000","UZ",202009,1084.29,1.645E-3,3.5608300000000001E-3,"09","2020","09/2020","2021-03-31"]
["1010","53481000","R10-01K3.19-P-4031","2021-03-01","10700000","UZ",202010,669.66,1.645E-3,3.5608300000000001E-3,"10","2020","10/2020","2021-03-31"]
["1010","53481000","R10-01K3.19-P-4031","2021-03-01","10700000","UZ",202011,1315.04,1.645E-3,3.5608300000000001E-3,"11","2020","11/2020","2021-03-31"]
["1010","53481000","R10-01K3.19-P-4031","2021-03-01","10700000","UZ",202012,781.98,1.645E-3,3.5608300000000001E-3,"12","2020","12/2020","2021-03-31"]
["1010","53481000","R10-01K3.19-P-4031","2021-03-01","10700000","UZ",202101,-35.94,1.645E-3,3.5608300000000001E-3,"01","2021","01/2021","2021-03-31"]
["1010","53481000","R10-01K3.19-P-4031","2021-03-01","10700000","UZ",202102,222.46,1.645E-3,3.5608300000000001E-3,"02","2021","02/2021","2021-03-31"]
["1010","53481000","R10-01K3.19-P-4031","2021-03-01","10700000","UZ",202103,653.23,1.645E-3,3.5608300000000001E-3,"03","2021","03/2021","2021-03-31"]
["1010","53481100","R10-01K3.19-P-4031","2021-03-01","10700000","UZ",201911,5.14,1.645E-3,3.5608300000000001E-3,"11","2019","11/2019","2021-03-31"]
["1010","53481100","R10-01K3.19-P-4031","2021-03-01","10700000","UZ",201912,1.67,1.645E-3,3.5608300000000001E-3,"12","2019","12/2019","2021-03-31"]
["1010","53481100","R10-01K3.19-P-4031","2021-03-01","10700000","UZ",202001,27.7,1.645E-3,3.5608300000000001E-3,"01","2020","01/2020","2021-03-31"]
["1010","53481100","R10-01K3.19-P-4031","2021-03-01","10700000","UZ",202002,14.78,1.645E-3,3.5608300000000001E-3,"02","2020","02/2020","2021-03-31"]
["1010","53481100","R10-01K3.19-P-4031","2021-03-01","10700000","UZ",202003,33.49,1.645E-3,3.5608300000000001E-3,"03","2020","03/2020","2021-03-31"]
["1010","53481100","R10-01K3.19-P-4031","2021-03-01","10700000","UZ",202004,12.52,1.645E-3,3.5608300000000001E-3,"04","2020","04/2020","2021-03-31"]
["1010","53481100","R10-01K3.19-P-4031","2021-03-01","10700000","UZ",202005,20.28,1.645E-3,3.5608300000000001E-3,"05","2020","05/2020","2021-03-31"]
["1010","53481100","R10-01K3.19-P-4031","2021-03-01","10700000","UZ",202006,-21.77,1.645E-3,3.5608300000000001E-3,"06","2020","06/2020","2021-03-31"]
["1010","53481100","R10-01K3.19-P-4031","2021-03-01","10700000","UZ",202007,7.62,1.645E-3,3.5608300000000001E-3,"07","2020","07/2020","2021-03-31"]
["1010","53481100","R10-01K3.19-P-4031","2021-03-01","10700000","UZ",202008,17.8,1.645E-3,3.5608300000000001E-3,"08","2020","08/2020","2021-03-31"]
["1010","53481100","R10-01K3.19-P-4031","2021-03-01","10700000","UZ",202009,11.44,1.645E-3,3.5608300000000001E-3,"09","2020","09/2020","2021-03-31"]
["1010","53481100","R10-01K3.19-P-4031","2021-03-01","10700000","UZ",202010,6.82,1.645E-3,3.5608300000000001E-3,"10","2020","10/2020","2021-03-31"]
["1010","53481100","R10-01K3.19-P-4031","2021-03-01","10700000","UZ",202011,15.22,1.645E-3,3.5608300000000001E-3,"11","2020","11/2020","2021-03-31"]
["1010","53481100","R10-01K3.19-P-4031","2021-03-01","10700000","UZ",202012,8.59,1.645E-3,3.5608300000000001E-3,{"$f":"RIGHT(G34,2)","v":"12"},{"$f":"LEFT(G34,4)","v":"2020"},{"$f":"_xlfn.CONCAT(K34,\"/\",L34)","v":"12/2020"},{"$f":"EOMONTH(D34,0)","v":"2021-03-31"}]
["1010","53481100","R10-01K3.19-P-4031","2021-03-01","10700000","UZ",202102,2.98,1.645E-3,3.5608300000000001E-3,"02","2021","02/2021","2021-03-31"]
["1010","53481100","R10-01K3.19-P-4031","2021-03-01","10700000","UZ",202103,9.6999999999999993,1.645E-3,3.5608300000000001E-3,"03","2021","03/2021","2021-03-31"]
["1010","53481200","R10-01K3.19-P-4031","2021-03-01","10700000","UZ",201909,4.25,1.645E-3,3.5608300000000001E-3,"09","2019","09/2019","2021-03-31"]
["1010","53481200","R10-01K3.19-P-4031","2021-03-01","10700000","UZ",201910,-1.59,1.645E-3,3.5608300000000001E-3,"10","2019","10/2019","2021-03-31"]
["1010","53481200","R10-01K3.19-P-4031","2021-03-01","10700000","UZ",201911,48.66,1.645E-3,3.5608300000000001E-3,"11","2019","11/2019","2021-03-31"]
["1010","53481200","R10-01K3.19-P-4031","2021-03-01","10700000","UZ",201912,4.57,1.645E-3,3.5608300000000001E-3,"12","2019","12/2019","2021-03-31"]
["1010","53481200","R10-01K3.19-P-4031","2021-03-01","10700000","UZ",202001,138.94,1.645E-3,3.5608300000000001E-3,"01","2020","01/2020","2021-03-31"]
["1010","53481200","R10-01K3.19-P-4031","2021-03-01","10700000","UZ",202002,78.349999999999994,1.645E-3,3.5608300000000001E-3,"02","2020","02/2020","2021-03-31"]
["1010","53481200","R10-01K3.19-P-4031","2021-03-01","10700000","UZ",202003,270.82,1.645E-3,3.5608300000000001E-3,"03","2020","03/2020","2021-03-31"]
["1010","53481200","R10-01K3.19-P-4031","2021-03-01","10700000","UZ",202004,72.61,1.645E-3,3.5608300000000001E-3,"04","2020","04/2020","2021-03-31"]
["1010","53481200","R10-01K3.19-P-4031","2021-03-01","10700000","UZ",202005,141.34,1.645E-3,3.5608300000000001E-3,"05","2020","05/2020","2021-03-31"]
["1010","53481200","R10-01K3.19-P-4031","2021-03-01","10700000","UZ",202006,108.3,1.645E-3,3.5608300000000001E-3,"06","2020","06/2020","2021-03-31"]
["1010","53481200","R10-01K3.19-P-4031","2021-03-01","10700000","UZ",202007,140.18,1.645E-3,3.5608300000000001E-3,"07","2020","07/2020","2021-03-31"]
["1010","53481200","R10-01K3.19-P-4031","2021-03-01","10700000","UZ",202008,320.25,1.645E-3,3.5608300000000001E-3,"08","2020","08/2020","2021-03-31"]
["1010","53481200","R10-01K3.19-P-4031","2021-03-01","10700000","UZ",202009,116.25,1.645E-3,3.5608300000000001E-3,"09","2020","09/2020","2021-03-31"]
["1010","53481200","R10-01K3.19-P-4031","2021-03-01","10700000","UZ",202010,134.97999999999999,1.645E-3,3.5608300000000001E-3,"10","2020","10/2020","2021-03-31"]
["1010","53481200","R10-01K3.19-P-4031","2021-03-01","10700000","UZ",202011,283.98,1.645E-3,3.5608300000000001E-3,"11","2020","11/2020","2021-03-31"]
["1010","53481200","R10-01K3.19-P-4031","2021-03-01","10700000","UZ",202012,91.6,1.645E-3,3.5608300000000001E-3,"12","2020","12/2020","2021-03-31"]
["1010","53481200","R10-01K3.19-P-4031","2021-03-01","10700000","UZ",202101,-17.22,1.645E-3,3.5608300000000001E-3,"01","2021","01/2021","2021-03-31"]
["1010","53481200","R10-01K3.19-P-4031","2021-03-01","10700000","UZ",202102,37.94,1.645E-3,3.5608300000000001E-3,"02","2021","02/2021","2021-03-31"]
["1010","53481200","R10-01K3.19-P-4031","2021-03-01","10700000","UZ",202103,163.46,1.645E-3,3.5608300000000001E-3,"03","2021","03/2021","2021-03-31"]
["1010","53481300","R10-01K3.19-P-4031","2021-03-01","10700000","UZ",201909,1.52,1.645E-3,3.5608300000000001E-3,"09","2019","09/2019","2021-03-31"]
["1010","53481300","R10-01K3.19-P-4031","2021-03-01","10700000","UZ",201910,-0.56999999999999995,1.645E-3,3.5608300000000001E-3,"10","2019","10/2019","2021-03-31"]
["1010","53481300","R10-01K3.19-P-4031","2021-03-01","10700000","UZ",201911,18.28,1.645E-3,3.5608300000000001E-3,"11","2019","11/2019","2021-03-31"]
["1010","53481300","R10-01K3.19-P-4031","2021-03-01","10700000","UZ",201912,2.86,1.645E-3,3.5608300000000001E-3,"12","2019","12/2019","2021-03-31"]
["1010","53481300","R10-01K3.19-P-4031","2021-03-01","10700000","UZ",202001,47.46,1.645E-3,3.5608300000000001E-3,"01","2020","01/2020","2021-03-31"]
["1010","53481300","R10-01K3.19-P-4031","2021-03-01","10700000","UZ",202002,25.13,1.645E-3,3.5608300000000001E-3,"02","2020","02/2020","2021-03-31"]
["1010","53481300","R10-01K3.19-P-4031","2021-03-01","10700000","UZ",202003,86.84,1.645E-3,3.5608300000000001E-3,"03","2020","03/2020","2021-03-31"]
["1010","53481300","R10-01K3.19-P-4031","2021-03-01","10700000","UZ",202004,24.54,1.645E-3,3.5608300000000001E-3,"04","2020","04/2020","2021-03-31"]
["1010","53481300","R10-01K3.19-P-4031","2021-03-01","10700000","UZ",202005,46.59,1.645E-3,3.5608300000000001E-3,"05","2020","05/2020","2021-03-31"]
["1010","53481300","R10-01K3.19-P-4031","2021-03-01","10700000","UZ",202006,31.82,1.645E-3,3.5608300000000001E-3,"06","2020","06/2020","2021-03-31"]
["1010","53481300","R10-01K3.19-P-4031","2021-03-01","10700000","UZ",202007,44.98,1.645E-3,3.5608300000000001E-3,"07","2020","07/2020","2021-03-31"]
["1010","53481300","R10-01K3.19-P-4031","2021-03-01","10700000","UZ",202008,102.6,1.645E-3,3.5608300000000001E-3,"08","2020","08/2020","2021-03-31"]
["1010","53481300","R10-01K3.19-P-4031","2021-03-01","10700000","UZ",202009,37.97,1.645E-3,3.5608300000000001E-3,"09","2020","09/2020","2021-03-31"]
["1010","53481300","R10-01K3.19-P-4031","2021-03-01","10700000","UZ",202010,42.99,1.645E-3,3.5608300000000001E-3,"10","2020","10/2020","2021-03-31"]
["1010","53481300","R10-01K3.19-P-4031","2021-03-01","10700000","UZ",202011,89.77,1.645E-3,3.5608300000000001E-3,"11","2020","11/2020","2021-03-31"]
["1010","53481300","R10-01K3.19-P-4031","2021-03-01","10700000","UZ",202012,49.11,1.645E-3,3.5608300000000001E-3,"12","2020","12/2020","2021-03-31"]
["1010","53481300","R10-01K3.19-P-4031","2021-03-01","10700000","UZ",202101,-3.3,1.645E-3,3.5608300000000001E-3,"01","2021","01/2021","2021-03-31"]
["1010","53481300","R10-01K3.19-P-4031","2021-03-01","10700000","UZ",202102,12.17,1.645E-3,3.5608300000000001E-3,"02","2021","02/2021","2021-03-31"]
["1010","53481300","R10-01K3.19-P-4031","2021-03-01","10700000","UZ",202103,62.87,1.645E-3,3.5608300000000001E-3,"03","2021","03/2021","2021-03-31"]
["1010","53481400","R10-01K3.19-P-4031","2021-03-01","10700000","UZ",201911,6.8,1.645E-3,3.5608300000000001E-3,"11","2019","11/2019","2021-03-31"]
["1010","53481400","R10-01K3.19-P-4031","2021-03-01","10700000","UZ",201912,17994.32,1.645E-3,3.5608300000000001E-3,"12","2019","12/2019","2021-03-31"]
["1010","53481400","R10-01K3.19-P-4031","2021-03-01","10700000","UZ",202001,25.9,1.645E-3,3.5608300000000001E-3,"01","2020","01/2020","2021-03-31"]
["1010","53481400","R10-01K3.19-P-4031","2021-03-01","10700000","UZ",202002,0.47,1.645E-3,3.5608300000000001E-3,"02","2020","02/2020","2021-03-31"]
["1010","53481400","R10-01K3.19-P-4031","2021-03-01","10700000","UZ",202003,0.09,1.645E-3,3.5608300000000001E-3,"03","2020","03/2020","2021-03-31"]
["1010","53481400","R10-01K3.19-P-4031","2021-03-01","10700000","UZ",202005,1.63,1.645E-3,3.5608300000000001E-3,"05","2020","05/2020","2021-03-31"]
["1010","53481400","R10-01K3.19-P-4031","2021-03-01","10700000","UZ",202006,5078.58,1.645E-3,3.5608300000000001E-3,"06","2020","06/2020","2021-03-31"]
["1010","53481400","R10-01K3.19-P-4031","2021-03-01","10700000","UZ",202007,12545.91,1.645E-3,3.5608300000000001E-3,"07","2020","07/2020","2021-03-31"]
["1010","53481400","R10-01K3.19-P-4031","2021-03-01","10700000","UZ",202008,0.79,1.645E-3,3.5608300000000001E-3,"08","2020","08/2020","2021-03-31"]
["1010","53481400","R10-01K3.19-P-4031","2021-03-01","10700000","UZ",202009,-0.79,1.645E-3,3.5608300000000001E-3,"09","2020","09/2020","2021-03-31"]
["1010","53481400","R10-01K3.19-P-4031","2021-03-01","10700000","UZ",202010,9857.2999999999993,1.645E-3,3.5608300000000001E-3,"10","2020","10/2020","2021-03-31"]
["1010","53481400","R10-01K3.19-P-4031","2021-03-01","10700000","UZ",202011,-0.37,1.645E-3,3.5608300000000001E-3,"11","2020","11/2020","2021-03-31"]
["1010","53481400","R10-01K3.19-P-4031","2021-03-01","10700000","UZ",202012,14915.14,1.645E-3,3.5608300000000001E-3,"12","2020","12/2020","2021-03-31"]
["1010","53481400","R10-01K3.19-P-4031","2021-03-01","10700000","UZ",202102,-27.13,1.645E-3,3.5608300000000001E-3,"02","2021","02/2021","2021-03-31"]
["1010","53481400","R10-01K3.19-P-4031","2021-03-01","10700000","UZ",202103,8.02,1.645E-3,3.5608300000000001E-3,"03","2021","03/2021","2021-03-31"]
["1010","53481500","R10-01K3.19-P-4031","2021-03-01","10700000","UZ",201911,-0.15,1.645E-3,3.5608300000000001E-3,"11","2019","11/2019","2021-03-31"]
["1010","53481500","R10-01K3.19-P-4031","2021-03-01","10700000","UZ",201912,-0.02,1.645E-3,3.5608300000000001E-3,"12","2019","12/2019","2021-03-31"]
["1010","53481500","R10-01K3.19-P-4031","2021-03-01","10700000","UZ",202001,0.55000000000000004,1.645E-3,3.5608300000000001E-3,"01","2020","01/2020","2021-03-31"]
["1010","53481500","R10-01K3.19-P-4031","2021-03-01","10700000","UZ",202003,0.36,1.645E-3,3.5608300000000001E-3,"03","2020","03/2020","2021-03-31"]
["1010","53481500","R10-01K3.19-P-4031","2021-03-01","10700000","UZ",202103,0.06,1.645E-3,3.5608300000000001E-3,"03","2021","03/2021","2021-03-31"]
["1010","53481700","R10-01K3.19-P-4031","2021-03-01","10700000","UZ",201911,12.81,1.645E-3,3.5608300000000001E-3,"11","2019","11/2019","2021-03-31"]
["1010","53481700","R10-01K3.19-P-4031","2021-03-01","10700000","UZ",201912,4.18,1.645E-3,3.5608300000000001E-3,"12","2019","12/2019","2021-03-31"]
["1010","53481700","R10-01K3.19-P-4031","2021-03-01","10700000","UZ",202001,49.35,1.645E-3,3.5608300000000001E-3,"01","2020","01/2020","2021-03-31"]
["1010","53481700","R10-01K3.19-P-4031","2021-03-01","10700000","UZ",202002,0.45,1.645E-3,3.5608300000000001E-3,{"$f":"RIGHT(G98,2)","v":"02"},{"$f":"LEFT(G98,4)","v":"2020"},{"$f":"_xlfn.CONCAT(K98,\"/\",L98)","v":"02/2020"},{"$f":"EOMONTH(D98,0)","v":"2021-03-31"}]
["1010","53481700","R10-01K3.19-P-4031","2021-03-01","10700000","UZ",202003,1.02,1.645E-3,3.5608300000000001E-3,"03","2020","03/2020","2021-03-31"]
["1010","53481700","R10-01K3.19-P-4031","2021-03-01","10700000","UZ",202004,0.38,1.645E-3,3.5608300000000001E-3,"04","2020","04/2020","2021-03-31"]
["1010","53481700","R10-01K3.19-P-4031","2021-03-01","10700000","UZ",202005,0.62,1.645E-3,3.5608300000000001E-3,"05","2020","05/2020","2021-03-31"]
["1010","53481700","R10-01K3.19-P-4031","2021-03-01","10700000","UZ",202006,0.3,1.645E-3,3.5608300000000001E-3,"06","2020","06/2020","2021-03-31"]
["1010","53481700","R10-01K3.19-P-4031","2021-03-01","10700000","UZ",202007,0.5,1.645E-3,3.5608300000000001E-3,"07","2020","07/2020","2021-03-31"]
["1010","53481700","R10-01K3.19-P-4031","2021-03-01","10700000","UZ",202008,1.1599999999999999,1.645E-3,3.5608300000000001E-3,"08","2020","08/2020","2021-03-31"]
["1010","53481700","R10-01K3.19-P-4031","2021-03-01","10700000","UZ",202009,0.75,1.645E-3,3.5608300000000001E-3,"09","2020","09/2020","2021-03-31"]
["1010","53481700","R10-01K3.19-P-4031","2021-03-01","10700000","UZ",202010,0.44,1.645E-3,3.5608300000000001E-3,"10","2020","10/2020","2021-03-31"]
["1010","53481700","R10-01K3.19-P-4031","2021-03-01","10700000","UZ",202011,-8.09,1.645E-3,3.5608300000000001E-3,"11","2020","11/2020","2021-03-31"]
["1010","53481700","R10-01K3.19-P-4031","2021-03-01","10700000","UZ",202012,0.09,1.645E-3,3.5608300000000001E-3,"12","2020","12/2020","2021-03-31"]
["1010","53481700","R10-01K3.19-P-4031","2021-03-01","10700000","UZ",202102,0.03,1.645E-3,3.5608300000000001E-3,"02","2021","02/2021","2021-03-31"]
["1010","53481700","R10-01K3.19-P-4031","2021-03-01","10700000","UZ",202103,0.09,1.645E-3,3.5608300000000001E-3,"03","2021","03/2021","2021-03-31"]
["1010","53481900","R10-01K3.19-P-4031","2021-03-01","10700000","UZ",201908,82320.62,1.645E-3,3.5608300000000001E-3,"08","2019","08/2019","2021-03-31"]
["1010","53481900","R10-01K3.19-P-4031","2021-03-01","10700000","UZ",202001,0.06,1.645E-3,3.5608300000000001E-3,"01","2020","01/2020","2021-03-31"]
["1010","53481900","R10-01K3.19-P-4031","2021-03-01","10700000","UZ",202002,0.25,1.645E-3,3.5608300000000001E-3,"02","2020","02/2020","2021-03-31"]
["1010","53481900","R10-01K3.19-P-4031","2021-03-01","10700000","UZ",202003,0.56999999999999995,1.645E-3,3.5608300000000001E-3,"03","2020","03/2020","2021-03-31"]
["1010","53481900","R10-01K3.19-P-4031","2021-03-01","10700000","UZ",202004,0.21,1.645E-3,3.5608300000000001E-3,"04","2020","04/2020","2021-03-31"]
["1010","53481900","R10-01K3.19-P-4031","2021-03-01","10700000","UZ",202005,0.35,1.645E-3,3.5608300000000001E-3,"05","2020","05/2020","2021-03-31"]
["1010","53481900","R10-01K3.19-P-4031","2021-03-01","10700000","UZ",202006,0.17,1.645E-3,3.5608300000000001E-3,"06","2020","06/2020","2021-03-31"]
["1010","53481900","R10-01K3.19-P-4031","2021-03-01","10700000","UZ",202007,-4.17,1.645E-3,3.5608300000000001E-3,"07","2020","07/2020","2021-03-31"]
["1010","53481900","R10-01K3.19-P-4031","2021-03-01","10700000","UZ",202009,1.22,1.645E-3,3.5608300000000001E-3,"09","2020","09/2020","2021-03-31"]
["1010","53482100","R10-01K3.19-P-4031","2021-03-01","10700000","UZ",201911,5.46,1.645E-3,3.5608300000000001E-3,"11","2019","11/2019","2021-03-31"]
["1010","53482100","R10-01K3.19-P-4031","2021-03-01","10700000","UZ",201912,1.73,1.645E-3,3.5608300000000001E-3,"12","2019","12/2019","2021-03-31"]
["1010","53482100","R10-01K3.19-P-4031","2021-03-01","10700000","UZ",202001,44.06,1.645E-3,3.5608300000000001E-3,"01","2020","01/2020","2021-03-31"]
["1010","53482100","R10-01K3.19-P-4031","2021-03-01","10700000","UZ",202002,76.61,1.645E-3,3.5608300000000001E-3,"02","2020","02/2020","2021-03-31"]
["1010","53482100","R10-01K3.19-P-4031","2021-03-01","10700000","UZ",202003,257.31,1.645E-3,3.5608300000000001E-3,"03","2020","03/2020","2021-03-31"]
["1010","53482100","R10-01K3.19-P-4031","2021-03-01","10700000","UZ",202004,78.400000000000006,1.645E-3,3.5608300000000001E-3,"04","2020","04/2020","2021-03-31"]
["1010","53482100","R10-01K3.19-P-4031","2021-03-01","10700000","UZ",202005,148.62,1.645E-3,3.5608300000000001E-3,"05","2020","05/2020","2021-03-31"]
["1010","53482100","R10-01K3.19-P-4031","2021-03-01","10700000","UZ",202006,65.760000000000005,1.645E-3,3.5608300000000001E-3,"06","2020","06/2020","2021-03-31"]
["1010","53482100","R10-01K3.19-P-4031","2021-03-01","10700000","UZ",202007,118.46,1.645E-3,3.5608300000000001E-3,"07","2020","07/2020","2021-03-31"]
["1010","53482100","R10-01K3.19-P-4031","2021-03-01","10700000","UZ",202008,290.72000000000003,1.645E-3,3.5608300000000001E-3,"08","2020","08/2020","2021-03-31"]
["1010","53482100","R10-01K3.19-P-4031","2021-03-01","10700000","UZ",202009,133.36000000000001,1.645E-3,3.5608300000000001E-3,"09","2020","09/2020","2021-03-31"]
["1010","53482100","R10-01K3.19-P-4031","2021-03-01","10700000","UZ",202010,118.63,1.645E-3,3.5608300000000001E-3,"10","2020","10/2020","2021-03-31"]
["1010","53482100","R10-01K3.19-P-4031","2021-03-01","10700000","UZ",202011,234.8,1.645E-3,3.5608300000000001E-3,"11","2020","11/2020","2021-03-31"]
["1010","53482100","R10-01K3.19-P-4031","2021-03-01","10700000","UZ",202012,116.83,1.645E-3,3.5608300000000001E-3,"12","2020","12/2020","2021-03-31"]
["1010","53482100","R10-01K3.19-P-4031","2021-03-01","10700000","UZ",202102,45.7,1.645E-3,3.5608300000000001E-3,"02","2021","02/2021","2021-03-31"]
["1010","53482100","R10-01K3.19-P-4031","2021-03-01","10700000","UZ",202103,131.02000000000001,1.645E-3,3.5608300000000001E-3,"03","2021","03/2021","2021-03-31"]
["1010","53482300","R10-01K3.19-P-4031","2021-03-01","10700000","UZ",201909,2.17,1.645E-3,3.5608300000000001E-3,"09","2019","09/2019","2021-03-31"]
["1010","53482300","R10-01K3.19-P-4031","2021-03-01","10700000","UZ",201910,-0.82,1.645E-3,3.5608300000000001E-3,"10","2019","10/2019","2021-03-31"]
["1010","53482300","R10-01K3.19-P-4031","2021-03-01","10700000","UZ",201911,24.77,1.645E-3,3.5608300000000001E-3,"11","2019","11/2019","2021-03-31"]
["1010","53482300","R10-01K3.19-P-4031","2021-03-01","10700000","UZ",201912,-1.58,1.645E-3,3.5608300000000001E-3,"12","2019","12/2019","2021-03-31"]
["1010","53482300","R10-01K3.19-P-4031","2021-03-01","10700000","UZ",202001,82.78,1.645E-3,3.5608300000000001E-3,"01","2020","01/2020","2021-03-31"]
["1010","53482300","R10-01K3.19-P-4031","2021-03-01","10700000","UZ",202002,40.54,1.645E-3,3.5608300000000001E-3,"02","2020","02/2020","2021-03-31"]
["1010","53482300","R10-01K3.19-P-4031","2021-03-01","10700000","UZ",202003,109.43,1.645E-3,3.5608300000000001E-3,"03","2020","03/2020","2021-03-31"]
["1010","53482300","R10-01K3.19-P-4031","2021-03-01","10700000","UZ",202004,38.43,1.645E-3,3.5608300000000001E-3,"04","2020","04/2020","2021-03-31"]
["1010","53482300","R10-01K3.19-P-4031","2021-03-01","10700000","UZ",202005,65.03,1.645E-3,3.5608300000000001E-3,"05","2020","05/2020","2021-03-31"]
["1010","53482300","R10-01K3.19-P-4031","2021-03-01","10700000","UZ",202006,54.23,1.645E-3,3.5608300000000001E-3,"06","2020","06/2020","2021-03-31"]
["1010","53482300","R10-01K3.19-P-4031","2021-03-01","10700000","UZ",202007,54.32,1.645E-3,3.5608300000000001E-3,"07","2020","07/2020","2021-03-31"]
["1010","53482300","R10-01K3.19-P-4031","2021-03-01","10700000","UZ",202008,120.9,1.645E-3,3.5608300000000001E-3,"08","2020","08/2020","2021-03-31"]
["1010","53482300","R10-01K3.19-P-4031","2021-03-01","10700000","UZ",202009,82.11,1.645E-3,3.5608300000000001E-3,"09","2020","09/2020","2021-03-31"]
["1010","53482300","R10-01K3.19-P-4031","2021-03-01","10700000","UZ",202010,48.72,1.645E-3,3.5608300000000001E-3,"10","2020","10/2020","2021-03-31"]
["1010","53482300","R10-01K3.19-P-4031","2021-03-01","10700000","UZ",202011,96.42,1.645E-3,3.5608300000000001E-3,"11","2020","11/2020","2021-03-31"]
["1010","53482300","R10-01K3.19-P-4031","2021-03-01","10700000","UZ",202012,35.869999999999997,1.645E-3,3.5608300000000001E-3,"12","2020","12/2020","2021-03-31"]
["1010","53482300","R10-01K3.19-P-4031","2021-03-01","10700000","UZ",202101,4.2,1.645E-3,3.5608300000000001E-3,"01","2021","01/2021","2021-03-31"]
["1010","53482300","R10-01K3.19-P-4031","2021-03-01","10700000","UZ",202102,19.68,1.645E-3,3.5608300000000001E-3,"02","2021","02/2021","2021-03-31"]
["1010","53482300","R10-01K3.19-P-4031","2021-03-01","10700000","UZ",202103,58.49,1.645E-3,3.5608300000000001E-3,"03","2021","03/2021","2021-03-31"]
["1010","53482400","R10-01K3.19-P-4031","2021-03-01","10700000","UZ",201911,-5.89,1.645E-3,3.5608300000000001E-3,"11","2019","11/2019","2021-03-31"]
["1010","53482400","R10-01K3.19-P-4031","2021-03-01","10700000","UZ",201912,-2.15,1.645E-3,3.5608300000000001E-3,"12","2019","12/2019","2021-03-31"]
["1010","53482400","R10-01K3.19-P-4031","2021-03-01","10700000","UZ",202001,-31.72,1.645E-3,3.5608300000000001E-3,"01","2020","01/2020","2021-03-31"]
["1010","70510000","R10-01K3.19-P-4031","2021-03-01","10700000","UZ",201909,288.26,1.645E-3,3.5608300000000001E-3,"09","2019","09/2019","2021-03-31"]
["1010","70510000","R10-01K3.19-P-4031","2021-03-01","10700000","UZ",201910,289.87,1.645E-3,3.5608300000000001E-3,"10","2019","10/2019","2021-03-31"]
["1010","70510000","R10-01K3.19-P-4031","2021-03-01","10700000","UZ",201911,291.31,1.645E-3,3.5608300000000001E-3,"11","2019","11/2019","2021-03-31"]
["1010","70510000","R10-01K3.19-P-4031","2021-03-01","10700000","UZ",201912,294.39999999999998,1.645E-3,3.5608300000000001E-3,"12","2019","12/2019","2021-03-31"]
["1010","70510000","R10-01K3.19-P-4031","2021-03-01","10700000","UZ",202001,359.1,1.645E-3,3.5608300000000001E-3,{"$f":"RIGHT(G162,2)","v":"01"},{"$f":"LEFT(G162,4)","v":"2020"},{"$f":"_xlfn.CONCAT(K162,\"/\",L162)","v":"01/2020"},{"$f":"EOMONTH(D162,0)","v":"2021-03-31"}]
["1010","70510000","R10-01K3.19-P-4031","2021-03-01","10700000","UZ",202002,365.24,1.645E-3,3.5608300000000001E-3,"02","2020","02/2020","2021-03-31"]
["1010","70510000","R10-01K3.19-P-4031","2021-03-01","10700000","UZ",202003,369.58,1.645E-3,3.5608300000000001E-3,"03","2020","03/2020","2021-03-31"]
["1010","70510000","R10-01K3.19-P-4031","2021-03-01","10700000","UZ",202004,379.23,1.645E-3,3.5608300000000001E-3,"04","2020","04/2020","2021-03-31"]
["1010","70510000","R10-01K3.19-P-4031","2021-03-01","10700000","UZ",202005,390.25,1.645E-3,3.5608300000000001E-3,"05","2020","05/2020","2021-03-31"]
["1010","70510000","R10-01K3.19-P-4031","2021-03-01","10700000","UZ",202006,396.9,1.645E-3,3.5608300000000001E-3,"06","2020","06/2020","2021-03-31"]
["1010","70510000","R10-01K3.19-P-4031","2021-03-01","10700000","UZ",202007,420.39,1.645E-3,3.5608300000000001E-3,"07","2020","07/2020","2021-03-31"]
["1010","70510000","R10-01K3.19-P-4031","2021-03-01","10700000","UZ",202008,471.21,1.645E-3,3.5608300000000001E-3,"08","2020","08/2020","2021-03-31"]
["1010","70510000","R10-01K3.19-P-4031","2021-03-01","10700000","UZ",202009,482.53,1.645E-3,3.5608300000000001E-3,"09","2020","09/2020","2021-03-31"]
["1010","70510000","R10-01K3.19-P-4031","2021-03-01","10700000","UZ",202010,490.27,1.645E-3,3.5608300000000001E-3,"10","2020","10/2020","2021-03-31"]
["1010","70510000","R10-01K3.19-P-4031","2021-03-01","10700000","UZ",202011,531.55999999999995,1.645E-3,3.5608300000000001E-3,"11","2020","11/2020","2021-03-31"]
["1010","70510000","R10-01K3.19-P-4031","2021-03-01","10700000","UZ",202012,541.54,1.645E-3,3.5608300000000001E-3,"12","2020","12/2020","2021-03-31"]
["1010","70510000","R10-01K3.19-P-4031","2021-03-01","10700000","UZ",202101,601.33000000000004,1.645E-3,3.5608300000000001E-3,"01","2021","01/2021","2021-03-31"]
["1010","70510000","R10-01K3.19-P-4031","2021-03-01","10700000","UZ",202102,604.28,1.645E-3,3.5608300000000001E-3,"02","2021","02/2021","2021-03-31"]
["1010","70510000","R10-01K3.19-P-4031","2021-03-01","10700000","UZ",202103,304.27,1.645E-3,3.5608300000000001E-3,"03","2021","03/2021","2021-03-31"]
["1010","85000000","R10-01K3.19-P-4031","2021-03-01","10700000","UZ",201909,135.01,1.645E-3,3.5608300000000001E-3,"09","2019","09/2019","2021-03-31"]
["1010","85000000","R10-01K3.19-P-4031","2021-03-01","10700000","UZ",201910,135.76,1.645E-3,3.5608300000000001E-3,"10","2019","10/2019","2021-03-31"]
["1010","85000000","R10-01K3.19-P-4031","2021-03-01","10700000","UZ",201911,136.44,1.645E-3,3.5608300000000001E-3,"11","2019","11/2019","2021-03-31"]
["1010","85000000","R10-01K3.19-P-4031","2021-03-01","10700000","UZ",201912,137.88,1.645E-3,3.5608300000000001E-3,"12","2019","12/2019","2021-03-31"]
["1010","85000000","R10-01K3.19-P-4031","2021-03-01","10700000","UZ",202001,168.18,1.645E-3,3.5608300000000001E-3,"01","2020","01/2020","2021-03-31"]
["1010","85000000","R10-01K3.19-P-4031","2021-03-01","10700000","UZ",202002,171.06,1.645E-3,3.5608300000000001E-3,"02","2020","02/2020","2021-03-31"]
["1010","85000000","R10-01K3.19-P-4031","2021-03-01","10700000","UZ",202003,173.09,1.645E-3,3.5608300000000001E-3,"03","2020","03/2020","2021-03-31"]
["1010","85000000","R10-01K3.19-P-4031","2021-03-01","10700000","UZ",202004,177.61,1.645E-3,3.5608300000000001E-3,"04","2020","04/2020","2021-03-31"]
["1010","85000000","R10-01K3.19-P-4031","2021-03-01","10700000","UZ",202005,180.28,1.645E-3,3.5608300000000001E-3,"05","2020","05/2020","2021-03-31"]
["1010","85000000","R10-01K3.19-P-4031","2021-03-01","10700000","UZ",202006,183.35,1.645E-3,3.5608300000000001E-3,"06","2020","06/2020","2021-03-31"]
["1010","85000000","R10-01K3.19-P-4031","2021-03-01","10700000","UZ",202007,194.21,1.645E-3,3.5608300000000001E-3,"07","2020","07/2020","2021-03-31"]
["1010","85000000","R10-01K3.19-P-4031","2021-03-01","10700000","UZ",202008,217.68,1.645E-3,3.5608300000000001E-3,"08","2020","08/2020","2021-03-31"]
["1010","85000000","R10-01K3.19-P-4031","2021-03-01","10700000","UZ",202009,222.92,1.645E-3,3.5608300000000001E-3,"09","2020","09/2020","2021-03-31"]
["1010","85000000","R10-01K3.19-P-4031","2021-03-01","10700000","UZ",202010,226.49,1.645E-3,3.5608300000000001E-3,"10","2020","10/2020","2021-03-31"]
["1010","85000000","R10-01K3.19-P-4031","2021-03-01","10700000","UZ",202011,245.57,1.645E-3,3.5608300000000001E-3,"11","2020","11/2020","2021-03-31"]
["1010","85000000","R10-01K3.19-P-4031","2021-03-01","10700000","UZ",202012,250.18,1.645E-3,3.5608300000000001E-3,"12","2020","12/2020","2021-03-31"]
["1010","85000000","R10-01K3.19-P-4031","2021-03-01","10700000","UZ",202101,277.8,1.645E-3,3.5608300000000001E-3,"01","2021","01/2021","2021-03-31"]
["1010","85000000","R10-01K3.19-P-4031","2021-03-01","10700000","UZ",202102,279.16000000000003,1.645E-3,3.5608300000000001E-3,"02","2021","02/2021","2021-03-31"]
["1010","85000000","R10-01K3.19-P-4031","2021-03-01","10700000","UZ",202103,140.56,1.645E-3,3.5608300000000001E-3,"03","2021","03/2021","2021-03-31"]

{"sheet":"CR CWIP query 062021 ISD","index":11,"n_rows":125,"n_cols":14,"rows_kept":125,"cut":false,"hidden":true,"merged":[]}
["Company","Cost Element","Work Order Number","In Service Dates","Account","Document Type","Month Number","Amount","AFUDC Debt Rate","AFUDC Equity Rate","month","year","Date","1st month PIS AFUDC"]
["1010","52801700","T10-0185-P-1000","2021-06-15","10700000","UZ",202103,231.92,1.645E-3,3.5608300000000001E-3,{"$f":"RIGHT(G2,2)","v":"03"},{"$f":"LEFT(G2,4)","v":"2021"},{"$f":"_xlfn.CONCAT(K2,\"/\",L2)","v":"03/2021"},{"$f":"EOMONTH(D2,0)","v":"2021-06-30"}]
["1010","52801700","T10-0185-P-1000","2021-06-15","10700000","UZ",202104,44.73,1.645E-3,3.5608300000000001E-3,{"$f":"RIGHT(G3,2)","v":"04"},{"$f":"LEFT(G3,4)","v":"2021"},{"$f":"_xlfn.CONCAT(K3,\"/\",L3)","v":"04/2021"},{"$f":"EOMONTH(D3,0)","v":"2021-06-30"}]
["1010","52801700","T10-0185-P-1000","2021-06-15","10700000","UZ",202105,-3.75,1.645E-3,3.5608300000000001E-3,"05","2021","05/2021","2021-06-30"]
["1010","52801700","T10-0185-P-1000","2021-06-15","10700000","UZ",202106,119.62,1.645E-3,3.5608300000000001E-3,"06","2021","06/2021","2021-06-30"]
["1010","52801700","T10-0185-P-1000","2021-06-15","10700000","UZ",202107,37.72,1.645E-3,3.5608300000000001E-3,"07","2021","07/2021","2021-06-30"]
["1010","52801700","T10-0185-P-1000","2021-06-15","10700000","UZ",202108,6.74,1.645E-3,3.5608300000000001E-3,"08","2021","08/2021","2021-06-30"]
["1010","53150000","T10-0185-P-1000","2021-06-15","10700000","UZ",202112,1389.45,1.645E-3,3.5608300000000001E-3,"12","2021","12/2021","2021-06-30"]
["1010","53481000","T10-0185-P-1000","2021-06-15","10700000","UZ",202007,88.44,1.645E-3,3.5608300000000001E-3,"07","2020","07/2020","2021-06-30"]
["1010","53481000","T10-0185-P-1000","2021-06-15","10700000","UZ",202009,53.06,1.645E-3,3.5608300000000001E-3,"09","2020","09/2020","2021-06-30"]
["1010","53481000","T10-0185-P-1000","2021-06-15","10700000","UZ",202010,-23.58,1.645E-3,3.5608300000000001E-3,"10","2020","10/2020","2021-06-30"]
["1010","53481000","T10-0185-P-1000","2021-06-15","10700000","UZ",202011,4.37,1.645E-3,3.5608300000000001E-3,"11","2020","11/2020","2021-06-30"]
["1010","53481000","T10-0185-P-1000","2021-06-15","10700000","UZ",202012,862.82,1.645E-3,3.5608300000000001E-3,"12","2020","12/2020","2021-06-30"]
["1010","53481000","T10-0185-P-1000","2021-06-15","10700000","UZ",202101,206.96,1.645E-3,3.5608300000000001E-3,"01","2021","01/2021","2021-06-30"]
["1010","53481000","T10-0185-P-1000","2021-06-15","10700000","UZ",202102,996.22,1.645E-3,3.5608300000000001E-3,"02","2021","02/2021","2021-06-30"]
["1010","53481000","T10-0185-P-1000","2021-06-15","10700000","UZ",202103,664.86,1.645E-3,3.5608300000000001E-3,"03","2021","03/2021","2021-06-30"]
["1010","53481000","T10-0185-P-1000","2021-06-15","10700000","UZ",202104,609.80999999999995,1.645E-3,3.5608300000000001E-3,"04","2021","04/2021","2021-06-30"]
["1010","53481000","T10-0185-P-1000","2021-06-15","10700000","UZ",202105,-273.47000000000003,1.645E-3,3.5608300000000001E-3,"05","2021","05/2021","2021-06-30"]
["1010","53481000","T10-0185-P-1000","2021-06-15","10700000","UZ",202106,728.71,1.645E-3,3.5608300000000001E-3,"06","2021","06/2021","2021-06-30"]
["1010","53481100","T10-0185-P-1000","2021-06-15","10700000","UZ",202007,0.85,1.645E-3,3.5608300000000001E-3,"07","2020","07/2020","2021-06-30"]
["1010","53481100","T10-0185-P-1000","2021-06-15","10700000","UZ",202009,0.82,1.645E-3,3.5608300000000001E-3,"09","2020","09/2020","2021-06-30"]
["1010","53481100","T10-0185-P-1000","2021-06-15","10700000","UZ",202012,9.5500000000000007,1.645E-3,3.5608300000000001E-3,"12","2020","12/2020","2021-06-30"]
["1010","53481100","T10-0185-P-1000","2021-06-15","10700000","UZ",202101,2.87,1.645E-3,3.5608300000000001E-3,"01","2021","01/2021","2021-06-30"]
["1010","53481100","T10-0185-P-1000","2021-06-15","10700000","UZ",202102,40.42,1.645E-3,3.5608300000000001E-3,"02","2021","02/2021","2021-06-30"]
["1010","53481100","T10-0185-P-1000","2021-06-15","10700000","UZ",202103,22.85,1.645E-3,3.5608300000000001E-3,"03","2021","03/2021","2021-06-30"]
["1010","53481100","T10-0185-P-1000","2021-06-15","10700000","UZ",202104,20.73,1.645E-3,3.5608300000000001E-3,"04","2021","04/2021","2021-06-30"]
["1010","53481100","T10-0185-P-1000","2021-06-15","10700000","UZ",202106,25.63,1.645E-3,3.5608300000000001E-3,"06","2021","06/2021","2021-06-30"]
["1010","53481200","T10-0185-P-1000","2021-06-15","10700000","UZ",202007,17.73,1.645E-3,3.5608300000000001E-3,"07","2020","07/2020","2021-06-30"]
["1010","53481200","T10-0185-P-1000","2021-06-15","10700000","UZ",202009,6.47,1.645E-3,3.5608300000000001E-3,"09","2020","09/2020","2021-06-30"]
["1010","53481200","T10-0185-P-1000","2021-06-15","10700000","UZ",202010,-2.86,1.645E-3,3.5608300000000001E-3,"10","2020","10/2020","2021-06-30"]
["1010","53481200","T10-0185-P-1000","2021-06-15","10700000","UZ",202011,0.39,1.645E-3,3.5608300000000001E-3,"11","2020","11/2020","2021-06-30"]
["1010","53481200","T10-0185-P-1000","2021-06-15","10700000","UZ",202012,180.19,1.645E-3,3.5608300000000001E-3,"12","2020","12/2020","2021-06-30"]
["1010","53481200","T10-0185-P-1000","2021-06-15","10700000","UZ",202101,12.62,1.645E-3,3.5608300000000001E-3,"01","2021","01/2021","2021-06-30"]
["1010","53481200","T10-0185-P-1000","2021-06-15","10700000","UZ",202102,218.21,1.645E-3,3.5608300000000001E-3,"02","2021","02/2021","2021-06-30"]
["1010","53481200","T10-0185-P-1000","2021-06-15","10700000","UZ",202103,143.69999999999999,1.645E-3,3.5608300000000001E-3,"03","2021","03/2021","2021-06-30"]
["1010","53481200","T10-0185-P-1000","2021-06-15","10700000","UZ",202104,131.27000000000001,1.645E-3,3.5608300000000001E-3,"04","2021","04/2021","2021-06-30"]
["1010","53481200","T10-0185-P-1000","2021-06-15","10700000","UZ",202105,-59.38,1.645E-3,3.5608300000000001E-3,"05","2021","05/2021","2021-06-30"]
["1010","53481200","T10-0185-P-1000","2021-06-15","10700000","UZ",202106,154.59,1.645E-3,3.5608300000000001E-3,"06","2021","06/2021","2021-06-30"]
["1010","53481300","T10-0185-P-1000","2021-06-15","10700000","UZ",202007,8.2200000000000006,1.645E-3,3.5608300000000001E-3,"07","2020","07/2020","2021-06-30"]
["1010","53481300","T10-0185-P-1000","2021-06-15","10700000","UZ",202009,4.9800000000000004,1.645E-3,3.5608300000000001E-3,"09","2020","09/2020","2021-06-30"]
["1010","53481300","T10-0185-P-1000","2021-06-15","10700000","UZ",202010,-2.1800000000000002,1.645E-3,3.5608300000000001E-3,"10","2020","10/2020","2021-06-30"]
["1010","53481300","T10-0185-P-1000","2021-06-15","10700000","UZ",202011,0.4,1.645E-3,3.5608300000000001E-3,"11","2020","11/2020","2021-06-30"]
["1010","53481300","T10-0185-P-1000","2021-06-15","10700000","UZ",202012,79.540000000000006,1.645E-3,3.5608300000000001E-3,"12","2020","12/2020","2021-06-30"]
["1010","53481300","T10-0185-P-1000","2021-06-15","10700000","UZ",202101,19.62,1.645E-3,3.5608300000000001E-3,{"$f":"RIGHT(G44,2)","v":"01"},{"$f":"LEFT(G44,4)","v":"2021"},{"$f":"_xlfn.CONCAT(K44,\"/\",L44)","v":"01/2021"},{"$f":"EOMONTH(D44,0)","v":"2021-06-30"}]
["1010","53481300","T10-0185-P-1000","2021-06-15","10700000","UZ",202102,96.03,1.645E-3,3.5608300000000001E-3,"02","2021","02/2021","2021-06-30"]
["1010","53481300","T10-0185-P-1000","2021-06-15","10700000","UZ",202103,64.06,1.645E-3,3.5608300000000001E-3,"03","2021","03/2021","2021-06-30"]
["1010","53481300","T10-0185-P-1000","2021-06-15","10700000","UZ",202104,58.92,1.645E-3,3.5608300000000001E-3,"04","2021","04/2021","2021-06-30"]
["1010","53481300","T10-0185-P-1000","2021-06-15","10700000","UZ",202105,-25.3,1.645E-3,3.5608300000000001E-3,"05","2021","05/2021","2021-06-30"]
["1010","53481300","T10-0185-P-1000","2021-06-15","10700000","UZ",202106,68.569999999999993,1.645E-3,3.5608300000000001E-3,"06","2021","06/2021","2021-06-30"]
["1010","53481400","T10-0185-P-1000","2021-06-15","10700000","UZ",202007,0.04,1.645E-3,3.5608300000000001E-3,"07","2020","07/2020","2021-06-30"]
["1010","53481400","T10-0185-P-1000","2021-06-15","10700000","UZ",202008,3274.37,1.645E-3,3.5608300000000001E-3,"08","2020","08/2020","2021-06-30"]
["1010","53481400","T10-0185-P-1000","2021-06-15","10700000","UZ",202009,4282.3100000000004,1.645E-3,3.5608300000000001E-3,"09","2020","09/2020","2021-06-30"]
["1010","53481400","T10-0185-P-1000","2021-06-15","10700000","UZ",202010,-263.23,1.645E-3,3.5608300000000001E-3,"10","2020","10/2020","2021-06-30"]
["1010","53481400","T10-0185-P-1000","2021-06-15","10700000","UZ",202011,3165.23,1.645E-3,3.5608300000000001E-3,"11","2020","11/2020","2021-06-30"]
["1010","53481400","T10-0185-P-1000","2021-06-15","10700000","UZ",202012,4372.0600000000004,1.645E-3,3.5608300000000001E-3,"12","2020","12/2020","2021-06-30"]
["1010","53481400","T10-0185-P-1000","2021-06-15","10700000","UZ",202101,1461.93,1.645E-3,3.5608300000000001E-3,"01","2021","01/2021","2021-06-30"]
["1010","53481400","T10-0185-P-1000","2021-06-15","10700000","UZ",202102,-71,1.645E-3,3.5608300000000001E-3,"02","2021","02/2021","2021-06-30"]
["1010","53481400","T10-0185-P-1000","2021-06-15","10700000","UZ",202103,1263.6400000000001,1.645E-3,3.5608300000000001E-3,"03","2021","03/2021","2021-06-30"]
["1010","53481400","T10-0185-P-1000","2021-06-15","10700000","UZ",202104,22.74,1.645E-3,3.5608300000000001E-3,"04","2021","04/2021","2021-06-30"]
["1010","53481400","T10-0185-P-1000","2021-06-15","10700000","UZ",202105,278.62,1.645E-3,3.5608300000000001E-3,"05","2021","05/2021","2021-06-30"]
["1010","53481400","T10-0185-P-1000","2021-06-15","10700000","UZ",202106,359.31,1.645E-3,3.5608300000000001E-3,"06","2021","06/2021","2021-06-30"]
["1010","53481400","T10-0185-P-1000","2021-06-15","10700000","UZ",202107,194.95,1.645E-3,3.5608300000000001E-3,"07","2021","07/2021","2021-06-30"]
["1010","53481400","T10-0185-P-1000","2021-06-15","10700000","UZ",202108,114.4,1.645E-3,3.5608300000000001E-3,"08","2021","08/2021","2021-06-30"]
["1010","53481500","T10-0185-P-1000","2021-06-15","10700000","UZ",202102,0.13,1.645E-3,3.5608300000000001E-3,"02","2021","02/2021","2021-06-30"]
["1010","53481500","T10-0185-P-1000","2021-06-15","10700000","UZ",202103,-0.04,1.645E-3,3.5608300000000001E-3,"03","2021","03/2021","2021-06-30"]
["1010","53481500","T10-0185-P-1000","2021-06-15","10700000","UZ",202104,0.24,1.645E-3,3.5608300000000001E-3,"04","2021","04/2021","2021-06-30"]
["1010","53481500","T10-0185-P-1000","2021-06-15","10700000","UZ",202106,-0.28000000000000003,1.645E-3,3.5608300000000001E-3,"06","2021","06/2021","2021-06-30"]
["1010","53481700","T10-0185-P-1000","2021-06-15","10700000","UZ",202007,0.06,1.645E-3,3.5608300000000001E-3,"07","2020","07/2020","2021-06-30"]
["1010","53481700","T10-0185-P-1000","2021-06-15","10700000","UZ",202009,0.05,1.645E-3,3.5608300000000001E-3,"09","2020","09/2020","2021-06-30"]
["1010","53481700","T10-0185-P-1000","2021-06-15","10700000","UZ",202012,0.1,1.645E-3,3.5608300000000001E-3,"12","2020","12/2020","2021-06-30"]
["1010","53481700","T10-0185-P-1000","2021-06-15","10700000","UZ",202101,0.03,1.645E-3,3.5608300000000001E-3,"01","2021","01/2021","2021-06-30"]
["1010","53481700","T10-0185-P-1000","2021-06-15","10700000","UZ",202102,81.53,1.645E-3,3.5608300000000001E-3,"02","2021","02/2021","2021-06-30"]
["1010","53481700","T10-0185-P-1000","2021-06-15","10700000","UZ",202103,46.13,1.645E-3,3.5608300000000001E-3,"03","2021","03/2021","2021-06-30"]
["1010","53481700","T10-0185-P-1000","2021-06-15","10700000","UZ",202104,41.77,1.645E-3,3.5608300000000001E-3,"04","2021","04/2021","2021-06-30"]
["1010","53481700","T10-0185-P-1000","2021-06-15","10700000","UZ",202106,51.74,1.645E-3,3.5608300000000001E-3,"06","2021","06/2021","2021-06-30"]
["1010","53481900","T10-0185-P-1000","2021-06-15","10700000","UZ",202007,-0.46,1.645E-3,3.5608300000000001E-3,"07","2020","07/2020","2021-06-30"]
["1010","53481900","T10-0185-P-1000","2021-06-15","10700000","UZ",202009,0.09,1.645E-3,3.5608300000000001E-3,"09","2020","09/2020","2021-06-30"]
["1010","53481900","T10-0185-P-1000","2021-06-15","10700000","UZ",202103,0.57999999999999996,1.645E-3,3.5608300000000001E-3,"03","2021","03/2021","2021-06-30"]
["1010","53481900","T10-0185-P-1000","2021-06-15","10700000","UZ",202104,8.18,1.645E-3,3.5608300000000001E-3,"04","2021","04/2021","2021-06-30"]
["1010","53481900","T10-0185-P-1000","2021-06-15","10700000","UZ",202106,13.35,1.645E-3,3.5608300000000001E-3,"06","2021","06/2021","2021-06-30"]
["1010","53482100","T10-0185-P-1000","2021-06-15","10700000","UZ",202007,13.16,1.645E-3,3.5608300000000001E-3,"07","2020","07/2020","2021-06-30"]
["1010","53482100","T10-0185-P-1000","2021-06-15","10700000","UZ",202009,9.5299999999999994,1.645E-3,3.5608300000000001E-3,"09","2020","09/2020","2021-06-30"]
["1010","53482100","T10-0185-P-1000","2021-06-15","10700000","UZ",202012,129.81,1.645E-3,3.5608300000000001E-3,"12","2020","12/2020","2021-06-30"]
["1010","53482100","T10-0185-P-1000","2021-06-15","10700000","UZ",202101,40.64,1.645E-3,3.5608300000000001E-3,"01","2021","01/2021","2021-06-30"]
["1010","53482100","T10-0185-P-1000","2021-06-15","10700000","UZ",202102,42.22,1.645E-3,3.5608300000000001E-3,"02","2021","02/2021","2021-06-30"]
["1010","53482100","T10-0185-P-1000","2021-06-15","10700000","UZ",202103,25.71,1.645E-3,3.5608300000000001E-3,"03","2021","03/2021","2021-06-30"]
["1010","53482100","T10-0185-P-1000","2021-06-15","10700000","UZ",202104,20.239999999999998,1.645E-3,3.5608300000000001E-3,"04","2021","04/2021","2021-06-30"]
["1010","53482100","T10-0185-P-1000","2021-06-15","10700000","UZ",202106,25.07,1.645E-3,3.5608300000000001E-3,"06","2021","06/2021","2021-06-30"]
["1010","53482300","T10-0185-P-1000","2021-06-15","10700000","UZ",202007,6.55,1.645E-3,3.5608300000000001E-3,"07","2020","07/2020","2021-06-30"]
["1010","53482300","T10-0185-P-1000","2021-06-15","10700000","UZ",202009,4.09,1.645E-3,3.5608300000000001E-3,"09","2020","09/2020","2021-06-30"]
["1010","53482300","T10-0185-P-1000","2021-06-15","10700000","UZ",202010,-1.82,1.645E-3,3.5608300000000001E-3,"10","2020","10/2020","2021-06-30"]
["1010","53482300","T10-0185-P-1000","2021-06-15","10700000","UZ",202011,0.33,1.645E-3,3.5608300000000001E-3,"11","2020","11/2020","2021-06-30"]
["1010","53482300","T10-0185-P-1000","2021-06-15","10700000","UZ",202012,63.84,1.645E-3,3.5608300000000001E-3,"12","2020","12/2020","2021-06-30"]
["1010","53482300","T10-0185-P-1000","2021-06-15","10700000","UZ",202101,17.03,1.645E-3,3.5608300000000001E-3,"01","2021","01/2021","2021-06-30"]
["1010","53482300","T10-0185-P-1000","2021-06-15","10700000","UZ",202102,89.39,1.645E-3,3.5608300000000001E-3,"02","2021","02/2021","2021-06-30"]
["1010","53482300","T10-0185-P-1000","2021-06-15","10700000","UZ",202103,50.92,1.645E-3,3.5608300000000001E-3,"03","2021","03/2021","2021-06-30"]
["1010","53482300","T10-0185-P-1000","2021-06-15","10700000","UZ",202104,45.9,1.645E-3,3.5608300000000001E-3,"04","2021","04/2021","2021-06-30"]
["1010","53482300","T10-0185-P-1000","2021-06-15","10700000","UZ",202105,-20.2,1.645E-3,3.5608300000000001E-3,"05","2021","05/2021","2021-06-30"]
["1010","53482300","T10-0185-P-1000","2021-06-15","10700000","UZ",202106,53.59,1.645E-3,3.5608300000000001E-3,"06","2021","06/2021","2021-06-30"]
["1010","53482400","T10-0185-P-1000","2021-06-15","10700000","UZ",202102,-3.64,1.645E-3,3.5608300000000001E-3,"02","2021","02/2021","2021-06-30"]
["1010","53482400","T10-0185-P-1000","2021-06-15","10700000","UZ",202103,-1.82,1.645E-3,3.5608300000000001E-3,"03","2021","03/2021","2021-06-30"]
["1010","53482400","T10-0185-P-1000","2021-06-15","10700000","UZ",202104,-1.55,1.645E-3,3.5608300000000001E-3,"04","2021","04/2021","2021-06-30"]
["1010","53482400","T10-0185-P-1000","2021-06-15","10700000","UZ",202106,-1.78,1.645E-3,3.5608300000000001E-3,"06","2021","06/2021","2021-06-30"]
["1010","70510000","T10-0185-P-1000","2021-06-15","10700000","UZ",202008,0.48,1.645E-3,3.5608300000000001E-3,"08","2020","08/2020","2021-06-30"]
["1010","70510000","T10-0185-P-1000","2021-06-15","10700000","UZ",202009,12.14,1.645E-3,3.5608300000000001E-3,"09","2020","09/2020","2021-06-30"]
["1010","70510000","T10-0185-P-1000","2021-06-15","10700000","UZ",202010,27.73,1.645E-3,3.5608300000000001E-3,"10","2020","10/2020","2021-06-30"]
["1010","70510000","T10-0185-P-1000","2021-06-15","10700000","UZ",202011,26.83,1.645E-3,3.5608300000000001E-3,"11","2020","11/2020","2021-06-30"]
["1010","70510000","T10-0185-P-1000","2021-06-15","10700000","UZ",202012,38.26,1.645E-3,3.5608300000000001E-3,{"$f":"RIGHT(G108,2)","v":"12"},{"$f":"LEFT(G108,4)","v":"2020"},{"$f":"_xlfn.CONCAT(K108,\"/\",L108)","v":"12/2020"},{"$f":"EOMONTH(D108,0)","v":"2021-06-30"}]
["1010","70510000","T10-0185-P-1000","2021-06-15","10700000","UZ",202101,58.75,1.645E-3,3.5608300000000001E-3,"01","2021","01/2021","2021-06-30"]
["1010","70510000","T10-0185-P-1000","2021-06-15","10700000","UZ",202102,65.33,1.645E-3,3.5608300000000001E-3,"02","2021","02/2021","2021-06-30"]
["1010","70510000","T10-0185-P-1000","2021-06-15","10700000","UZ",202103,70.97,1.645E-3,3.5608300000000001E-3,"03","2021","03/2021","2021-06-30"]
["1010","70510000","T10-0185-P-1000","2021-06-15","10700000","UZ",202104,80.290000000000006,1.645E-3,3.5608300000000001E-3,"04","2021","04/2021","2021-06-30"]
["1010","70510000","T10-0185-P-1000","2021-06-15","10700000","UZ",202105,84.28,1.645E-3,3.5608300000000001E-3,"05","2021","05/2021","2021-06-30"]
["1010","70510000","T10-0185-P-1000","2021-06-15","10700000","UZ",202106,42.18,1.645E-3,3.5608300000000001E-3,"06","2021","06/2021","2021-06-30"]
["1010","85000000","T10-0185-P-1000","2021-06-15","10700000","UZ",202008,0.22,1.645E-3,3.5608300000000001E-3,"08","2020","08/2020","2021-06-30"]
["1010","85000000","T10-0185-P-1000","2021-06-15","10700000","UZ",202009,5.61,1.645E-3,3.5608300000000001E-3,"09","2020","09/2020","2021-06-30"]
["1010","85000000","T10-0185-P-1000","2021-06-15","10700000","UZ",202010,12.81,1.645E-3,3.5608300000000001E-3,"10","2020","10/2020","2021-06-30"]
["1010","85000000","T10-0185-P-1000","2021-06-15","10700000","UZ",202011,12.4,1.645E-3,3.5608300000000001E-3,"11","2020","11/2020","2021-06-30"]
["1010","85000000","T10-0185-P-1000","2021-06-15","10700000","UZ",202012,17.68,1.645E-3,3.5608300000000001E-3,"12","2020","12/2020","2021-06-30"]
["1010","85000000","T10-0185-P-1000","2021-06-15","10700000","UZ",202101,27.14,1.645E-3,3.5608300000000001E-3,"01","2021","01/2021","2021-06-30"]
["1010","85000000","T10-0185-P-1000","2021-06-15","10700000","UZ",202102,30.18,1.645E-3,3.5608300000000001E-3,"02","2021","02/2021","2021-06-30"]
["1010","85000000","T10-0185-P-1000","2021-06-15","10700000","UZ",202103,32.79,1.645E-3,3.5608300000000001E-3,"03","2021","03/2021","2021-06-30"]
["1010","85000000","T10-0185-P-1000","2021-06-15","10700000","UZ",202104,37.090000000000003,1.645E-3,3.5608300000000001E-3,"04","2021","04/2021","2021-06-30"]
["1010","85000000","T10-0185-P-1000","2021-06-15","10700000","UZ",202105,38.94,1.645E-3,3.5608300000000001E-3,"05","2021","05/2021","2021-06-30"]
["1010","85000000","T10-0185-P-1000","2021-06-15","10700000","UZ",202106,19.48,1.645E-3,3.5608300000000001E-3,"06","2021","06/2021","2021-06-30"]

{"sheet":"SEI ISD","index":12,"n_rows":9,"n_cols":8,"rows_kept":9,"cut":false,"hidden":true,"merged":[]}
["PM>wo>Select use comma macro to pull this info for in service dates"]
[]
[]
["work_order_number","in_service_date","completion_date","description","description","description","description","long_description"]
["R10-01K3.19-P-4031","2021-03-01","2021-03-31","VMWare Workspace One","posted to CPR",null,"Indiana Corp-Specific"]
["T10-0185-P-1000","2021-06-15","2022-03-23","New Authentication Platform (Okta)","posted to CPR",null,"Indiana Corp-Specific"]
["R10-01K3.19-P-4031","2021-03-01","2021-03-31","VMWare Workspace One","posted to CPR",null,"Indiana Corp-Specific"]
["T10-0184-P-1000","2020-11-20",null,"SIEM Suite Implementation","in service",null,"Indiana Corp-Specific"]
["T10-0185-P-1000","2021-06-15","2022-03-23","New Authentication Platform (Okta)","posted to CPR",null,"Indiana Corp-Specific"]

{"sheet":"WBS by Depr info","index":13,"n_rows":9,"n_cols":7,"rows_kept":9,"cut":false,"hidden":true,"merged":[]}
["Used Asset 1200 Report & Depr 1039 to build this > looked for more than 1 Utility acct >highlighted magenta> Removed $0 rows> Selected larger balance Depr group"]
[]
[]
["cpr_activity_wo_number","Depr group","Sum of activity_cost","dup","Life Rate","COR Rate","Slvg Rate"]
["R10-01K3.19-P-4031","10C:340300",172430.46,null,{"$f":"VLOOKUP($B5,'sei depr 1039'!$C:$G,5,0)","v":0.1},{"$f":"VLOOKUP($B5,'sei depr 1039'!$C:$L,10,0)","v":0},{"$f":"VLOOKUP($B5,'sei depr 1039'!$C:$M,11,0)","v":0}]
["T10-0185-P-1000","10C:340300",27091.5,null,{"$f":"VLOOKUP($B6,'sei depr 1039'!$C:$G,5,0)","v":0.1},{"$f":"VLOOKUP($B6,'sei depr 1039'!$C:$L,10,0)","v":0},{"$f":"VLOOKUP($B6,'sei depr 1039'!$C:$M,11,0)","v":0}]
["R10-01K3.19-P-4031","10C:340300",0,null,{"$f":"VLOOKUP($B7,'sei depr 1039'!$C:$G,5,0)","v":0.1},{"$f":"VLOOKUP($B7,'sei depr 1039'!$C:$L,10,0)","v":0},{"$f":"VLOOKUP($B7,'sei depr 1039'!$C:$M,11,0)","v":0}]
["T10-0184-P-1000","10C:340300",103039.69,null,{"$f":"VLOOKUP($B8,'sei depr 1039'!$C:$G,5,0)","v":0.1},{"$f":"VLOOKUP($B8,'sei depr 1039'!$C:$L,10,0)","v":0},{"$f":"VLOOKUP($B8,'sei depr 1039'!$C:$M,11,0)","v":0}]
["T10-0185-P-1000","10C:340300",0,null,{"$f":"VLOOKUP($B9,'sei depr 1039'!$C:$G,5,0)","v":0.1},{"$f":"VLOOKUP($B9,'sei depr 1039'!$C:$L,10,0)","v":0},{"$f":"VLOOKUP($B9,'sei depr 1039'!$C:$M,11,0)","v":0}]

{"sheet":"sei depr 1039","index":14,"n_rows":2089,"n_cols":13,"rows_kept":2089,"cut":false,"hidden":true,"merged":[]}
["start_month","end_month","description","depr_group_id","gl_post_mo_yr","depreciation_base","depreciation_rate","description","COS Area","description","description","cost_of_removal_rate","salvage_rate"]
["2020-11-01","2021-06-01","10C:121100",3858,"2020-11-01",0,0,"10C:121100",null,"Indiana Corporate","121100-Land",0,0]
["2020-11-01","2021-06-01","10C:121100",3858,"2020-12-01",0,0,"10C:121100",null,"Indiana Corporate","121100-Land",0,0]
["2020-11-01","2021-06-01","10C:121100",3858,"2021-01-01",0,0,"10C:121100",null,"Indiana Corporate","121100-Land",0,0]
["2020-11-01","2021-06-01","10C:121100",3858,"2021-02-01",0,0,"10C:121100",null,"Indiana Corporate","121100-Land",0,0]
["2020-11-01","2021-06-01","10C:121100",3858,"2021-03-01",0,0,"10C:121100",null,"Indiana Corporate","121100-Land",0,0]
["2020-11-01","2021-06-01","10C:121100",3858,"2021-04-01",0,0,"10C:121100",null,"Indiana Corporate","121100-Land",0,0]
["2020-11-01","2021-06-01","10C:121100",3858,"2021-05-01",0,0,"10C:121100",null,"Indiana Corporate","121100-Land",0,0]
["2020-11-01","2021-06-01","10C:121100",3858,"2021-06-01",0,0,"10C:121100",null,"Indiana Corporate","121100-Land",0,0]
["2020-11-01","2021-06-01","10C:121200",4531,"2020-11-01",0,0,"10C:121200",null,"Indiana Corporate","121200-Buildings",0,0]
["2020-11-01","2021-06-01","10C:121200",4531,"2020-12-01",0,0,"10C:121200",null,"Indiana Corporate","121200-Buildings",0,0]
["2020-11-01","2021-06-01","10C:121200",4531,"2021-01-01",0,0,"10C:121200",null,"Indiana Corporate","121200-Buildings",0,0]
["2020-11-01","2021-06-01","10C:121200",4531,"2021-02-01",0,0,"10C:121200",null,"Indiana Corporate","121200-Buildings",0,0]
["2020-11-01","2021-06-01","10C:121200",4531,"2021-03-01",0,0,"10C:121200",null,"Indiana Corporate","121200-Buildings",0,0]
["2020-11-01","2021-06-01","10C:121200",4531,"2021-04-01",0,0,"10C:121200",null,"Indiana Corporate","121200-Buildings",0,0]
["2020-11-01","2021-06-01","10C:121200",4531,"2021-05-01",0,0,"10C:121200",null,"Indiana Corporate","121200-Buildings",0,0]
["2020-11-01","2021-06-01","10C:121200",4531,"2021-06-01",0,0,"10C:121200",null,"Indiana Corporate","121200-Buildings",0,0]
["2020-11-01","2021-06-01","10C:121300",2620,"2020-11-01",0,0,"10C:121300",null,"Indiana Corporate","121300-Capital Lease 5 Year",0,0]
["2020-11-01","2021-06-01","10C:121300",2620,"2020-12-01",0,0,"10C:121300",null,"Indiana Corporate","121300-Capital Lease 5 Year",0,0]
["2020-11-01","2021-06-01","10C:121300",2620,"2021-01-01",0,0,"10C:121300",null,"Indiana Corporate","121300-Capital Lease 5 Year",0,0]
["2020-11-01","2021-06-01","10C:121300",2620,"2021-02-01",0,0,"10C:121300",null,"Indiana Corporate","121300-Capital Lease 5 Year",0,0]
["2020-11-01","2021-06-01","10C:121300",2620,"2021-03-01",0,0,"10C:121300",null,"Indiana Corporate","121300-Capital Lease 5 Year",0,0]
["2020-11-01","2021-06-01","10C:121300",2620,"2021-04-01",0,0,"10C:121300",null,"Indiana Corporate","121300-Capital Lease 5 Year",0,0]
["2020-11-01","2021-06-01","10C:121300",2620,"2021-05-01",0,0,"10C:121300",null,"Indiana Corporate","121300-Capital Lease 5 Year",0,0]
["2020-11-01","2021-06-01","10C:121300",2620,"2021-06-01",0,0,"10C:121300",null,"Indiana Corporate","121300-Capital Lease 5 Year",0,0]
["2020-11-01","2021-06-01","10C:121400",6351,"2020-11-01",0,0,"10C:121400",null,"Indiana Corporate","121400-Lease Improvements",0,0]
["2020-11-01","2021-06-01","10C:121400",6351,"2020-12-01",0,0,"10C:121400",null,"Indiana Corporate","121400-Lease Improvements",0,0]
["2020-11-01","2021-06-01","10C:121400",6351,"2021-01-01",0,0,"10C:121400",null,"Indiana Corporate","121400-Lease Improvements",0,0]
["2020-11-01","2021-06-01","10C:121400",6351,"2021-02-01",0,0,"10C:121400",null,"Indiana Corporate","121400-Lease Improvements",0,0]
["2020-11-01","2021-06-01","10C:121400",6351,"2021-03-01",0,0,"10C:121400",null,"Indiana Corporate","121400-Lease Improvements",0,0]
["2020-11-01","2021-06-01","10C:121400",6351,"2021-04-01",0,0,"10C:121400",null,"Indiana Corporate","121400-Lease Improvements",0,0]
["2020-11-01","2021-06-01","10C:121400",6351,"2021-05-01",0,0,"10C:121400",null,"Indiana Corporate","121400-Lease Improvements",0,0]
["2020-11-01","2021-06-01","10C:121400",6351,"2021-06-01",0,0,"10C:121400",null,"Indiana Corporate","121400-Lease Improvements",0,0]
["2020-11-01","2021-06-01","10C:121500",4551,"2020-11-01",7865.73,0,"10C:121500",null,"Indiana Corporate","121500-Other Equipment -10 Yrs",0,0]
["2020-11-01","2021-06-01","10C:121500",4551,"2020-12-01",7780.21,0,"10C:121500",null,"Indiana Corporate","121500-Other Equipment -10 Yrs",0,0]
["2020-11-01","2021-06-01","10C:121500",4551,"2021-01-01",7694.72,0,"10C:121500",null,"Indiana Corporate","121500-Other Equipment -10 Yrs",0,0]
["2020-11-01","2021-06-01","10C:121500",4551,"2021-02-01",7609.23,0,"10C:121500",null,"Indiana Corporate","121500-Other Equipment -10 Yrs",0,0]
["2020-11-01","2021-06-01","10C:121500",4551,"2021-03-01",7523.71,0,"10C:121500",null,"Indiana Corporate","121500-Other Equipment -10 Yrs",0,0]
["2020-11-01","2021-06-01","10C:121500",4551,"2021-04-01",7438.19,0,"10C:121500",null,"Indiana Corporate","121500-Other Equipment -10 Yrs",0,0]
["2020-11-01","2021-06-01","10C:121500",4551,"2021-05-01",7352.69,0,"10C:121500",null,"Indiana Corporate","121500-Other Equipment -10 Yrs",0,0]
["2020-11-01","2021-06-01","10C:121500",4551,"2021-06-01",7267.17,0,"10C:121500",null,"Indiana Corporate","121500-Other Equipment -10 Yrs",0,0]
["2020-11-01","2021-06-01","10C:252 271160",4552,"2020-11-01",0,0,"10C:252 271160",null,"Indiana Corporate","271160-CIAC-NT Other-Water",0,0]
["2020-11-01","2021-06-01","10C:252 271160",4552,"2020-12-01",0,0,"10C:252 271160",null,"Indiana Corporate","271160-CIAC-NT Other-Water",0,0]
["2020-11-01","2021-06-01","10C:252 271160",4552,"2021-01-01",0,0,"10C:252 271160",null,"Indiana Corporate","271160-CIAC-NT Other-Water",0,0]
["2020-11-01","2021-06-01","10C:252 271160",4552,"2021-02-01",0,0,"10C:252 271160",null,"Indiana Corporate","271160-CIAC-NT Other-Water",0,0]
["2020-11-01","2021-06-01","10C:252 271160",4552,"2021-03-01",0,0,"10C:252 271160",null,"Indiana Corporate","271160-CIAC-NT Other-Water",0,0]
["2020-11-01","2021-06-01","10C:252 271160",4552,"2021-04-01",0,0,"10C:252 271160",null,"Indiana Corporate","271160-CIAC-NT Other-Water",0,0]
["2020-11-01","2021-06-01","10C:252 271160",4552,"2021-05-01",0,0,"10C:252 271160",null,"Indiana Corporate","271160-CIAC-NT Other-Water",0,0]
["2020-11-01","2021-06-01","10C:252 271160",4552,"2021-06-01",0,0,"10C:252 271160",null,"Indiana Corporate","271160-CIAC-NT Other-Water",0,0]
["2020-11-01","2021-06-01","10C:271160",2004,"2020-11-01",-116904.86,0,"10C:271160",null,"Indiana Corporate","271160-CIAC-NT Other-Water",0,0]
["2020-11-01","2021-06-01","10C:271160",2004,"2020-12-01",-116904.86,0,"10C:271160",null,"Indiana Corporate","271160-CIAC-NT Other-Water",0,0]
["2020-11-01","2021-06-01","10C:271160",2004,"2021-01-01",-116904.86,0,"10C:271160",null,"Indiana Corporate","271160-CIAC-NT Other-Water",0,0]
["2020-11-01","2021-06-01","10C:271160",2004,"2021-02-01",-116904.86,0,"10C:271160",null,"Indiana Corporate","271160-CIAC-NT Other-Water",0,0]
["2020-11-01","2021-06-01","10C:271160",2004,"2021-03-01",-116904.86,0,"10C:271160",null,"Indiana Corporate","271160-CIAC-NT Other-Water",0,0]
["2020-11-01","2021-06-01","10C:271160",2004,"2021-04-01",-116904.86,0,"10C:271160",null,"Indiana Corporate","271160-CIAC-NT Other-Water",0,0]
["2020-11-01","2021-06-01","10C:271160",2004,"2021-05-01",-116904.86,0,"10C:271160",null,"Indiana Corporate","271160-CIAC-NT Other-Water",0,0]
["2020-11-01","2021-06-01","10C:271160",2004,"2021-06-01",-116904.86,0,"10C:271160",null,"Indiana Corporate","271160-CIAC-NT Other-Water",0,0]
["2020-11-01","2021-06-01","10C:271210",2005,"2020-11-01",0,0,"10C:271210",null,"Indiana Corporate","271210-CIAC-Tax Mains-Water",0,0]
["2020-11-01","2021-06-01","10C:271210",2005,"2020-12-01",0,0,"10C:271210",null,"Indiana Corporate","271210-CIAC-Tax Mains-Water",0,0]
["2020-11-01","2021-06-01","10C:271210",2005,"2021-01-01",0,0,"10C:271210",null,"Indiana Corporate","271210-CIAC-Tax Mains-Water",0,0]
["2020-11-01","2021-06-01","10C:271210",2005,"2021-02-01",0,0,"10C:271210",null,"Indiana Corporate","271210-CIAC-Tax Mains-Water",0,0]
["2020-11-01","2021-06-01","10C:271210",2005,"2021-03-01",0,0,"10C:271210",null,"Indiana Corporate","271210-CIAC-Tax Mains-Water",0,0]
["2020-11-01","2021-06-01","10C:271210",2005,"2021-04-01",0,0,"10C:271210",null,"Indiana Corporate","271210-CIAC-Tax Mains-Water",0,0]
["2020-11-01","2021-06-01","10C:271210",2005,"2021-05-01",0,0,"10C:271210",null,"Indiana Corporate","271210-CIAC-Tax Mains-Water",0,0]
["2020-11-01","2021-06-01","10C:271210",2005,"2021-06-01",0,0,"10C:271210",null,"Indiana Corporate","271210-CIAC-Tax Mains-Water",0,0]
["2020-11-01","2021-06-01","10C:252 271260",4449,"2020-11-01",0,0,"10C:252 271260",null,"Indiana Corporate","271260-CIAC-Tax Other-Water",0,0]
["2020-11-01","2021-06-01","10C:252 271260",4449,"2020-12-01",0,0,"10C:252 271260",null,"Indiana Corporate","271260-CIAC-Tax Other-Water",0,0]
["2020-11-01","2021-06-01","10C:252 271260",4449,"2021-01-01",0,0,"10C:252 271260",null,"Indiana Corporate","271260-CIAC-Tax Other-Water",0,0]
["2020-11-01","2021-06-01","10C:252 271260",4449,"2021-02-01",0,0,"10C:252 271260",null,"Indiana Corporate","271260-CIAC-Tax Other-Water",0,0]
["2020-11-01","2021-06-01","10C:252 271260",4449,"2021-03-01",0,0,"10C:252 271260",null,"Indiana Corporate","271260-CIAC-Tax Other-Water",0,0]
["2020-11-01","2021-06-01","10C:252 271260",4449,"2021-04-01",0,0,"10C:252 271260",null,"Indiana Corporate","271260-CIAC-Tax Other-Water",0,0]
["2020-11-01","2021-06-01","10C:252 271260",4449,"2021-05-01",0,0,"10C:252 271260",null,"Indiana Corporate","271260-CIAC-Tax Other-Water",0,0]
["2020-11-01","2021-06-01","10C:252 271260",4449,"2021-06-01",0,0,"10C:252 271260",null,"Indiana Corporate","271260-CIAC-Tax Other-Water",0,0]
["2020-11-01","2021-06-01","10C:271260",3146,"2020-11-01",0,0,"10C:271260",null,"Indiana Corporate","271260-CIAC-Tax Other-Water",0,0]
["2020-11-01","2021-06-01","10C:271260",3146,"2020-12-01",0,0,"10C:271260",null,"Indiana Corporate","271260-CIAC-Tax Other-Water",0,0]
["2020-11-01","2021-06-01","10C:271260",3146,"2021-01-01",0,0,"10C:271260",null,"Indiana Corporate","271260-CIAC-Tax Other-Water",0,0]
["2020-11-01","2021-06-01","10C:271260",3146,"2021-02-01",0,0,"10C:271260",null,"Indiana Corporate","271260-CIAC-Tax Other-Water",0,0]
["2020-11-01","2021-06-01","10C:271260",3146,"2021-03-01",0,0,"10C:271260",null,"Indiana Corporate","271260-CIAC-Tax Other-Water",0,0]
["2020-11-01","2021-06-01","10C:271260",3146,"2021-04-01",0,0,"10C:271260",null,"Indiana Corporate","271260-CIAC-Tax Other-Water",0,0]
["2020-11-01","2021-06-01","10C:271260",3146,"2021-05-01",0,2.6100000000000002E-2,"10C:271260",null,"Indiana Corporate","271260-CIAC-Tax Other-Water",0,0]
["2020-11-01","2021-06-01","10C:271260",3146,"2021-06-01",0,2.6100000000000002E-2,"10C:271260",null,"Indiana Corporate","271260-CIAC-Tax Other-Water",0,0]
["2020-11-01","2021-06-01","10C:252 271460",5731,"2020-11-01",0,0,"10C:252 271460",null,"Indiana Corporate","271460-CIAC-Tax Other FIT-Water",0,0]
["2020-11-01","2021-06-01","10C:252 271460",5731,"2020-12-01",0,0,"10C:252 271460",null,"Indiana Corporate","271460-CIAC-Tax Other FIT-Water",0,0]
["2020-11-01","2021-06-01","10C:252 271460",5731,"2021-01-01",0,0,"10C:252 271460",null,"Indiana Corporate","271460-CIAC-Tax Other FIT-Water",0,0]
["2020-11-01","2021-06-01","10C:252 271460",5731,"2021-02-01",0,0,"10C:252 271460",null,"Indiana Corporate","271460-CIAC-Tax Other FIT-Water",0,0]
["2020-11-01","2021-06-01","10C:252 271460",5731,"2021-03-01",0,0,"10C:252 271460",null,"Indiana Corporate","271460-CIAC-Tax Other FIT-Water",0,0]
["2020-11-01","2021-06-01","10C:252 271460",5731,"2021-04-01",0,0,"10C:252 271460",null,"Indiana Corporate","271460-CIAC-Tax Other FIT-Water",0,0]
["2020-11-01","2021-06-01","10C:252 271460",5731,"2021-05-01",0,0,"10C:252 271460",null,"Indiana Corporate","271460-CIAC-Tax Other FIT-Water",0,0]
["2020-11-01","2021-06-01","10C:252 271460",5731,"2021-06-01",0,0,"10C:252 271460",null,"Indiana Corporate","271460-CIAC-Tax Other FIT-Water",0,0]
["2020-11-01","2021-06-01","10C:271460",2621,"2020-11-01",0,0,"10C:271460",null,"Indiana Corporate","271460-CIAC-Tax Other FIT-Water",0,0]
["2020-11-01","2021-06-01","10C:271460",2621,"2020-12-01",0,0,"10C:271460",null,"Indiana Corporate","271460-CIAC-Tax Other FIT-Water",0,0]
["2020-11-01","2021-06-01","10C:271460",2621,"2021-01-01",0,0,"10C:271460",null,"Indiana Corporate","271460-CIAC-Tax Other FIT-Water",0,0]
["2020-11-01","2021-06-01","10C:271460",2621,"2021-02-01",0,0,"10C:271460",null,"Indiana Corporate","271460-CIAC-Tax Other FIT-Water",0,0]
["2020-11-01","2021-06-01","10C:271460",2621,"2021-03-01",0,0,"10C:271460",null,"Indiana Corporate","271460-CIAC-Tax Other FIT-Water",0,0]
["2020-11-01","2021-06-01","10C:271460",2621,"2021-04-01",0,0,"10C:271460",null,"Indiana Corporate","271460-CIAC-Tax Other FIT-Water",0,0]
["2020-11-01","2021-06-01","10C:271460",2621,"2021-05-01",0,0,"10C:271460",null,"Indiana Corporate","271460-CIAC-Tax Other FIT-Water",0,0]
["2020-11-01","2021-06-01","10C:271460",2621,"2021-06-01",0,0,"10C:271460",null,"Indiana Corporate","271460-CIAC-Tax Other FIT-Water",0,0]
["2020-11-01","2021-06-01","10C:301000",4553,"2020-11-01",122963.69,0,"10C:301000",null,"Indiana Corporate","301000-Organization",0,0]
["2020-11-01","2021-06-01","10C:301000",4553,"2020-12-01",122963.69,0,"10C:301000",null,"Indiana Corporate","301000-Organization",0,0]
["2020-11-01","2021-06-01","10C:301000",4553,"2021-01-01",122963.69,0,"10C:301000",null,"Indiana Corporate","301000-Organization",0,0]
["2020-11-01","2021-06-01","10C:301000",4553,"2021-02-01",122963.69,0,"10C:301000",null,"Indiana Corporate","301000-Organization",0,0]
["2020-11-01","2021-06-01","10C:301000",4553,"2021-03-01",122963.69,0,"10C:301000",null,"Indiana Corporate","301000-Organization",0,0]
["2020-11-01","2021-06-01","10C:301000",4553,"2021-04-01",122963.69,0,"10C:301000",null,"Indiana Corporate","301000-Organization",0,0]
["2020-11-01","2021-06-01","10C:301000",4553,"2021-05-01",122963.69,0,"10C:301000",null,"Indiana Corporate","301000-Organization",0,0]
["2020-11-01","2021-06-01","10C:301000",4553,"2021-06-01",122963.69,0,"10C:301000",null,"Indiana Corporate","301000-Organization",0,0]
["2020-11-01","2021-06-01","10C:302000",3256,"2020-11-01",0,0,"10C:302000",null,"Indiana Corporate","302000-Franchises",0,0]
["2020-11-01","2021-06-01","10C:302000",3256,"2020-12-01",0,0,"10C:302000",null,"Indiana Corporate","302000-Franchises",0,0]
["2020-11-01","2021-06-01","10C:302000",3256,"2021-01-01",0,0,"10C:302000",null,"Indiana Corporate","302000-Franchises",0,0]
["2020-11-01","2021-06-01","10C:302000",3256,"2021-02-01",0,0,"10C:302000",null,"Indiana Corporate","302000-Franchises",0,0]
["2020-11-01","2021-06-01","10C:302000",3256,"2021-03-01",0,0,"10C:302000",null,"Indiana Corporate","302000-Franchises",0,0]
["2020-11-01","2021-06-01","10C:302000",3256,"2021-04-01",0,0,"10C:302000",null,"Indiana Corporate","302000-Franchises",0,0]
["2020-11-01","2021-06-01","10C:302000",3256,"2021-05-01",0,0,"10C:302000",null,"Indiana Corporate","302000-Franchises",0,0]
["2020-11-01","2021-06-01","10C:302000",3256,"2021-06-01",0,0,"10C:302000",null,"Indiana Corporate","302000-Franchises",0,0]
["2020-11-01","2021-06-01","10C:303200",6352,"2020-11-01",0,0,"10C:303200",null,"Indiana Corporate","303200-Land & Land Rights-Supply",0,0]
["2020-11-01","2021-06-01","10C:303200",6352,"2020-12-01",0,0,"10C:303200",null,"Indiana Corporate","303200-Land & Land Rights-Supply",0,0]
["2020-11-01","2021-06-01","10C:303200",6352,"2021-01-01",0,0,"10C:303200",null,"Indiana Corporate","303200-Land & Land Rights-Supply",0,0]
["2020-11-01","2021-06-01","10C:303200",6352,"2021-02-01",0,0,"10C:303200",null,"Indiana Corporate","303200-Land & Land Rights-Supply",0,0]
["2020-11-01","2021-06-01","10C:303200",6352,"2021-03-01",0,0,"10C:303200",null,"Indiana Corporate","303200-Land & Land Rights-Supply",0,0]
["2020-11-01","2021-06-01","10C:303200",6352,"2021-04-01",0,0,"10C:303200",null,"Indiana Corporate","303200-Land & Land Rights-Supply",0,0]
["2020-11-01","2021-06-01","10C:303200",6352,"2021-05-01",0,0,"10C:303200",null,"Indiana Corporate","303200-Land & Land Rights-Supply",0,0]
["2020-11-01","2021-06-01","10C:303200",6352,"2021-06-01",0,0,"10C:303200",null,"Indiana Corporate","303200-Land & Land Rights-Supply",0,0]
["2020-11-01","2021-06-01","10C:303400",3147,"2020-11-01",0,0,"10C:303400",null,"Indiana Corporate","303400-Land & Land Rights-Treatment",0,0]
["2020-11-01","2021-06-01","10C:303400",3147,"2020-12-01",0,0,"10C:303400",null,"Indiana Corporate","303400-Land & Land Rights-Treatment",0,0]
["2020-11-01","2021-06-01","10C:303400",3147,"2021-01-01",0,0,"10C:303400",null,"Indiana Corporate","303400-Land & Land Rights-Treatment",0,0]
["2020-11-01","2021-06-01","10C:303400",3147,"2021-02-01",0,0,"10C:303400",null,"Indiana Corporate","303400-Land & Land Rights-Treatment",0,0]
["2020-11-01","2021-06-01","10C:303400",3147,"2021-03-01",0,0,"10C:303400",null,"Indiana Corporate","303400-Land & Land Rights-Treatment",0,0]
["2020-11-01","2021-06-01","10C:303400",3147,"2021-04-01",0,0,"10C:303400",null,"Indiana Corporate","303400-Land & Land Rights-Treatment",0,0]
["2020-11-01","2021-06-01","10C:303400",3147,"2021-05-01",0,0,"10C:303400",null,"Indiana Corporate","303400-Land & Land Rights-Treatment",0,0]
["2020-11-01","2021-06-01","10C:303400",3147,"2021-06-01",0,0,"10C:303400",null,"Indiana Corporate","303400-Land & Land Rights-Treatment",0,0]
["2020-11-01","2021-06-01","10C:303500",5147,"2020-11-01",0,0,"10C:303500",null,"Indiana Corporate","303500-Land & Land Rights-T&D",0,0]
["2020-11-01","2021-06-01","10C:303500",5147,"2020-12-01",0,0,"10C:303500",null,"Indiana Corporate","303500-Land & Land Rights-T&D",0,0]
["2020-11-01","2021-06-01","10C:303500",5147,"2021-01-01",0,0,"10C:303500",null,"Indiana Corporate","303500-Land & Land Rights-T&D",0,0]
["2020-11-01","2021-06-01","10C:303500",5147,"2021-02-01",0,0,"10C:303500",null,"Indiana Corporate","303500-Land & Land Rights-T&D",0,0]
["2020-11-01","2021-06-01","10C:303500",5147,"2021-03-01",0,0,"10C:303500",null,"Indiana Corporate","303500-Land & Land Rights-T&D",0,0]
["2020-11-01","2021-06-01","10C:303500",5147,"2021-04-01",0,0,"10C:303500",null,"Indiana Corporate","303500-Land & Land Rights-T&D",0,0]
["2020-11-01","2021-06-01","10C:303500",5147,"2021-05-01",0,0,"10C:303500",null,"Indiana Corporate","303500-Land & Land Rights-T&D",0,0]
["2020-11-01","2021-06-01","10C:303500",5147,"2021-06-01",0,0,"10C:303500",null,"Indiana Corporate","303500-Land & Land Rights-T&D",0,0]
["2020-11-01","2021-06-01","10C:303600",6353,"2020-11-01",0,0,"10C:303600",null,"Indiana Corporate","303600-Land & Land Rights-General",0,0]
["2020-11-01","2021-06-01","10C:303600",6353,"2020-12-01",0,0,"10C:303600",null,"Indiana Corporate","303600-Land & Land Rights-General",0,0]
["2020-11-01","2021-06-01","10C:303600",6353,"2021-01-01",0,0,"10C:303600",null,"Indiana Corporate","303600-Land & Land Rights-General",0,0]
["2020-11-01","2021-06-01","10C:303600",6353,"2021-02-01",0,0,"10C:303600",null,"Indiana Corporate","303600-Land & Land Rights-General",0,0]
["2020-11-01","2021-06-01","10C:303600",6353,"2021-03-01",0,0,"10C:303600",null,"Indiana Corporate","303600-Land & Land Rights-General",0,0]
["2020-11-01","2021-06-01","10C:303600",6353,"2021-04-01",0,0,"10C:303600",null,"Indiana Corporate","303600-Land & Land Rights-General",0,0]
["2020-11-01","2021-06-01","10C:303600",6353,"2021-05-01",0,0,"10C:303600",null,"Indiana Corporate","303600-Land & Land Rights-General",0,0]
["2020-11-01","2021-06-01","10C:303600",6353,"2021-06-01",0,0,"10C:303600",null,"Indiana Corporate","303600-Land & Land Rights-General",0,0]
["2020-11-01","2021-06-01","10C:304100",3743,"2020-11-01",0,2.58E-2,"10C:304100",null,"Indiana Corporate","304100-Struct & Imp-Supply",6.4000000000000003E-3,0]
["2020-11-01","2021-06-01","10C:304100",3743,"2020-12-01",0,2.58E-2,"10C:304100",null,"Indiana Corporate","304100-Struct & Imp-Supply",6.4000000000000003E-3,0]
["2020-11-01","2021-06-01","10C:304100",3743,"2021-01-01",0,2.58E-2,"10C:304100",null,"Indiana Corporate","304100-Struct & Imp-Supply",6.4000000000000003E-3,0]
["2020-11-01","2021-06-01","10C:304100",3743,"2021-02-01",0,2.58E-2,"10C:304100",null,"Indiana Corporate","304100-Struct & Imp-Supply",6.4000000000000003E-3,0]
["2020-11-01","2021-06-01","10C:304100",3743,"2021-03-01",0,2.58E-2,"10C:304100",null,"Indiana Corporate","304100-Struct & Imp-Supply",6.4000000000000003E-3,0]
["2020-11-01","2021-06-01","10C:304100",3743,"2021-04-01",0,2.58E-2,"10C:304100",null,"Indiana Corporate","304100-Struct & Imp-Supply",6.4000000000000003E-3,0]
["2020-11-01","2021-06-01","10C:304100",3743,"2021-05-01",0,2.58E-2,"10C:304100",null,"Indiana Corporate","304100-Struct & Imp-Supply",6.4000000000000003E-3,0]
["2020-11-01","2021-06-01","10C:304100",3743,"2021-06-01",0,2.58E-2,"10C:304100",null,"Indiana Corporate","304100-Struct & Imp-Supply",6.4000000000000003E-3,0]
["2020-11-01","2021-06-01","10C:304200",5732,"2020-11-01",0,2.1100000000000001E-2,"10C:304200",null,"Indiana Corporate","304200-Struct & Imp-Pumping",5.1999999999999998E-3,0]
["2020-11-01","2021-06-01","10C:304200",5732,"2020-12-01",0,2.1100000000000001E-2,"10C:304200",null,"Indiana Corporate","304200-Struct & Imp-Pumping",5.1999999999999998E-3,0]
["2020-11-01","2021-06-01","10C:304200",5732,"2021-01-01",0,2.1100000000000001E-2,"10C:304200",null,"Indiana Corporate","304200-Struct & Imp-Pumping",5.1999999999999998E-3,0]
["2020-11-01","2021-06-01","10C:304200",5732,"2021-02-01",0,2.1100000000000001E-2,"10C:304200",null,"Indiana Corporate","304200-Struct & Imp-Pumping",5.1999999999999998E-3,0]
["2020-11-01","2021-06-01","10C:304200",5732,"2021-03-01",0,2.1100000000000001E-2,"10C:304200",null,"Indiana Corporate","304200-Struct & Imp-Pumping",5.1999999999999998E-3,0]
["2020-11-01","2021-06-01","10C:304200",5732,"2021-04-01",0,2.1100000000000001E-2,"10C:304200",null,"Indiana Corporate","304200-Struct & Imp-Pumping",5.1999999999999998E-3,0]
["2020-11-01","2021-06-01","10C:304200",5732,"2021-05-01",0,2.1100000000000001E-2,"10C:304200",null,"Indiana Corporate","304200-Struct & Imp-Pumping",5.1999999999999998E-3,0]
["2020-11-01","2021-06-01","10C:304200",5732,"2021-06-01",0,2.1100000000000001E-2,"10C:304200",null,"Indiana Corporate","304200-Struct & Imp-Pumping",5.1999999999999998E-3,0]
["2020-11-01","2021-06-01","10C:304300",3257,"2020-11-01",17064.7,1.9800000000000002E-2,"10C:304300",null,"Indiana Corporate","304300-Struct & Imp-Treatment",5.0000000000000001E-3,0]
["2020-11-01","2021-06-01","10C:304300",3257,"2020-12-01",17064.7,1.9800000000000002E-2,"10C:304300",null,"Indiana Corporate","304300-Struct & Imp-Treatment",5.0000000000000001E-3,0]
["2020-11-01","2021-06-01","10C:304300",3257,"2021-01-01",17064.7,1.9800000000000002E-2,"10C:304300",null,"Indiana Corporate","304300-Struct & Imp-Treatment",5.0000000000000001E-3,0]
["2020-11-01","2021-06-01","10C:304300",3257,"2021-02-01",17064.7,1.9800000000000002E-2,"10C:304300",null,"Indiana Corporate","304300-Struct & Imp-Treatment",5.0000000000000001E-3,0]
["2020-11-01","2021-06-01","10C:304300",3257,"2021-03-01",17064.7,1.9800000000000002E-2,"10C:304300",null,"Indiana Corporate","304300-Struct & Imp-Treatment",5.0000000000000001E-3,0]
["2020-11-01","2021-06-01","10C:304300",3257,"2021-04-01",17064.7,1.9800000000000002E-2,"10C:304300",null,"Indiana Corporate","304300-Struct & Imp-Treatment",5.0000000000000001E-3,0]
["2020-11-01","2021-06-01","10C:304300",3257,"2021-05-01",17064.7,1.9800000000000002E-2,"10C:304300",null,"Indiana Corporate","304300-Struct & Imp-Treatment",5.0000000000000001E-3,0]
["2020-11-01","2021-06-01","10C:304300",3257,"2021-06-01",17064.7,1.9800000000000002E-2,"10C:304300",null,"Indiana Corporate","304300-Struct & Imp-Treatment",5.0000000000000001E-3,0]
["2020-11-01","2021-06-01","10C:304301",6354,"2020-11-01",0,2.52E-2,"10C:304301",null,"Indiana Corporate","304301-Struct & Imp-Treat-Dpr Paint",0,0]
["2020-11-01","2021-06-01","10C:304301",6354,"2020-12-01",0,2.52E-2,"10C:304301",null,"Indiana Corporate","304301-Struct & Imp-Treat-Dpr Paint",0,0]
["2020-11-01","2021-06-01","10C:304301",6354,"2021-01-01",0,2.52E-2,"10C:304301",null,"Indiana Corporate","304301-Struct & Imp-Treat-Dpr Paint",0,0]
["2020-11-01","2021-06-01","10C:304301",6354,"2021-02-01",0,2.52E-2,"10C:304301",null,"Indiana Corporate","304301-Struct & Imp-Treat-Dpr Paint",0,0]
["2020-11-01","2021-06-01","10C:304301",6354,"2021-03-01",0,2.52E-2,"10C:304301",null,"Indiana Corporate","304301-Struct & Imp-Treat-Dpr Paint",0,0]
["2020-11-01","2021-06-01","10C:304301",6354,"2021-04-01",0,2.52E-2,"10C:304301",null,"Indiana Corporate","304301-Struct & Imp-Treat-Dpr Paint",0,0]
["2020-11-01","2021-06-01","10C:304301",6354,"2021-05-01",0,2.52E-2,"10C:304301",null,"Indiana Corporate","304301-Struct & Imp-Treat-Dpr Paint",0,0]
["2020-11-01","2021-06-01","10C:304301",6354,"2021-06-01",0,2.52E-2,"10C:304301",null,"Indiana Corporate","304301-Struct & Imp-Treat-Dpr Paint",0,0]
["2020-11-01","2021-06-01","10C:304302",3859,"2020-11-01",0,2.52E-2,"10C:304302",null,"Indiana Corporate","304302-Struct & Imp-Treat-Painting",0,0]
["2020-11-01","2021-06-01","10C:304302",3859,"2020-12-01",0,2.52E-2,"10C:304302",null,"Indiana Corporate","304302-Struct & Imp-Treat-Painting",0,0]
["2020-11-01","2021-06-01","10C:304302",3859,"2021-01-01",0,2.52E-2,"10C:304302",null,"Indiana Corporate","304302-Struct & Imp-Treat-Painting",0,0]
["2020-11-01","2021-06-01","10C:304302",3859,"2021-02-01",0,2.52E-2,"10C:304302",null,"Indiana Corporate","304302-Struct & Imp-Treat-Painting",0,0]
["2020-11-01","2021-06-01","10C:304302",3859,"2021-03-01",0,2.52E-2,"10C:304302",null,"Indiana Corporate","304302-Struct & Imp-Treat-Painting",0,0]
["2020-11-01","2021-06-01","10C:304302",3859,"2021-04-01",0,2.52E-2,"10C:304302",null,"Indiana Corporate","304302-Struct & Imp-Treat-Painting",0,0]
["2020-11-01","2021-06-01","10C:304302",3859,"2021-05-01",0,2.52E-2,"10C:304302",null,"Indiana Corporate","304302-Struct & Imp-Treat-Painting",0,0]
["2020-11-01","2021-06-01","10C:304302",3859,"2021-06-01",0,2.52E-2,"10C:304302",null,"Indiana Corporate","304302-Struct & Imp-Treat-Painting",0,0]
["2020-11-01","2021-06-01","10C:304390",6355,"2020-11-01",0,1.6639999999999999E-2,"10C:304390",null,"Indiana Corporate","304390-Struct & Imp-Treat-Mixing",4.1599999999999996E-3,0]
["2020-11-01","2021-06-01","10C:304390",6355,"2020-12-01",0,1.6639999999999999E-2,"10C:304390",null,"Indiana Corporate","304390-Struct & Imp-Treat-Mixing",4.1599999999999996E-3,0]
["2020-11-01","2021-06-01","10C:304390",6355,"2021-01-01",0,1.6639999999999999E-2,"10C:304390",null,"Indiana Corporate","304390-Struct & Imp-Treat-Mixing",4.1599999999999996E-3,0]
["2020-11-01","2021-06-01","10C:304390",6355,"2021-02-01",0,1.6639999999999999E-2,"10C:304390",null,"Indiana Corporate","304390-Struct & Imp-Treat-Mixing",4.1599999999999996E-3,0]
["2020-11-01","2021-06-01","10C:304390",6355,"2021-03-01",0,1.6639999999999999E-2,"10C:304390",null,"Indiana Corporate","304390-Struct & Imp-Treat-Mixing",4.1599999999999996E-3,0]
["2020-11-01","2021-06-01","10C:304390",6355,"2021-04-01",0,1.6639999999999999E-2,"10C:304390",null,"Indiana Corporate","304390-Struct & Imp-Treat-Mixing",4.1599999999999996E-3,0]
["2020-11-01","2021-06-01","10C:304390",6355,"2021-05-01",0,1.6639999999999999E-2,"10C:304390",null,"Indiana Corporate","304390-Struct & Imp-Treat-Mixing",4.1599999999999996E-3,0]
["2020-11-01","2021-06-01","10C:304390",6355,"2021-06-01",0,1.6639999999999999E-2,"10C:304390",null,"Indiana Corporate","304390-Struct & Imp-Treat-Mixing",4.1599999999999996E-3,0]
["2020-11-01","2021-06-01","10C:304391",2622,"2020-11-01",0,1.6639999999999999E-2,"10C:304391",null,"Indiana Corporate","304391-Struct & Imp-Treat-Purifictn",4.1599999999999996E-3,0]
["2020-11-01","2021-06-01","10C:304391",2622,"2020-12-01",0,1.6639999999999999E-2,"10C:304391",null,"Indiana Corporate","304391-Struct & Imp-Treat-Purifictn",4.1599999999999996E-3,0]
["2020-11-01","2021-06-01","10C:304391",2622,"2021-01-01",0,1.6639999999999999E-2,"10C:304391",null,"Indiana Corporate","304391-Struct & Imp-Treat-Purifictn",4.1599999999999996E-3,0]
["2020-11-01","2021-06-01","10C:304391",2622,"2021-02-01",0,1.6639999999999999E-2,"10C:304391",null,"Indiana Corporate","304391-Struct & Imp-Treat-Purifictn",4.1599999999999996E-3,0]
["2020-11-01","2021-06-01","10C:304391",2622,"2021-03-01",0,1.6639999999999999E-2,"10C:304391",null,"Indiana Corporate","304391-Struct & Imp-Treat-Purifictn",4.1599999999999996E-3,0]
["2020-11-01","2021-06-01","10C:304391",2622,"2021-04-01",0,1.6639999999999999E-2,"10C:304391",null,"Indiana Corporate","304391-Struct & Imp-Treat-Purifictn",4.1599999999999996E-3,0]
["2020-11-01","2021-06-01","10C:304391",2622,"2021-05-01",0,1.6639999999999999E-2,"10C:304391",null,"Indiana Corporate","304391-Struct & Imp-Treat-Purifictn",4.1599999999999996E-3,0]
["2020-11-01","2021-06-01","10C:304391",2622,"2021-06-01",0,1.6639999999999999E-2,"10C:304391",null,"Indiana Corporate","304391-Struct & Imp-Treat-Purifictn",4.1599999999999996E-3,0]
["2020-11-01","2021-06-01","10C:304392",3860,"2020-11-01",0,1.6639999999999999E-2,"10C:304392",null,"Indiana Corporate","304392-Struct & Imp-Treat-Wash Tank",4.1599999999999996E-3,0]
["2020-11-01","2021-06-01","10C:304392",3860,"2020-12-01",0,1.6639999999999999E-2,"10C:304392",null,"Indiana Corporate","304392-Struct & Imp-Treat-Wash Tank",4.1599999999999996E-3,0]
["2020-11-01","2021-06-01","10C:304392",3860,"2021-01-01",0,1.6639999999999999E-2,"10C:304392",null,"Indiana Corporate","304392-Struct & Imp-Treat-Wash Tank",4.1599999999999996E-3,0]
["2020-11-01","2021-06-01","10C:304392",3860,"2021-02-01",0,1.6639999999999999E-2,"10C:304392",null,"Indiana Corporate","304392-Struct & Imp-Treat-Wash Tank",4.1599999999999996E-3,0]
["2020-11-01","2021-06-01","10C:304392",3860,"2021-03-01",0,1.6639999999999999E-2,"10C:304392",null,"Indiana Corporate","304392-Struct & Imp-Treat-Wash Tank",4.1599999999999996E-3,0]
["2020-11-01","2021-06-01","10C:304392",3860,"2021-04-01",0,1.6639999999999999E-2,"10C:304392",null,"Indiana Corporate","304392-Struct & Imp-Treat-Wash Tank",4.1599999999999996E-3,0]
["2020-11-01","2021-06-01","10C:304392",3860,"2021-05-01",0,1.6639999999999999E-2,"10C:304392",null,"Indiana Corporate","304392-Struct & Imp-Treat-Wash Tank",4.1599999999999996E-3,0]
["2020-11-01","2021-06-01","10C:304392",3860,"2021-06-01",0,1.6639999999999999E-2,"10C:304392",null,"Indiana Corporate","304392-Struct & Imp-Treat-Wash Tank",4.1599999999999996E-3,0]
["2020-11-01","2021-06-01","10C:304400",3861,"2020-11-01",484087.89,2.2200000000000001E-2,"10C:304400",null,"Indiana Corporate","304400-Struct & Imp-T&D",5.4999999999999997E-3,0]
["2020-11-01","2021-06-01","10C:304400",3861,"2020-12-01",484087.89,2.2200000000000001E-2,"10C:304400",null,"Indiana Corporate","304400-Struct & Imp-T&D",5.4999999999999997E-3,0]
["2020-11-01","2021-06-01","10C:304400",3861,"2021-01-01",364607.23,2.2200000000000001E-2,"10C:304400",null,"Indiana Corporate","304400-Struct & Imp-T&D",5.4999999999999997E-3,0]
["2020-11-01","2021-06-01","10C:304400",3861,"2021-02-01",364633.97,2.2200000000000001E-2,"10C:304400",null,"Indiana Corporate","304400-Struct & Imp-T&D",5.4999999999999997E-3,0]
["2020-11-01","2021-06-01","10C:304400",3861,"2021-03-01",364633.97,2.2200000000000001E-2,"10C:304400",null,"Indiana Corporate","304400-Struct & Imp-T&D",5.4999999999999997E-3,0]
["2020-11-01","2021-06-01","10C:304400",3861,"2021-04-01",364633.97,2.2200000000000001E-2,"10C:304400",null,"Indiana Corporate","304400-Struct & Imp-T&D",5.4999999999999997E-3,0]
["2020-11-01","2021-06-01","10C:304400",3861,"2021-05-01",364633.97,2.2200000000000001E-2,"10C:304400",null,"Indiana Corporate","304400-Struct & Imp-T&D",5.4999999999999997E-3,0]
["2020-11-01","2021-06-01","10C:304400",3861,"2021-06-01",364633.97,2.2200000000000001E-2,"10C:304400",null,"Indiana Corporate","304400-Struct & Imp-T&D",5.4999999999999997E-3,0]
["2020-11-01","2021-06-01","10C:304500",5148,"2020-11-01",403271.59,0.03,"10C:304500",null,"Indiana Corporate","304500-Struct & Imp-General",7.4999999999999997E-3,0]
["2020-11-01","2021-06-01","10C:304500",5148,"2020-12-01",403271.59,0.03,"10C:304500",null,"Indiana Corporate","304500-Struct & Imp-General",7.4999999999999997E-3,0]
["2020-11-01","2021-06-01","10C:304500",5148,"2021-01-01",403271.59,0.03,"10C:304500",null,"Indiana Corporate","304500-Struct & Imp-General",7.4999999999999997E-3,0]
["2020-11-01","2021-06-01","10C:304500",5148,"2021-02-01",403271.59,0.03,"10C:304500",null,"Indiana Corporate","304500-Struct & Imp-General",7.4999999999999997E-3,0]
["2020-11-01","2021-06-01","10C:304500",5148,"2021-03-01",403271.59,0.03,"10C:304500",null,"Indiana Corporate","304500-Struct & Imp-General",7.4999999999999997E-3,0]
["2020-11-01","2021-06-01","10C:304500",5148,"2021-04-01",403271.59,0.03,"10C:304500",null,"Indiana Corporate","304500-Struct & Imp-General",7.4999999999999997E-3,0]
["2020-11-01","2021-06-01","10C:304500",5148,"2021-05-01",403271.59,0.03,"10C:304500",null,"Indiana Corporate","304500-Struct & Imp-General",7.4999999999999997E-3,0]
["2020-11-01","2021-06-01","10C:304500",5148,"2021-06-01",403271.59,0.03,"10C:304500",null,"Indiana Corporate","304500-Struct & Imp-General",7.4999999999999997E-3,0]
["2020-11-01","2021-06-01","10C:304510",4554,"2020-11-01",0,0.03,"10C:304510",null,"Indiana Corporate","304510-Struct & Imp-Cap Lease",7.4999999999999997E-3,0]
["2020-11-01","2021-06-01","10C:304510",4554,"2020-12-01",0,0.03,"10C:304510",null,"Indiana Corporate","304510-Struct & Imp-Cap Lease",7.4999999999999997E-3,0]
["2020-11-01","2021-06-01","10C:304510",4554,"2021-01-01",0,0.03,"10C:304510",null,"Indiana Corporate","304510-Struct & Imp-Cap Lease",7.4999999999999997E-3,0]
["2020-11-01","2021-06-01","10C:304510",4554,"2021-02-01",0,0.03,"10C:304510",null,"Indiana Corporate","304510-Struct & Imp-Cap Lease",7.4999999999999997E-3,0]
["2020-11-01","2021-06-01","10C:304510",4554,"2021-03-01",0,0.03,"10C:304510",null,"Indiana Corporate","304510-Struct & Imp-Cap Lease",7.4999999999999997E-3,0]
["2020-11-01","2021-06-01","10C:304510",4554,"2021-04-01",0,0.03,"10C:304510",null,"Indiana Corporate","304510-Struct & Imp-Cap Lease",7.4999999999999997E-3,0]
["2020-11-01","2021-06-01","10C:304510",4554,"2021-05-01",0,0.03,"10C:304510",null,"Indiana Corporate","304510-Struct & Imp-Cap Lease",7.4999999999999997E-3,0]
["2020-11-01","2021-06-01","10C:304510",4554,"2021-06-01",0,0.03,"10C:304510",null,"Indiana Corporate","304510-Struct & Imp-Cap Lease",7.4999999999999997E-3,0]
["2020-11-01","2021-06-01","10C:304600",2006,"2020-11-01",114906.58,3.1800000000000002E-2,"10C:304600",null,"Indiana Corporate","304600-Struct & Imp-Offices",4.7999999999999996E-3,0]
["2020-11-01","2021-06-01","10C:304600",2006,"2020-12-01",114906.58,3.1800000000000002E-2,"10C:304600",null,"Indiana Corporate","304600-Struct & Imp-Offices",4.7999999999999996E-3,0]
["2020-11-01","2021-06-01","10C:304600",2006,"2021-01-01",114906.58,3.1800000000000002E-2,"10C:304600",null,"Indiana Corporate","304600-Struct & Imp-Offices",4.7999999999999996E-3,0]
["2020-11-01","2021-06-01","10C:304600",2006,"2021-02-01",114906.58,3.1800000000000002E-2,"10C:304600",null,"Indiana Corporate","304600-Struct & Imp-Offices",4.7999999999999996E-3,0]
["2020-11-01","2021-06-01","10C:304600",2006,"2021-03-01",114906.58,3.1800000000000002E-2,"10C:304600",null,"Indiana Corporate","304600-Struct & Imp-Offices",4.7999999999999996E-3,0]
["2020-11-01","2021-06-01","10C:304600",2006,"2021-04-01",114906.58,3.1800000000000002E-2,"10C:304600",null,"Indiana Corporate","304600-Struct & Imp-Offices",4.7999999999999996E-3,0]
["2020-11-01","2021-06-01","10C:304600",2006,"2021-05-01",114906.58,3.1800000000000002E-2,"10C:304600",null,"Indiana Corporate","304600-Struct & Imp-Offices",4.7999999999999996E-3,0]
["2020-11-01","2021-06-01","10C:304600",2006,"2021-06-01",114906.58,3.1800000000000002E-2,"10C:304600",null,"Indiana Corporate","304600-Struct & Imp-Offices",4.7999999999999996E-3,0]
["2020-11-01","2021-06-01","10C:304620",3258,"2020-11-01",93459.31,2.6499999999999999E-2,"10C:304620",null,"Indiana Corporate","304620-Struct & Imp-Leasehold",0,0]
["2020-11-01","2021-06-01","10C:304620",3258,"2020-12-01",93459.31,2.6499999999999999E-2,"10C:304620",null,"Indiana Corporate","304620-Struct & Imp-Leasehold",0,0]
["2020-11-01","2021-06-01","10C:304620",3258,"2021-01-01",93459.31,2.6499999999999999E-2,"10C:304620",null,"Indiana Corporate","304620-Struct & Imp-Leasehold",0,0]
["2020-11-01","2021-06-01","10C:304620",3258,"2021-02-01",93459.31,2.6499999999999999E-2,"10C:304620",null,"Indiana Corporate","304620-Struct & Imp-Leasehold",0,0]
["2020-11-01","2021-06-01","10C:304620",3258,"2021-03-01",93459.31,2.6499999999999999E-2,"10C:304620",null,"Indiana Corporate","304620-Struct & Imp-Leasehold",0,0]
["2020-11-01","2021-06-01","10C:304620",3258,"2021-04-01",93459.31,2.6499999999999999E-2,"10C:304620",null,"Indiana Corporate","304620-Struct & Imp-Leasehold",0,0]
["2020-11-01","2021-06-01","10C:304620",3258,"2021-05-01",93459.31,2.6499999999999999E-2,"10C:304620",null,"Indiana Corporate","304620-Struct & Imp-Leasehold",0,0]
["2020-11-01","2021-06-01","10C:304620",3258,"2021-06-01",93459.31,2.6499999999999999E-2,"10C:304620",null,"Indiana Corporate","304620-Struct & Imp-Leasehold",0,0]
["2020-11-01","2021-06-01","10C:304700",2007,"2020-11-01",0,1.7299999999999999E-2,"10C:304700",null,"Indiana Corporate","304700-Struct & Imp-Store,Shop,Gar",3.5000000000000001E-3,0]
["2020-11-01","2021-06-01","10C:304700",2007,"2020-12-01",0,1.7299999999999999E-2,"10C:304700",null,"Indiana Corporate","304700-Struct & Imp-Store,Shop,Gar",3.5000000000000001E-3,0]
["2020-11-01","2021-06-01","10C:304700",2007,"2021-01-01",0,1.7299999999999999E-2,"10C:304700",null,"Indiana Corporate","304700-Struct & Imp-Store,Shop,Gar",3.5000000000000001E-3,0]
["2020-11-01","2021-06-01","10C:304700",2007,"2021-02-01",0,1.7299999999999999E-2,"10C:304700",null,"Indiana Corporate","304700-Struct & Imp-Store,Shop,Gar",3.5000000000000001E-3,0]
["2020-11-01","2021-06-01","10C:304700",2007,"2021-03-01",0,1.7299999999999999E-2,"10C:304700",null,"Indiana Corporate","304700-Struct & Imp-Store,Shop,Gar",3.5000000000000001E-3,0]
["2020-11-01","2021-06-01","10C:304700",2007,"2021-04-01",0,1.7299999999999999E-2,"10C:304700",null,"Indiana Corporate","304700-Struct & Imp-Store,Shop,Gar",3.5000000000000001E-3,0]
["2020-11-01","2021-06-01","10C:304700",2007,"2021-05-01",0,1.7299999999999999E-2,"10C:304700",null,"Indiana Corporate","304700-Struct & Imp-Store,Shop,Gar",3.5000000000000001E-3,0]
["2020-11-01","2021-06-01","10C:304700",2007,"2021-06-01",0,1.7299999999999999E-2,"10C:304700",null,"Indiana Corporate","304700-Struct & Imp-Store,Shop,Gar",3.5000000000000001E-3,0]
["2020-11-01","2021-06-01","10C:304800",4450,"2020-11-01",0,1.32E-2,"10C:304800",null,"Indiana Corporate","304800-Struct & Imp-Misc",1.2999999999999999E-3,0]
["2020-11-01","2021-06-01","10C:304800",4450,"2020-12-01",0,1.32E-2,"10C:304800",null,"Indiana Corporate","304800-Struct & Imp-Misc",1.2999999999999999E-3,0]
["2020-11-01","2021-06-01","10C:304800",4450,"2021-01-01",0,1.32E-2,"10C:304800",null,"Indiana Corporate","304800-Struct & Imp-Misc",1.2999999999999999E-3,0]
["2020-11-01","2021-06-01","10C:304800",4450,"2021-02-01",0,1.32E-2,"10C:304800",null,"Indiana Corporate","304800-Struct & Imp-Misc",1.2999999999999999E-3,0]
["2020-11-01","2021-06-01","10C:304800",4450,"2021-03-01",0,1.32E-2,"10C:304800",null,"Indiana Corporate","304800-Struct & Imp-Misc",1.2999999999999999E-3,0]
["2020-11-01","2021-06-01","10C:304800",4450,"2021-04-01",0,1.32E-2,"10C:304800",null,"Indiana Corporate","304800-Struct & Imp-Misc",1.2999999999999999E-3,0]
["2020-11-01","2021-06-01","10C:304800",4450,"2021-05-01",0,1.32E-2,"10C:304800",null,"Indiana Corporate","304800-Struct & Imp-Misc",1.2999999999999999E-3,0]
["2020-11-01","2021-06-01","10C:304800",4450,"2021-06-01",0,1.32E-2,"10C:304800",null,"Indiana Corporate","304800-Struct & Imp-Misc",1.2999999999999999E-3,0]
["2020-11-01","2021-06-01","10C:305000",2008,"2020-11-01",0,1.1299999999999999E-2,"10C:305000",null,"Indiana Corporate","305000-Collect & Impound Reservoirs",1.2999999999999999E-3,-2.0000000000000001E-4]
["2020-11-01","2021-06-01","10C:305000",2008,"2020-12-01",0,1.1299999999999999E-2,"10C:305000",null,"Indiana Corporate","305000-Collect & Impound Reservoirs",1.2999999999999999E-3,-2.0000000000000001E-4]
["2020-11-01","2021-06-01","10C:305000",2008,"2021-01-01",0,1.1299999999999999E-2,"10C:305000",null,"Indiana Corporate","305000-Collect & Impound Reservoirs",1.2999999999999999E-3,-2.0000000000000001E-4]
["2020-11-01","2021-06-01","10C:305000",2008,"2021-02-01",0,1.1299999999999999E-2,"10C:305000",null,"Indiana Corporate","305000-Collect & Impound Reservoirs",1.2999999999999999E-3,-2.0000000000000001E-4]
["2020-11-01","2021-06-01","10C:305000",2008,"2021-03-01",0,1.1299999999999999E-2,"10C:305000",null,"Indiana Corporate","305000-Collect & Impound Reservoirs",1.2999999999999999E-3,-2.0000000000000001E-4]
["2020-11-01","2021-06-01","10C:305000",2008,"2021-04-01",0,1.1299999999999999E-2,"10C:305000",null,"Indiana Corporate","305000-Collect & Impound Reservoirs",1.2999999999999999E-3,-2.0000000000000001E-4]
["2020-11-01","2021-06-01","10C:305000",2008,"2021-05-01",0,1.1299999999999999E-2,"10C:305000",null,"Indiana Corporate","305000-Collect & Impound Reservoirs",1.2999999999999999E-3,-2.0000000000000001E-4]
["2020-11-01","2021-06-01","10C:305000",2008,"2021-06-01",0,1.1299999999999999E-2,"10C:305000",null,"Indiana Corporate","305000-Collect & Impound Reservoirs",1.2999999999999999E-3,-2.0000000000000001E-4]
["2020-11-01","2021-06-01","10C:306000",2623,"2020-11-01",0,2.0899999999999998E-2,"10C:306000",null,"Indiana Corporate","306000-Lake, River & Other Intakes",0,0]
["2020-11-01","2021-06-01","10C:306000",2623,"2020-12-01",0,2.0899999999999998E-2,"10C:306000",null,"Indiana Corporate","306000-Lake, River & Other Intakes",0,0]
["2020-11-01","2021-06-01","10C:306000",2623,"2021-01-01",0,2.0899999999999998E-2,"10C:306000",null,"Indiana Corporate","306000-Lake, River & Other Intakes",0,0]
["2020-11-01","2021-06-01","10C:306000",2623,"2021-02-01",0,2.0899999999999998E-2,"10C:306000",null,"Indiana Corporate","306000-Lake, River & Other Intakes",0,0]
["2020-11-01","2021-06-01","10C:306000",2623,"2021-03-01",0,2.0899999999999998E-2,"10C:306000",null,"Indiana Corporate","306000-Lake, River & Other Intakes",0,0]
["2020-11-01","2021-06-01","10C:306000",2623,"2021-04-01",0,2.0899999999999998E-2,"10C:306000",null,"Indiana Corporate","306000-Lake, River & Other Intakes",0,0]
["2020-11-01","2021-06-01","10C:306000",2623,"2021-05-01",0,2.0899999999999998E-2,"10C:306000",null,"Indiana Corporate","306000-Lake, River & Other Intakes",0,0]
["2020-11-01","2021-06-01","10C:306000",2623,"2021-06-01",0,2.0899999999999998E-2,"10C:306000",null,"Indiana Corporate","306000-Lake, River & Other Intakes",0,0]
["2020-11-01","2021-06-01","10C:307000",6356,"2020-11-01",0,2.41E-2,"10C:307000",null,"Indiana Corporate","307000-Wells & Springs",3.8E-3,-2.0000000000000001E-4]
["2020-11-01","2021-06-01","10C:307000",6356,"2020-12-01",0,2.41E-2,"10C:307000",null,"Indiana Corporate","307000-Wells & Springs",3.8E-3,-2.0000000000000001E-4]
["2020-11-01","2021-06-01","10C:307000",6356,"2021-01-01",0,2.41E-2,"10C:307000",null,"Indiana Corporate","307000-Wells & Springs",3.8E-3,-2.0000000000000001E-4]
["2020-11-01","2021-06-01","10C:307000",6356,"2021-02-01",0,2.41E-2,"10C:307000",null,"Indiana Corporate","307000-Wells & Springs",3.8E-3,-2.0000000000000001E-4]
["2020-11-01","2021-06-01","10C:307000",6356,"2021-03-01",0,2.41E-2,"10C:307000",null,"Indiana Corporate","307000-Wells & Springs",3.8E-3,-2.0000000000000001E-4]
["2020-11-01","2021-06-01","10C:307000",6356,"2021-04-01",0,2.41E-2,"10C:307000",null,"Indiana Corporate","307000-Wells & Springs",3.8E-3,-2.0000000000000001E-4]
["2020-11-01","2021-06-01","10C:307000",6356,"2021-05-01",0,2.41E-2,"10C:307000",null,"Indiana Corporate","307000-Wells & Springs",3.8E-3,-2.0000000000000001E-4]
["2020-11-01","2021-06-01","10C:307000",6356,"2021-06-01",0,2.41E-2,"10C:307000",null,"Indiana Corporate","307000-Wells & Springs",3.8E-3,-2.0000000000000001E-4]
["2020-11-01","2021-06-01","10C:308000",5149,"2020-11-01",0,0.1009,"10C:308000",null,"Indiana Corporate","308000-Infiltratn Galleries & Tunne",5.0000000000000001E-3,0]
["2020-11-01","2021-06-01","10C:308000",5149,"2020-12-01",0,0.1009,"10C:308000",null,"Indiana Corporate","308000-Infiltratn Galleries & Tunne",5.0000000000000001E-3,0]
["2020-11-01","2021-06-01","10C:308000",5149,"2021-01-01",0,0.1009,"10C:308000",null,"Indiana Corporate","308000-Infiltratn Galleries & Tunne",5.0000000000000001E-3,0]
["2020-11-01","2021-06-01","10C:308000",5149,"2021-02-01",0,0.1009,"10C:308000",null,"Indiana Corporate","308000-Infiltratn Galleries & Tunne",5.0000000000000001E-3,0]
["2020-11-01","2021-06-01","10C:308000",5149,"2021-03-01",0,0.1009,"10C:308000",null,"Indiana Corporate","308000-Infiltratn Galleries & Tunne",5.0000000000000001E-3,0]
["2020-11-01","2021-06-01","10C:308000",5149,"2021-04-01",0,0.1009,"10C:308000",null,"Indiana Corporate","308000-Infiltratn Galleries & Tunne",5.0000000000000001E-3,0]
["2020-11-01","2021-06-01","10C:308000",5149,"2021-05-01",0,0.1009,"10C:308000",null,"Indiana Corporate","308000-Infiltratn Galleries & Tunne",5.0000000000000001E-3,0]
["2020-11-01","2021-06-01","10C:308000",5149,"2021-06-01",0,0.1009,"10C:308000",null,"Indiana Corporate","308000-Infiltratn Galleries & Tunne",5.0000000000000001E-3,0]
["2020-11-01","2021-06-01","10C:309000",3862,"2020-11-01",0,1.18E-2,"10C:309000",null,"Indiana Corporate","309000-Supply Mains",2.3999999999999998E-3,0]
["2020-11-01","2021-06-01","10C:309000",3862,"2020-12-01",0,1.18E-2,"10C:309000",null,"Indiana Corporate","309000-Supply Mains",2.3999999999999998E-3,0]
["2020-11-01","2021-06-01","10C:309000",3862,"2021-01-01",0,1.18E-2,"10C:309000",null,"Indiana Corporate","309000-Supply Mains",2.3999999999999998E-3,0]
["2020-11-01","2021-06-01","10C:309000",3862,"2021-02-01",0,1.18E-2,"10C:309000",null,"Indiana Corporate","309000-Supply Mains",2.3999999999999998E-3,0]
["2020-11-01","2021-06-01","10C:309000",3862,"2021-03-01",0,1.18E-2,"10C:309000",null,"Indiana Corporate","309000-Supply Mains",2.3999999999999998E-3,0]
["2020-11-01","2021-06-01","10C:309000",3862,"2021-04-01",0,1.18E-2,"10C:309000",null,"Indiana Corporate","309000-Supply Mains",2.3999999999999998E-3,0]
["2020-11-01","2021-06-01","10C:309000",3862,"2021-05-01",0,1.18E-2,"10C:309000",null,"Indiana Corporate","309000-Supply Mains",2.3999999999999998E-3,0]
["2020-11-01","2021-06-01","10C:309000",3862,"2021-06-01",0,1.18E-2,"10C:309000",null,"Indiana Corporate","309000-Supply Mains",2.3999999999999998E-3,0]
["2020-11-01","2021-06-01","10C:310000",4555,"2020-11-01",6920,2.07E-2,"10C:310000",null,"Indiana Corporate","310000-Power Generation Equip",2.7000000000000001E-3,-5.9999999999999995E-4]
["2020-11-01","2021-06-01","10C:310000",4555,"2020-12-01",6920,2.07E-2,"10C:310000",null,"Indiana Corporate","310000-Power Generation Equip",2.7000000000000001E-3,-5.9999999999999995E-4]
["2020-11-01","2021-06-01","10C:310000",4555,"2021-01-01",6920,2.07E-2,"10C:310000",null,"Indiana Corporate","310000-Power Generation Equip",2.7000000000000001E-3,-5.9999999999999995E-4]
["2020-11-01","2021-06-01","10C:310000",4555,"2021-02-01",6920,2.07E-2,"10C:310000",null,"Indiana Corporate","310000-Power Generation Equip",2.7000000000000001E-3,-5.9999999999999995E-4]
["2020-11-01","2021-06-01","10C:310000",4555,"2021-03-01",6920,2.07E-2,"10C:310000",null,"Indiana Corporate","310000-Power Generation Equip",2.7000000000000001E-3,-5.9999999999999995E-4]
["2020-11-01","2021-06-01","10C:310000",4555,"2021-04-01",6920,2.07E-2,"10C:310000",null,"Indiana Corporate","310000-Power Generation Equip",2.7000000000000001E-3,-5.9999999999999995E-4]
["2020-11-01","2021-06-01","10C:310000",4555,"2021-05-01",6920,2.07E-2,"10C:310000",null,"Indiana Corporate","310000-Power Generation Equip",2.7000000000000001E-3,-5.9999999999999995E-4]
["2020-11-01","2021-06-01","10C:310000",4555,"2021-06-01",6920,2.07E-2,"10C:310000",null,"Indiana Corporate","310000-Power Generation Equip",2.7000000000000001E-3,-5.9999999999999995E-4]
["2020-11-01","2021-06-01","10C:311200",4556,"2020-11-01",0,1.26E-2,"10C:311200",null,"Indiana Corporate","311200-Pump Eqp Electric",1.6999999999999999E-3,-4.0000000000000002E-4]
["2020-11-01","2021-06-01","10C:311200",4556,"2020-12-01",0,1.26E-2,"10C:311200",null,"Indiana Corporate","311200-Pump Eqp Electric",1.6999999999999999E-3,-4.0000000000000002E-4]
["2020-11-01","2021-06-01","10C:311200",4556,"2021-01-01",0,1.26E-2,"10C:311200",null,"Indiana Corporate","311200-Pump Eqp Electric",1.6999999999999999E-3,-4.0000000000000002E-4]
["2020-11-01","2021-06-01","10C:311200",4556,"2021-02-01",0,1.26E-2,"10C:311200",null,"Indiana Corporate","311200-Pump Eqp Electric",1.6999999999999999E-3,-4.0000000000000002E-4]
["2020-11-01","2021-06-01","10C:311200",4556,"2021-03-01",0,1.26E-2,"10C:311200",null,"Indiana Corporate","311200-Pump Eqp Electric",1.6999999999999999E-3,-4.0000000000000002E-4]
["2020-11-01","2021-06-01","10C:311200",4556,"2021-04-01",0,1.26E-2,"10C:311200",null,"Indiana Corporate","311200-Pump Eqp Electric",1.6999999999999999E-3,-4.0000000000000002E-4]
["2020-11-01","2021-06-01","10C:311200",4556,"2021-05-01",0,1.26E-2,"10C:311200",null,"Indiana Corporate","311200-Pump Eqp Electric",1.6999999999999999E-3,-4.0000000000000002E-4]
["2020-11-01","2021-06-01","10C:311200",4556,"2021-06-01",0,1.26E-2,"10C:311200",null,"Indiana Corporate","311200-Pump Eqp Electric",1.6999999999999999E-3,-4.0000000000000002E-4]
["2020-11-01","2021-06-01","10C:311300",2624,"2020-11-01",0,3.9899999999999998E-2,"10C:311300",null,"Indiana Corporate","311300-Pump Eqp Diesel",5.1999999999999998E-3,-1.1999999999999999E-3]
["2020-11-01","2021-06-01","10C:311300",2624,"2020-12-01",0,3.9899999999999998E-2,"10C:311300",null,"Indiana Corporate","311300-Pump Eqp Diesel",5.1999999999999998E-3,-1.1999999999999999E-3]
["2020-11-01","2021-06-01","10C:311300",2624,"2021-01-01",0,3.9899999999999998E-2,"10C:311300",null,"Indiana Corporate","311300-Pump Eqp Diesel",5.1999999999999998E-3,-1.1999999999999999E-3]
["2020-11-01","2021-06-01","10C:311300",2624,"2021-02-01",0,3.9899999999999998E-2,"10C:311300",null,"Indiana Corporate","311300-Pump Eqp Diesel",5.1999999999999998E-3,-1.1999999999999999E-3]
["2020-11-01","2021-06-01","10C:311300",2624,"2021-03-01",0,3.9899999999999998E-2,"10C:311300",null,"Indiana Corporate","311300-Pump Eqp Diesel",5.1999999999999998E-3,-1.1999999999999999E-3]
["2020-11-01","2021-06-01","10C:311300",2624,"2021-04-01",0,3.9899999999999998E-2,"10C:311300",null,"Indiana Corporate","311300-Pump Eqp Diesel",5.1999999999999998E-3,-1.1999999999999999E-3]
["2020-11-01","2021-06-01","10C:311300",2624,"2021-05-01",0,3.9899999999999998E-2,"10C:311300",null,"Indiana Corporate","311300-Pump Eqp Diesel",5.1999999999999998E-3,-1.1999999999999999E-3]
["2020-11-01","2021-06-01","10C:311300",2624,"2021-06-01",0,3.9899999999999998E-2,"10C:311300",null,"Indiana Corporate","311300-Pump Eqp Diesel",5.1999999999999998E-3,-1.1999999999999999E-3]
["2020-11-01","2021-06-01","10C:311350",5631,"2020-11-01",0,3.9899999999999998E-2,"10C:311350",null,"Indiana Corporate","311350-Pump Equip Diesel TD",5.1999999999999998E-3,-1.1999999999999999E-3]
["2020-11-01","2021-06-01","10C:311350",5631,"2020-12-01",0,3.9899999999999998E-2,"10C:311350",null,"Indiana Corporate","311350-Pump Equip Diesel TD",5.1999999999999998E-3,-1.1999999999999999E-3]
["2020-11-01","2021-06-01","10C:311350",5631,"2021-01-01",0,3.9899999999999998E-2,"10C:311350",null,"Indiana Corporate","311350-Pump Equip Diesel TD",5.1999999999999998E-3,-1.1999999999999999E-3]
["2020-11-01","2021-06-01","10C:311350",5631,"2021-02-01",0,3.9899999999999998E-2,"10C:311350",null,"Indiana Corporate","311350-Pump Equip Diesel TD",5.1999999999999998E-3,-1.1999999999999999E-3]
["2020-11-01","2021-06-01","10C:311350",5631,"2021-03-01",0,3.9899999999999998E-2,"10C:311350",null,"Indiana Corporate","311350-Pump Equip Diesel TD",5.1999999999999998E-3,-1.1999999999999999E-3]
["2020-11-01","2021-06-01","10C:311350",5631,"2021-04-01",0,3.9899999999999998E-2,"10C:311350",null,"Indiana Corporate","311350-Pump Equip Diesel TD",5.1999999999999998E-3,-1.1999999999999999E-3]
["2020-11-01","2021-06-01","10C:311350",5631,"2021-05-01",0,3.9899999999999998E-2,"10C:311350",null,"Indiana Corporate","311350-Pump Equip Diesel TD",5.1999999999999998E-3,-1.1999999999999999E-3]
["2020-11-01","2021-06-01","10C:311350",5631,"2021-06-01",0,3.9899999999999998E-2,"10C:311350",null,"Indiana Corporate","311350-Pump Equip Diesel TD",5.1999999999999998E-3,-1.1999999999999999E-3]
["2020-11-01","2021-06-01","10C:311400",3259,"2020-11-01",0,1.9300000000000001E-2,"10C:311400",null,"Indiana Corporate","311400-Pump Eqp Hydraulic",2.5000000000000001E-3,-5.9999999999999995E-4]
["2020-11-01","2021-06-01","10C:311400",3259,"2020-12-01",0,1.9300000000000001E-2,"10C:311400",null,"Indiana Corporate","311400-Pump Eqp Hydraulic",2.5000000000000001E-3,-5.9999999999999995E-4]
["2020-11-01","2021-06-01","10C:311400",3259,"2021-01-01",0,1.9300000000000001E-2,"10C:311400",null,"Indiana Corporate","311400-Pump Eqp Hydraulic",2.5000000000000001E-3,-5.9999999999999995E-4]
["2020-11-01","2021-06-01","10C:311400",3259,"2021-02-01",0,1.9300000000000001E-2,"10C:311400",null,"Indiana Corporate","311400-Pump Eqp Hydraulic",2.5000000000000001E-3,-5.9999999999999995E-4]
["2020-11-01","2021-06-01","10C:311400",3259,"2021-03-01",0,1.9300000000000001E-2,"10C:311400",null,"Indiana Corporate","311400-Pump Eqp Hydraulic",2.5000000000000001E-3,-5.9999999999999995E-4]
["2020-11-01","2021-06-01","10C:311400",3259,"2021-04-01",0,1.9300000000000001E-2,"10C:311400",null,"Indiana Corporate","311400-Pump Eqp Hydraulic",2.5000000000000001E-3,-5.9999999999999995E-4]
["2020-11-01","2021-06-01","10C:311400",3259,"2021-05-01",0,1.9300000000000001E-2,"10C:311400",null,"Indiana Corporate","311400-Pump Eqp Hydraulic",2.5000000000000001E-3,-5.9999999999999995E-4]
["2020-11-01","2021-06-01","10C:311400",3259,"2021-06-01",0,1.9300000000000001E-2,"10C:311400",null,"Indiana Corporate","311400-Pump Eqp Hydraulic",2.5000000000000001E-3,-5.9999999999999995E-4]
["2020-11-01","2021-06-01","10C:311500",2009,"2020-11-01",0,2.7300000000000001E-2,"10C:311500",null,"Indiana Corporate","311500-Pump Eqp Other",3.5000000000000001E-3,-8.0000000000000004E-4]
["2020-11-01","2021-06-01","10C:311500",2009,"2020-12-01",0,2.7300000000000001E-2,"10C:311500",null,"Indiana Corporate","311500-Pump Eqp Other",3.5000000000000001E-3,-8.0000000000000004E-4]
["2020-11-01","2021-06-01","10C:311500",2009,"2021-01-01",0,2.7300000000000001E-2,"10C:311500",null,"Indiana Corporate","311500-Pump Eqp Other",3.5000000000000001E-3,-8.0000000000000004E-4]
["2020-11-01","2021-06-01","10C:311500",2009,"2021-02-01",0,2.7300000000000001E-2,"10C:311500",null,"Indiana Corporate","311500-Pump Eqp Other",3.5000000000000001E-3,-8.0000000000000004E-4]
["2020-11-01","2021-06-01","10C:311500",2009,"2021-03-01",0,2.7300000000000001E-2,"10C:311500",null,"Indiana Corporate","311500-Pump Eqp Other",3.5000000000000001E-3,-8.0000000000000004E-4]
["2020-11-01","2021-06-01","10C:311500",2009,"2021-04-01",0,2.7300000000000001E-2,"10C:311500",null,"Indiana Corporate","311500-Pump Eqp Other",3.5000000000000001E-3,-8.0000000000000004E-4]
["2020-11-01","2021-06-01","10C:311500",2009,"2021-05-01",0,2.7300000000000001E-2,"10C:311500",null,"Indiana Corporate","311500-Pump Eqp Other",3.5000000000000001E-3,-8.0000000000000004E-4]
["2020-11-01","2021-06-01","10C:311500",2009,"2021-06-01",0,2.7300000000000001E-2,"10C:311500",null,"Indiana Corporate","311500-Pump Eqp Other",3.5000000000000001E-3,-8.0000000000000004E-4]
["2020-11-01","2021-06-01","10C:311540",2010,"2020-11-01",0,2.7300000000000001E-2,"10C:311540",null,"Indiana Corporate","311540-Pump Eqp T&D",3.5000000000000001E-3,-8.0000000000000004E-4]
["2020-11-01","2021-06-01","10C:311540",2010,"2020-12-01",0,2.7300000000000001E-2,"10C:311540",null,"Indiana Corporate","311540-Pump Eqp T&D",3.5000000000000001E-3,-8.0000000000000004E-4]
["2020-11-01","2021-06-01","10C:311540",2010,"2021-01-01",0,2.7300000000000001E-2,"10C:311540",null,"Indiana Corporate","311540-Pump Eqp T&D",3.5000000000000001E-3,-8.0000000000000004E-4]
["2020-11-01","2021-06-01","10C:311540",2010,"2021-02-01",0,2.7300000000000001E-2,"10C:311540",null,"Indiana Corporate","311540-Pump Eqp T&D",3.5000000000000001E-3,-8.0000000000000004E-4]
["2020-11-01","2021-06-01","10C:311540",2010,"2021-03-01",0,2.7300000000000001E-2,"10C:311540",null,"Indiana Corporate","311540-Pump Eqp T&D",3.5000000000000001E-3,-8.0000000000000004E-4]
["2020-11-01","2021-06-01","10C:311540",2010,"2021-04-01",0,2.7300000000000001E-2,"10C:311540",null,"Indiana Corporate","311540-Pump Eqp T&D",3.5000000000000001E-3,-8.0000000000000004E-4]
["2020-11-01","2021-06-01","10C:311540",2010,"2021-05-01",0,2.7300000000000001E-2,"10C:311540",null,"Indiana Corporate","311540-Pump Eqp T&D",3.5000000000000001E-3,-8.0000000000000004E-4]
["2020-11-01","2021-06-01","10C:311540",2010,"2021-06-01",0,2.7300000000000001E-2,"10C:311540",null,"Indiana Corporate","311540-Pump Eqp T&D",3.5000000000000001E-3,-8.0000000000000004E-4]
["2020-11-01","2021-06-01","10C:320100",3863,"2020-11-01",49394.33,1.8499999999999999E-2,"10C:320100",null,"Indiana Corporate","320100-WT Equip Non-Media",4.7999999999999996E-3,-2.0000000000000001E-4]
["2020-11-01","2021-06-01","10C:320100",3863,"2020-12-01",49394.33,1.8499999999999999E-2,"10C:320100",null,"Indiana Corporate","320100-WT Equip Non-Media",4.7999999999999996E-3,-2.0000000000000001E-4]
["2020-11-01","2021-06-01","10C:320100",3863,"2021-01-01",49394.33,1.8499999999999999E-2,"10C:320100",null,"Indiana Corporate","320100-WT Equip Non-Media",4.7999999999999996E-3,-2.0000000000000001E-4]
["2020-11-01","2021-06-01","10C:320100",3863,"2021-02-01",49394.33,1.8499999999999999E-2,"10C:320100",null,"Indiana Corporate","320100-WT Equip Non-Media",4.7999999999999996E-3,-2.0000000000000001E-4]
["2020-11-01","2021-06-01","10C:320100",3863,"2021-03-01",49394.33,1.8499999999999999E-2,"10C:320100",null,"Indiana Corporate","320100-WT Equip Non-Media",4.7999999999999996E-3,-2.0000000000000001E-4]
["2020-11-01","2021-06-01","10C:320100",3863,"2021-04-01",49394.33,1.8499999999999999E-2,"10C:320100",null,"Indiana Corporate","320100-WT Equip Non-Media",4.7999999999999996E-3,-2.0000000000000001E-4]
["2020-11-01","2021-06-01","10C:320100",3863,"2021-05-01",49394.33,1.8499999999999999E-2,"10C:320100",null,"Indiana Corporate","320100-WT Equip Non-Media",4.7999999999999996E-3,-2.0000000000000001E-4]
["2020-11-01","2021-06-01","10C:320100",3863,"2021-06-01",49394.33,1.8499999999999999E-2,"10C:320100",null,"Indiana Corporate","320100-WT Equip Non-Media",4.7999999999999996E-3,-2.0000000000000001E-4]
["2020-11-01","2021-06-01","10C:320190",5733,"2020-11-01",0,2.1499999999999998E-2,"10C:320190",null,"Indiana Corporate","320190-WT Equip-Basin,Clearwell",5.5999999999999999E-3,-2.0000000000000001E-4]
["2020-11-01","2021-06-01","10C:320190",5733,"2020-12-01",0,2.1499999999999998E-2,"10C:320190",null,"Indiana Corporate","320190-WT Equip-Basin,Clearwell",5.5999999999999999E-3,-2.0000000000000001E-4]
["2020-11-01","2021-06-01","10C:320190",5733,"2021-01-01",0,2.1499999999999998E-2,"10C:320190",null,"Indiana Corporate","320190-WT Equip-Basin,Clearwell",5.5999999999999999E-3,-2.0000000000000001E-4]
["2020-11-01","2021-06-01","10C:320190",5733,"2021-02-01",0,2.1499999999999998E-2,"10C:320190",null,"Indiana Corporate","320190-WT Equip-Basin,Clearwell",5.5999999999999999E-3,-2.0000000000000001E-4]
["2020-11-01","2021-06-01","10C:320190",5733,"2021-03-01",0,2.1499999999999998E-2,"10C:320190",null,"Indiana Corporate","320190-WT Equip-Basin,Clearwell",5.5999999999999999E-3,-2.0000000000000001E-4]
["2020-11-01","2021-06-01","10C:320190",5733,"2021-04-01",0,2.1499999999999998E-2,"10C:320190",null,"Indiana Corporate","320190-WT Equip-Basin,Clearwell",5.5999999999999999E-3,-2.0000000000000001E-4]
["2020-11-01","2021-06-01","10C:320190",5733,"2021-05-01",0,2.1499999999999998E-2,"10C:320190",null,"Indiana Corporate","320190-WT Equip-Basin,Clearwell",5.5999999999999999E-3,-2.0000000000000001E-4]
["2020-11-01","2021-06-01","10C:320190",5733,"2021-06-01",0,2.1499999999999998E-2,"10C:320190",null,"Indiana Corporate","320190-WT Equip-Basin,Clearwell",5.5999999999999999E-3,-2.0000000000000001E-4]
["2020-11-01","2021-06-01","10C:320191",4557,"2020-11-01",0,2.1499999999999998E-2,"10C:320191",null,"Indiana Corporate","320191-WT Equip-Filter Plt Piping",5.5999999999999999E-3,-2.0000000000000001E-4]
["2020-11-01","2021-06-01","10C:320191",4557,"2020-12-01",0,2.1499999999999998E-2,"10C:320191",null,"Indiana Corporate","320191-WT Equip-Filter Plt Piping",5.5999999999999999E-3,-2.0000000000000001E-4]
["2020-11-01","2021-06-01","10C:320191",4557,"2021-01-01",0,2.1499999999999998E-2,"10C:320191",null,"Indiana Corporate","320191-WT Equip-Filter Plt Piping",5.5999999999999999E-3,-2.0000000000000001E-4]
["2020-11-01","2021-06-01","10C:320191",4557,"2021-02-01",0,2.1499999999999998E-2,"10C:320191",null,"Indiana Corporate","320191-WT Equip-Filter Plt Piping",5.5999999999999999E-3,-2.0000000000000001E-4]
["2020-11-01","2021-06-01","10C:320191",4557,"2021-03-01",0,2.1499999999999998E-2,"10C:320191",null,"Indiana Corporate","320191-WT Equip-Filter Plt Piping",5.5999999999999999E-3,-2.0000000000000001E-4]
["2020-11-01","2021-06-01","10C:320191",4557,"2021-04-01",0,2.1499999999999998E-2,"10C:320191",null,"Indiana Corporate","320191-WT Equip-Filter Plt Piping",5.5999999999999999E-3,-2.0000000000000001E-4]
["2020-11-01","2021-06-01","10C:320191",4557,"2021-05-01",0,2.1499999999999998E-2,"10C:320191",null,"Indiana Corporate","320191-WT Equip-Filter Plt Piping",5.5999999999999999E-3,-2.0000000000000001E-4]
["2020-11-01","2021-06-01","10C:320191",4557,"2021-06-01",0,2.1499999999999998E-2,"10C:320191",null,"Indiana Corporate","320191-WT Equip-Filter Plt Piping",5.5999999999999999E-3,-2.0000000000000001E-4]
["2020-11-01","2021-06-01","10C:320192",3864,"2020-11-01",0,2.1499999999999998E-2,"10C:320192",null,"Indiana Corporate","320192-WT Equip-Wash Water Tank",5.5999999999999999E-3,-2.0000000000000001E-4]
["2020-11-01","2021-06-01","10C:320192",3864,"2020-12-01",0,2.1499999999999998E-2,"10C:320192",null,"Indiana Corporate","320192-WT Equip-Wash Water Tank",5.5999999999999999E-3,-2.0000000000000001E-4]
["2020-11-01","2021-06-01","10C:320192",3864,"2021-01-01",0,2.1499999999999998E-2,"10C:320192",null,"Indiana Corporate","320192-WT Equip-Wash Water Tank",5.5999999999999999E-3,-2.0000000000000001E-4]
["2020-11-01","2021-06-01","10C:320192",3864,"2021-02-01",0,2.1499999999999998E-2,"10C:320192",null,"Indiana Corporate","320192-WT Equip-Wash Water Tank",5.5999999999999999E-3,-2.0000000000000001E-4]
["2020-11-01","2021-06-01","10C:320192",3864,"2021-03-01",0,2.1499999999999998E-2,"10C:320192",null,"Indiana Corporate","320192-WT Equip-Wash Water Tank",5.5999999999999999E-3,-2.0000000000000001E-4]
["2020-11-01","2021-06-01","10C:320192",3864,"2021-04-01",0,2.1499999999999998E-2,"10C:320192",null,"Indiana Corporate","320192-WT Equip-Wash Water Tank",5.5999999999999999E-3,-2.0000000000000001E-4]
["2020-11-01","2021-06-01","10C:320192",3864,"2021-05-01",0,2.1499999999999998E-2,"10C:320192",null,"Indiana Corporate","320192-WT Equip-Wash Water Tank",5.5999999999999999E-3,-2.0000000000000001E-4]
["2020-11-01","2021-06-01","10C:320192",3864,"2021-06-01",0,2.1499999999999998E-2,"10C:320192",null,"Indiana Corporate","320192-WT Equip-Wash Water Tank",5.5999999999999999E-3,-2.0000000000000001E-4]
["2020-11-01","2021-06-01","10C:320193",2563,"2020-11-01",0,2.1499999999999998E-2,"10C:320193",null,"Indiana Corporate","320193-WT Equip-Chemical Feed",5.5999999999999999E-3,-2.0000000000000001E-4]
["2020-11-01","2021-06-01","10C:320193",2563,"2020-12-01",0,2.1499999999999998E-2,"10C:320193",null,"Indiana Corporate","320193-WT Equip-Chemical Feed",5.5999999999999999E-3,-2.0000000000000001E-4]
["2020-11-01","2021-06-01","10C:320193",2563,"2021-01-01",0,2.1499999999999998E-2,"10C:320193",null,"Indiana Corporate","320193-WT Equip-Chemical Feed",5.5999999999999999E-3,-2.0000000000000001E-4]
["2020-11-01","2021-06-01","10C:320193",2563,"2021-02-01",0,2.1499999999999998E-2,"10C:320193",null,"Indiana Corporate","320193-WT Equip-Chemical Feed",5.5999999999999999E-3,-2.0000000000000001E-4]
["2020-11-01","2021-06-01","10C:320193",2563,"2021-03-01",0,2.1499999999999998E-2,"10C:320193",null,"Indiana Corporate","320193-WT Equip-Chemical Feed",5.5999999999999999E-3,-2.0000000000000001E-4]
["2020-11-01","2021-06-01","10C:320193",2563,"2021-04-01",0,2.1499999999999998E-2,"10C:320193",null,"Indiana Corporate","320193-WT Equip-Chemical Feed",5.5999999999999999E-3,-2.0000000000000001E-4]
["2020-11-01","2021-06-01","10C:320193",2563,"2021-05-01",0,2.1499999999999998E-2,"10C:320193",null,"Indiana Corporate","320193-WT Equip-Chemical Feed",5.5999999999999999E-3,-2.0000000000000001E-4]
["2020-11-01","2021-06-01","10C:320193",2563,"2021-06-01",0,2.1499999999999998E-2,"10C:320193",null,"Indiana Corporate","320193-WT Equip-Chemical Feed",5.5999999999999999E-3,-2.0000000000000001E-4]
["2020-11-01","2021-06-01","10C:330000",3865,"2020-11-01",0,1.55E-2,"10C:330000",null,"Indiana Corporate","330000-Dist Reservoirs & Standpipes",4.8999999999999998E-3,-2.9999999999999997E-4]
["2020-11-01","2021-06-01","10C:330000",3865,"2020-12-01",0,1.55E-2,"10C:330000",null,"Indiana Corporate","330000-Dist Reservoirs & Standpipes",4.8999999999999998E-3,-2.9999999999999997E-4]
["2020-11-01","2021-06-01","10C:330000",3865,"2021-01-01",0,1.55E-2,"10C:330000",null,"Indiana Corporate","330000-Dist Reservoirs & Standpipes",4.8999999999999998E-3,-2.9999999999999997E-4]
["2020-11-01","2021-06-01","10C:330000",3865,"2021-02-01",0,1.55E-2,"10C:330000",null,"Indiana Corporate","330000-Dist Reservoirs & Standpipes",4.8999999999999998E-3,-2.9999999999999997E-4]
["2020-11-01","2021-06-01","10C:330000",3865,"2021-03-01",0,1.55E-2,"10C:330000",null,"Indiana Corporate","330000-Dist Reservoirs & Standpipes",4.8999999999999998E-3,-2.9999999999999997E-4]
["2020-11-01","2021-06-01","10C:330000",3865,"2021-04-01",0,1.55E-2,"10C:330000",null,"Indiana Corporate","330000-Dist Reservoirs & Standpipes",4.8999999999999998E-3,-2.9999999999999997E-4]
["2020-11-01","2021-06-01","10C:330000",3865,"2021-05-01",0,1.55E-2,"10C:330000",null,"Indiana Corporate","330000-Dist Reservoirs & Standpipes",4.8999999999999998E-3,-2.9999999999999997E-4]
["2020-11-01","2021-06-01","10C:330000",3865,"2021-06-01",0,1.55E-2,"10C:330000",null,"Indiana Corporate","330000-Dist Reservoirs & Standpipes",4.8999999999999998E-3,-2.9999999999999997E-4]
["2020-11-01","2021-06-01","10C:330002",3866,"2020-11-01",0,0.1169,"10C:330002",null,"Indiana Corporate","330002-Tank Original Painting",0,0]
["2020-11-01","2021-06-01","10C:330002",3866,"2020-12-01",0,0.1169,"10C:330002",null,"Indiana Corporate","330002-Tank Original Painting",0,0]
["2020-11-01","2021-06-01","10C:330002",3866,"2021-01-01",0,0.1169,"10C:330002",null,"Indiana Corporate","330002-Tank Original Painting",0,0]
["2020-11-01","2021-06-01","10C:330002",3866,"2021-02-01",0,0.1169,"10C:330002",null,"Indiana Corporate","330002-Tank Original Painting",0,0]
["2020-11-01","2021-06-01","10C:330002",3866,"2021-03-01",0,0.1169,"10C:330002",null,"Indiana Corporate","330002-Tank Original Painting",0,0]
["2020-11-01","2021-06-01","10C:330002",3866,"2021-04-01",0,0.1169,"10C:330002",null,"Indiana Corporate","330002-Tank Original Painting",0,0]
["2020-11-01","2021-06-01","10C:330002",3866,"2021-05-01",0,0.1169,"10C:330002",null,"Indiana Corporate","330002-Tank Original Painting",0,0]
["2020-11-01","2021-06-01","10C:330002",3866,"2021-06-01",0,0.1169,"10C:330002",null,"Indiana Corporate","330002-Tank Original Painting",0,0]
["2020-11-01","2021-06-01","10C:330003",3260,"2020-11-01",0,0.1169,"10C:330003",null,"Indiana Corporate","330003-Tank Repainting",0,0]
["2020-11-01","2021-06-01","10C:330003",3260,"2020-12-01",0,0.1169,"10C:330003",null,"Indiana Corporate","330003-Tank Repainting",0,0]
["2020-11-01","2021-06-01","10C:330003",3260,"2021-01-01",0,0.1169,"10C:330003",null,"Indiana Corporate","330003-Tank Repainting",0,0]
["2020-11-01","2021-06-01","10C:330003",3260,"2021-02-01",0,0.1169,"10C:330003",null,"Indiana Corporate","330003-Tank Repainting",0,0]
["2020-11-01","2021-06-01","10C:330003",3260,"2021-03-01",0,0.1169,"10C:330003",null,"Indiana Corporate","330003-Tank Repainting",0,0]
["2020-11-01","2021-06-01","10C:330003",3260,"2021-04-01",0,0.1169,"10C:330003",null,"Indiana Corporate","330003-Tank Repainting",0,0]
["2020-11-01","2021-06-01","10C:330003",3260,"2021-05-01",0,0.1169,"10C:330003",null,"Indiana Corporate","330003-Tank Repainting",0,0]
["2020-11-01","2021-06-01","10C:330003",3260,"2021-06-01",0,0.1169,"10C:330003",null,"Indiana Corporate","330003-Tank Repainting",0,0]
["2020-11-01","2021-06-01","10C:330100",6257,"2020-11-01",0,1.55E-2,"10C:330100",null,"Indiana Corporate","330100-Elevated Tanks & Standpipes",4.8999999999999998E-3,-2.9999999999999997E-4]
["2020-11-01","2021-06-01","10C:330100",6257,"2020-12-01",0,1.55E-2,"10C:330100",null,"Indiana Corporate","330100-Elevated Tanks & Standpipes",4.8999999999999998E-3,-2.9999999999999997E-4]
["2020-11-01","2021-06-01","10C:330100",6257,"2021-01-01",0,1.55E-2,"10C:330100",null,"Indiana Corporate","330100-Elevated Tanks & Standpipes",4.8999999999999998E-3,-2.9999999999999997E-4]
["2020-11-01","2021-06-01","10C:330100",6257,"2021-02-01",0,1.55E-2,"10C:330100",null,"Indiana Corporate","330100-Elevated Tanks & Standpipes",4.8999999999999998E-3,-2.9999999999999997E-4]
["2020-11-01","2021-06-01","10C:330100",6257,"2021-03-01",0,1.55E-2,"10C:330100",null,"Indiana Corporate","330100-Elevated Tanks & Standpipes",4.8999999999999998E-3,-2.9999999999999997E-4]
["2020-11-01","2021-06-01","10C:330100",6257,"2021-04-01",0,1.55E-2,"10C:330100",null,"Indiana Corporate","330100-Elevated Tanks & Standpipes",4.8999999999999998E-3,-2.9999999999999997E-4]
["2020-11-01","2021-06-01","10C:330100",6257,"2021-05-01",0,1.55E-2,"10C:330100",null,"Indiana Corporate","330100-Elevated Tanks & Standpipes",4.8999999999999998E-3,-2.9999999999999997E-4]
["2020-11-01","2021-06-01","10C:330100",6257,"2021-06-01",0,1.55E-2,"10C:330100",null,"Indiana Corporate","330100-Elevated Tanks & Standpipes",4.8999999999999998E-3,-2.9999999999999997E-4]
["2020-11-01","2021-06-01","10C:331001",6357,"2020-11-01",0,9.7000000000000003E-3,"10C:331001",null,"Indiana Corporate","331001-TD Mains Not Classified",7.9000000000000008E-3,-5.9999999999999995E-4]
["2020-11-01","2021-06-01","10C:331001",6357,"2020-12-01",0,9.7000000000000003E-3,"10C:331001",null,"Indiana Corporate","331001-TD Mains Not Classified",7.9000000000000008E-3,-5.9999999999999995E-4]
["2020-11-01","2021-06-01","10C:331001",6357,"2021-01-01",0,9.7000000000000003E-3,"10C:331001",null,"Indiana Corporate","331001-TD Mains Not Classified",7.9000000000000008E-3,-5.9999999999999995E-4]
["2020-11-01","2021-06-01","10C:331001",6357,"2021-02-01",0,9.7000000000000003E-3,"10C:331001",null,"Indiana Corporate","331001-TD Mains Not Classified",7.9000000000000008E-3,-5.9999999999999995E-4]
["2020-11-01","2021-06-01","10C:331001",6357,"2021-03-01",0,9.7000000000000003E-3,"10C:331001",null,"Indiana Corporate","331001-TD Mains Not Classified",7.9000000000000008E-3,-5.9999999999999995E-4]
["2020-11-01","2021-06-01","10C:331001",6357,"2021-04-01",0,9.7000000000000003E-3,"10C:331001",null,"Indiana Corporate","331001-TD Mains Not Classified",7.9000000000000008E-3,-5.9999999999999995E-4]
["2020-11-01","2021-06-01","10C:331001",6357,"2021-05-01",0,9.7000000000000003E-3,"10C:331001",null,"Indiana Corporate","331001-TD Mains Not Classified",7.9000000000000008E-3,-5.9999999999999995E-4]
["2020-11-01","2021-06-01","10C:331001",6357,"2021-06-01",0,9.7000000000000003E-3,"10C:331001",null,"Indiana Corporate","331001-TD Mains Not Classified",7.9000000000000008E-3,-5.9999999999999995E-4]
["2020-11-01","2021-06-01","10C:331200",3744,"2020-11-01",0,9.7000000000000003E-3,"10C:331200",null,"Indiana Corporate","331200-TD Mains 6in to 8in",7.9000000000000008E-3,-5.9999999999999995E-4]
["2020-11-01","2021-06-01","10C:331200",3744,"2020-12-01",0,9.7000000000000003E-3,"10C:331200",null,"Indiana Corporate","331200-TD Mains 6in to 8in",7.9000000000000008E-3,-5.9999999999999995E-4]
["2020-11-01","2021-06-01","10C:331200",3744,"2021-01-01",0,9.7000000000000003E-3,"10C:331200",null,"Indiana Corporate","331200-TD Mains 6in to 8in",7.9000000000000008E-3,-5.9999999999999995E-4]
["2020-11-01","2021-06-01","10C:331200",3744,"2021-02-01",0,9.7000000000000003E-3,"10C:331200",null,"Indiana Corporate","331200-TD Mains 6in to 8in",7.9000000000000008E-3,-5.9999999999999995E-4]
["2020-11-01","2021-06-01","10C:331200",3744,"2021-03-01",0,9.7000000000000003E-3,"10C:331200",null,"Indiana Corporate","331200-TD Mains 6in to 8in",7.9000000000000008E-3,-5.9999999999999995E-4]
["2020-11-01","2021-06-01","10C:331200",3744,"2021-04-01",0,9.7000000000000003E-3,"10C:331200",null,"Indiana Corporate","331200-TD Mains 6in to 8in",7.9000000000000008E-3,-5.9999999999999995E-4]
["2020-11-01","2021-06-01","10C:331200",3744,"2021-05-01",0,9.7000000000000003E-3,"10C:331200",null,"Indiana Corporate","331200-TD Mains 6in to 8in",7.9000000000000008E-3,-5.9999999999999995E-4]
["2020-11-01","2021-06-01","10C:331200",3744,"2021-06-01",0,9.7000000000000003E-3,"10C:331200",null,"Indiana Corporate","331200-TD Mains 6in to 8in",7.9000000000000008E-3,-5.9999999999999995E-4]
["2020-11-01","2021-06-01","10C:333000",3261,"2020-11-01",0,1.44E-2,"10C:333000",null,"Indiana Corporate","333000-Services",2.18E-2,-2.9999999999999997E-4]
["2020-11-01","2021-06-01","10C:333000",3261,"2020-12-01",0,1.44E-2,"10C:333000",null,"Indiana Corporate","333000-Services",2.18E-2,-2.9999999999999997E-4]
["2020-11-01","2021-06-01","10C:333000",3261,"2021-01-01",0,1.44E-2,"10C:333000",null,"Indiana Corporate","333000-Services",2.18E-2,-2.9999999999999997E-4]
["2020-11-01","2021-06-01","10C:333000",3261,"2021-02-01",0,1.44E-2,"10C:333000",null,"Indiana Corporate","333000-Services",2.18E-2,-2.9999999999999997E-4]
["2020-11-01","2021-06-01","10C:333000",3261,"2021-03-01",0,1.44E-2,"10C:333000",null,"Indiana Corporate","333000-Services",2.18E-2,-2.9999999999999997E-4]
["2020-11-01","2021-06-01","10C:333000",3261,"2021-04-01",0,1.44E-2,"10C:333000",null,"Indiana Corporate","333000-Services",2.18E-2,-2.9999999999999997E-4]
["2020-11-01","2021-06-01","10C:333000",3261,"2021-05-01",0,1.44E-2,"10C:333000",null,"Indiana Corporate","333000-Services",2.18E-2,-2.9999999999999997E-4]
["2020-11-01","2021-06-01","10C:333000",3261,"2021-06-01",0,1.44E-2,"10C:333000",null,"Indiana Corporate","333000-Services",2.18E-2,-2.9999999999999997E-4]
["2020-11-01","2021-06-01","10C:334100",3148,"2020-11-01",0,4.3299999999999998E-2,"10C:334100",null,"Indiana Corporate","334100-Meters",1.04E-2,-1.6999999999999999E-3]
["2020-11-01","2021-06-01","10C:334100",3148,"2020-12-01",0,4.3299999999999998E-2,"10C:334100",null,"Indiana Corporate","334100-Meters",1.04E-2,-1.6999999999999999E-3]
["2020-11-01","2021-06-01","10C:334100",3148,"2021-01-01",0,4.3299999999999998E-2,"10C:334100",null,"Indiana Corporate","334100-Meters",1.04E-2,-1.6999999999999999E-3]
["2020-11-01","2021-06-01","10C:334100",3148,"2021-02-01",0,4.3299999999999998E-2,"10C:334100",null,"Indiana Corporate","334100-Meters",1.04E-2,-1.6999999999999999E-3]
["2020-11-01","2021-06-01","10C:334100",3148,"2021-03-01",0,4.3299999999999998E-2,"10C:334100",null,"Indiana Corporate","334100-Meters",1.04E-2,-1.6999999999999999E-3]
["2020-11-01","2021-06-01","10C:334100",3148,"2021-04-01",0,4.3299999999999998E-2,"10C:334100",null,"Indiana Corporate","334100-Meters",1.04E-2,-1.6999999999999999E-3]
["2020-11-01","2021-06-01","10C:334100",3148,"2021-05-01",0,4.3299999999999998E-2,"10C:334100",null,"Indiana Corporate","334100-Meters",1.04E-2,-1.6999999999999999E-3]
["2020-11-01","2021-06-01","10C:334100",3148,"2021-06-01",0,4.3299999999999998E-2,"10C:334100",null,"Indiana Corporate","334100-Meters",1.04E-2,-1.6999999999999999E-3]
["2020-11-01","2021-06-01","10C:334110",3867,"2020-11-01",0,5.1400000000000001E-2,"10C:334110",null,"Indiana Corporate","334110-Meters Bronze Case",1.24E-2,-2.0999999999999999E-3]
["2020-11-01","2021-06-01","10C:334110",3867,"2020-12-01",0,5.1400000000000001E-2,"10C:334110",null,"Indiana Corporate","334110-Meters Bronze Case",1.24E-2,-2.0999999999999999E-3]
["2020-11-01","2021-06-01","10C:334110",3867,"2021-01-01",0,5.1400000000000001E-2,"10C:334110",null,"Indiana Corporate","334110-Meters Bronze Case",1.24E-2,-2.0999999999999999E-3]
["2020-11-01","2021-06-01","10C:334110",3867,"2021-02-01",0,5.1400000000000001E-2,"10C:334110",null,"Indiana Corporate","334110-Meters Bronze Case",1.24E-2,-2.0999999999999999E-3]
["2020-11-01","2021-06-01","10C:334110",3867,"2021-03-01",0,5.1400000000000001E-2,"10C:334110",null,"Indiana Corporate","334110-Meters Bronze Case",1.24E-2,-2.0999999999999999E-3]
["2020-11-01","2021-06-01","10C:334110",3867,"2021-04-01",0,5.1400000000000001E-2,"10C:334110",null,"Indiana Corporate","334110-Meters Bronze Case",1.24E-2,-2.0999999999999999E-3]
["2020-11-01","2021-06-01","10C:334110",3867,"2021-05-01",0,5.1400000000000001E-2,"10C:334110",null,"Indiana Corporate","334110-Meters Bronze Case",1.24E-2,-2.0999999999999999E-3]
["2020-11-01","2021-06-01","10C:334110",3867,"2021-06-01",0,5.1400000000000001E-2,"10C:334110",null,"Indiana Corporate","334110-Meters Bronze Case",1.24E-2,-2.0999999999999999E-3]
["2020-11-01","2021-06-01","10C:334120",4532,"2020-11-01",0,7.3300000000000004E-2,"10C:334120",null,"Indiana Corporate","334120-Meters Plastic Case",1.7600000000000001E-2,-2.8999999999999998E-3]
["2020-11-01","2021-06-01","10C:334120",4532,"2020-12-01",0,7.3300000000000004E-2,"10C:334120",null,"Indiana Corporate","334120-Meters Plastic Case",1.7600000000000001E-2,-2.8999999999999998E-3]
["2020-11-01","2021-06-01","10C:334120",4532,"2021-01-01",0,7.3300000000000004E-2,"10C:334120",null,"Indiana Corporate","334120-Meters Plastic Case",1.7600000000000001E-2,-2.8999999999999998E-3]
["2020-11-01","2021-06-01","10C:334120",4532,"2021-02-01",0,7.3300000000000004E-2,"10C:334120",null,"Indiana Corporate","334120-Meters Plastic Case",1.7600000000000001E-2,-2.8999999999999998E-3]
["2020-11-01","2021-06-01","10C:334120",4532,"2021-03-01",0,7.3300000000000004E-2,"10C:334120",null,"Indiana Corporate","334120-Meters Plastic Case",1.7600000000000001E-2,-2.8999999999999998E-3]
["2020-11-01","2021-06-01","10C:334120",4532,"2021-04-01",0,7.3300000000000004E-2,"10C:334120",null,"Indiana Corporate","334120-Meters Plastic Case",1.7600000000000001E-2,-2.8999999999999998E-3]
["2020-11-01","2021-06-01","10C:334120",4532,"2021-05-01",0,7.3300000000000004E-2,"10C:334120",null,"Indiana Corporate","334120-Meters Plastic Case",1.7600000000000001E-2,-2.8999999999999998E-3]
["2020-11-01","2021-06-01","10C:334120",4532,"2021-06-01",0,7.3300000000000004E-2,"10C:334120",null,"Indiana Corporate","334120-Meters Plastic Case",1.7600000000000001E-2,-2.8999999999999998E-3]
["2020-11-01","2021-06-01","10C:334130",3262,"2020-11-01",0,3.73E-2,"10C:334130",null,"Indiana Corporate","334130-Meters Other",8.9999999999999993E-3,-1.5E-3]
["2020-11-01","2021-06-01","10C:334130",3262,"2020-12-01",0,3.73E-2,"10C:334130",null,"Indiana Corporate","334130-Meters Other",8.9999999999999993E-3,-1.5E-3]
["2020-11-01","2021-06-01","10C:334130",3262,"2021-01-01",0,3.73E-2,"10C:334130",null,"Indiana Corporate","334130-Meters Other",8.9999999999999993E-3,-1.5E-3]
["2020-11-01","2021-06-01","10C:334130",3262,"2021-02-01",0,3.73E-2,"10C:334130",null,"Indiana Corporate","334130-Meters Other",8.9999999999999993E-3,-1.5E-3]
["2020-11-01","2021-06-01","10C:334130",3262,"2021-03-01",0,3.73E-2,"10C:334130",null,"Indiana Corporate","334130-Meters Other",8.9999999999999993E-3,-1.5E-3]
["2020-11-01","2021-06-01","10C:334130",3262,"2021-04-01",0,3.73E-2,"10C:334130",null,"Indiana Corporate","334130-Meters Other",8.9999999999999993E-3,-1.5E-3]
["2020-11-01","2021-06-01","10C:334130",3262,"2021-05-01",0,3.73E-2,"10C:334130",null,"Indiana Corporate","334130-Meters Other",8.9999999999999993E-3,-1.5E-3]
["2020-11-01","2021-06-01","10C:334130",3262,"2021-06-01",0,3.73E-2,"10C:334130",null,"Indiana Corporate","334130-Meters Other",8.9999999999999993E-3,-1.5E-3]
["2020-11-01","2021-06-01","10C:334131",4558,"2020-11-01",0,3.73E-2,"10C:334131",null,"Indiana Corporate","334131-Meter Reading Units",8.9999999999999993E-3,-1.5E-3]
["2020-11-01","2021-06-01","10C:334131",4558,"2020-12-01",0,3.73E-2,"10C:334131",null,"Indiana Corporate","334131-Meter Reading Units",8.9999999999999993E-3,-1.5E-3]
["2020-11-01","2021-06-01","10C:334131",4558,"2021-01-01",0,3.73E-2,"10C:334131",null,"Indiana Corporate","334131-Meter Reading Units",8.9999999999999993E-3,-1.5E-3]
["2020-11-01","2021-06-01","10C:334131",4558,"2021-02-01",0,3.73E-2,"10C:334131",null,"Indiana Corporate","334131-Meter Reading Units",8.9999999999999993E-3,-1.5E-3]
["2020-11-01","2021-06-01","10C:334131",4558,"2021-03-01",0,3.73E-2,"10C:334131",null,"Indiana Corporate","334131-Meter Reading Units",8.9999999999999993E-3,-1.5E-3]
["2020-11-01","2021-06-01","10C:334131",4558,"2021-04-01",0,3.73E-2,"10C:334131",null,"Indiana Corporate","334131-Meter Reading Units",8.9999999999999993E-3,-1.5E-3]
["2020-11-01","2021-06-01","10C:334131",4558,"2021-05-01",0,3.73E-2,"10C:334131",null,"Indiana Corporate","334131-Meter Reading Units",8.9999999999999993E-3,-1.5E-3]
["2020-11-01","2021-06-01","10C:334131",4558,"2021-06-01",0,3.73E-2,"10C:334131",null,"Indiana Corporate","334131-Meter Reading Units",8.9999999999999993E-3,-1.5E-3]
["2020-11-01","2021-06-01","10C:334200",6358,"2020-11-01",0,1.6299999999999999E-2,"10C:334200",null,"Indiana Corporate","334200-Meter Installations",8.9999999999999993E-3,-8.0000000000000004E-4]
["2020-11-01","2021-06-01","10C:334200",6358,"2020-12-01",0,1.6299999999999999E-2,"10C:334200",null,"Indiana Corporate","334200-Meter Installations",8.9999999999999993E-3,-8.0000000000000004E-4]
["2020-11-01","2021-06-01","10C:334200",6358,"2021-01-01",0,1.6299999999999999E-2,"10C:334200",null,"Indiana Corporate","334200-Meter Installations",8.9999999999999993E-3,-8.0000000000000004E-4]
["2020-11-01","2021-06-01","10C:334200",6358,"2021-02-01",0,1.6299999999999999E-2,"10C:334200",null,"Indiana Corporate","334200-Meter Installations",8.9999999999999993E-3,-8.0000000000000004E-4]
["2020-11-01","2021-06-01","10C:334200",6358,"2021-03-01",0,1.6299999999999999E-2,"10C:334200",null,"Indiana Corporate","334200-Meter Installations",8.9999999999999993E-3,-8.0000000000000004E-4]
["2020-11-01","2021-06-01","10C:334200",6358,"2021-04-01",0,1.6299999999999999E-2,"10C:334200",null,"Indiana Corporate","334200-Meter Installations",8.9999999999999993E-3,-8.0000000000000004E-4]
["2020-11-01","2021-06-01","10C:334200",6358,"2021-05-01",0,1.6299999999999999E-2,"10C:334200",null,"Indiana Corporate","334200-Meter Installations",8.9999999999999993E-3,-8.0000000000000004E-4]
["2020-11-01","2021-06-01","10C:334200",6358,"2021-06-01",0,1.6299999999999999E-2,"10C:334200",null,"Indiana Corporate","334200-Meter Installations",8.9999999999999993E-3,-8.0000000000000004E-4]
["2020-11-01","2021-06-01","10C:334201",3868,"2020-11-01",0,1.6299999999999999E-2,"10C:334201",null,"Indiana Corporate","334201-Meter Installations-Other",8.9999999999999993E-3,-8.0000000000000004E-4]
["2020-11-01","2021-06-01","10C:334201",3868,"2020-12-01",0,1.6299999999999999E-2,"10C:334201",null,"Indiana Corporate","334201-Meter Installations-Other",8.9999999999999993E-3,-8.0000000000000004E-4]
["2020-11-01","2021-06-01","10C:334201",3868,"2021-01-01",0,1.6299999999999999E-2,"10C:334201",null,"Indiana Corporate","334201-Meter Installations-Other",8.9999999999999993E-3,-8.0000000000000004E-4]
["2020-11-01","2021-06-01","10C:334201",3868,"2021-02-01",0,1.6299999999999999E-2,"10C:334201",null,"Indiana Corporate","334201-Meter Installations-Other",8.9999999999999993E-3,-8.0000000000000004E-4]
["2020-11-01","2021-06-01","10C:334201",3868,"2021-03-01",0,1.6299999999999999E-2,"10C:334201",null,"Indiana Corporate","334201-Meter Installations-Other",8.9999999999999993E-3,-8.0000000000000004E-4]
["2020-11-01","2021-06-01","10C:334201",3868,"2021-04-01",0,1.6299999999999999E-2,"10C:334201",null,"Indiana Corporate","334201-Meter Installations-Other",8.9999999999999993E-3,-8.0000000000000004E-4]
["2020-11-01","2021-06-01","10C:334201",3868,"2021-05-01",0,1.6299999999999999E-2,"10C:334201",null,"Indiana Corporate","334201-Meter Installations-Other",8.9999999999999993E-3,-8.0000000000000004E-4]
["2020-11-01","2021-06-01","10C:334201",3868,"2021-06-01",0,1.6299999999999999E-2,"10C:334201",null,"Indiana Corporate","334201-Meter Installations-Other",8.9999999999999993E-3,-8.0000000000000004E-4]
["2020-11-01","2021-06-01","10C:335000",4559,"2020-11-01",0,1.4999999999999999E-2,"10C:335000",null,"Indiana Corporate","335000-Hydrants",8.0000000000000002E-3,-5.0000000000000001E-4]
["2020-11-01","2021-06-01","10C:335000",4559,"2020-12-01",0,1.4999999999999999E-2,"10C:335000",null,"Indiana Corporate","335000-Hydrants",8.0000000000000002E-3,-5.0000000000000001E-4]
["2020-11-01","2021-06-01","10C:335000",4559,"2021-01-01",0,1.4999999999999999E-2,"10C:335000",null,"Indiana Corporate","335000-Hydrants",8.0000000000000002E-3,-5.0000000000000001E-4]
["2020-11-01","2021-06-01","10C:335000",4559,"2021-02-01",0,1.4999999999999999E-2,"10C:335000",null,"Indiana Corporate","335000-Hydrants",8.0000000000000002E-3,-5.0000000000000001E-4]
["2020-11-01","2021-06-01","10C:335000",4559,"2021-03-01",0,1.4999999999999999E-2,"10C:335000",null,"Indiana Corporate","335000-Hydrants",8.0000000000000002E-3,-5.0000000000000001E-4]
["2020-11-01","2021-06-01","10C:335000",4559,"2021-04-01",0,1.4999999999999999E-2,"10C:335000",null,"Indiana Corporate","335000-Hydrants",8.0000000000000002E-3,-5.0000000000000001E-4]
["2020-11-01","2021-06-01","10C:335000",4559,"2021-05-01",0,1.4999999999999999E-2,"10C:335000",null,"Indiana Corporate","335000-Hydrants",8.0000000000000002E-3,-5.0000000000000001E-4]
["2020-11-01","2021-06-01","10C:335000",4559,"2021-06-01",0,1.4999999999999999E-2,"10C:335000",null,"Indiana Corporate","335000-Hydrants",8.0000000000000002E-3,-5.0000000000000001E-4]
["2020-11-01","2021-06-01","10C:339500",5734,"2020-11-01",0,0.1153,"10C:339500",null,"Indiana Corporate","339500-Other P/E-TD",0,0]
["2020-11-01","2021-06-01","10C:339500",5734,"2020-12-01",0,0.1153,"10C:339500",null,"Indiana Corporate","339500-Other P/E-TD",0,0]
["2020-11-01","2021-06-01","10C:339500",5734,"2021-01-01",0,0.1153,"10C:339500",null,"Indiana Corporate","339500-Other P/E-TD",0,0]
["2020-11-01","2021-06-01","10C:339500",5734,"2021-02-01",0,0.1153,"10C:339500",null,"Indiana Corporate","339500-Other P/E-TD",0,0]
["2020-11-01","2021-06-01","10C:339500",5734,"2021-03-01",0,0.1153,"10C:339500",null,"Indiana Corporate","339500-Other P/E-TD",0,0]
["2020-11-01","2021-06-01","10C:339500",5734,"2021-04-01",0,0.1153,"10C:339500",null,"Indiana Corporate","339500-Other P/E-TD",0,0]
["2020-11-01","2021-06-01","10C:339500",5734,"2021-05-01",0,0.1153,"10C:339500",null,"Indiana Corporate","339500-Other P/E-TD",0,0]
["2020-11-01","2021-06-01","10C:339500",5734,"2021-06-01",0,0.1153,"10C:339500",null,"Indiana Corporate","339500-Other P/E-TD",0,0]
["2020-11-01","2021-06-01","10C:339600",2011,"2020-11-01",73249.78,0,"10C:339600",null,"Indiana Corporate","339600-Other P/E-CPS",0,0]
["2020-11-01","2021-06-01","10C:339600",2011,"2020-12-01",73249.78,0,"10C:339600",null,"Indiana Corporate","339600-Other P/E-CPS",0,0]
["2020-11-01","2021-06-01","10C:339600",2011,"2021-01-01",73249.78,0,"10C:339600",null,"Indiana Corporate","339600-Other P/E-CPS",0,0]
["2020-11-01","2021-06-01","10C:339600",2011,"2021-02-01",73249.78,0,"10C:339600",null,"Indiana Corporate","339600-Other P/E-CPS",0,0]
["2020-11-01","2021-06-01","10C:339600",2011,"2021-03-01",73249.78,0,"10C:339600",null,"Indiana Corporate","339600-Other P/E-CPS",0,0]
["2020-11-01","2021-06-01","10C:339600",2011,"2021-04-01",73249.78,0,"10C:339600",null,"Indiana Corporate","339600-Other P/E-CPS",0,0]
["2020-11-01","2021-06-01","10C:339600",2011,"2021-05-01",73249.78,0,"10C:339600",null,"Indiana Corporate","339600-Other P/E-CPS",0,0]
["2020-11-01","2021-06-01","10C:339600",2011,"2021-06-01",73249.78,0,"10C:339600",null,"Indiana Corporate","339600-Other P/E-CPS",0,0]
["2020-11-01","2021-06-01","10C:340100",4560,"2020-11-01",660762.15,0.05,"10C:340100",null,"Indiana Corporate","340100-Office Furniture & Equip",0,0]
["2020-11-01","2021-06-01","10C:340100",4560,"2020-12-01",663276.80000000005,0.05,"10C:340100",null,"Indiana Corporate","340100-Office Furniture & Equip",0,0]
["2020-11-01","2021-06-01","10C:340100",4560,"2021-01-01",664714.18999999994,0.05,"10C:340100",null,"Indiana Corporate","340100-Office Furniture & Equip",0,0]
["2020-11-01","2021-06-01","10C:340100",4560,"2021-02-01",666059.24,0.05,"10C:340100",null,"Indiana Corporate","340100-Office Furniture & Equip",0,0]
["2020-11-01","2021-06-01","10C:340100",4560,"2021-03-01",665810.43000000005,0.05,"10C:340100",null,"Indiana Corporate","340100-Office Furniture & Equip",0,0]
["2020-11-01","2021-06-01","10C:340100",4560,"2021-04-01",583848.55000000005,0.05,"10C:340100",null,"Indiana Corporate","340100-Office Furniture & Equip",0,0]
["2020-11-01","2021-06-01","10C:340100",4560,"2021-05-01",584665.57999999996,0.05,"10C:340100",null,"Indiana Corporate","340100-Office Furniture & Equip",0,0]
["2020-11-01","2021-06-01","10C:340100",4560,"2021-06-01",584665.57999999996,0.05,"10C:340100",null,"Indiana Corporate","340100-Office Furniture & Equip",0,0]
["2020-11-01","2021-06-01","10C:340210",5150,"2020-11-01",0,0.2,"10C:340210",null,"Indiana Corporate","340210-Comp & Periph Mainframe",0,0]
["2020-11-01","2021-06-01","10C:340210",5150,"2020-12-01",0,0.2,"10C:340210",null,"Indiana Corporate","340210-Comp & Periph Mainframe",0,0]
["2020-11-01","2021-06-01","10C:340210",5150,"2021-01-01",0,0.2,"10C:340210",null,"Indiana Corporate","340210-Comp & Periph Mainframe",0,0]
["2020-11-01","2021-06-01","10C:340210",5150,"2021-02-01",0,0.2,"10C:340210",null,"Indiana Corporate","340210-Comp & Periph Mainframe",0,0]
["2020-11-01","2021-06-01","10C:340210",5150,"2021-03-01",0,0.2,"10C:340210",null,"Indiana Corporate","340210-Comp & Periph Mainframe",0,0]
["2020-11-01","2021-06-01","10C:340210",5150,"2021-04-01",0,0.2,"10C:340210",null,"Indiana Corporate","340210-Comp & Periph Mainframe",0,0]
["2020-11-01","2021-06-01","10C:340210",5150,"2021-05-01",0,0.2,"10C:340210",null,"Indiana Corporate","340210-Comp & Periph Mainframe",0,0]
["2020-11-01","2021-06-01","10C:340210",5150,"2021-06-01",0,0.2,"10C:340210",null,"Indiana Corporate","340210-Comp & Periph Mainframe",0,0]
["2020-11-01","2021-06-01","10C:340220",6359,"2020-11-01",865846.26,0.2,"10C:340220",null,"Indiana Corporate","340220-Comp & Periph Personal",0,0]
["2020-11-01","2021-06-01","10C:340220",6359,"2020-12-01",865846.26,0.2,"10C:340220",null,"Indiana Corporate","340220-Comp & Periph Personal",0,0]
["2020-11-01","2021-06-01","10C:340220",6359,"2021-01-01",894555.04,0.2,"10C:340220",null,"Indiana Corporate","340220-Comp & Periph Personal",0,0]
["2020-11-01","2021-06-01","10C:340220",6359,"2021-02-01",917038.54,0.2,"10C:340220",null,"Indiana Corporate","340220-Comp & Periph Personal",0,0]
["2020-11-01","2021-06-01","10C:340220",6359,"2021-03-01",917038.54,0.2,"10C:340220",null,"Indiana Corporate","340220-Comp & Periph Personal",0,0]
["2020-11-01","2021-06-01","10C:340220",6359,"2021-04-01",917038.59,0.2,"10C:340220",null,"Indiana Corporate","340220-Comp & Periph Personal",0,0]
["2020-11-01","2021-06-01","10C:340220",6359,"2021-05-01",917038.59,0.2,"10C:340220",null,"Indiana Corporate","340220-Comp & Periph Personal",0,0]
["2020-11-01","2021-06-01","10C:340220",6359,"2021-06-01",1017845.57,0.2,"10C:340220",null,"Indiana Corporate","340220-Comp & Periph Personal",0,0]
["2020-11-01","2021-06-01","10C:340230",2012,"2020-11-01",2158279.66,0.2,"10C:340230",null,"Indiana Corporate","340230-Comp & Periph Other",0,0]
["2020-11-01","2021-06-01","10C:340230",2012,"2020-12-01",2150319.89,0.2,"10C:340230",null,"Indiana Corporate","340230-Comp & Periph Other",0,0]
["2020-11-01","2021-06-01","10C:340230",2012,"2021-01-01",1331073.29,0.2,"10C:340230",null,"Indiana Corporate","340230-Comp & Periph Other",0,0]
["2020-11-01","2021-06-01","10C:340230",2012,"2021-02-01",1330973.02,0.2,"10C:340230",null,"Indiana Corporate","340230-Comp & Periph Other",0,0]
["2020-11-01","2021-06-01","10C:340230",2012,"2021-03-01",1330973.02,0.2,"10C:340230",null,"Indiana Corporate","340230-Comp & Periph Other",0,0]
["2020-11-01","2021-06-01","10C:340230",2012,"2021-04-01",1283523.32,0.2,"10C:340230",null,"Indiana Corporate","340230-Comp & Periph Other",0,0]
["2020-11-01","2021-06-01","10C:340230",2012,"2021-05-01",1283523.32,0.2,"10C:340230",null,"Indiana Corporate","340230-Comp & Periph Other",0,0]
["2020-11-01","2021-06-01","10C:340230",2012,"2021-06-01",1267512.55,0.2,"10C:340230",null,"Indiana Corporate","340230-Comp & Periph Other",0,0]
["2020-11-01","2021-06-01","10C:340240",6847,"2020-11-01",0,0.2,"10C:340240",null,"Indiana Corporate","340240-Comp & Periph Capital Lease",0,0]
["2020-11-01","2021-06-01","10C:340240",6847,"2020-12-01",0,0.2,"10C:340240",null,"Indiana Corporate","340240-Comp & Periph Capital Lease",0,0]
["2020-11-01","2021-06-01","10C:340240",6847,"2021-01-01",0,0.2,"10C:340240",null,"Indiana Corporate","340240-Comp & Periph Capital Lease",0,0]
["2020-11-01","2021-06-01","10C:340240",6847,"2021-02-01",0,0.2,"10C:340240",null,"Indiana Corporate","340240-Comp & Periph Capital Lease",0,0]
["2020-11-01","2021-06-01","10C:340240",6847,"2021-03-01",0,0.2,"10C:340240",null,"Indiana Corporate","340240-Comp & Periph Capital Lease",0,0]
["2020-11-01","2021-06-01","10C:340240",6847,"2021-04-01",0,0.2,"10C:340240",null,"Indiana Corporate","340240-Comp & Periph Capital Lease",0,0]
["2020-11-01","2021-06-01","10C:340240",6847,"2021-05-01",0,0.2,"10C:340240",null,"Indiana Corporate","340240-Comp & Periph Capital Lease",0,0]
["2020-11-01","2021-06-01","10C:340240",6847,"2021-06-01",0,0.2,"10C:340240",null,"Indiana Corporate","340240-Comp & Periph Capital Lease",0,0]
["2020-11-01","2021-06-01","10C:340300",5735,"2020-11-01",41214547.899999999,0.1,"10C:340300",null,"Indiana Corporate","340300-Computer Software",0,0]
["2020-11-01","2021-06-01","10C:340300",5735,"2020-12-01",41587402.600000001,0.1,"10C:340300",null,"Indiana Corporate","340300-Computer Software",0,0]
["2020-11-01","2021-06-01","10C:340300",5735,"2021-01-01",41929523.939999998,0.1,"10C:340300",null,"Indiana Corporate","340300-Computer Software",0,0]
["2020-11-01","2021-06-01","10C:340300",5735,"2021-02-01",41988367.899999999,0.1,"10C:340300",null,"Indiana Corporate","340300-Computer Software",0,0]
["2020-11-01","2021-06-01","10C:340300",5735,"2021-03-01",42082983.030000001,0.1,"10C:340300",null,"Indiana Corporate","340300-Computer Software",0,0]
["2020-11-01","2021-06-01","10C:340300",5735,"2021-04-01",44120287.210000001,0.1,"10C:340300",null,"Indiana Corporate","340300-Computer Software",0,0]
["2020-11-01","2021-06-01","10C:340300",5735,"2021-05-01",44210435.530000001,0.1,"10C:340300",null,"Indiana Corporate","340300-Computer Software",0,0]
["2020-11-01","2021-06-01","10C:340300",5735,"2021-06-01",44213844.420000002,0.1,"10C:340300",null,"Indiana Corporate","340300-Computer Software",0,0]
["2020-11-01","2021-06-01","10C:340310",3869,"2020-11-01",0,0.2,"10C:340310",null,"Indiana Corporate","340310-Comp Software Mainframe",0,0]
["2020-11-01","2021-06-01","10C:340310",3869,"2020-12-01",0,0.2,"10C:340310",null,"Indiana Corporate","340310-Comp Software Mainframe",0,0]
["2020-11-01","2021-06-01","10C:340310",3869,"2021-01-01",0,0.2,"10C:340310",null,"Indiana Corporate","340310-Comp Software Mainframe",0,0]
["2020-11-01","2021-06-01","10C:340310",3869,"2021-02-01",0,0.2,"10C:340310",null,"Indiana Corporate","340310-Comp Software Mainframe",0,0]
["2020-11-01","2021-06-01","10C:340310",3869,"2021-03-01",181861.59,0.2,"10C:340310",null,"Indiana Corporate","340310-Comp Software Mainframe",0,0]
["2020-11-01","2021-06-01","10C:340310",3869,"2021-04-01",278912.12,0.2,"10C:340310",null,"Indiana Corporate","340310-Comp Software Mainframe",0,0]
["2020-11-01","2021-06-01","10C:340310",3869,"2021-05-01",283076.47999999998,0.2,"10C:340310",null,"Indiana Corporate","340310-Comp Software Mainframe",0,0]
["2020-11-01","2021-06-01","10C:340310",3869,"2021-06-01",285457.49,0.2,"10C:340310",null,"Indiana Corporate","340310-Comp Software Mainframe",0,0]
["2020-11-01","2021-06-01","10C:340320",6360,"2020-11-01",0,0,"10C:340320",null,"Indiana Corporate","340320-Comp Software Personal",0,0]
["2020-11-01","2021-06-01","10C:340320",6360,"2020-12-01",0,0,"10C:340320",null,"Indiana Corporate","340320-Comp Software Personal",0,0]
["2020-11-01","2021-06-01","10C:340320",6360,"2021-01-01",0,0,"10C:340320",null,"Indiana Corporate","340320-Comp Software Personal",0,0]
["2020-11-01","2021-06-01","10C:340320",6360,"2021-02-01",0,0,"10C:340320",null,"Indiana Corporate","340320-Comp Software Personal",0,0]
["2020-11-01","2021-06-01","10C:340320",6360,"2021-03-01",0,0,"10C:340320",null,"Indiana Corporate","340320-Comp Software Personal",0,0]
["2020-11-01","2021-06-01","10C:340320",6360,"2021-04-01",0,0,"10C:340320",null,"Indiana Corporate","340320-Comp Software Personal",0,0]
["2020-11-01","2021-06-01","10C:340320",6360,"2021-05-01",0,0,"10C:340320",null,"Indiana Corporate","340320-Comp Software Personal",0,0]
["2020-11-01","2021-06-01","10C:340320",6360,"2021-06-01",0,0,"10C:340320",null,"Indiana Corporate","340320-Comp Software Personal",0,0]
["2020-11-01","2021-06-01","10C:340325",2013,"2020-11-01",4794309.9000000004,0.2,"10C:340325",null,"Indiana Corporate","340325-Comp Software Customized",0,0]
["2020-11-01","2021-06-01","10C:340325",2013,"2020-12-01",4794953.5999999996,0.2,"10C:340325",null,"Indiana Corporate","340325-Comp Software Customized",0,0]
["2020-11-01","2021-06-01","10C:340325",2013,"2021-01-01",4794909.91,0.2,"10C:340325",null,"Indiana Corporate","340325-Comp Software Customized",0,0]
["2020-11-01","2021-06-01","10C:340325",2013,"2021-02-01",4794972.9400000004,0.2,"10C:340325",null,"Indiana Corporate","340325-Comp Software Customized",0,0]
["2020-11-01","2021-06-01","10C:340325",2013,"2021-03-01",4796129.75,0.2,"10C:340325",null,"Indiana Corporate","340325-Comp Software Customized",0,0]
["2020-11-01","2021-06-01","10C:340325",2013,"2021-04-01",4796414.2300000004,0.2,"10C:340325",null,"Indiana Corporate","340325-Comp Software Customized",0,0]
["2020-11-01","2021-06-01","10C:340325",2013,"2021-05-01",4796414.2300000004,0.2,"10C:340325",null,"Indiana Corporate","340325-Comp Software Customized",0,0]
["2020-11-01","2021-06-01","10C:340325",2013,"2021-06-01",4796414.2300000004,0.2,"10C:340325",null,"Indiana Corporate","340325-Comp Software Customized",0,0]
["2020-11-01","2021-06-01","10C:340330",3263,"2020-11-01",349612.67,0.2,"10C:340330",null,"Indiana Corporate","340330-Comp Software Other",0,0]
["2020-11-01","2021-06-01","10C:340330",3263,"2020-12-01",349612.67,0.2,"10C:340330",null,"Indiana Corporate","340330-Comp Software Other",0,0]
["2020-11-01","2021-06-01","10C:340330",3263,"2021-01-01",0,0.2,"10C:340330",null,"Indiana Corporate","340330-Comp Software Other",0,0]
["2020-11-01","2021-06-01","10C:340330",3263,"2021-02-01",0,0.2,"10C:340330",null,"Indiana Corporate","340330-Comp Software Other",0,0]
["2020-11-01","2021-06-01","10C:340330",3263,"2021-03-01",0,0.2,"10C:340330",null,"Indiana Corporate","340330-Comp Software Other",0,0]
["2020-11-01","2021-06-01","10C:340330",3263,"2021-04-01",405605.53,0.2,"10C:340330",null,"Indiana Corporate","340330-Comp Software Other",0,0]
["2020-11-01","2021-06-01","10C:340330",3263,"2021-05-01",410231.55,0.2,"10C:340330",null,"Indiana Corporate","340330-Comp Software Other",0,0]
["2020-11-01","2021-06-01","10C:340330",3263,"2021-06-01",412979.81,0.2,"10C:340330",null,"Indiana Corporate","340330-Comp Software Other",0,0]
["2020-11-01","2021-06-01","10C:340500",3870,"2020-11-01",0,6.6699999999999995E-2,"10C:340500",null,"Indiana Corporate","340500-Other Office Equipment",0,0]
["2020-11-01","2021-06-01","10C:340500",3870,"2020-12-01",0,6.6699999999999995E-2,"10C:340500",null,"Indiana Corporate","340500-Other Office Equipment",0,0]
["2020-11-01","2021-06-01","10C:340500",3870,"2021-01-01",0,6.6699999999999995E-2,"10C:340500",null,"Indiana Corporate","340500-Other Office Equipment",0,0]
["2020-11-01","2021-06-01","10C:340500",3870,"2021-02-01",0,6.6699999999999995E-2,"10C:340500",null,"Indiana Corporate","340500-Other Office Equipment",0,0]
["2020-11-01","2021-06-01","10C:340500",3870,"2021-03-01",0,6.6699999999999995E-2,"10C:340500",null,"Indiana Corporate","340500-Other Office Equipment",0,0]
["2020-11-01","2021-06-01","10C:340500",3870,"2021-04-01",0,6.6699999999999995E-2,"10C:340500",null,"Indiana Corporate","340500-Other Office Equipment",0,0]
["2020-11-01","2021-06-01","10C:340500",3870,"2021-05-01",0,6.6699999999999995E-2,"10C:340500",null,"Indiana Corporate","340500-Other Office Equipment",0,0]
["2020-11-01","2021-06-01","10C:340500",3870,"2021-06-01",0,6.6699999999999995E-2,"10C:340500",null,"Indiana Corporate","340500-Other Office Equipment",0,0]
["2020-11-01","2021-06-01","10C:341100",2014,"2020-11-01",2061395.85,4.8500000000000001E-2,"10C:341100",null,"Indiana Corporate","341100-Trans Equip Lt Duty Trks",0,-7.3000000000000001E-3]
["2020-11-01","2021-06-01","10C:341100",2014,"2020-12-01",2061395.85,4.8500000000000001E-2,"10C:341100",null,"Indiana Corporate","341100-Trans Equip Lt Duty Trks",0,-7.3000000000000001E-3]
["2020-11-01","2021-06-01","10C:341100",2014,"2021-01-01",526651.75,4.8500000000000001E-2,"10C:341100",null,"Indiana Corporate","341100-Trans Equip Lt Duty Trks",0,-7.3000000000000001E-3]
["2020-11-01","2021-06-01","10C:341100",2014,"2021-02-01",526651.75,4.8500000000000001E-2,"10C:341100",null,"Indiana Corporate","341100-Trans Equip Lt Duty Trks",0,-7.3000000000000001E-3]
["2020-11-01","2021-06-01","10C:341100",2014,"2021-03-01",1595846.97,4.8500000000000001E-2,"10C:341100",null,"Indiana Corporate","341100-Trans Equip Lt Duty Trks",0,-7.3000000000000001E-3]
["2020-11-01","2021-06-01","10C:341100",2014,"2021-04-01",2062654.97,4.8500000000000001E-2,"10C:341100",null,"Indiana Corporate","341100-Trans Equip Lt Duty Trks",0,-7.3000000000000001E-3]
["2020-11-01","2021-06-01","10C:341100",2014,"2021-05-01",1595846.97,4.8500000000000001E-2,"10C:341100",null,"Indiana Corporate","341100-Trans Equip Lt Duty Trks",0,-7.3000000000000001E-3]
["2020-11-01","2021-06-01","10C:341100",2014,"2021-06-01",2062654.97,4.8500000000000001E-2,"10C:341100",null,"Indiana Corporate","341100-Trans Equip Lt Duty Trks",0,-7.3000000000000001E-3]
["2020-11-01","2021-06-01","10C:341200",2625,"2020-11-01",518841.45,8.1600000000000006E-2,"10C:341200",null,"Indiana Corporate","341200-Trans Equip Hvy Duty Trks",0,-1.6299999999999999E-2]
["2020-11-01","2021-06-01","10C:341200",2625,"2020-12-01",518841.45,8.1600000000000006E-2,"10C:341200",null,"Indiana Corporate","341200-Trans Equip Hvy Duty Trks",0,-1.6299999999999999E-2]
["2020-11-01","2021-06-01","10C:341200",2625,"2021-01-01",518841.45,8.1600000000000006E-2,"10C:341200",null,"Indiana Corporate","341200-Trans Equip Hvy Duty Trks",0,-1.6299999999999999E-2]
["2020-11-01","2021-06-01","10C:341200",2625,"2021-02-01",518841.45,8.1600000000000006E-2,"10C:341200",null,"Indiana Corporate","341200-Trans Equip Hvy Duty Trks",0,-1.6299999999999999E-2]
["2020-11-01","2021-06-01","10C:341200",2625,"2021-03-01",518841.45,8.1600000000000006E-2,"10C:341200",null,"Indiana Corporate","341200-Trans Equip Hvy Duty Trks",0,-1.6299999999999999E-2]
["2020-11-01","2021-06-01","10C:341200",2625,"2021-04-01",518841.45,8.1600000000000006E-2,"10C:341200",null,"Indiana Corporate","341200-Trans Equip Hvy Duty Trks",0,-1.6299999999999999E-2]
["2020-11-01","2021-06-01","10C:341200",2625,"2021-05-01",518841.45,8.1600000000000006E-2,"10C:341200",null,"Indiana Corporate","341200-Trans Equip Hvy Duty Trks",0,-1.6299999999999999E-2]
["2020-11-01","2021-06-01","10C:341200",2625,"2021-06-01",518841.45,8.1600000000000006E-2,"10C:341200",null,"Indiana Corporate","341200-Trans Equip Hvy Duty Trks",0,-1.6299999999999999E-2]
["2020-11-01","2021-06-01","10C:341300",4561,"2020-11-01",2499721.1800000002,0.16689999999999999,"10C:341300",null,"Indiana Corporate","341300-Trans Equip Autos",0,-4.1700000000000001E-2]
["2020-11-01","2021-06-01","10C:341300",4561,"2020-12-01",362833.05,0.16689999999999999,"10C:341300",null,"Indiana Corporate","341300-Trans Equip Autos",0,-4.1700000000000001E-2]
["2020-11-01","2021-06-01","10C:341300",4561,"2021-01-01",362833.05,0.16689999999999999,"10C:341300",null,"Indiana Corporate","341300-Trans Equip Autos",0,-4.1700000000000001E-2]
["2020-11-01","2021-06-01","10C:341300",4561,"2021-02-01",362833.05,0.16689999999999999,"10C:341300",null,"Indiana Corporate","341300-Trans Equip Autos",0,-4.1700000000000001E-2]
["2020-11-01","2021-06-01","10C:341300",4561,"2021-03-01",362833.05,0.16689999999999999,"10C:341300",null,"Indiana Corporate","341300-Trans Equip Autos",0,-4.1700000000000001E-2]
["2020-11-01","2021-06-01","10C:341300",4561,"2021-04-01",362833.05,0.16689999999999999,"10C:341300",null,"Indiana Corporate","341300-Trans Equip Autos",0,-4.1700000000000001E-2]
["2020-11-01","2021-06-01","10C:341300",4561,"2021-05-01",362833.05,0.16689999999999999,"10C:341300",null,"Indiana Corporate","341300-Trans Equip Autos",0,-4.1700000000000001E-2]
["2020-11-01","2021-06-01","10C:341300",4561,"2021-06-01",362833.05,0.16689999999999999,"10C:341300",null,"Indiana Corporate","341300-Trans Equip Autos",0,-4.1700000000000001E-2]
["2020-11-01","2021-06-01","10C:341400",2626,"2020-11-01",72191.91,0.14169999999999999,"10C:341400",null,"Indiana Corporate","341400-Trans Equip Other",0,-1.4200000000000001E-2]
["2020-11-01","2021-06-01","10C:341400",2626,"2020-12-01",72191.91,0.14169999999999999,"10C:341400",null,"Indiana Corporate","341400-Trans Equip Other",0,-1.4200000000000001E-2]
["2020-11-01","2021-06-01","10C:341400",2626,"2021-01-01",72191.91,0.14169999999999999,"10C:341400",null,"Indiana Corporate","341400-Trans Equip Other",0,-1.4200000000000001E-2]
["2020-11-01","2021-06-01","10C:341400",2626,"2021-02-01",72191.91,0.14169999999999999,"10C:341400",null,"Indiana Corporate","341400-Trans Equip Other",0,-1.4200000000000001E-2]
["2020-11-01","2021-06-01","10C:341400",2626,"2021-03-01",72191.91,0.14169999999999999,"10C:341400",null,"Indiana Corporate","341400-Trans Equip Other",0,-1.4200000000000001E-2]
["2020-11-01","2021-06-01","10C:341400",2626,"2021-04-01",72191.91,0.14169999999999999,"10C:341400",null,"Indiana Corporate","341400-Trans Equip Other",0,-1.4200000000000001E-2]
["2020-11-01","2021-06-01","10C:341400",2626,"2021-05-01",72191.91,0.14169999999999999,"10C:341400",null,"Indiana Corporate","341400-Trans Equip Other",0,-1.4200000000000001E-2]
["2020-11-01","2021-06-01","10C:341400",2626,"2021-06-01",72191.91,0.14169999999999999,"10C:341400",null,"Indiana Corporate","341400-Trans Equip Other",0,-1.4200000000000001E-2]
["2020-11-01","2021-06-01","10C:342000",4562,"2020-11-01",0,0.04,"10C:342000",null,"Indiana Corporate","342000-Stores Equipment",0,0]
["2020-11-01","2021-06-01","10C:342000",4562,"2020-12-01",0,0.04,"10C:342000",null,"Indiana Corporate","342000-Stores Equipment",0,0]
["2020-11-01","2021-06-01","10C:342000",4562,"2021-01-01",0,0.04,"10C:342000",null,"Indiana Corporate","342000-Stores Equipment",0,0]
["2020-11-01","2021-06-01","10C:342000",4562,"2021-02-01",0,0.04,"10C:342000",null,"Indiana Corporate","342000-Stores Equipment",0,0]
["2020-11-01","2021-06-01","10C:342000",4562,"2021-03-01",0,0.04,"10C:342000",null,"Indiana Corporate","342000-Stores Equipment",0,0]
["2020-11-01","2021-06-01","10C:342000",4562,"2021-04-01",0,0.04,"10C:342000",null,"Indiana Corporate","342000-Stores Equipment",0,0]
["2020-11-01","2021-06-01","10C:342000",4562,"2021-05-01",0,0.04,"10C:342000",null,"Indiana Corporate","342000-Stores Equipment",0,0]
["2020-11-01","2021-06-01","10C:342000",4562,"2021-06-01",0,0.04,"10C:342000",null,"Indiana Corporate","342000-Stores Equipment",0,0]
["2020-11-01","2021-06-01","10C:343000",3871,"2020-11-01",1160406.6399999999,0.04,"10C:343000",null,"Indiana Corporate","343000-Tools,Shop,Garage Equip",0,0]
["2020-11-01","2021-06-01","10C:343000",3871,"2020-12-01",1160406.6399999999,0.04,"10C:343000",null,"Indiana Corporate","343000-Tools,Shop,Garage Equip",0,0]
["2020-11-01","2021-06-01","10C:343000",3871,"2021-01-01",1160406.6399999999,0.04,"10C:343000",null,"Indiana Corporate","343000-Tools,Shop,Garage Equip",0,0]
["2020-11-01","2021-06-01","10C:343000",3871,"2021-02-01",1159938.92,0.04,"10C:343000",null,"Indiana Corporate","343000-Tools,Shop,Garage Equip",0,0]
["2020-11-01","2021-06-01","10C:343000",3871,"2021-03-01",1159938.92,0.04,"10C:343000",null,"Indiana Corporate","343000-Tools,Shop,Garage Equip",0,0]
["2020-11-01","2021-06-01","10C:343000",3871,"2021-04-01",1159938.8700000001,0.04,"10C:343000",null,"Indiana Corporate","343000-Tools,Shop,Garage Equip",0,0]
["2020-11-01","2021-06-01","10C:343000",3871,"2021-05-01",1166417.5,0.04,"10C:343000",null,"Indiana Corporate","343000-Tools,Shop,Garage Equip",0,0]
["2020-11-01","2021-06-01","10C:343000",3871,"2021-06-01",1166417.5,0.04,"10C:343000",null,"Indiana Corporate","343000-Tools,Shop,Garage Equip",0,0]
["2020-11-01","2021-06-01","10C:343100",3872,"2020-11-01",0,0.04,"10C:343100",null,"Indiana Corporate","343100-Tools,Shop,Garage Equip-Othr",0,0]
["2020-11-01","2021-06-01","10C:343100",3872,"2020-12-01",0,0.04,"10C:343100",null,"Indiana Corporate","343100-Tools,Shop,Garage Equip-Othr",0,0]
["2020-11-01","2021-06-01","10C:343100",3872,"2021-01-01",0,0.04,"10C:343100",null,"Indiana Corporate","343100-Tools,Shop,Garage Equip-Othr",0,0]
["2020-11-01","2021-06-01","10C:343100",3872,"2021-02-01",0,0.04,"10C:343100",null,"Indiana Corporate","343100-Tools,Shop,Garage Equip-Othr",0,0]
["2020-11-01","2021-06-01","10C:343100",3872,"2021-03-01",0,0.04,"10C:343100",null,"Indiana Corporate","343100-Tools,Shop,Garage Equip-Othr",0,0]
["2020-11-01","2021-06-01","10C:343100",3872,"2021-04-01",0,0.04,"10C:343100",null,"Indiana Corporate","343100-Tools,Shop,Garage Equip-Othr",0,0]
["2020-11-01","2021-06-01","10C:343100",3872,"2021-05-01",0,0.04,"10C:343100",null,"Indiana Corporate","343100-Tools,Shop,Garage Equip-Othr",0,0]
["2020-11-01","2021-06-01","10C:343100",3872,"2021-06-01",0,0.04,"10C:343100",null,"Indiana Corporate","343100-Tools,Shop,Garage Equip-Othr",0,0]
["2020-11-01","2021-06-01","10C:344000",5151,"2020-11-01",0,6.6699999999999995E-2,"10C:344000",null,"Indiana Corporate","344000-Laboratory Equipment",0,0]
["2020-11-01","2021-06-01","10C:344000",5151,"2020-12-01",0,6.6699999999999995E-2,"10C:344000",null,"Indiana Corporate","344000-Laboratory Equipment",0,0]
["2020-11-01","2021-06-01","10C:344000",5151,"2021-01-01",0,6.6699999999999995E-2,"10C:344000",null,"Indiana Corporate","344000-Laboratory Equipment",0,0]
["2020-11-01","2021-06-01","10C:344000",5151,"2021-02-01",0,6.6699999999999995E-2,"10C:344000",null,"Indiana Corporate","344000-Laboratory Equipment",0,0]
["2020-11-01","2021-06-01","10C:344000",5151,"2021-03-01",0,6.6699999999999995E-2,"10C:344000",null,"Indiana Corporate","344000-Laboratory Equipment",0,0]
["2020-11-01","2021-06-01","10C:344000",5151,"2021-04-01",0,6.6699999999999995E-2,"10C:344000",null,"Indiana Corporate","344000-Laboratory Equipment",0,0]
["2020-11-01","2021-06-01","10C:344000",5151,"2021-05-01",0,6.6699999999999995E-2,"10C:344000",null,"Indiana Corporate","344000-Laboratory Equipment",0,0]
["2020-11-01","2021-06-01","10C:344000",5151,"2021-06-01",0,6.6699999999999995E-2,"10C:344000",null,"Indiana Corporate","344000-Laboratory Equipment",0,0]
["2020-11-01","2021-06-01","10C:345000",3873,"2020-11-01",0,2.3699999999999999E-2,"10C:345000",null,"Indiana Corporate","345000-Power Operated Equipment",0,-1.1999999999999999E-3]
["2020-11-01","2021-06-01","10C:345000",3873,"2020-12-01",0,2.3699999999999999E-2,"10C:345000",null,"Indiana Corporate","345000-Power Operated Equipment",0,-1.1999999999999999E-3]
["2020-11-01","2021-06-01","10C:345000",3873,"2021-01-01",0,2.3699999999999999E-2,"10C:345000",null,"Indiana Corporate","345000-Power Operated Equipment",0,-1.1999999999999999E-3]
["2020-11-01","2021-06-01","10C:345000",3873,"2021-02-01",0,2.3699999999999999E-2,"10C:345000",null,"Indiana Corporate","345000-Power Operated Equipment",0,-1.1999999999999999E-3]
["2020-11-01","2021-06-01","10C:345000",3873,"2021-03-01",0,2.3699999999999999E-2,"10C:345000",null,"Indiana Corporate","345000-Power Operated Equipment",0,-1.1999999999999999E-3]
["2020-11-01","2021-06-01","10C:345000",3873,"2021-04-01",0,2.3699999999999999E-2,"10C:345000",null,"Indiana Corporate","345000-Power Operated Equipment",0,-1.1999999999999999E-3]
["2020-11-01","2021-06-01","10C:345000",3873,"2021-05-01",0,2.3699999999999999E-2,"10C:345000",null,"Indiana Corporate","345000-Power Operated Equipment",0,-1.1999999999999999E-3]
["2020-11-01","2021-06-01","10C:345000",3873,"2021-06-01",0,2.3699999999999999E-2,"10C:345000",null,"Indiana Corporate","345000-Power Operated Equipment",0,-1.1999999999999999E-3]
["2020-11-01","2021-06-01","10C:346000",4563,"2020-11-01",233637.21,6.6699999999999995E-2,"10C:346000",null,"Indiana Corporate","346000-Comm Equip Not Classified",0,0]
["2020-11-01","2021-06-01","10C:346000",4563,"2020-12-01",234229.76000000001,6.6699999999999995E-2,"10C:346000",null,"Indiana Corporate","346000-Comm Equip Not Classified",0,0]
["2020-11-01","2021-06-01","10C:346000",4563,"2021-01-01",234229.76000000001,6.6699999999999995E-2,"10C:346000",null,"Indiana Corporate","346000-Comm Equip Not Classified",0,0]
["2020-11-01","2021-06-01","10C:346000",4563,"2021-02-01",234209.05,6.6699999999999995E-2,"10C:346000",null,"Indiana Corporate","346000-Comm Equip Not Classified",0,0]
["2020-11-01","2021-06-01","10C:346000",4563,"2021-03-01",234209.05,6.6699999999999995E-2,"10C:346000",null,"Indiana Corporate","346000-Comm Equip Not Classified",0,0]
["2020-11-01","2021-06-01","10C:346000",4563,"2021-04-01",234209.05,6.6699999999999995E-2,"10C:346000",null,"Indiana Corporate","346000-Comm Equip Not Classified",0,0]
["2020-11-01","2021-06-01","10C:346000",4563,"2021-05-01",234209.05,6.6699999999999995E-2,"10C:346000",null,"Indiana Corporate","346000-Comm Equip Not Classified",0,0]
["2020-11-01","2021-06-01","10C:346000",4563,"2021-06-01",234209.05,6.6699999999999995E-2,"10C:346000",null,"Indiana Corporate","346000-Comm Equip Not Classified",0,0]
["2020-11-01","2021-06-01","10C:346100",2015,"2020-11-01",129039.62,6.6699999999999995E-2,"10C:346100",null,"Indiana Corporate","346100-Comm Equip Non-Telephone",0,0]
["2020-11-01","2021-06-01","10C:346100",2015,"2020-12-01",129039.62,6.6699999999999995E-2,"10C:346100",null,"Indiana Corporate","346100-Comm Equip Non-Telephone",0,0]
["2020-11-01","2021-06-01","10C:346100",2015,"2021-01-01",135385.63,6.6699999999999995E-2,"10C:346100",null,"Indiana Corporate","346100-Comm Equip Non-Telephone",0,0]
["2020-11-01","2021-06-01","10C:346100",2015,"2021-02-01",135385.63,6.6699999999999995E-2,"10C:346100",null,"Indiana Corporate","346100-Comm Equip Non-Telephone",0,0]
["2020-11-01","2021-06-01","10C:346100",2015,"2021-03-01",175198.82,6.6699999999999995E-2,"10C:346100",null,"Indiana Corporate","346100-Comm Equip Non-Telephone",0,0]
["2020-11-01","2021-06-01","10C:346100",2015,"2021-04-01",185493.62,6.6699999999999995E-2,"10C:346100",null,"Indiana Corporate","346100-Comm Equip Non-Telephone",0,0]
["2020-11-01","2021-06-01","10C:346100",2015,"2021-05-01",185493.62,6.6699999999999995E-2,"10C:346100",null,"Indiana Corporate","346100-Comm Equip Non-Telephone",0,0]
["2020-11-01","2021-06-01","10C:346100",2015,"2021-06-01",185493.62,6.6699999999999995E-2,"10C:346100",null,"Indiana Corporate","346100-Comm Equip Non-Telephone",0,0]
["2020-11-01","2021-06-01","10C:346190",6361,"2020-11-01",29607.86,6.6699999999999995E-2,"10C:346190",null,"Indiana Corporate","346190-Remote Control & Instrument",0,0]
["2020-11-01","2021-06-01","10C:346190",6361,"2020-12-01",29607.86,6.6699999999999995E-2,"10C:346190",null,"Indiana Corporate","346190-Remote Control & Instrument",0,0]
["2020-11-01","2021-06-01","10C:346190",6361,"2021-01-01",29607.86,6.6699999999999995E-2,"10C:346190",null,"Indiana Corporate","346190-Remote Control & Instrument",0,0]
["2020-11-01","2021-06-01","10C:346190",6361,"2021-02-01",29607.86,6.6699999999999995E-2,"10C:346190",null,"Indiana Corporate","346190-Remote Control & Instrument",0,0]
["2020-11-01","2021-06-01","10C:346190",6361,"2021-03-01",21452.66,6.6699999999999995E-2,"10C:346190",null,"Indiana Corporate","346190-Remote Control & Instrument",0,0]
["2020-11-01","2021-06-01","10C:346190",6361,"2021-04-01",21452.66,6.6699999999999995E-2,"10C:346190",null,"Indiana Corporate","346190-Remote Control & Instrument",0,0]
["2020-11-01","2021-06-01","10C:346190",6361,"2021-05-01",21452.66,6.6699999999999995E-2,"10C:346190",null,"Indiana Corporate","346190-Remote Control & Instrument",0,0]
["2020-11-01","2021-06-01","10C:346190",6361,"2021-06-01",21452.66,6.6699999999999995E-2,"10C:346190",null,"Indiana Corporate","346190-Remote Control & Instrument",0,0]
["2020-11-01","2021-06-01","10C:346200",2627,"2020-11-01",54879.99,6.6699999999999995E-2,"10C:346200",null,"Indiana Corporate","346200-Comm Equip Telephone",0,0]
["2020-11-01","2021-06-01","10C:346200",2627,"2020-12-01",73961.13,6.6699999999999995E-2,"10C:346200",null,"Indiana Corporate","346200-Comm Equip Telephone",0,0]
["2020-11-01","2021-06-01","10C:346200",2627,"2021-01-01",73961.13,6.6699999999999995E-2,"10C:346200",null,"Indiana Corporate","346200-Comm Equip Telephone",0,0]
["2020-11-01","2021-06-01","10C:346200",2627,"2021-02-01",73961.13,6.6699999999999995E-2,"10C:346200",null,"Indiana Corporate","346200-Comm Equip Telephone",0,0]
["2020-11-01","2021-06-01","10C:346200",2627,"2021-03-01",73961.13,6.6699999999999995E-2,"10C:346200",null,"Indiana Corporate","346200-Comm Equip Telephone",0,0]
["2020-11-01","2021-06-01","10C:346200",2627,"2021-04-01",73961.13,6.6699999999999995E-2,"10C:346200",null,"Indiana Corporate","346200-Comm Equip Telephone",0,0]
["2020-11-01","2021-06-01","10C:346200",2627,"2021-05-01",73961.13,6.6699999999999995E-2,"10C:346200",null,"Indiana Corporate","346200-Comm Equip Telephone",0,0]
["2020-11-01","2021-06-01","10C:346200",2627,"2021-06-01",73961.13,6.6699999999999995E-2,"10C:346200",null,"Indiana Corporate","346200-Comm Equip Telephone",0,0]
["2020-11-01","2021-06-01","10C:347000",5152,"2020-11-01",76336.990000000005,0.05,"10C:347000",null,"Indiana Corporate","347000-Misc Equipment",0,0]
["2020-11-01","2021-06-01","10C:347000",5152,"2020-12-01",84663.96,0.05,"10C:347000",null,"Indiana Corporate","347000-Misc Equipment",0,0]
["2020-11-01","2021-06-01","10C:347000",5152,"2021-01-01",75954.83,0.05,"10C:347000",null,"Indiana Corporate","347000-Misc Equipment",0,0]
["2020-11-01","2021-06-01","10C:347000",5152,"2021-02-01",75954.83,0.05,"10C:347000",null,"Indiana Corporate","347000-Misc Equipment",0,0]
["2020-11-01","2021-06-01","10C:347000",5152,"2021-03-01",75954.83,0.05,"10C:347000",null,"Indiana Corporate","347000-Misc Equipment",0,0]
["2020-11-01","2021-06-01","10C:347000",5152,"2021-04-01",75954.83,0.05,"10C:347000",null,"Indiana Corporate","347000-Misc Equipment",0,0]
["2020-11-01","2021-06-01","10C:347000",5152,"2021-05-01",75954.83,0.05,"10C:347000",null,"Indiana Corporate","347000-Misc Equipment",0,0]
["2020-11-01","2021-06-01","10C:347000",5152,"2021-06-01",75954.83,0.05,"10C:347000",null,"Indiana Corporate","347000-Misc Equipment",0,0]
["2020-11-01","2021-06-01","10SA01:121100",6362,"2020-11-01",0,0,"10SA01:121100",null,"Indiana Wastewater Area 01","121100-Land",0,0]
["2020-11-01","2021-06-01","10SA01:121100",6362,"2020-12-01",0,0,"10SA01:121100",null,"Indiana Wastewater Area 01","121100-Land",0,0]
["2020-11-01","2021-06-01","10SA01:121100",6362,"2021-01-01",0,0,"10SA01:121100",null,"Indiana Wastewater Area 01","121100-Land",0,0]
["2020-11-01","2021-06-01","10SA01:121100",6362,"2021-02-01",0,0,"10SA01:121100",null,"Indiana Wastewater Area 01","121100-Land",0,0]
["2020-11-01","2021-06-01","10SA01:121100",6362,"2021-03-01",0,0,"10SA01:121100",null,"Indiana Wastewater Area 01","121100-Land",0,0]
["2020-11-01","2021-06-01","10SA01:121100",6362,"2021-04-01",0,0,"10SA01:121100",null,"Indiana Wastewater Area 01","121100-Land",0,0]
["2020-11-01","2021-06-01","10SA01:121100",6362,"2021-05-01",0,0,"10SA01:121100",null,"Indiana Wastewater Area 01","121100-Land",0,0]
["2020-11-01","2021-06-01","10SA01:121100",6362,"2021-06-01",0,0,"10SA01:121100",null,"Indiana Wastewater Area 01","121100-Land",0,0]
["2020-11-01","2021-06-01","10SA01:121200",2628,"2020-11-01",0,0,"10SA01:121200",null,"Indiana Wastewater Area 01","121200-Buildings",0,0]
["2020-11-01","2021-06-01","10SA01:121200",2628,"2020-12-01",0,0,"10SA01:121200",null,"Indiana Wastewater Area 01","121200-Buildings",0,0]
["2020-11-01","2021-06-01","10SA01:121200",2628,"2021-01-01",0,0,"10SA01:121200",null,"Indiana Wastewater Area 01","121200-Buildings",0,0]
["2020-11-01","2021-06-01","10SA01:121200",2628,"2021-02-01",0,0,"10SA01:121200",null,"Indiana Wastewater Area 01","121200-Buildings",0,0]
["2020-11-01","2021-06-01","10SA01:121200",2628,"2021-03-01",0,0,"10SA01:121200",null,"Indiana Wastewater Area 01","121200-Buildings",0,0]
["2020-11-01","2021-06-01","10SA01:121200",2628,"2021-04-01",0,0,"10SA01:121200",null,"Indiana Wastewater Area 01","121200-Buildings",0,0]
["2020-11-01","2021-06-01","10SA01:121200",2628,"2021-05-01",0,0,"10SA01:121200",null,"Indiana Wastewater Area 01","121200-Buildings",0,0]
["2020-11-01","2021-06-01","10SA01:121200",2628,"2021-06-01",0,0,"10SA01:121200",null,"Indiana Wastewater Area 01","121200-Buildings",0,0]
["2020-11-01","2021-06-01","10SA01:121300",2016,"2020-11-01",0,0,"10SA01:121300",null,"Indiana Wastewater Area 01","121300-Capital Lease 5 Year",0,0]
["2020-11-01","2021-06-01","10SA01:121300",2016,"2020-12-01",0,0,"10SA01:121300",null,"Indiana Wastewater Area 01","121300-Capital Lease 5 Year",0,0]
["2020-11-01","2021-06-01","10SA01:121300",2016,"2021-01-01",0,0,"10SA01:121300",null,"Indiana Wastewater Area 01","121300-Capital Lease 5 Year",0,0]
["2020-11-01","2021-06-01","10SA01:121300",2016,"2021-02-01",0,0,"10SA01:121300",null,"Indiana Wastewater Area 01","121300-Capital Lease 5 Year",0,0]
["2020-11-01","2021-06-01","10SA01:121300",2016,"2021-03-01",0,0,"10SA01:121300",null,"Indiana Wastewater Area 01","121300-Capital Lease 5 Year",0,0]
["2020-11-01","2021-06-01","10SA01:121300",2016,"2021-04-01",0,0,"10SA01:121300",null,"Indiana Wastewater Area 01","121300-Capital Lease 5 Year",0,0]
["2020-11-01","2021-06-01","10SA01:121300",2016,"2021-05-01",0,0,"10SA01:121300",null,"Indiana Wastewater Area 01","121300-Capital Lease 5 Year",0,0]
["2020-11-01","2021-06-01","10SA01:121300",2016,"2021-06-01",0,0,"10SA01:121300",null,"Indiana Wastewater Area 01","121300-Capital Lease 5 Year",0,0]
["2020-11-01","2021-06-01","10SA01:121400",3264,"2020-11-01",0,0,"10SA01:121400",null,"Indiana Wastewater Area 01","121400-Lease Improvements",0,0]
["2020-11-01","2021-06-01","10SA01:121400",3264,"2020-12-01",0,0,"10SA01:121400",null,"Indiana Wastewater Area 01","121400-Lease Improvements",0,0]
["2020-11-01","2021-06-01","10SA01:121400",3264,"2021-01-01",0,0,"10SA01:121400",null,"Indiana Wastewater Area 01","121400-Lease Improvements",0,0]
["2020-11-01","2021-06-01","10SA01:121400",3264,"2021-02-01",0,0,"10SA01:121400",null,"Indiana Wastewater Area 01","121400-Lease Improvements",0,0]
["2020-11-01","2021-06-01","10SA01:121400",3264,"2021-03-01",0,0,"10SA01:121400",null,"Indiana Wastewater Area 01","121400-Lease Improvements",0,0]
["2020-11-01","2021-06-01","10SA01:121400",3264,"2021-04-01",0,0,"10SA01:121400",null,"Indiana Wastewater Area 01","121400-Lease Improvements",0,0]
["2020-11-01","2021-06-01","10SA01:121400",3264,"2021-05-01",0,0,"10SA01:121400",null,"Indiana Wastewater Area 01","121400-Lease Improvements",0,0]
["2020-11-01","2021-06-01","10SA01:121400",3264,"2021-06-01",0,0,"10SA01:121400",null,"Indiana Wastewater Area 01","121400-Lease Improvements",0,0]
["2020-11-01","2021-06-01","10SA01:121500",3265,"2020-11-01",0,0,"10SA01:121500",null,"Indiana Wastewater Area 01","121500-Other Equipment -10 Yrs",0,0]
["2020-11-01","2021-06-01","10SA01:121500",3265,"2020-12-01",0,0,"10SA01:121500",null,"Indiana Wastewater Area 01","121500-Other Equipment -10 Yrs",0,0]
["2020-11-01","2021-06-01","10SA01:121500",3265,"2021-01-01",0,0,"10SA01:121500",null,"Indiana Wastewater Area 01","121500-Other Equipment -10 Yrs",0,0]
["2020-11-01","2021-06-01","10SA01:121500",3265,"2021-02-01",0,0,"10SA01:121500",null,"Indiana Wastewater Area 01","121500-Other Equipment -10 Yrs",0,0]
["2020-11-01","2021-06-01","10SA01:121500",3265,"2021-03-01",0,0,"10SA01:121500",null,"Indiana Wastewater Area 01","121500-Other Equipment -10 Yrs",0,0]
["2020-11-01","2021-06-01","10SA01:121500",3265,"2021-04-01",0,0,"10SA01:121500",null,"Indiana Wastewater Area 01","121500-Other Equipment -10 Yrs",0,0]
["2020-11-01","2021-06-01","10SA01:121500",3265,"2021-05-01",0,0,"10SA01:121500",null,"Indiana Wastewater Area 01","121500-Other Equipment -10 Yrs",0,0]
["2020-11-01","2021-06-01","10SA01:121500",3265,"2021-06-01",0,0,"10SA01:121500",null,"Indiana Wastewater Area 01","121500-Other Equipment -10 Yrs",0,0]
["2020-11-01","2021-06-01","10SA01:252 271160",3874,"2020-11-01",0,0,"10SA01:252 271160",null,"Indiana Wastewater Area 01","271160-CIAC-NT Other-WW",0,0]
["2020-11-01","2021-06-01","10SA01:252 271160",3874,"2020-12-01",0,0,"10SA01:252 271160",null,"Indiana Wastewater Area 01","271160-CIAC-NT Other-WW",0,0]
["2020-11-01","2021-06-01","10SA01:252 271160",3874,"2021-01-01",0,0,"10SA01:252 271160",null,"Indiana Wastewater Area 01","271160-CIAC-NT Other-WW",0,0]
["2020-11-01","2021-06-01","10SA01:252 271160",3874,"2021-02-01",0,0,"10SA01:252 271160",null,"Indiana Wastewater Area 01","271160-CIAC-NT Other-WW",0,0]
["2020-11-01","2021-06-01","10SA01:252 271160",3874,"2021-03-01",0,0,"10SA01:252 271160",null,"Indiana Wastewater Area 01","271160-CIAC-NT Other-WW",0,0]
["2020-11-01","2021-06-01","10SA01:252 271160",3874,"2021-04-01",0,0,"10SA01:252 271160",null,"Indiana Wastewater Area 01","271160-CIAC-NT Other-WW",0,0]
["2020-11-01","2021-06-01","10SA01:252 271160",3874,"2021-05-01",0,0,"10SA01:252 271160",null,"Indiana Wastewater Area 01","271160-CIAC-NT Other-WW",0,0]
["2020-11-01","2021-06-01","10SA01:252 271160",3874,"2021-06-01",0,0,"10SA01:252 271160",null,"Indiana Wastewater Area 01","271160-CIAC-NT Other-WW",0,0]
["2020-11-01","2021-06-01","10SA01:271160",3875,"2020-11-01",-136680.26,2.6100000000000002E-2,"10SA01:271160",null,"Indiana Wastewater Area 01","271160-CIAC-NT Other-WW",0,0]
["2020-11-01","2021-06-01","10SA01:271160",3875,"2020-12-01",-136680.26,2.6100000000000002E-2,"10SA01:271160",null,"Indiana Wastewater Area 01","271160-CIAC-NT Other-WW",0,0]
["2020-11-01","2021-06-01","10SA01:271160",3875,"2021-01-01",-136680.26,2.6100000000000002E-2,"10SA01:271160",null,"Indiana Wastewater Area 01","271160-CIAC-NT Other-WW",0,0]
["2020-11-01","2021-06-01","10SA01:271160",3875,"2021-02-01",-136680.26,2.6100000000000002E-2,"10SA01:271160",null,"Indiana Wastewater Area 01","271160-CIAC-NT Other-WW",0,0]
["2020-11-01","2021-06-01","10SA01:271160",3875,"2021-03-01",-136680.26,2.6100000000000002E-2,"10SA01:271160",null,"Indiana Wastewater Area 01","271160-CIAC-NT Other-WW",0,0]
["2020-11-01","2021-06-01","10SA01:271160",3875,"2021-04-01",-136680.26,2.6100000000000002E-2,"10SA01:271160",null,"Indiana Wastewater Area 01","271160-CIAC-NT Other-WW",0,0]
["2020-11-01","2021-06-01","10SA01:271160",3875,"2021-05-01",-136680.26,2.6100000000000002E-2,"10SA01:271160",null,"Indiana Wastewater Area 01","271160-CIAC-NT Other-WW",0,0]
["2020-11-01","2021-06-01","10SA01:271160",3875,"2021-06-01",-136680.26,2.6100000000000002E-2,"10SA01:271160",null,"Indiana Wastewater Area 01","271160-CIAC-NT Other-WW",0,0]
["2020-11-01","2021-06-01","10SA01:252 271260",2629,"2020-11-01",0,0,"10SA01:252 271260",null,"Indiana Wastewater Area 01","271260-CIAC-Tax Other-WW",0,0]
["2020-11-01","2021-06-01","10SA01:252 271260",2629,"2020-12-01",0,0,"10SA01:252 271260",null,"Indiana Wastewater Area 01","271260-CIAC-Tax Other-WW",0,0]
["2020-11-01","2021-06-01","10SA01:252 271260",2629,"2021-01-01",0,0,"10SA01:252 271260",null,"Indiana Wastewater Area 01","271260-CIAC-Tax Other-WW",0,0]
["2020-11-01","2021-06-01","10SA01:252 271260",2629,"2021-02-01",0,0,"10SA01:252 271260",null,"Indiana Wastewater Area 01","271260-CIAC-Tax Other-WW",0,0]
["2020-11-01","2021-06-01","10SA01:252 271260",2629,"2021-03-01",0,0,"10SA01:252 271260",null,"Indiana Wastewater Area 01","271260-CIAC-Tax Other-WW",0,0]
["2020-11-01","2021-06-01","10SA01:252 271260",2629,"2021-04-01",0,0,"10SA01:252 271260",null,"Indiana Wastewater Area 01","271260-CIAC-Tax Other-WW",0,0]
["2020-11-01","2021-06-01","10SA01:252 271260",2629,"2021-05-01",0,0,"10SA01:252 271260",null,"Indiana Wastewater Area 01","271260-CIAC-Tax Other-WW",0,0]
["2020-11-01","2021-06-01","10SA01:252 271260",2629,"2021-06-01",0,0,"10SA01:252 271260",null,"Indiana Wastewater Area 01","271260-CIAC-Tax Other-WW",0,0]
["2020-11-01","2021-06-01","10SA01:271260",5153,"2020-11-01",-1480.14,2.6100000000000002E-2,"10SA01:271260",null,"Indiana Wastewater Area 01","271260-CIAC-Tax Other-WW",0,0]
["2020-11-01","2021-06-01","10SA01:271260",5153,"2020-12-01",-1480.14,2.6100000000000002E-2,"10SA01:271260",null,"Indiana Wastewater Area 01","271260-CIAC-Tax Other-WW",0,0]
["2020-11-01","2021-06-01","10SA01:271260",5153,"2021-01-01",-1480.14,2.6100000000000002E-2,"10SA01:271260",null,"Indiana Wastewater Area 01","271260-CIAC-Tax Other-WW",0,0]
["2020-11-01","2021-06-01","10SA01:271260",5153,"2021-02-01",-1480.14,2.6100000000000002E-2,"10SA01:271260",null,"Indiana Wastewater Area 01","271260-CIAC-Tax Other-WW",0,0]
["2020-11-01","2021-06-01","10SA01:271260",5153,"2021-03-01",-1480.14,2.6100000000000002E-2,"10SA01:271260",null,"Indiana Wastewater Area 01","271260-CIAC-Tax Other-WW",0,0]
["2020-11-01","2021-06-01","10SA01:271260",5153,"2021-04-01",-1480.14,2.6100000000000002E-2,"10SA01:271260",null,"Indiana Wastewater Area 01","271260-CIAC-Tax Other-WW",0,0]
["2020-11-01","2021-06-01","10SA01:271260",5153,"2021-05-01",-1480.14,2.6100000000000002E-2,"10SA01:271260",null,"Indiana Wastewater Area 01","271260-CIAC-Tax Other-WW",0,0]
["2020-11-01","2021-06-01","10SA01:271260",5153,"2021-06-01",-1480.14,2.6100000000000002E-2,"10SA01:271260",null,"Indiana Wastewater Area 01","271260-CIAC-Tax Other-WW",0,0]
["2020-11-01","2021-06-01","10SA01:252 271460",5736,"2020-11-01",0,0,"10SA01:252 271460",null,"Indiana Wastewater Area 01","271460-CIAC-Tax Other FIT-WW",0,0]
["2020-11-01","2021-06-01","10SA01:252 271460",5736,"2020-12-01",0,0,"10SA01:252 271460",null,"Indiana Wastewater Area 01","271460-CIAC-Tax Other FIT-WW",0,0]
["2020-11-01","2021-06-01","10SA01:252 271460",5736,"2021-01-01",0,0,"10SA01:252 271460",null,"Indiana Wastewater Area 01","271460-CIAC-Tax Other FIT-WW",0,0]
["2020-11-01","2021-06-01","10SA01:252 271460",5736,"2021-02-01",0,0,"10SA01:252 271460",null,"Indiana Wastewater Area 01","271460-CIAC-Tax Other FIT-WW",0,0]
["2020-11-01","2021-06-01","10SA01:252 271460",5736,"2021-03-01",0,0,"10SA01:252 271460",null,"Indiana Wastewater Area 01","271460-CIAC-Tax Other FIT-WW",0,0]
["2020-11-01","2021-06-01","10SA01:252 271460",5736,"2021-04-01",0,0,"10SA01:252 271460",null,"Indiana Wastewater Area 01","271460-CIAC-Tax Other FIT-WW",0,0]
["2020-11-01","2021-06-01","10SA01:252 271460",5736,"2021-05-01",0,0,"10SA01:252 271460",null,"Indiana Wastewater Area 01","271460-CIAC-Tax Other FIT-WW",0,0]
["2020-11-01","2021-06-01","10SA01:252 271460",5736,"2021-06-01",0,0,"10SA01:252 271460",null,"Indiana Wastewater Area 01","271460-CIAC-Tax Other FIT-WW",0,0]
["2020-11-01","2021-06-01","10SA01:271460",5154,"2020-11-01",0,2.6100000000000002E-2,"10SA01:271460",null,"Indiana Wastewater Area 01","271460-CIAC-Tax Other FIT-WW",0,0]
["2020-11-01","2021-06-01","10SA01:271460",5154,"2020-12-01",0,2.6100000000000002E-2,"10SA01:271460",null,"Indiana Wastewater Area 01","271460-CIAC-Tax Other FIT-WW",0,0]
["2020-11-01","2021-06-01","10SA01:271460",5154,"2021-01-01",0,2.6100000000000002E-2,"10SA01:271460",null,"Indiana Wastewater Area 01","271460-CIAC-Tax Other FIT-WW",0,0]
["2020-11-01","2021-06-01","10SA01:271460",5154,"2021-02-01",0,2.6100000000000002E-2,"10SA01:271460",null,"Indiana Wastewater Area 01","271460-CIAC-Tax Other FIT-WW",0,0]
["2020-11-01","2021-06-01","10SA01:271460",5154,"2021-03-01",0,2.6100000000000002E-2,"10SA01:271460",null,"Indiana Wastewater Area 01","271460-CIAC-Tax Other FIT-WW",0,0]
["2020-11-01","2021-06-01","10SA01:271460",5154,"2021-04-01",0,2.6100000000000002E-2,"10SA01:271460",null,"Indiana Wastewater Area 01","271460-CIAC-Tax Other FIT-WW",0,0]
["2020-11-01","2021-06-01","10SA01:271460",5154,"2021-05-01",0,2.6100000000000002E-2,"10SA01:271460",null,"Indiana Wastewater Area 01","271460-CIAC-Tax Other FIT-WW",0,0]
["2020-11-01","2021-06-01","10SA01:271460",5154,"2021-06-01",0,2.6100000000000002E-2,"10SA01:271460",null,"Indiana Wastewater Area 01","271460-CIAC-Tax Other FIT-WW",0,0]
["2020-11-01","2021-06-01","10SA01:353200",5155,"2020-11-01",631,0,"10SA01:353200",null,"Indiana Wastewater Area 01","353200-WW Land & Ld Rights Collect",0,0]
["2020-11-01","2021-06-01","10SA01:353200",5155,"2020-12-01",631,0,"10SA01:353200",null,"Indiana Wastewater Area 01","353200-WW Land & Ld Rights Collect",0,0]
["2020-11-01","2021-06-01","10SA01:353200",5155,"2021-01-01",631,0,"10SA01:353200",null,"Indiana Wastewater Area 01","353200-WW Land & Ld Rights Collect",0,0]
["2020-11-01","2021-06-01","10SA01:353200",5155,"2021-02-01",631,0,"10SA01:353200",null,"Indiana Wastewater Area 01","353200-WW Land & Ld Rights Collect",0,0]
["2020-11-01","2021-06-01","10SA01:353200",5155,"2021-03-01",631,0,"10SA01:353200",null,"Indiana Wastewater Area 01","353200-WW Land & Ld Rights Collect",0,0]
["2020-11-01","2021-06-01","10SA01:353200",5155,"2021-04-01",631,0,"10SA01:353200",null,"Indiana Wastewater Area 01","353200-WW Land & Ld Rights Collect",0,0]
["2020-11-01","2021-06-01","10SA01:353200",5155,"2021-05-01",631,0,"10SA01:353200",null,"Indiana Wastewater Area 01","353200-WW Land & Ld Rights Collect",0,0]
["2020-11-01","2021-06-01","10SA01:353200",5155,"2021-06-01",631,0,"10SA01:353200",null,"Indiana Wastewater Area 01","353200-WW Land & Ld Rights Collect",0,0]
["2020-11-01","2021-06-01","10SA01:353400",4549,"2020-11-01",15350.08,0,"10SA01:353400",null,"Indiana Wastewater Area 01","353400-WW Land & Ld Rights Treatmnt",0,0]
["2020-11-01","2021-06-01","10SA01:353400",4549,"2020-12-01",15350.08,0,"10SA01:353400",null,"Indiana Wastewater Area 01","353400-WW Land & Ld Rights Treatmnt",0,0]
["2020-11-01","2021-06-01","10SA01:353400",4549,"2021-01-01",15350.08,0,"10SA01:353400",null,"Indiana Wastewater Area 01","353400-WW Land & Ld Rights Treatmnt",0,0]
["2020-11-01","2021-06-01","10SA01:353400",4549,"2021-02-01",15350.08,0,"10SA01:353400",null,"Indiana Wastewater Area 01","353400-WW Land & Ld Rights Treatmnt",0,0]
["2020-11-01","2021-06-01","10SA01:353400",4549,"2021-03-01",8734.08,0,"10SA01:353400",null,"Indiana Wastewater Area 01","353400-WW Land & Ld Rights Treatmnt",0,0]
["2020-11-01","2021-06-01","10SA01:353400",4549,"2021-04-01",8734.08,0,"10SA01:353400",null,"Indiana Wastewater Area 01","353400-WW Land & Ld Rights Treatmnt",0,0]
["2020-11-01","2021-06-01","10SA01:353400",4549,"2021-05-01",8734.08,0,"10SA01:353400",null,"Indiana Wastewater Area 01","353400-WW Land & Ld Rights Treatmnt",0,0]
["2020-11-01","2021-06-01","10SA01:353400",4549,"2021-06-01",190588.84,0,"10SA01:353400",null,"Indiana Wastewater Area 01","353400-WW Land & Ld Rights Treatmnt",0,0]
["2020-11-01","2021-06-01","10SA01:354200",3852,"2020-11-01",310046.33,2.0899999999999998E-2,"10SA01:354200",null,"Indiana Wastewater Area 01","354200-WW Struct & Imp Collection",5.1999999999999998E-3,0]
["2020-11-01","2021-06-01","10SA01:354200",3852,"2020-12-01",314564.58,2.0899999999999998E-2,"10SA01:354200",null,"Indiana Wastewater Area 01","354200-WW Struct & Imp Collection",5.1999999999999998E-3,0]
["2020-11-01","2021-06-01","10SA01:354200",3852,"2021-01-01",330692.88,2.0899999999999998E-2,"10SA01:354200",null,"Indiana Wastewater Area 01","354200-WW Struct & Imp Collection",5.1999999999999998E-3,0]
["2020-11-01","2021-06-01","10SA01:354200",3852,"2021-02-01",330688.58,2.0899999999999998E-2,"10SA01:354200",null,"Indiana Wastewater Area 01","354200-WW Struct & Imp Collection",5.1999999999999998E-3,0]
["2020-11-01","2021-06-01","10SA01:354200",3852,"2021-03-01",177051.76,2.0899999999999998E-2,"10SA01:354200",null,"Indiana Wastewater Area 01","354200-WW Struct & Imp Collection",5.1999999999999998E-3,0]
["2020-11-01","2021-06-01","10SA01:354200",3852,"2021-04-01",177051.76,2.0899999999999998E-2,"10SA01:354200",null,"Indiana Wastewater Area 01","354200-WW Struct & Imp Collection",5.1999999999999998E-3,0]
["2020-11-01","2021-06-01","10SA01:354200",3852,"2021-05-01",177051.76,2.0899999999999998E-2,"10SA01:354200",null,"Indiana Wastewater Area 01","354200-WW Struct & Imp Collection",5.1999999999999998E-3,0]
["2020-11-01","2021-06-01","10SA01:354200",3852,"2021-06-01",230850.52,2.0899999999999998E-2,"10SA01:354200",null,"Indiana Wastewater Area 01","354200-WW Struct & Imp Collection",5.1999999999999998E-3,0]
["2020-11-01","2021-06-01","10SA01:354400",5146,"2020-11-01",2457840.94,2.5000000000000001E-2,"10SA01:354400",null,"Indiana Wastewater Area 01","354400-WW Struct & Imp Treatment",6.3E-3,0]
["2020-11-01","2021-06-01","10SA01:354400",5146,"2020-12-01",2457840.94,2.5000000000000001E-2,"10SA01:354400",null,"Indiana Wastewater Area 01","354400-WW Struct & Imp Treatment",6.3E-3,0]
["2020-11-01","2021-06-01","10SA01:354400",5146,"2021-01-01",2457840.94,2.5000000000000001E-2,"10SA01:354400",null,"Indiana Wastewater Area 01","354400-WW Struct & Imp Treatment",6.3E-3,0]
["2020-11-01","2021-06-01","10SA01:354400",5146,"2021-02-01",2457840.94,2.5000000000000001E-2,"10SA01:354400",null,"Indiana Wastewater Area 01","354400-WW Struct & Imp Treatment",6.3E-3,0]
["2020-11-01","2021-06-01","10SA01:354400",5146,"2021-03-01",748631.49,2.5000000000000001E-2,"10SA01:354400",null,"Indiana Wastewater Area 01","354400-WW Struct & Imp Treatment",6.3E-3,0]
["2020-11-01","2021-06-01","10SA01:354400",5146,"2021-04-01",748631.49,2.5000000000000001E-2,"10SA01:354400",null,"Indiana Wastewater Area 01","354400-WW Struct & Imp Treatment",6.3E-3,0]
["2020-11-01","2021-06-01","10SA01:354400",5146,"2021-05-01",748631.49,2.5000000000000001E-2,"10SA01:354400",null,"Indiana Wastewater Area 01","354400-WW Struct & Imp Treatment",6.3E-3,0]
["2020-11-01","2021-06-01","10SA01:354400",5146,"2021-06-01",1960996.49,2.5000000000000001E-2,"10SA01:354400",null,"Indiana Wastewater Area 01","354400-WW Struct & Imp Treatment",6.3E-3,0]
["2020-11-01","2021-06-01","10SA01:354500",3254,"2020-11-01",121208.19,2.06E-2,"10SA01:354500",null,"Indiana Wastewater Area 01","354500-WW Struct & Imp General",5.1000000000000004E-3,0]
["2020-11-01","2021-06-01","10SA01:354500",3254,"2020-12-01",121208.19,2.06E-2,"10SA01:354500",null,"Indiana Wastewater Area 01","354500-WW Struct & Imp General",5.1000000000000004E-3,0]
["2020-11-01","2021-06-01","10SA01:354500",3254,"2021-01-01",121208.19,2.06E-2,"10SA01:354500",null,"Indiana Wastewater Area 01","354500-WW Struct & Imp General",5.1000000000000004E-3,0]
["2020-11-01","2021-06-01","10SA01:354500",3254,"2021-02-01",121208.19,2.06E-2,"10SA01:354500",null,"Indiana Wastewater Area 01","354500-WW Struct & Imp General",5.1000000000000004E-3,0]
["2020-11-01","2021-06-01","10SA01:354500",3254,"2021-03-01",121208.19,2.06E-2,"10SA01:354500",null,"Indiana Wastewater Area 01","354500-WW Struct & Imp General",5.1000000000000004E-3,0]
["2020-11-01","2021-06-01","10SA01:354500",3254,"2021-04-01",121208.19,2.06E-2,"10SA01:354500",null,"Indiana Wastewater Area 01","354500-WW Struct & Imp General",5.1000000000000004E-3,0]
["2020-11-01","2021-06-01","10SA01:354500",3254,"2021-05-01",121208.19,2.06E-2,"10SA01:354500",null,"Indiana Wastewater Area 01","354500-WW Struct & Imp General",5.1000000000000004E-3,0]
["2020-11-01","2021-06-01","10SA01:354500",3254,"2021-06-01",121208.19,2.06E-2,"10SA01:354500",null,"Indiana Wastewater Area 01","354500-WW Struct & Imp General",5.1000000000000004E-3,0]
["2020-11-01","2021-06-01","10SA01:355400",6349,"2020-11-01",110616.75,3.1600000000000003E-2,"10SA01:355400",null,"Indiana Wastewater Area 01","355400-WW Pwr Gen Equip Treatment",0,0]
["2020-11-01","2021-06-01","10SA01:355400",6349,"2020-12-01",110616.75,3.1600000000000003E-2,"10SA01:355400",null,"Indiana Wastewater Area 01","355400-WW Pwr Gen Equip Treatment",0,0]
["2020-11-01","2021-06-01","10SA01:355400",6349,"2021-01-01",110616.75,3.1600000000000003E-2,"10SA01:355400",null,"Indiana Wastewater Area 01","355400-WW Pwr Gen Equip Treatment",0,0]
["2020-11-01","2021-06-01","10SA01:355400",6349,"2021-02-01",110616.75,3.1600000000000003E-2,"10SA01:355400",null,"Indiana Wastewater Area 01","355400-WW Pwr Gen Equip Treatment",0,0]
["2020-11-01","2021-06-01","10SA01:355400",6349,"2021-03-01",50717.75,3.1600000000000003E-2,"10SA01:355400",null,"Indiana Wastewater Area 01","355400-WW Pwr Gen Equip Treatment",0,0]
["2020-11-01","2021-06-01","10SA01:355400",6349,"2021-04-01",50717.75,3.1600000000000003E-2,"10SA01:355400",null,"Indiana Wastewater Area 01","355400-WW Pwr Gen Equip Treatment",0,0]
["2020-11-01","2021-06-01","10SA01:355400",6349,"2021-05-01",50717.75,3.1600000000000003E-2,"10SA01:355400",null,"Indiana Wastewater Area 01","355400-WW Pwr Gen Equip Treatment",0,0]
["2020-11-01","2021-06-01","10SA01:355400",6349,"2021-06-01",50717.75,3.1600000000000003E-2,"10SA01:355400",null,"Indiana Wastewater Area 01","355400-WW Pwr Gen Equip Treatment",0,0]
["2020-11-01","2021-06-01","10SA01:355500",3853,"2020-11-01",46337.47,3.1600000000000003E-2,"10SA01:355500",null,"Indiana Wastewater Area 01","355500-WW Pwr Gen Equip RWTP",0,0]
["2020-11-01","2021-06-01","10SA01:355500",3853,"2020-12-01",46337.47,3.1600000000000003E-2,"10SA01:355500",null,"Indiana Wastewater Area 01","355500-WW Pwr Gen Equip RWTP",0,0]
["2020-11-01","2021-06-01","10SA01:355500",3853,"2021-01-01",46337.47,3.1600000000000003E-2,"10SA01:355500",null,"Indiana Wastewater Area 01","355500-WW Pwr Gen Equip RWTP",0,0]
["2020-11-01","2021-06-01","10SA01:355500",3853,"2021-02-01",46337.47,3.1600000000000003E-2,"10SA01:355500",null,"Indiana Wastewater Area 01","355500-WW Pwr Gen Equip RWTP",0,0]
["2020-11-01","2021-06-01","10SA01:355500",3853,"2021-03-01",46337.47,3.1600000000000003E-2,"10SA01:355500",null,"Indiana Wastewater Area 01","355500-WW Pwr Gen Equip RWTP",0,0]
["2020-11-01","2021-06-01","10SA01:355500",3853,"2021-04-01",46337.47,3.1600000000000003E-2,"10SA01:355500",null,"Indiana Wastewater Area 01","355500-WW Pwr Gen Equip RWTP",0,0]
["2020-11-01","2021-06-01","10SA01:355500",3853,"2021-05-01",46337.47,3.1600000000000003E-2,"10SA01:355500",null,"Indiana Wastewater Area 01","355500-WW Pwr Gen Equip RWTP",0,0]
["2020-11-01","2021-06-01","10SA01:355500",3853,"2021-06-01",46337.47,3.1600000000000003E-2,"10SA01:355500",null,"Indiana Wastewater Area 01","355500-WW Pwr Gen Equip RWTP",0,0]
["2020-11-01","2021-06-01","10SA01:361100",3854,"2020-11-01",3198474.29,2.63E-2,"10SA01:361100",null,"Indiana Wastewater Area 01","361100-WW Collecting Mains",1.9699999999999999E-2,0]
["2020-11-01","2021-06-01","10SA01:361100",3854,"2020-12-01",3198474.29,2.63E-2,"10SA01:361100",null,"Indiana Wastewater Area 01","361100-WW Collecting Mains",1.9699999999999999E-2,0]
["2020-11-01","2021-06-01","10SA01:361100",3854,"2021-01-01",3198474.29,2.63E-2,"10SA01:361100",null,"Indiana Wastewater Area 01","361100-WW Collecting Mains",1.9699999999999999E-2,0]
["2020-11-01","2021-06-01","10SA01:361100",3854,"2021-02-01",3198474.29,2.63E-2,"10SA01:361100",null,"Indiana Wastewater Area 01","361100-WW Collecting Mains",1.9699999999999999E-2,0]
["2020-11-01","2021-06-01","10SA01:361100",3854,"2021-03-01",1622573.79,2.63E-2,"10SA01:361100",null,"Indiana Wastewater Area 01","361100-WW Collecting Mains",1.9699999999999999E-2,0]
["2020-11-01","2021-06-01","10SA01:361100",3854,"2021-04-01",1626940.91,2.63E-2,"10SA01:361100",null,"Indiana Wastewater Area 01","361100-WW Collecting Mains",1.9699999999999999E-2,0]
["2020-11-01","2021-06-01","10SA01:361100",3854,"2021-05-01",1626940.91,2.63E-2,"10SA01:361100",null,"Indiana Wastewater Area 01","361100-WW Collecting Mains",1.9699999999999999E-2,0]
["2020-11-01","2021-06-01","10SA01:361100",3854,"2021-06-01",1626940.91,2.63E-2,"10SA01:361100",null,"Indiana Wastewater Area 01","361100-WW Collecting Mains",1.9699999999999999E-2,0]
["2020-11-01","2021-06-01","10SA01:361101",5627,"2020-11-01",1288793.57,2.63E-2,"10SA01:361101",null,"Indiana Wastewater Area 01","361101-WW Collecting Mains Other",1.9699999999999999E-2,0]
["2020-11-01","2021-06-01","10SA01:361101",5627,"2020-12-01",1288793.57,2.63E-2,"10SA01:361101",null,"Indiana Wastewater Area 01","361101-WW Collecting Mains Other",1.9699999999999999E-2,0]
["2020-11-01","2021-06-01","10SA01:361101",5627,"2021-01-01",1288793.57,2.63E-2,"10SA01:361101",null,"Indiana Wastewater Area 01","361101-WW Collecting Mains Other",1.9699999999999999E-2,0]
["2020-11-01","2021-06-01","10SA01:361101",5627,"2021-02-01",1288793.57,2.63E-2,"10SA01:361101",null,"Indiana Wastewater Area 01","361101-WW Collecting Mains Other",1.9699999999999999E-2,0]
["2020-11-01","2021-06-01","10SA01:361101",5627,"2021-03-01",530427.56999999995,2.63E-2,"10SA01:361101",null,"Indiana Wastewater Area 01","361101-WW Collecting Mains Other",1.9699999999999999E-2,0]
["2020-11-01","2021-06-01","10SA01:361101",5627,"2021-04-01",530427.56999999995,2.63E-2,"10SA01:361101",null,"Indiana Wastewater Area 01","361101-WW Collecting Mains Other",1.9699999999999999E-2,0]
["2020-11-01","2021-06-01","10SA01:361101",5627,"2021-05-01",530427.56999999995,2.63E-2,"10SA01:361101",null,"Indiana Wastewater Area 01","361101-WW Collecting Mains Other",1.9699999999999999E-2,0]
["2020-11-01","2021-06-01","10SA01:361101",5627,"2021-06-01",530427.56999999995,2.63E-2,"10SA01:361101",null,"Indiana Wastewater Area 01","361101-WW Collecting Mains Other",1.9699999999999999E-2,0]
["2020-11-01","2021-06-01","10SA01:363000",3855,"2020-11-01",18320.34,2.1399999999999999E-2,"10SA01:363000",null,"Indiana Wastewater Area 01","363000-WW Services Sewer",5.3E-3,0]
["2020-11-01","2021-06-01","10SA01:363000",3855,"2020-12-01",18320.34,2.1399999999999999E-2,"10SA01:363000",null,"Indiana Wastewater Area 01","363000-WW Services Sewer",5.3E-3,0]
["2020-11-01","2021-06-01","10SA01:363000",3855,"2021-01-01",18320.34,2.1399999999999999E-2,"10SA01:363000",null,"Indiana Wastewater Area 01","363000-WW Services Sewer",5.3E-3,0]
["2020-11-01","2021-06-01","10SA01:363000",3855,"2021-02-01",18320.34,2.1399999999999999E-2,"10SA01:363000",null,"Indiana Wastewater Area 01","363000-WW Services Sewer",5.3E-3,0]
["2020-11-01","2021-06-01","10SA01:363000",3855,"2021-03-01",18320.34,2.1399999999999999E-2,"10SA01:363000",null,"Indiana Wastewater Area 01","363000-WW Services Sewer",5.3E-3,0]
["2020-11-01","2021-06-01","10SA01:363000",3855,"2021-04-01",18320.34,2.1399999999999999E-2,"10SA01:363000",null,"Indiana Wastewater Area 01","363000-WW Services Sewer",5.3E-3,0]
["2020-11-01","2021-06-01","10SA01:363000",3855,"2021-05-01",18320.34,2.1399999999999999E-2,"10SA01:363000",null,"Indiana Wastewater Area 01","363000-WW Services Sewer",5.3E-3,0]
["2020-11-01","2021-06-01","10SA01:363000",3855,"2021-06-01",22432.6,2.1399999999999999E-2,"10SA01:363000",null,"Indiana Wastewater Area 01","363000-WW Services Sewer",5.3E-3,0]
["2020-11-01","2021-06-01","10SA01:364000",5727,"2020-11-01",63420.32,5.0500000000000003E-2,"10SA01:364000",null,"Indiana Wastewater Area 01","364000-WW Flow Measuring Devices",0,0]
["2020-11-01","2021-06-01","10SA01:364000",5727,"2020-12-01",63420.32,5.0500000000000003E-2,"10SA01:364000",null,"Indiana Wastewater Area 01","364000-WW Flow Measuring Devices",0,0]
["2020-11-01","2021-06-01","10SA01:364000",5727,"2021-01-01",63420.32,5.0500000000000003E-2,"10SA01:364000",null,"Indiana Wastewater Area 01","364000-WW Flow Measuring Devices",0,0]
["2020-11-01","2021-06-01","10SA01:364000",5727,"2021-02-01",63420.32,5.0500000000000003E-2,"10SA01:364000",null,"Indiana Wastewater Area 01","364000-WW Flow Measuring Devices",0,0]
["2020-11-01","2021-06-01","10SA01:364000",5727,"2021-03-01",63420.32,5.0500000000000003E-2,"10SA01:364000",null,"Indiana Wastewater Area 01","364000-WW Flow Measuring Devices",0,0]
["2020-11-01","2021-06-01","10SA01:364000",5727,"2021-04-01",63420.32,5.0500000000000003E-2,"10SA01:364000",null,"Indiana Wastewater Area 01","364000-WW Flow Measuring Devices",0,0]
["2020-11-01","2021-06-01","10SA01:364000",5727,"2021-05-01",63420.32,5.0500000000000003E-2,"10SA01:364000",null,"Indiana Wastewater Area 01","364000-WW Flow Measuring Devices",0,0]
["2020-11-01","2021-06-01","10SA01:364000",5727,"2021-06-01",63420.32,5.0500000000000003E-2,"10SA01:364000",null,"Indiana Wastewater Area 01","364000-WW Flow Measuring Devices",0,0]
["2020-11-01","2021-06-01","10SA01:371100",6350,"2020-11-01",121791.98,3.3599999999999998E-2,"10SA01:371100",null,"Indiana Wastewater Area 01","371100-WW Pump Equip Elect",3.3999999999999998E-3,0]
["2020-11-01","2021-06-01","10SA01:371100",6350,"2020-12-01",121791.98,3.3599999999999998E-2,"10SA01:371100",null,"Indiana Wastewater Area 01","371100-WW Pump Equip Elect",3.3999999999999998E-3,0]
["2020-11-01","2021-06-01","10SA01:371100",6350,"2021-01-01",121791.98,3.3599999999999998E-2,"10SA01:371100",null,"Indiana Wastewater Area 01","371100-WW Pump Equip Elect",3.3999999999999998E-3,0]
["2020-11-01","2021-06-01","10SA01:371100",6350,"2021-02-01",131252.88,3.3599999999999998E-2,"10SA01:371100",null,"Indiana Wastewater Area 01","371100-WW Pump Equip Elect",3.3999999999999998E-3,0]
["2020-11-01","2021-06-01","10SA01:371100",6350,"2021-03-01",131252.88,3.3599999999999998E-2,"10SA01:371100",null,"Indiana Wastewater Area 01","371100-WW Pump Equip Elect",3.3999999999999998E-3,0]
["2020-11-01","2021-06-01","10SA01:371100",6350,"2021-04-01",131252.88,3.3599999999999998E-2,"10SA01:371100",null,"Indiana Wastewater Area 01","371100-WW Pump Equip Elect",3.3999999999999998E-3,0]
["2020-11-01","2021-06-01","10SA01:371100",6350,"2021-05-01",131252.88,3.3599999999999998E-2,"10SA01:371100",null,"Indiana Wastewater Area 01","371100-WW Pump Equip Elect",3.3999999999999998E-3,0]
["2020-11-01","2021-06-01","10SA01:371100",6350,"2021-06-01",131252.88,3.3599999999999998E-2,"10SA01:371100",null,"Indiana Wastewater Area 01","371100-WW Pump Equip Elect",3.3999999999999998E-3,0]
["2020-11-01","2021-06-01","10SA01:371200",2001,"2020-11-01",158400.32999999999,2.7199999999999998E-2,"10SA01:371200",null,"Indiana Wastewater Area 01","371200-WW Pump Equip Oth Pwr",0,0]
["2020-11-01","2021-06-01","10SA01:371200",2001,"2020-12-01",158400.32999999999,2.7199999999999998E-2,"10SA01:371200",null,"Indiana Wastewater Area 01","371200-WW Pump Equip Oth Pwr",0,0]
["2020-11-01","2021-06-01","10SA01:371200",2001,"2021-01-01",158400.32999999999,2.7199999999999998E-2,"10SA01:371200",null,"Indiana Wastewater Area 01","371200-WW Pump Equip Oth Pwr",0,0]
["2020-11-01","2021-06-01","10SA01:371200",2001,"2021-02-01",158400.32999999999,2.7199999999999998E-2,"10SA01:371200",null,"Indiana Wastewater Area 01","371200-WW Pump Equip Oth Pwr",0,0]
["2020-11-01","2021-06-01","10SA01:371200",2001,"2021-03-01",1166.46,2.7199999999999998E-2,"10SA01:371200",null,"Indiana Wastewater Area 01","371200-WW Pump Equip Oth Pwr",0,0]
["2020-11-01","2021-06-01","10SA01:371200",2001,"2021-04-01",1166.46,2.7199999999999998E-2,"10SA01:371200",null,"Indiana Wastewater Area 01","371200-WW Pump Equip Oth Pwr",0,0]
["2020-11-01","2021-06-01","10SA01:371200",2001,"2021-05-01",1166.46,2.7199999999999998E-2,"10SA01:371200",null,"Indiana Wastewater Area 01","371200-WW Pump Equip Oth Pwr",0,0]
["2020-11-01","2021-06-01","10SA01:371200",2001,"2021-06-01",1166.46,2.7199999999999998E-2,"10SA01:371200",null,"Indiana Wastewater Area 01","371200-WW Pump Equip Oth Pwr",0,0]
["2020-11-01","2021-06-01","10SA01:380450",3255,"2020-11-01",64185.22,5.8200000000000002E-2,"10SA01:380450",null,"Indiana Wastewater Area 01","380450-WW TD Equip Oth Sew Rem",1.1599999999999999E-2,0]
["2020-11-01","2021-06-01","10SA01:380450",3255,"2020-12-01",64185.22,5.8200000000000002E-2,"10SA01:380450",null,"Indiana Wastewater Area 01","380450-WW TD Equip Oth Sew Rem",1.1599999999999999E-2,0]
["2020-11-01","2021-06-01","10SA01:380450",3255,"2021-01-01",64185.22,5.8200000000000002E-2,"10SA01:380450",null,"Indiana Wastewater Area 01","380450-WW TD Equip Oth Sew Rem",1.1599999999999999E-2,0]
["2020-11-01","2021-06-01","10SA01:380450",3255,"2021-02-01",64185.22,5.8200000000000002E-2,"10SA01:380450",null,"Indiana Wastewater Area 01","380450-WW TD Equip Oth Sew Rem",1.1599999999999999E-2,0]
["2020-11-01","2021-06-01","10SA01:380450",3255,"2021-03-01",64185.22,5.8200000000000002E-2,"10SA01:380450",null,"Indiana Wastewater Area 01","380450-WW TD Equip Oth Sew Rem",1.1599999999999999E-2,0]
["2020-11-01","2021-06-01","10SA01:380450",3255,"2021-04-01",64185.22,5.8200000000000002E-2,"10SA01:380450",null,"Indiana Wastewater Area 01","380450-WW TD Equip Oth Sew Rem",1.1599999999999999E-2,0]
["2020-11-01","2021-06-01","10SA01:380450",3255,"2021-05-01",64185.22,5.8200000000000002E-2,"10SA01:380450",null,"Indiana Wastewater Area 01","380450-WW TD Equip Oth Sew Rem",1.1599999999999999E-2,0]
["2020-11-01","2021-06-01","10SA01:380450",3255,"2021-06-01",64185.22,5.8200000000000002E-2,"10SA01:380450",null,"Indiana Wastewater Area 01","380450-WW TD Equip Oth Sew Rem",1.1599999999999999E-2,0]
["2020-11-01","2021-06-01","10SA01:380500",5728,"2020-11-01",1877040.02,5.8200000000000002E-2,"10SA01:380500",null,"Indiana Wastewater Area 01","380500-WW TD Equip Chem Trmt Plt",1.1599999999999999E-2,0]
["2020-11-01","2021-06-01","10SA01:380500",5728,"2020-12-01",1876720.49,5.8200000000000002E-2,"10SA01:380500",null,"Indiana Wastewater Area 01","380500-WW TD Equip Chem Trmt Plt",1.1599999999999999E-2,0]
["2020-11-01","2021-06-01","10SA01:380500",5728,"2021-01-01",1876720.49,5.8200000000000002E-2,"10SA01:380500",null,"Indiana Wastewater Area 01","380500-WW TD Equip Chem Trmt Plt",1.1599999999999999E-2,0]
["2020-11-01","2021-06-01","10SA01:380500",5728,"2021-02-01",1876720.49,5.8200000000000002E-2,"10SA01:380500",null,"Indiana Wastewater Area 01","380500-WW TD Equip Chem Trmt Plt",1.1599999999999999E-2,0]
["2020-11-01","2021-06-01","10SA01:380500",5728,"2021-03-01",103160.49,5.8200000000000002E-2,"10SA01:380500",null,"Indiana Wastewater Area 01","380500-WW TD Equip Chem Trmt Plt",1.1599999999999999E-2,0]
["2020-11-01","2021-06-01","10SA01:380500",5728,"2021-04-01",103160.49,5.8200000000000002E-2,"10SA01:380500",null,"Indiana Wastewater Area 01","380500-WW TD Equip Chem Trmt Plt",1.1599999999999999E-2,0]
["2020-11-01","2021-06-01","10SA01:380500",5728,"2021-05-01",103160.49,5.8200000000000002E-2,"10SA01:380500",null,"Indiana Wastewater Area 01","380500-WW TD Equip Chem Trmt Plt",1.1599999999999999E-2,0]
["2020-11-01","2021-06-01","10SA01:380500",5728,"2021-06-01",7377350.3799999999,5.8200000000000002E-2,"10SA01:380500",null,"Indiana Wastewater Area 01","380500-WW TD Equip Chem Trmt Plt",1.1599999999999999E-2,0]
["2020-11-01","2021-06-01","10SA01:380600",3856,"2020-11-01",30833.57,5.8200000000000002E-2,"10SA01:380600",null,"Indiana Wastewater Area 01","380600-WW TD Equip Oth Disp",1.1599999999999999E-2,0]
["2020-11-01","2021-06-01","10SA01:380600",3856,"2020-12-01",30833.57,5.8200000000000002E-2,"10SA01:380600",null,"Indiana Wastewater Area 01","380600-WW TD Equip Oth Disp",1.1599999999999999E-2,0]
["2020-11-01","2021-06-01","10SA01:380600",3856,"2021-01-01",30833.57,5.8200000000000002E-2,"10SA01:380600",null,"Indiana Wastewater Area 01","380600-WW TD Equip Oth Disp",1.1599999999999999E-2,0]
["2020-11-01","2021-06-01","10SA01:380600",3856,"2021-02-01",30833.57,5.8200000000000002E-2,"10SA01:380600",null,"Indiana Wastewater Area 01","380600-WW TD Equip Oth Disp",1.1599999999999999E-2,0]
["2020-11-01","2021-06-01","10SA01:380600",3856,"2021-03-01",30833.57,5.8200000000000002E-2,"10SA01:380600",null,"Indiana Wastewater Area 01","380600-WW TD Equip Oth Disp",1.1599999999999999E-2,0]
["2020-11-01","2021-06-01","10SA01:380600",3856,"2021-04-01",30833.57,5.8200000000000002E-2,"10SA01:380600",null,"Indiana Wastewater Area 01","380600-WW TD Equip Oth Disp",1.1599999999999999E-2,0]
["2020-11-01","2021-06-01","10SA01:380600",3856,"2021-05-01",30833.57,5.8200000000000002E-2,"10SA01:380600",null,"Indiana Wastewater Area 01","380600-WW TD Equip Oth Disp",1.1599999999999999E-2,0]
["2020-11-01","2021-06-01","10SA01:380600",3856,"2021-06-01",30833.57,5.8200000000000002E-2,"10SA01:380600",null,"Indiana Wastewater Area 01","380600-WW TD Equip Oth Disp",1.1599999999999999E-2,0]
["2020-11-01","2021-06-01","10SA01:380625",5034,"2020-11-01",47429.08,5.8200000000000002E-2,"10SA01:380625",null,"Indiana Wastewater Area 01","380625-WW TD Equip Gen Trmt",1.1599999999999999E-2,0]
["2020-11-01","2021-06-01","10SA01:380625",5034,"2020-12-01",47429.08,5.8200000000000002E-2,"10SA01:380625",null,"Indiana Wastewater Area 01","380625-WW TD Equip Gen Trmt",1.1599999999999999E-2,0]
["2020-11-01","2021-06-01","10SA01:380625",5034,"2021-01-01",47429.08,5.8200000000000002E-2,"10SA01:380625",null,"Indiana Wastewater Area 01","380625-WW TD Equip Gen Trmt",1.1599999999999999E-2,0]
["2020-11-01","2021-06-01","10SA01:380625",5034,"2021-02-01",47429.08,5.8200000000000002E-2,"10SA01:380625",null,"Indiana Wastewater Area 01","380625-WW TD Equip Gen Trmt",1.1599999999999999E-2,0]
["2020-11-01","2021-06-01","10SA01:380625",5034,"2021-03-01",47429.08,5.8200000000000002E-2,"10SA01:380625",null,"Indiana Wastewater Area 01","380625-WW TD Equip Gen Trmt",1.1599999999999999E-2,0]
["2020-11-01","2021-06-01","10SA01:380625",5034,"2021-04-01",47429.08,5.8200000000000002E-2,"10SA01:380625",null,"Indiana Wastewater Area 01","380625-WW TD Equip Gen Trmt",1.1599999999999999E-2,0]
["2020-11-01","2021-06-01","10SA01:380625",5034,"2021-05-01",47429.08,5.8200000000000002E-2,"10SA01:380625",null,"Indiana Wastewater Area 01","380625-WW TD Equip Gen Trmt",1.1599999999999999E-2,0]
["2020-11-01","2021-06-01","10SA01:380625",5034,"2021-06-01",47429.08,5.8200000000000002E-2,"10SA01:380625",null,"Indiana Wastewater Area 01","380625-WW TD Equip Gen Trmt",1.1599999999999999E-2,0]
["2020-11-01","2021-06-01","10SA01:381000",2002,"2020-11-01",60760.52,1.95E-2,"10SA01:381000",null,"Indiana Wastewater Area 01","381000-WW Plant Sewers",0,0]
["2020-11-01","2021-06-01","10SA01:381000",2002,"2020-12-01",68937.3,1.95E-2,"10SA01:381000",null,"Indiana Wastewater Area 01","381000-WW Plant Sewers",0,0]
["2020-11-01","2021-06-01","10SA01:381000",2002,"2021-01-01",74046.83,1.95E-2,"10SA01:381000",null,"Indiana Wastewater Area 01","381000-WW Plant Sewers",0,0]
["2020-11-01","2021-06-01","10SA01:381000",2002,"2021-02-01",83297.11,1.95E-2,"10SA01:381000",null,"Indiana Wastewater Area 01","381000-WW Plant Sewers",0,0]
["2020-11-01","2021-06-01","10SA01:381000",2002,"2021-03-01",83747.11,1.95E-2,"10SA01:381000",null,"Indiana Wastewater Area 01","381000-WW Plant Sewers",0,0]
["2020-11-01","2021-06-01","10SA01:381000",2002,"2021-04-01",84197.11,1.95E-2,"10SA01:381000",null,"Indiana Wastewater Area 01","381000-WW Plant Sewers",0,0]
["2020-11-01","2021-06-01","10SA01:381000",2002,"2021-05-01",84647.11,1.95E-2,"10SA01:381000",null,"Indiana Wastewater Area 01","381000-WW Plant Sewers",0,0]
["2020-11-01","2021-06-01","10SA01:381000",2002,"2021-06-01",86993.02,1.95E-2,"10SA01:381000",null,"Indiana Wastewater Area 01","381000-WW Plant Sewers",0,0]
["2020-11-01","2021-06-01","10SA01:394000",2616,"2020-11-01",11273.48,6.6699999999999995E-2,"10SA01:394000",null,"Indiana Wastewater Area 01","394000-WW Laboratory Equipment",0,0]
["2020-11-01","2021-06-01","10SA01:394000",2616,"2020-12-01",11273.48,6.6699999999999995E-2,"10SA01:394000",null,"Indiana Wastewater Area 01","394000-WW Laboratory Equipment",0,0]
["2020-11-01","2021-06-01","10SA01:394000",2616,"2021-01-01",11273.48,6.6699999999999995E-2,"10SA01:394000",null,"Indiana Wastewater Area 01","394000-WW Laboratory Equipment",0,0]
["2020-11-01","2021-06-01","10SA01:394000",2616,"2021-02-01",11273.48,6.6699999999999995E-2,"10SA01:394000",null,"Indiana Wastewater Area 01","394000-WW Laboratory Equipment",0,0]
["2020-11-01","2021-06-01","10SA01:394000",2616,"2021-03-01",11273.48,6.6699999999999995E-2,"10SA01:394000",null,"Indiana Wastewater Area 01","394000-WW Laboratory Equipment",0,0]
["2020-11-01","2021-06-01","10SA01:394000",2616,"2021-04-01",11273.48,6.6699999999999995E-2,"10SA01:394000",null,"Indiana Wastewater Area 01","394000-WW Laboratory Equipment",0,0]
["2020-11-01","2021-06-01","10SA01:394000",2616,"2021-05-01",11273.48,6.6699999999999995E-2,"10SA01:394000",null,"Indiana Wastewater Area 01","394000-WW Laboratory Equipment",0,0]
["2020-11-01","2021-06-01","10SA01:394000",2616,"2021-06-01",11273.48,6.6699999999999995E-2,"10SA01:394000",null,"Indiana Wastewater Area 01","394000-WW Laboratory Equipment",0,0]
["2020-11-01","2021-06-01","10SA01:396000",3857,"2020-11-01",16358.59,6.6699999999999995E-2,"10SA01:396000",null,"Indiana Wastewater Area 01","396000-WW Communication Equip",0,0]
["2020-11-01","2021-06-01","10SA01:396000",3857,"2020-12-01",31310.98,6.6699999999999995E-2,"10SA01:396000",null,"Indiana Wastewater Area 01","396000-WW Communication Equip",0,0]
["2020-11-01","2021-06-01","10SA01:396000",3857,"2021-01-01",80429.62,6.6699999999999995E-2,"10SA01:396000",null,"Indiana Wastewater Area 01","396000-WW Communication Equip",0,0]
["2020-11-01","2021-06-01","10SA01:396000",3857,"2021-02-01",80036.37,6.6699999999999995E-2,"10SA01:396000",null,"Indiana Wastewater Area 01","396000-WW Communication Equip",0,0]
["2020-11-01","2021-06-01","10SA01:396000",3857,"2021-03-01",80036.37,6.6699999999999995E-2,"10SA01:396000",null,"Indiana Wastewater Area 01","396000-WW Communication Equip",0,0]
["2020-11-01","2021-06-01","10SA01:396000",3857,"2021-04-01",80036.37,6.6699999999999995E-2,"10SA01:396000",null,"Indiana Wastewater Area 01","396000-WW Communication Equip",0,0]
["2020-11-01","2021-06-01","10SA01:396000",3857,"2021-05-01",80036.37,6.6699999999999995E-2,"10SA01:396000",null,"Indiana Wastewater Area 01","396000-WW Communication Equip",0,0]
["2020-11-01","2021-06-01","10SA01:396000",3857,"2021-06-01",80036.37,6.6699999999999995E-2,"10SA01:396000",null,"Indiana Wastewater Area 01","396000-WW Communication Equip",0,0]
["2020-11-01","2021-06-01","10SA01:397000",5729,"2020-11-01",36735.18,0.05,"10SA01:397000",null,"Indiana Wastewater Area 01","397000-WW Misc Equipment",0,0]
["2020-11-01","2021-06-01","10SA01:397000",5729,"2020-12-01",36735.18,0.05,"10SA01:397000",null,"Indiana Wastewater Area 01","397000-WW Misc Equipment",0,0]
["2020-11-01","2021-06-01","10SA01:397000",5729,"2021-01-01",36735.18,0.05,"10SA01:397000",null,"Indiana Wastewater Area 01","397000-WW Misc Equipment",0,0]
["2020-11-01","2021-06-01","10SA01:397000",5729,"2021-02-01",36735.18,0.05,"10SA01:397000",null,"Indiana Wastewater Area 01","397000-WW Misc Equipment",0,0]
["2020-11-01","2021-06-01","10SA01:397000",5729,"2021-03-01",36735.18,0.05,"10SA01:397000",null,"Indiana Wastewater Area 01","397000-WW Misc Equipment",0,0]
["2020-11-01","2021-06-01","10SA01:397000",5729,"2021-04-01",36735.18,0.05,"10SA01:397000",null,"Indiana Wastewater Area 01","397000-WW Misc Equipment",0,0]
["2020-11-01","2021-06-01","10SA01:397000",5729,"2021-05-01",36735.18,0.05,"10SA01:397000",null,"Indiana Wastewater Area 01","397000-WW Misc Equipment",0,0]
["2020-11-01","2021-06-01","10SA01:397000",5729,"2021-06-01",36735.18,0.05,"10SA01:397000",null,"Indiana Wastewater Area 01","397000-WW Misc Equipment",0,0]
["2020-11-01","2021-06-01","10SA01:398000",4550,"2020-11-01",0,0,"10SA01:398000",null,"Indiana Wastewater Area 01","398000-WW Other Tangible Plant",0,0]
["2020-11-01","2021-06-01","10SA01:398000",4550,"2020-12-01",0,0,"10SA01:398000",null,"Indiana Wastewater Area 01","398000-WW Other Tangible Plant",0,0]
["2020-11-01","2021-06-01","10SA01:398000",4550,"2021-01-01",0,0,"10SA01:398000",null,"Indiana Wastewater Area 01","398000-WW Other Tangible Plant",0,0]
["2020-11-01","2021-06-01","10SA01:398000",4550,"2021-02-01",0,0,"10SA01:398000",null,"Indiana Wastewater Area 01","398000-WW Other Tangible Plant",0,0]
["2020-11-01","2021-06-01","10SA01:398000",4550,"2021-03-01",0,0,"10SA01:398000",null,"Indiana Wastewater Area 01","398000-WW Other Tangible Plant",0,0]
["2020-11-01","2021-06-01","10SA01:398000",4550,"2021-04-01",0,0,"10SA01:398000",null,"Indiana Wastewater Area 01","398000-WW Other Tangible Plant",0,0]
["2020-11-01","2021-06-01","10SA01:398000",4550,"2021-05-01",0,0,"10SA01:398000",null,"Indiana Wastewater Area 01","398000-WW Other Tangible Plant",0,0]
["2020-11-01","2021-06-01","10SA01:398000",4550,"2021-06-01",0,0,"10SA01:398000",null,"Indiana Wastewater Area 01","398000-WW Other Tangible Plant",0,0]
["2020-11-01","2021-06-01","10SSHE:353400",7052,"2020-11-01",102246,0,"10SSHE:353400",null,"Indiana Wastewater Sheridan","353400-WW Land & Ld Rights Treatmnt",0,0]
["2020-11-01","2021-06-01","10SSHE:353400",7052,"2020-12-01",102246,0,"10SSHE:353400",null,"Indiana Wastewater Sheridan","353400-WW Land & Ld Rights Treatmnt",0,0]
["2020-11-01","2021-06-01","10SSHE:353400",7052,"2021-01-01",102246,0,"10SSHE:353400",null,"Indiana Wastewater Sheridan","353400-WW Land & Ld Rights Treatmnt",0,0]
["2020-11-01","2021-06-01","10SSHE:353400",7052,"2021-02-01",102246,0,"10SSHE:353400",null,"Indiana Wastewater Sheridan","353400-WW Land & Ld Rights Treatmnt",0,0]
["2020-11-01","2021-06-01","10SSHE:353400",7052,"2021-03-01",102246,0,"10SSHE:353400",null,"Indiana Wastewater Sheridan","353400-WW Land & Ld Rights Treatmnt",0,0]
["2020-11-01","2021-06-01","10SSHE:353400",7052,"2021-04-01",102246,0,"10SSHE:353400",null,"Indiana Wastewater Sheridan","353400-WW Land & Ld Rights Treatmnt",0,0]
["2020-11-01","2021-06-01","10SSHE:353400",7052,"2021-05-01",102246,0,"10SSHE:353400",null,"Indiana Wastewater Sheridan","353400-WW Land & Ld Rights Treatmnt",0,0]
["2020-11-01","2021-06-01","10SSHE:353400",7052,"2021-06-01",102246,0,"10SSHE:353400",null,"Indiana Wastewater Sheridan","353400-WW Land & Ld Rights Treatmnt",0,0]
["2020-11-01","2021-06-01","10SSHE:354200",7059,"2020-11-01",393333.35,2.0899999999999998E-2,"10SSHE:354200",null,"Indiana Wastewater Sheridan","354200-WW Struct & Imp Collection",5.1999999999999998E-3,0]
["2020-11-01","2021-06-01","10SSHE:354200",7059,"2020-12-01",393333.35,2.0899999999999998E-2,"10SSHE:354200",null,"Indiana Wastewater Sheridan","354200-WW Struct & Imp Collection",5.1999999999999998E-3,0]
["2020-11-01","2021-06-01","10SSHE:354200",7059,"2021-01-01",393333.35,2.0899999999999998E-2,"10SSHE:354200",null,"Indiana Wastewater Sheridan","354200-WW Struct & Imp Collection",5.1999999999999998E-3,0]
["2020-11-01","2021-06-01","10SSHE:354200",7059,"2021-02-01",443470.83,2.0899999999999998E-2,"10SSHE:354200",null,"Indiana Wastewater Sheridan","354200-WW Struct & Imp Collection",5.1999999999999998E-3,0]
["2020-11-01","2021-06-01","10SSHE:354200",7059,"2021-03-01",427234.04,2.0899999999999998E-2,"10SSHE:354200",null,"Indiana Wastewater Sheridan","354200-WW Struct & Imp Collection",5.1999999999999998E-3,0]
["2020-11-01","2021-06-01","10SSHE:354200",7059,"2021-04-01",427234.04,2.0899999999999998E-2,"10SSHE:354200",null,"Indiana Wastewater Sheridan","354200-WW Struct & Imp Collection",5.1999999999999998E-3,0]
["2020-11-01","2021-06-01","10SSHE:354200",7059,"2021-05-01",427234.04,2.0899999999999998E-2,"10SSHE:354200",null,"Indiana Wastewater Sheridan","354200-WW Struct & Imp Collection",5.1999999999999998E-3,0]
["2020-11-01","2021-06-01","10SSHE:354200",7059,"2021-06-01",463319.22,2.0899999999999998E-2,"10SSHE:354200",null,"Indiana Wastewater Sheridan","354200-WW Struct & Imp Collection",5.1999999999999998E-3,0]
["2020-11-01","2021-06-01","10SSHE:354400",7050,"2020-11-01",591329.88,2.5000000000000001E-2,"10SSHE:354400",null,"Indiana Wastewater Sheridan","354400-WW Struct & Imp Treatment",6.3E-3,0]
["2020-11-01","2021-06-01","10SSHE:354400",7050,"2020-12-01",591329.88,2.5000000000000001E-2,"10SSHE:354400",null,"Indiana Wastewater Sheridan","354400-WW Struct & Imp Treatment",6.3E-3,0]
["2020-11-01","2021-06-01","10SSHE:354400",7050,"2021-01-01",591329.88,2.5000000000000001E-2,"10SSHE:354400",null,"Indiana Wastewater Sheridan","354400-WW Struct & Imp Treatment",6.3E-3,0]
["2020-11-01","2021-06-01","10SSHE:354400",7050,"2021-02-01",591329.88,2.5000000000000001E-2,"10SSHE:354400",null,"Indiana Wastewater Sheridan","354400-WW Struct & Imp Treatment",6.3E-3,0]
["2020-11-01","2021-06-01","10SSHE:354400",7050,"2021-03-01",591329.88,2.5000000000000001E-2,"10SSHE:354400",null,"Indiana Wastewater Sheridan","354400-WW Struct & Imp Treatment",6.3E-3,0]
["2020-11-01","2021-06-01","10SSHE:354400",7050,"2021-04-01",591329.88,2.5000000000000001E-2,"10SSHE:354400",null,"Indiana Wastewater Sheridan","354400-WW Struct & Imp Treatment",6.3E-3,0]
["2020-11-01","2021-06-01","10SSHE:354400",7050,"2021-05-01",591163.80000000005,2.5000000000000001E-2,"10SSHE:354400",null,"Indiana Wastewater Sheridan","354400-WW Struct & Imp Treatment",6.3E-3,0]
["2020-11-01","2021-06-01","10SSHE:354400",7050,"2021-06-01",609000.71,2.5000000000000001E-2,"10SSHE:354400",null,"Indiana Wastewater Sheridan","354400-WW Struct & Imp Treatment",6.3E-3,0]
["2020-11-01","2021-06-01","10SSHE:355400",7061,"2020-11-01",16581.099999999999,3.1600000000000003E-2,"10SSHE:355400",null,"Indiana Wastewater Sheridan","355400-WW Pwr Gen Equip Treatment",0,0]
["2020-11-01","2021-06-01","10SSHE:355400",7061,"2020-12-01",16581.099999999999,3.1600000000000003E-2,"10SSHE:355400",null,"Indiana Wastewater Sheridan","355400-WW Pwr Gen Equip Treatment",0,0]
["2020-11-01","2021-06-01","10SSHE:355400",7061,"2021-01-01",16581.099999999999,3.1600000000000003E-2,"10SSHE:355400",null,"Indiana Wastewater Sheridan","355400-WW Pwr Gen Equip Treatment",0,0]
["2020-11-01","2021-06-01","10SSHE:355400",7061,"2021-02-01",16581.099999999999,3.1600000000000003E-2,"10SSHE:355400",null,"Indiana Wastewater Sheridan","355400-WW Pwr Gen Equip Treatment",0,0]
["2020-11-01","2021-06-01","10SSHE:355400",7061,"2021-03-01",16581.099999999999,3.1600000000000003E-2,"10SSHE:355400",null,"Indiana Wastewater Sheridan","355400-WW Pwr Gen Equip Treatment",0,0]
["2020-11-01","2021-06-01","10SSHE:355400",7061,"2021-04-01",16581.099999999999,3.1600000000000003E-2,"10SSHE:355400",null,"Indiana Wastewater Sheridan","355400-WW Pwr Gen Equip Treatment",0,0]
["2020-11-01","2021-06-01","10SSHE:355400",7061,"2021-05-01",16581.099999999999,3.1600000000000003E-2,"10SSHE:355400",null,"Indiana Wastewater Sheridan","355400-WW Pwr Gen Equip Treatment",0,0]
["2020-11-01","2021-06-01","10SSHE:355400",7061,"2021-06-01",16581.099999999999,3.1600000000000003E-2,"10SSHE:355400",null,"Indiana Wastewater Sheridan","355400-WW Pwr Gen Equip Treatment",0,0]
["2020-11-01","2021-06-01","10SSHE:361100",7056,"2020-11-01",2149177,2.63E-2,"10SSHE:361100",null,"Indiana Wastewater Sheridan","361100-WW Collecting Mains",1.9699999999999999E-2,0]
["2020-11-01","2021-06-01","10SSHE:361100",7056,"2020-12-01",2149177,2.63E-2,"10SSHE:361100",null,"Indiana Wastewater Sheridan","361100-WW Collecting Mains",1.9699999999999999E-2,0]
["2020-11-01","2021-06-01","10SSHE:361100",7056,"2021-01-01",2149177,2.63E-2,"10SSHE:361100",null,"Indiana Wastewater Sheridan","361100-WW Collecting Mains",1.9699999999999999E-2,0]
["2020-11-01","2021-06-01","10SSHE:361100",7056,"2021-02-01",2149177,2.63E-2,"10SSHE:361100",null,"Indiana Wastewater Sheridan","361100-WW Collecting Mains",1.9699999999999999E-2,0]
["2020-11-01","2021-06-01","10SSHE:361100",7056,"2021-03-01",2149177,2.63E-2,"10SSHE:361100",null,"Indiana Wastewater Sheridan","361100-WW Collecting Mains",1.9699999999999999E-2,0]
["2020-11-01","2021-06-01","10SSHE:361100",7056,"2021-04-01",2149177,2.63E-2,"10SSHE:361100",null,"Indiana Wastewater Sheridan","361100-WW Collecting Mains",1.9699999999999999E-2,0]
["2020-11-01","2021-06-01","10SSHE:361100",7056,"2021-05-01",2149177,2.63E-2,"10SSHE:361100",null,"Indiana Wastewater Sheridan","361100-WW Collecting Mains",1.9699999999999999E-2,0]
["2020-11-01","2021-06-01","10SSHE:361100",7056,"2021-06-01",2149177,2.63E-2,"10SSHE:361100",null,"Indiana Wastewater Sheridan","361100-WW Collecting Mains",1.9699999999999999E-2,0]
["2020-11-01","2021-06-01","10SSHE:361101",7057,"2020-11-01",865947,2.63E-2,"10SSHE:361101",null,"Indiana Wastewater Sheridan","361101-WW Collecting Mains Other",1.9699999999999999E-2,0]
["2020-11-01","2021-06-01","10SSHE:361101",7057,"2020-12-01",865947,2.63E-2,"10SSHE:361101",null,"Indiana Wastewater Sheridan","361101-WW Collecting Mains Other",1.9699999999999999E-2,0]
["2020-11-01","2021-06-01","10SSHE:361101",7057,"2021-01-01",865947,2.63E-2,"10SSHE:361101",null,"Indiana Wastewater Sheridan","361101-WW Collecting Mains Other",1.9699999999999999E-2,0]
["2020-11-01","2021-06-01","10SSHE:361101",7057,"2021-02-01",865947,2.63E-2,"10SSHE:361101",null,"Indiana Wastewater Sheridan","361101-WW Collecting Mains Other",1.9699999999999999E-2,0]
["2020-11-01","2021-06-01","10SSHE:361101",7057,"2021-03-01",865947,2.63E-2,"10SSHE:361101",null,"Indiana Wastewater Sheridan","361101-WW Collecting Mains Other",1.9699999999999999E-2,0]
["2020-11-01","2021-06-01","10SSHE:361101",7057,"2021-04-01",865947,2.63E-2,"10SSHE:361101",null,"Indiana Wastewater Sheridan","361101-WW Collecting Mains Other",1.9699999999999999E-2,0]
["2020-11-01","2021-06-01","10SSHE:361101",7057,"2021-05-01",865947,2.63E-2,"10SSHE:361101",null,"Indiana Wastewater Sheridan","361101-WW Collecting Mains Other",1.9699999999999999E-2,0]
["2020-11-01","2021-06-01","10SSHE:361101",7057,"2021-06-01",865947,2.63E-2,"10SSHE:361101",null,"Indiana Wastewater Sheridan","361101-WW Collecting Mains Other",1.9699999999999999E-2,0]
["2020-11-01","2021-06-01","10SSHE:363000",7053,"2020-11-01",548169,2.1399999999999999E-2,"10SSHE:363000",null,"Indiana Wastewater Sheridan","363000-WW Services Sewer",5.3E-3,0]
["2020-11-01","2021-06-01","10SSHE:363000",7053,"2020-12-01",548169,2.1399999999999999E-2,"10SSHE:363000",null,"Indiana Wastewater Sheridan","363000-WW Services Sewer",5.3E-3,0]
["2020-11-01","2021-06-01","10SSHE:363000",7053,"2021-01-01",548169,2.1399999999999999E-2,"10SSHE:363000",null,"Indiana Wastewater Sheridan","363000-WW Services Sewer",5.3E-3,0]
["2020-11-01","2021-06-01","10SSHE:363000",7053,"2021-02-01",548169,2.1399999999999999E-2,"10SSHE:363000",null,"Indiana Wastewater Sheridan","363000-WW Services Sewer",5.3E-3,0]
["2020-11-01","2021-06-01","10SSHE:363000",7053,"2021-03-01",548169,2.1399999999999999E-2,"10SSHE:363000",null,"Indiana Wastewater Sheridan","363000-WW Services Sewer",5.3E-3,0]
["2020-11-01","2021-06-01","10SSHE:363000",7053,"2021-04-01",548169,2.1399999999999999E-2,"10SSHE:363000",null,"Indiana Wastewater Sheridan","363000-WW Services Sewer",5.3E-3,0]
["2020-11-01","2021-06-01","10SSHE:363000",7053,"2021-05-01",548169,2.1399999999999999E-2,"10SSHE:363000",null,"Indiana Wastewater Sheridan","363000-WW Services Sewer",5.3E-3,0]
["2020-11-01","2021-06-01","10SSHE:363000",7053,"2021-06-01",554291.71,2.1399999999999999E-2,"10SSHE:363000",null,"Indiana Wastewater Sheridan","363000-WW Services Sewer",5.3E-3,0]
["2020-11-01","2021-06-01","10SSHE:371100",134370451,"2020-11-01",0,3.6999999999999998E-2,"10SSHE:371100",null,"Indiana Wastewater Sheridan","371100-WW Pump Equip Elect",0,0]
["2020-11-01","2021-06-01","10SSHE:371100",134370451,"2020-12-01",0,3.6999999999999998E-2,"10SSHE:371100",null,"Indiana Wastewater Sheridan","371100-WW Pump Equip Elect",0,0]
["2020-11-01","2021-06-01","10SSHE:371100",134370451,"2021-01-01",0,3.6999999999999998E-2,"10SSHE:371100",null,"Indiana Wastewater Sheridan","371100-WW Pump Equip Elect",0,0]
["2020-11-01","2021-06-01","10SSHE:371100",134370451,"2021-02-01",0,3.6999999999999998E-2,"10SSHE:371100",null,"Indiana Wastewater Sheridan","371100-WW Pump Equip Elect",0,0]
["2020-11-01","2021-06-01","10SSHE:371100",134370451,"2021-03-01",0,3.6999999999999998E-2,"10SSHE:371100",null,"Indiana Wastewater Sheridan","371100-WW Pump Equip Elect",0,0]
["2020-11-01","2021-06-01","10SSHE:371100",134370451,"2021-04-01",1238.97,3.6999999999999998E-2,"10SSHE:371100",null,"Indiana Wastewater Sheridan","371100-WW Pump Equip Elect",0,0]
["2020-11-01","2021-06-01","10SSHE:371100",134370451,"2021-05-01",1238.97,3.6999999999999998E-2,"10SSHE:371100",null,"Indiana Wastewater Sheridan","371100-WW Pump Equip Elect",0,0]
["2020-11-01","2021-06-01","10SSHE:371100",134370451,"2021-06-01",9908.6200000000008,3.6999999999999998E-2,"10SSHE:371100",null,"Indiana Wastewater Sheridan","371100-WW Pump Equip Elect",0,0]
["2020-11-01","2021-06-01","10WA01:103000",2617,"2020-11-01",561297.69999999995,0,"10WA01:103000",null,"Indiana Water Area 01","103000-Property Held for Future Use",0,0]
["2020-11-01","2021-06-01","10WA01:103000",2617,"2020-12-01",561297.69999999995,0,"10WA01:103000",null,"Indiana Water Area 01","103000-Property Held for Future Use",0,0]
["2020-11-01","2021-06-01","10WA01:103000",2617,"2021-01-01",561297.69999999995,0,"10WA01:103000",null,"Indiana Water Area 01","103000-Property Held for Future Use",0,0]
["2020-11-01","2021-06-01","10WA01:103000",2617,"2021-02-01",561297.69999999995,0,"10WA01:103000",null,"Indiana Water Area 01","103000-Property Held for Future Use",0,0]
["2020-11-01","2021-06-01","10WA01:103000",2617,"2021-03-01",561297.69999999995,0,"10WA01:103000",null,"Indiana Water Area 01","103000-Property Held for Future Use",0,0]
["2020-11-01","2021-06-01","10WA01:103000",2617,"2021-04-01",561297.69999999995,0,"10WA01:103000",null,"Indiana Water Area 01","103000-Property Held for Future Use",0,0]
["2020-11-01","2021-06-01","10WA01:103000",2617,"2021-05-01",561297.69999999995,0,"10WA01:103000",null,"Indiana Water Area 01","103000-Property Held for Future Use",0,0]
["2020-11-01","2021-06-01","10WA01:103000",2617,"2021-06-01",561297.69999999995,0,"10WA01:103000",null,"Indiana Water Area 01","103000-Property Held for Future Use",0,0]
["2020-11-01","2021-06-01","10WA01:121100",5730,"2020-11-01",162159.67999999999,0,"10WA01:121100",null,"Indiana Water Area 01","121100-Land",0,0]
["2020-11-01","2021-06-01","10WA01:121100",5730,"2020-12-01",162159.67999999999,0,"10WA01:121100",null,"Indiana Water Area 01","121100-Land",0,0]
["2020-11-01","2021-06-01","10WA01:121100",5730,"2021-01-01",162159.67999999999,0,"10WA01:121100",null,"Indiana Water Area 01","121100-Land",0,0]
["2020-11-01","2021-06-01","10WA01:121100",5730,"2021-02-01",162159.67999999999,0,"10WA01:121100",null,"Indiana Water Area 01","121100-Land",0,0]
["2020-11-01","2021-06-01","10WA01:121100",5730,"2021-03-01",162159.67999999999,0,"10WA01:121100",null,"Indiana Water Area 01","121100-Land",0,0]
["2020-11-01","2021-06-01","10WA01:121100",5730,"2021-04-01",162159.67999999999,0,"10WA01:121100",null,"Indiana Water Area 01","121100-Land",0,0]
["2020-11-01","2021-06-01","10WA01:121100",5730,"2021-05-01",162159.67999999999,0,"10WA01:121100",null,"Indiana Water Area 01","121100-Land",0,0]
["2020-11-01","2021-06-01","10WA01:121100",5730,"2021-06-01",162159.67999999999,0,"10WA01:121100",null,"Indiana Water Area 01","121100-Land",0,0]
["2020-11-01","2021-06-01","10WA01:121200",2003,"2020-11-01",0,0,"10WA01:121200",null,"Indiana Water Area 01","121200-Buildings",0,0]
["2020-11-01","2021-06-01","10WA01:121200",2003,"2020-12-01",0,0,"10WA01:121200",null,"Indiana Water Area 01","121200-Buildings",0,0]
["2020-11-01","2021-06-01","10WA01:121200",2003,"2021-01-01",0,0,"10WA01:121200",null,"Indiana Water Area 01","121200-Buildings",0,0]
["2020-11-01","2021-06-01","10WA01:121200",2003,"2021-02-01",0,0,"10WA01:121200",null,"Indiana Water Area 01","121200-Buildings",0,0]
["2020-11-01","2021-06-01","10WA01:121200",2003,"2021-03-01",0,0,"10WA01:121200",null,"Indiana Water Area 01","121200-Buildings",0,0]
["2020-11-01","2021-06-01","10WA01:121200",2003,"2021-04-01",0,0,"10WA01:121200",null,"Indiana Water Area 01","121200-Buildings",0,0]
["2020-11-01","2021-06-01","10WA01:121200",2003,"2021-05-01",0,0,"10WA01:121200",null,"Indiana Water Area 01","121200-Buildings",0,0]
["2020-11-01","2021-06-01","10WA01:121200",2003,"2021-06-01",0,0,"10WA01:121200",null,"Indiana Water Area 01","121200-Buildings",0,0]
["2020-11-01","2021-06-01","10WA01:121300",2618,"2020-11-01",0,0,"10WA01:121300",null,"Indiana Water Area 01","121300-Capital Lease 5 Year",0,0]
["2020-11-01","2021-06-01","10WA01:121300",2618,"2020-12-01",0,0,"10WA01:121300",null,"Indiana Water Area 01","121300-Capital Lease 5 Year",0,0]
["2020-11-01","2021-06-01","10WA01:121300",2618,"2021-01-01",0,0,"10WA01:121300",null,"Indiana Water Area 01","121300-Capital Lease 5 Year",0,0]
["2020-11-01","2021-06-01","10WA01:121300",2618,"2021-02-01",0,0,"10WA01:121300",null,"Indiana Water Area 01","121300-Capital Lease 5 Year",0,0]
["2020-11-01","2021-06-01","10WA01:121300",2618,"2021-03-01",0,0,"10WA01:121300",null,"Indiana Water Area 01","121300-Capital Lease 5 Year",0,0]
["2020-11-01","2021-06-01","10WA01:121300",2618,"2021-04-01",0,0,"10WA01:121300",null,"Indiana Water Area 01","121300-Capital Lease 5 Year",0,0]
["2020-11-01","2021-06-01","10WA01:121300",2618,"2021-05-01",0,0,"10WA01:121300",null,"Indiana Water Area 01","121300-Capital Lease 5 Year",0,0]
["2020-11-01","2021-06-01","10WA01:121300",2618,"2021-06-01",0,0,"10WA01:121300",null,"Indiana Water Area 01","121300-Capital Lease 5 Year",0,0]
["2020-11-01","2021-06-01","10WA01:121400",2619,"2020-11-01",0,0,"10WA01:121400",null,"Indiana Water Area 01","121400-Lease Improvements",0,0]
["2020-11-01","2021-06-01","10WA01:121400",2619,"2020-12-01",0,0,"10WA01:121400",null,"Indiana Water Area 01","121400-Lease Improvements",0,0]
["2020-11-01","2021-06-01","10WA01:121400",2619,"2021-01-01",0,0,"10WA01:121400",null,"Indiana Water Area 01","121400-Lease Improvements",0,0]
["2020-11-01","2021-06-01","10WA01:121400",2619,"2021-02-01",0,0,"10WA01:121400",null,"Indiana Water Area 01","121400-Lease Improvements",0,0]
["2020-11-01","2021-06-01","10WA01:121400",2619,"2021-03-01",0,0,"10WA01:121400",null,"Indiana Water Area 01","121400-Lease Improvements",0,0]
["2020-11-01","2021-06-01","10WA01:121400",2619,"2021-04-01",0,0,"10WA01:121400",null,"Indiana Water Area 01","121400-Lease Improvements",0,0]
["2020-11-01","2021-06-01","10WA01:121400",2619,"2021-05-01",0,0,"10WA01:121400",null,"Indiana Water Area 01","121400-Lease Improvements",0,0]
["2020-11-01","2021-06-01","10WA01:121400",2619,"2021-06-01",0,0,"10WA01:121400",null,"Indiana Water Area 01","121400-Lease Improvements",0,0]
["2020-11-01","2021-06-01","10WA01:121500",2022,"2020-11-01",41835.980000000003,0,"10WA01:121500",null,"Indiana Water Area 01","121500-Other Equipment -10 Yrs",0,0]
["2020-11-01","2021-06-01","10WA01:121500",2022,"2020-12-01",41609.17,0,"10WA01:121500",null,"Indiana Water Area 01","121500-Other Equipment -10 Yrs",0,0]
["2020-11-01","2021-06-01","10WA01:121500",2022,"2021-01-01",41382.36,0,"10WA01:121500",null,"Indiana Water Area 01","121500-Other Equipment -10 Yrs",0,0]
["2020-11-01","2021-06-01","10WA01:121500",2022,"2021-02-01",41155.56,0,"10WA01:121500",null,"Indiana Water Area 01","121500-Other Equipment -10 Yrs",0,0]
["2020-11-01","2021-06-01","10WA01:121500",2022,"2021-03-01",40928.75,0,"10WA01:121500",null,"Indiana Water Area 01","121500-Other Equipment -10 Yrs",0,0]
["2020-11-01","2021-06-01","10WA01:121500",2022,"2021-04-01",35537.660000000003,0,"10WA01:121500",null,"Indiana Water Area 01","121500-Other Equipment -10 Yrs",0,0]
["2020-11-01","2021-06-01","10WA01:121500",2022,"2021-05-01",40544,0,"10WA01:121500",null,"Indiana Water Area 01","121500-Other Equipment -10 Yrs",0,0]
["2020-11-01","2021-06-01","10WA01:121500",2022,"2021-06-01",40316.26,0,"10WA01:121500",null,"Indiana Water Area 01","121500-Other Equipment -10 Yrs",0,0]
["2020-11-01","2021-06-01","10WA01:252 271110",3878,"2020-11-01",-19134212.879999999,0,"10WA01:252 271110",null,"Indiana Water Area 01","271110-CIAC-NT Mains-Water",0,0]
["2020-11-01","2021-06-01","10WA01:252 271110",3878,"2020-12-01",-18629393.600000001,0,"10WA01:252 271110",null,"Indiana Water Area 01","271110-CIAC-NT Mains-Water",0,0]
["2020-11-01","2021-06-01","10WA01:252 271110",3878,"2021-01-01",-18637464.940000001,0,"10WA01:252 271110",null,"Indiana Water Area 01","271110-CIAC-NT Mains-Water",0,0]
["2020-11-01","2021-06-01","10WA01:252 271110",3878,"2021-02-01",-17571606.170000002,0,"10WA01:252 271110",null,"Indiana Water Area 01","271110-CIAC-NT Mains-Water",0,0]
["2020-11-01","2021-06-01","10WA01:252 271110",3878,"2021-03-01",-17268555.370000001,0,"10WA01:252 271110",null,"Indiana Water Area 01","271110-CIAC-NT Mains-Water",0,0]
["2020-11-01","2021-06-01","10WA01:252 271110",3878,"2021-04-01",-17241324.440000001,0,"10WA01:252 271110",null,"Indiana Water Area 01","271110-CIAC-NT Mains-Water",0,0]
["2020-11-01","2021-06-01","10WA01:252 271110",3878,"2021-05-01",-17075781.190000001,0,"10WA01:252 271110",null,"Indiana Water Area 01","271110-CIAC-NT Mains-Water",0,0]
["2020-11-01","2021-06-01","10WA01:252 271110",3878,"2021-06-01",-16969849.699999999,0,"10WA01:252 271110",null,"Indiana Water Area 01","271110-CIAC-NT Mains-Water",0,0]
["2020-11-01","2021-06-01","10WA01:271110",2019,"2020-11-01",-33945595.420000002,2.6100000000000002E-2,"10WA01:271110",null,"Indiana Water Area 01","271110-CIAC-NT Mains-Water",0,0]
["2020-11-01","2021-06-01","10WA01:271110",2019,"2020-12-01",-34798996.710000001,2.6100000000000002E-2,"10WA01:271110",null,"Indiana Water Area 01","271110-CIAC-NT Mains-Water",0,0]
["2020-11-01","2021-06-01","10WA01:271110",2019,"2021-01-01",-34813800.920000002,2.6100000000000002E-2,"10WA01:271110",null,"Indiana Water Area 01","271110-CIAC-NT Mains-Water",0,0]
["2020-11-01","2021-06-01","10WA01:271110",2019,"2021-02-01",-35846087.899999999,2.6100000000000002E-2,"10WA01:271110",null,"Indiana Water Area 01","271110-CIAC-NT Mains-Water",0,0]
["2020-11-01","2021-06-01","10WA01:271110",2019,"2021-03-01",-36181167.969999999,2.6100000000000002E-2,"10WA01:271110",null,"Indiana Water Area 01","271110-CIAC-NT Mains-Water",0,0]
["2020-11-01","2021-06-01","10WA01:271110",2019,"2021-04-01",-36550276.350000001,2.6100000000000002E-2,"10WA01:271110",null,"Indiana Water Area 01","271110-CIAC-NT Mains-Water",0,0]
["2020-11-01","2021-06-01","10WA01:271110",2019,"2021-05-01",-36694698.100000001,2.6100000000000002E-2,"10WA01:271110",null,"Indiana Water Area 01","271110-CIAC-NT Mains-Water",0,0]
["2020-11-01","2021-06-01","10WA01:271110",2019,"2021-06-01",-36881550.079999998,2.6100000000000002E-2,"10WA01:271110",null,"Indiana Water Area 01","271110-CIAC-NT Mains-Water",0,0]
["2020-11-01","2021-06-01","10WA01:252 271130",3234,"2020-11-01",0,0,"10WA01:252 271130",null,"Indiana Water Area 01","271130-CIAC-NT Fire Services-Water",0,0]
["2020-11-01","2021-06-01","10WA01:252 271130",3234,"2020-12-01",0,0,"10WA01:252 271130",null,"Indiana Water Area 01","271130-CIAC-NT Fire Services-Water",0,0]
["2020-11-01","2021-06-01","10WA01:252 271130",3234,"2021-01-01",0,0,"10WA01:252 271130",null,"Indiana Water Area 01","271130-CIAC-NT Fire Services-Water",0,0]
["2020-11-01","2021-06-01","10WA01:252 271130",3234,"2021-02-01",0,0,"10WA01:252 271130",null,"Indiana Water Area 01","271130-CIAC-NT Fire Services-Water",0,0]
["2020-11-01","2021-06-01","10WA01:252 271130",3234,"2021-03-01",0,0,"10WA01:252 271130",null,"Indiana Water Area 01","271130-CIAC-NT Fire Services-Water",0,0]
["2020-11-01","2021-06-01","10WA01:252 271130",3234,"2021-04-01",0,0,"10WA01:252 271130",null,"Indiana Water Area 01","271130-CIAC-NT Fire Services-Water",0,0]
["2020-11-01","2021-06-01","10WA01:252 271130",3234,"2021-05-01",0,0,"10WA01:252 271130",null,"Indiana Water Area 01","271130-CIAC-NT Fire Services-Water",0,0]
["2020-11-01","2021-06-01","10WA01:252 271130",3234,"2021-06-01",0,0,"10WA01:252 271130",null,"Indiana Water Area 01","271130-CIAC-NT Fire Services-Water",0,0]
["2020-11-01","2021-06-01","10WA01:271130",6364,"2020-11-01",0,2.6100000000000002E-2,"10WA01:271130",null,"Indiana Water Area 01","271130-CIAC-NT Fire Services-Water",0,0]
["2020-11-01","2021-06-01","10WA01:271130",6364,"2020-12-01",0,2.6100000000000002E-2,"10WA01:271130",null,"Indiana Water Area 01","271130-CIAC-NT Fire Services-Water",0,0]
["2020-11-01","2021-06-01","10WA01:271130",6364,"2021-01-01",0,2.6100000000000002E-2,"10WA01:271130",null,"Indiana Water Area 01","271130-CIAC-NT Fire Services-Water",0,0]
["2020-11-01","2021-06-01","10WA01:271130",6364,"2021-02-01",0,2.6100000000000002E-2,"10WA01:271130",null,"Indiana Water Area 01","271130-CIAC-NT Fire Services-Water",0,0]
["2020-11-01","2021-06-01","10WA01:271130",6364,"2021-03-01",0,2.6100000000000002E-2,"10WA01:271130",null,"Indiana Water Area 01","271130-CIAC-NT Fire Services-Water",0,0]
["2020-11-01","2021-06-01","10WA01:271130",6364,"2021-04-01",0,2.6100000000000002E-2,"10WA01:271130",null,"Indiana Water Area 01","271130-CIAC-NT Fire Services-Water",0,0]
["2020-11-01","2021-06-01","10WA01:271130",6364,"2021-05-01",0,2.6100000000000002E-2,"10WA01:271130",null,"Indiana Water Area 01","271130-CIAC-NT Fire Services-Water",0,0]
["2020-11-01","2021-06-01","10WA01:271130",6364,"2021-06-01",0,2.6100000000000002E-2,"10WA01:271130",null,"Indiana Water Area 01","271130-CIAC-NT Fire Services-Water",0,0]
["2020-11-01","2021-06-01","10WA01:252 271140",5156,"2020-11-01",0,0,"10WA01:252 271140",null,"Indiana Water Area 01","271140-CIAC-NT Meters-Water",0,0]
["2020-11-01","2021-06-01","10WA01:252 271140",5156,"2020-12-01",0,0,"10WA01:252 271140",null,"Indiana Water Area 01","271140-CIAC-NT Meters-Water",0,0]
["2020-11-01","2021-06-01","10WA01:252 271140",5156,"2021-01-01",0,0,"10WA01:252 271140",null,"Indiana Water Area 01","271140-CIAC-NT Meters-Water",0,0]
["2020-11-01","2021-06-01","10WA01:252 271140",5156,"2021-02-01",0,0,"10WA01:252 271140",null,"Indiana Water Area 01","271140-CIAC-NT Meters-Water",0,0]
["2020-11-01","2021-06-01","10WA01:252 271140",5156,"2021-03-01",0,0,"10WA01:252 271140",null,"Indiana Water Area 01","271140-CIAC-NT Meters-Water",0,0]
["2020-11-01","2021-06-01","10WA01:252 271140",5156,"2021-04-01",0,0,"10WA01:252 271140",null,"Indiana Water Area 01","271140-CIAC-NT Meters-Water",0,0]
["2020-11-01","2021-06-01","10WA01:252 271140",5156,"2021-05-01",0,0,"10WA01:252 271140",null,"Indiana Water Area 01","271140-CIAC-NT Meters-Water",0,0]
["2020-11-01","2021-06-01","10WA01:252 271140",5156,"2021-06-01",0,0,"10WA01:252 271140",null,"Indiana Water Area 01","271140-CIAC-NT Meters-Water",0,0]
["2020-11-01","2021-06-01","10WA01:271140",3268,"2020-11-01",-42298.559999999998,2.6100000000000002E-2,"10WA01:271140",null,"Indiana Water Area 01","271140-CIAC-NT Meters-Water",0,0]
["2020-11-01","2021-06-01","10WA01:271140",3268,"2020-12-01",-42298.559999999998,2.6100000000000002E-2,"10WA01:271140",null,"Indiana Water Area 01","271140-CIAC-NT Meters-Water",0,0]
["2020-11-01","2021-06-01","10WA01:271140",3268,"2021-01-01",-42298.559999999998,2.6100000000000002E-2,"10WA01:271140",null,"Indiana Water Area 01","271140-CIAC-NT Meters-Water",0,0]
["2020-11-01","2021-06-01","10WA01:271140",3268,"2021-02-01",-42298.559999999998,2.6100000000000002E-2,"10WA01:271140",null,"Indiana Water Area 01","271140-CIAC-NT Meters-Water",0,0]
["2020-11-01","2021-06-01","10WA01:271140",3268,"2021-03-01",-42298.559999999998,2.6100000000000002E-2,"10WA01:271140",null,"Indiana Water Area 01","271140-CIAC-NT Meters-Water",0,0]
["2020-11-01","2021-06-01","10WA01:271140",3268,"2021-04-01",-42298.559999999998,2.6100000000000002E-2,"10WA01:271140",null,"Indiana Water Area 01","271140-CIAC-NT Meters-Water",0,0]
["2020-11-01","2021-06-01","10WA01:271140",3268,"2021-05-01",-42298.559999999998,2.6100000000000002E-2,"10WA01:271140",null,"Indiana Water Area 01","271140-CIAC-NT Meters-Water",0,0]
["2020-11-01","2021-06-01","10WA01:271140",3268,"2021-06-01",-42298.559999999998,2.6100000000000002E-2,"10WA01:271140",null,"Indiana Water Area 01","271140-CIAC-NT Meters-Water",0,0]
["2020-11-01","2021-06-01","10WA01:252 271150",5157,"2020-11-01",-3158283.34,0,"10WA01:252 271150",null,"Indiana Water Area 01","271150-CIAC-NT Hydrants-Water",0,0]
["2020-11-01","2021-06-01","10WA01:252 271150",5157,"2020-12-01",-3059581.08,0,"10WA01:252 271150",null,"Indiana Water Area 01","271150-CIAC-NT Hydrants-Water",0,0]
["2020-11-01","2021-06-01","10WA01:252 271150",5157,"2021-01-01",-3061286.66,0,"10WA01:252 271150",null,"Indiana Water Area 01","271150-CIAC-NT Hydrants-Water",0,0]
["2020-11-01","2021-06-01","10WA01:252 271150",5157,"2021-02-01",-2889729.51,0,"10WA01:252 271150",null,"Indiana Water Area 01","271150-CIAC-NT Hydrants-Water",0,0]
["2020-11-01","2021-06-01","10WA01:252 271150",5157,"2021-03-01",-2830102.98,0,"10WA01:252 271150",null,"Indiana Water Area 01","271150-CIAC-NT Hydrants-Water",0,0]
["2020-11-01","2021-06-01","10WA01:252 271150",5157,"2021-04-01",-2836294.8,0,"10WA01:252 271150",null,"Indiana Water Area 01","271150-CIAC-NT Hydrants-Water",0,0]
["2020-11-01","2021-06-01","10WA01:252 271150",5157,"2021-05-01",-2807199.6,0,"10WA01:252 271150",null,"Indiana Water Area 01","271150-CIAC-NT Hydrants-Water",0,0]
["2020-11-01","2021-06-01","10WA01:252 271150",5157,"2021-06-01",-2795419.74,0,"10WA01:252 271150",null,"Indiana Water Area 01","271150-CIAC-NT Hydrants-Water",0,0]
["2020-11-01","2021-06-01","10WA01:271150",6365,"2020-11-01",-2245102.15,2.6100000000000002E-2,"10WA01:271150",null,"Indiana Water Area 01","271150-CIAC-NT Hydrants-Water",0,0]
["2020-11-01","2021-06-01","10WA01:271150",6365,"2020-12-01",-2296027.85,2.6100000000000002E-2,"10WA01:271150",null,"Indiana Water Area 01","271150-CIAC-NT Hydrants-Water",0,0]
["2020-11-01","2021-06-01","10WA01:271150",6365,"2021-01-01",-2297454.37,2.6100000000000002E-2,"10WA01:271150",null,"Indiana Water Area 01","271150-CIAC-NT Hydrants-Water",0,0]
["2020-11-01","2021-06-01","10WA01:271150",6365,"2021-02-01",-2462521.59,2.6100000000000002E-2,"10WA01:271150",null,"Indiana Water Area 01","271150-CIAC-NT Hydrants-Water",0,0]
["2020-11-01","2021-06-01","10WA01:271150",6365,"2021-03-01",-2508892.19,2.6100000000000002E-2,"10WA01:271150",null,"Indiana Water Area 01","271150-CIAC-NT Hydrants-Water",0,0]
["2020-11-01","2021-06-01","10WA01:271150",6365,"2021-04-01",-2527382.96,2.6100000000000002E-2,"10WA01:271150",null,"Indiana Water Area 01","271150-CIAC-NT Hydrants-Water",0,0]
["2020-11-01","2021-06-01","10WA01:271150",6365,"2021-05-01",-2552065.5499999998,2.6100000000000002E-2,"10WA01:271150",null,"Indiana Water Area 01","271150-CIAC-NT Hydrants-Water",0,0]
["2020-11-01","2021-06-01","10WA01:271150",6365,"2021-06-01",-2583208.19,2.6100000000000002E-2,"10WA01:271150",null,"Indiana Water Area 01","271150-CIAC-NT Hydrants-Water",0,0]
["2020-11-01","2021-06-01","10WA01:252 271160",2633,"2020-11-01",-1730682.36,0,"10WA01:252 271160",null,"Indiana Water Area 01","271160-CIAC-NT Other-Water",0,0]
["2020-11-01","2021-06-01","10WA01:252 271160",2633,"2020-12-01",-1730682.36,0,"10WA01:252 271160",null,"Indiana Water Area 01","271160-CIAC-NT Other-Water",0,0]
["2020-11-01","2021-06-01","10WA01:252 271160",2633,"2021-01-01",-1730682.36,0,"10WA01:252 271160",null,"Indiana Water Area 01","271160-CIAC-NT Other-Water",0,0]
["2020-11-01","2021-06-01","10WA01:252 271160",2633,"2021-02-01",-1730682.36,0,"10WA01:252 271160",null,"Indiana Water Area 01","271160-CIAC-NT Other-Water",0,0]
["2020-11-01","2021-06-01","10WA01:252 271160",2633,"2021-03-01",-1626787.7,0,"10WA01:252 271160",null,"Indiana Water Area 01","271160-CIAC-NT Other-Water",0,0]
["2020-11-01","2021-06-01","10WA01:252 271160",2633,"2021-04-01",-1626787.7,0,"10WA01:252 271160",null,"Indiana Water Area 01","271160-CIAC-NT Other-Water",0,0]
["2020-11-01","2021-06-01","10WA01:252 271160",2633,"2021-05-01",-1626787.7,0,"10WA01:252 271160",null,"Indiana Water Area 01","271160-CIAC-NT Other-Water",0,0]
["2020-11-01","2021-06-01","10WA01:252 271160",2633,"2021-06-01",-1626787.7,0,"10WA01:252 271160",null,"Indiana Water Area 01","271160-CIAC-NT Other-Water",0,0]
["2020-11-01","2021-06-01","10WA01:271160",6366,"2020-11-01",-99722981.310000002,2.6100000000000002E-2,"10WA01:271160",null,"Indiana Water Area 01","271160-CIAC-NT Other-Water",0,0]
["2020-11-01","2021-06-01","10WA01:271160",6366,"2020-12-01",-99722981.310000002,2.6100000000000002E-2,"10WA01:271160",null,"Indiana Water Area 01","271160-CIAC-NT Other-Water",0,0]
["2020-11-01","2021-06-01","10WA01:271160",6366,"2021-01-01",-99722981.310000002,2.6100000000000002E-2,"10WA01:271160",null,"Indiana Water Area 01","271160-CIAC-NT Other-Water",0,0]
["2020-11-01","2021-06-01","10WA01:271160",6366,"2021-02-01",-99722981.310000002,2.6100000000000002E-2,"10WA01:271160",null,"Indiana Water Area 01","271160-CIAC-NT Other-Water",0,0]
["2020-11-01","2021-06-01","10WA01:271160",6366,"2021-03-01",-99722981.310000002,2.6100000000000002E-2,"10WA01:271160",null,"Indiana Water Area 01","271160-CIAC-NT Other-Water",0,0]
["2020-11-01","2021-06-01","10WA01:271160",6366,"2021-04-01",-99722981.310000002,2.6100000000000002E-2,"10WA01:271160",null,"Indiana Water Area 01","271160-CIAC-NT Other-Water",0,0]
["2020-11-01","2021-06-01","10WA01:271160",6366,"2021-05-01",-99722981.310000002,2.6100000000000002E-2,"10WA01:271160",null,"Indiana Water Area 01","271160-CIAC-NT Other-Water",0,0]
["2020-11-01","2021-06-01","10WA01:271160",6366,"2021-06-01",-99722981.310000002,2.6100000000000002E-2,"10WA01:271160",null,"Indiana Water Area 01","271160-CIAC-NT Other-Water",0,0]
["2020-11-01","2021-06-01","10WA01:252 271210",3879,"2020-11-01",-14364481.91,0,"10WA01:252 271210",null,"Indiana Water Area 01","271210-CIAC-Tax Mains-Water",0,0]
["2020-11-01","2021-06-01","10WA01:252 271210",3879,"2020-12-01",-14719610.5,0,"10WA01:252 271210",null,"Indiana Water Area 01","271210-CIAC-Tax Mains-Water",0,0]
["2020-11-01","2021-06-01","10WA01:252 271210",3879,"2021-01-01",-16430038.470000001,0,"10WA01:252 271210",null,"Indiana Water Area 01","271210-CIAC-Tax Mains-Water",0,0]
["2020-11-01","2021-06-01","10WA01:252 271210",3879,"2021-02-01",-17217282.030000001,0,"10WA01:252 271210",null,"Indiana Water Area 01","271210-CIAC-Tax Mains-Water",0,0]
["2020-11-01","2021-06-01","10WA01:252 271210",3879,"2021-03-01",-16750550.58,0,"10WA01:252 271210",null,"Indiana Water Area 01","271210-CIAC-Tax Mains-Water",0,0]
["2020-11-01","2021-06-01","10WA01:252 271210",3879,"2021-04-01",-16298881.98,0,"10WA01:252 271210",null,"Indiana Water Area 01","271210-CIAC-Tax Mains-Water",0,0]
["2020-11-01","2021-06-01","10WA01:252 271210",3879,"2021-05-01",-16328854.4,0,"10WA01:252 271210",null,"Indiana Water Area 01","271210-CIAC-Tax Mains-Water",0,0]
["2020-11-01","2021-06-01","10WA01:252 271210",3879,"2021-06-01",-16550298.939999999,0,"10WA01:252 271210",null,"Indiana Water Area 01","271210-CIAC-Tax Mains-Water",0,0]
["2020-11-01","2021-06-01","10WA01:271210",3269,"2020-11-01",-3221026.39,2.6100000000000002E-2,"10WA01:271210",null,"Indiana Water Area 01","271210-CIAC-Tax Mains-Water",0,0]
["2020-11-01","2021-06-01","10WA01:271210",3269,"2020-12-01",-3299423.75,2.6100000000000002E-2,"10WA01:271210",null,"Indiana Water Area 01","271210-CIAC-Tax Mains-Water",0,0]
["2020-11-01","2021-06-01","10WA01:271210",3269,"2021-01-01",-3425494.07,2.6100000000000002E-2,"10WA01:271210",null,"Indiana Water Area 01","271210-CIAC-Tax Mains-Water",0,0]
["2020-11-01","2021-06-01","10WA01:271210",3269,"2021-02-01",-3464403.05,2.6100000000000002E-2,"10WA01:271210",null,"Indiana Water Area 01","271210-CIAC-Tax Mains-Water",0,0]
["2020-11-01","2021-06-01","10WA01:271210",3269,"2021-03-01",-4550769.9800000004,2.6100000000000002E-2,"10WA01:271210",null,"Indiana Water Area 01","271210-CIAC-Tax Mains-Water",0,0]
["2020-11-01","2021-06-01","10WA01:271210",3269,"2021-04-01",-6028062.0199999996,2.6100000000000002E-2,"10WA01:271210",null,"Indiana Water Area 01","271210-CIAC-Tax Mains-Water",0,0]
["2020-11-01","2021-06-01","10WA01:271210",3269,"2021-05-01",-6273711.8700000001,2.6100000000000002E-2,"10WA01:271210",null,"Indiana Water Area 01","271210-CIAC-Tax Mains-Water",0,0]
["2020-11-01","2021-06-01","10WA01:271210",3269,"2021-06-01",-6654715.9800000004,2.6100000000000002E-2,"10WA01:271210",null,"Indiana Water Area 01","271210-CIAC-Tax Mains-Water",0,0]
["2020-11-01","2021-06-01","10WA01:271230",131973066,"2020-11-01",1178.9100000000001,2.6100000000000002E-2,"10WA01:271230",null,"Indiana Water Area 01","271230-CIAC-Tax Services-Water",0,0]
["2020-11-01","2021-06-01","10WA01:271230",131973066,"2020-12-01",1178.9100000000001,2.6100000000000002E-2,"10WA01:271230",null,"Indiana Water Area 01","271230-CIAC-Tax Services-Water",0,0]
["2020-11-01","2021-06-01","10WA01:271230",131973066,"2021-01-01",-5240111.67,2.6100000000000002E-2,"10WA01:271230",null,"Indiana Water Area 01","271230-CIAC-Tax Services-Water",0,0]
["2020-11-01","2021-06-01","10WA01:271230",131973066,"2021-02-01",-5240111.67,2.6100000000000002E-2,"10WA01:271230",null,"Indiana Water Area 01","271230-CIAC-Tax Services-Water",0,0]
["2020-11-01","2021-06-01","10WA01:271230",131973066,"2021-03-01",-5261253.6399999997,2.6100000000000002E-2,"10WA01:271230",null,"Indiana Water Area 01","271230-CIAC-Tax Services-Water",0,0]
["2020-11-01","2021-06-01","10WA01:271230",131973066,"2021-04-01",-6461235.1699999999,2.6100000000000002E-2,"10WA01:271230",null,"Indiana Water Area 01","271230-CIAC-Tax Services-Water",0,0]
["2020-11-01","2021-06-01","10WA01:271230",131973066,"2021-05-01",-6659351.1500000004,2.6100000000000002E-2,"10WA01:271230",null,"Indiana Water Area 01","271230-CIAC-Tax Services-Water",0,0]
["2020-11-01","2021-06-01","10WA01:271230",131973066,"2021-06-01",-6659351.1500000004,2.6100000000000002E-2,"10WA01:271230",null,"Indiana Water Area 01","271230-CIAC-Tax Services-Water",0,0]
["2020-11-01","2021-06-01","10WA01:271240",2020,"2020-11-01",-892.5,2.6100000000000002E-2,"10WA01:271240",null,"Indiana Water Area 01","271240-CIAC-Tax Meters-Water",0,0]
["2020-11-01","2021-06-01","10WA01:271240",2020,"2020-12-01",-892.5,2.6100000000000002E-2,"10WA01:271240",null,"Indiana Water Area 01","271240-CIAC-Tax Meters-Water",0,0]
["2020-11-01","2021-06-01","10WA01:271240",2020,"2021-01-01",-1079.25,2.6100000000000002E-2,"10WA01:271240",null,"Indiana Water Area 01","271240-CIAC-Tax Meters-Water",0,0]
["2020-11-01","2021-06-01","10WA01:271240",2020,"2021-02-01",-1079.25,2.6100000000000002E-2,"10WA01:271240",null,"Indiana Water Area 01","271240-CIAC-Tax Meters-Water",0,0]
["2020-11-01","2021-06-01","10WA01:271240",2020,"2021-03-01",-1079.25,2.6100000000000002E-2,"10WA01:271240",null,"Indiana Water Area 01","271240-CIAC-Tax Meters-Water",0,0]
["2020-11-01","2021-06-01","10WA01:271240",2020,"2021-04-01",-1079.25,2.6100000000000002E-2,"10WA01:271240",null,"Indiana Water Area 01","271240-CIAC-Tax Meters-Water",0,0]
["2020-11-01","2021-06-01","10WA01:271240",2020,"2021-05-01",-1079.25,2.6100000000000002E-2,"10WA01:271240",null,"Indiana Water Area 01","271240-CIAC-Tax Meters-Water",0,0]
["2020-11-01","2021-06-01","10WA01:271240",2020,"2021-06-01",-1079.25,2.6100000000000002E-2,"10WA01:271240",null,"Indiana Water Area 01","271240-CIAC-Tax Meters-Water",0,0]
["2020-11-01","2021-06-01","10WA01:252 271250",5737,"2020-11-01",-3146587.66,0,"10WA01:252 271250",null,"Indiana Water Area 01","271250-CIAC-Tax Hydrants-Water",0,0]
["2020-11-01","2021-06-01","10WA01:252 271250",5737,"2020-12-01",-3268310.22,0,"10WA01:252 271250",null,"Indiana Water Area 01","271250-CIAC-Tax Hydrants-Water",0,0]
["2020-11-01","2021-06-01","10WA01:252 271250",5737,"2021-01-01",-3659547.26,0,"10WA01:252 271250",null,"Indiana Water Area 01","271250-CIAC-Tax Hydrants-Water",0,0]
["2020-11-01","2021-06-01","10WA01:252 271250",5737,"2021-02-01",-3833572.23,0,"10WA01:252 271250",null,"Indiana Water Area 01","271250-CIAC-Tax Hydrants-Water",0,0]
["2020-11-01","2021-06-01","10WA01:252 271250",5737,"2021-03-01",-3657771.92,0,"10WA01:252 271250",null,"Indiana Water Area 01","271250-CIAC-Tax Hydrants-Water",0,0]
["2020-11-01","2021-06-01","10WA01:252 271250",5737,"2021-04-01",-3377258.75,0,"10WA01:252 271250",null,"Indiana Water Area 01","271250-CIAC-Tax Hydrants-Water",0,0]
["2020-11-01","2021-06-01","10WA01:252 271250",5737,"2021-05-01",-3337043.08,0,"10WA01:252 271250",null,"Indiana Water Area 01","271250-CIAC-Tax Hydrants-Water",0,0]
["2020-11-01","2021-06-01","10WA01:252 271250",5737,"2021-06-01",-3315121.03,0,"10WA01:252 271250",null,"Indiana Water Area 01","271250-CIAC-Tax Hydrants-Water",0,0]
["2020-11-01","2021-06-01","10WA01:271250",5740,"2020-11-01",-686513.34,2.6100000000000002E-2,"10WA01:271250",null,"Indiana Water Area 01","271250-CIAC-Tax Hydrants-Water",0,0]
["2020-11-01","2021-06-01","10WA01:271250",5740,"2020-12-01",-686513.34,2.6100000000000002E-2,"10WA01:271250",null,"Indiana Water Area 01","271250-CIAC-Tax Hydrants-Water",0,0]
["2020-11-01","2021-06-01","10WA01:271250",5740,"2021-01-01",-711638.09,2.6100000000000002E-2,"10WA01:271250",null,"Indiana Water Area 01","271250-CIAC-Tax Hydrants-Water",0,0]
["2020-11-01","2021-06-01","10WA01:271250",5740,"2021-02-01",-713175.28,2.6100000000000002E-2,"10WA01:271250",null,"Indiana Water Area 01","271250-CIAC-Tax Hydrants-Water",0,0]
["2020-11-01","2021-06-01","10WA01:271250",5740,"2021-03-01",-1013141.57,2.6100000000000002E-2,"10WA01:271250",null,"Indiana Water Area 01","271250-CIAC-Tax Hydrants-Water",0,0]
["2020-11-01","2021-06-01","10WA01:271250",5740,"2021-04-01",-1527248.68,2.6100000000000002E-2,"10WA01:271250",null,"Indiana Water Area 01","271250-CIAC-Tax Hydrants-Water",0,0]
["2020-11-01","2021-06-01","10WA01:271250",5740,"2021-05-01",-1580899.54,2.6100000000000002E-2,"10WA01:271250",null,"Indiana Water Area 01","271250-CIAC-Tax Hydrants-Water",0,0]
["2020-11-01","2021-06-01","10WA01:271250",5740,"2021-06-01",-1651941.23,2.6100000000000002E-2,"10WA01:271250",null,"Indiana Water Area 01","271250-CIAC-Tax Hydrants-Water",0,0]
["2020-11-01","2021-06-01","10WA01:252 271260",3266,"2020-11-01",0,0,"10WA01:252 271260",null,"Indiana Water Area 01","271260-CIAC-Tax Other-Water",0,0]
["2020-11-01","2021-06-01","10WA01:252 271260",3266,"2020-12-01",0,0,"10WA01:252 271260",null,"Indiana Water Area 01","271260-CIAC-Tax Other-Water",0,0]
["2020-11-01","2021-06-01","10WA01:252 271260",3266,"2021-01-01",0,0,"10WA01:252 271260",null,"Indiana Water Area 01","271260-CIAC-Tax Other-Water",0,0]
["2020-11-01","2021-06-01","10WA01:252 271260",3266,"2021-02-01",0,0,"10WA01:252 271260",null,"Indiana Water Area 01","271260-CIAC-Tax Other-Water",0,0]
["2020-11-01","2021-06-01","10WA01:252 271260",3266,"2021-03-01",0,0,"10WA01:252 271260",null,"Indiana Water Area 01","271260-CIAC-Tax Other-Water",0,0]
["2020-11-01","2021-06-01","10WA01:252 271260",3266,"2021-04-01",0,0,"10WA01:252 271260",null,"Indiana Water Area 01","271260-CIAC-Tax Other-Water",0,0]
["2020-11-01","2021-06-01","10WA01:252 271260",3266,"2021-05-01",0,0,"10WA01:252 271260",null,"Indiana Water Area 01","271260-CIAC-Tax Other-Water",0,0]
["2020-11-01","2021-06-01","10WA01:252 271260",3266,"2021-06-01",0,0,"10WA01:252 271260",null,"Indiana Water Area 01","271260-CIAC-Tax Other-Water",0,0]
["2020-11-01","2021-06-01","10WA01:271260",2631,"2020-11-01",-42579399.520000003,2.6100000000000002E-2,"10WA01:271260",null,"Indiana Water Area 01","271260-CIAC-Tax Other-Water",0,0]
["2020-11-01","2021-06-01","10WA01:271260",2631,"2020-12-01",-42579399.520000003,2.6100000000000002E-2,"10WA01:271260",null,"Indiana Water Area 01","271260-CIAC-Tax Other-Water",0,0]
["2020-11-01","2021-06-01","10WA01:271260",2631,"2021-01-01",-42580796.890000001,2.6100000000000002E-2,"10WA01:271260",null,"Indiana Water Area 01","271260-CIAC-Tax Other-Water",0,0]
["2020-11-01","2021-06-01","10WA01:271260",2631,"2021-02-01",-42580796.890000001,2.6100000000000002E-2,"10WA01:271260",null,"Indiana Water Area 01","271260-CIAC-Tax Other-Water",0,0]
["2020-11-01","2021-06-01","10WA01:271260",2631,"2021-03-01",-42580796.890000001,2.6100000000000002E-2,"10WA01:271260",null,"Indiana Water Area 01","271260-CIAC-Tax Other-Water",0,0]
["2020-11-01","2021-06-01","10WA01:271260",2631,"2021-04-01",-42580796.890000001,2.6100000000000002E-2,"10WA01:271260",null,"Indiana Water Area 01","271260-CIAC-Tax Other-Water",0,0]
["2020-11-01","2021-06-01","10WA01:271260",2631,"2021-05-01",-42580796.890000001,2.6100000000000002E-2,"10WA01:271260",null,"Indiana Water Area 01","271260-CIAC-Tax Other-Water",0,0]
["2020-11-01","2021-06-01","10WA01:271260",2631,"2021-06-01",-42580796.890000001,2.6100000000000002E-2,"10WA01:271260",null,"Indiana Water Area 01","271260-CIAC-Tax Other-Water",0,0]
["2020-11-01","2021-06-01","10WA01:252 271410",2017,"2020-11-01",-1008344.76,0,"10WA01:252 271410",null,"Indiana Water Area 01","271410-CIAC-Tax Mains FIT-Water",0,0]
["2020-11-01","2021-06-01","10WA01:252 271410",2017,"2020-12-01",-1037491.18,0,"10WA01:252 271410",null,"Indiana Water Area 01","271410-CIAC-Tax Mains FIT-Water",0,0]
["2020-11-01","2021-06-01","10WA01:252 271410",2017,"2021-01-01",-1459368.95,0,"10WA01:252 271410",null,"Indiana Water Area 01","271410-CIAC-Tax Mains FIT-Water",0,0]
["2020-11-01","2021-06-01","10WA01:252 271410",2017,"2021-02-01",-1449118.91,0,"10WA01:252 271410",null,"Indiana Water Area 01","271410-CIAC-Tax Mains FIT-Water",0,0]
["2020-11-01","2021-06-01","10WA01:252 271410",2017,"2021-03-01",-1571158.78,0,"10WA01:252 271410",null,"Indiana Water Area 01","271410-CIAC-Tax Mains FIT-Water",0,0]
["2020-11-01","2021-06-01","10WA01:252 271410",2017,"2021-04-01",-1799250.26,0,"10WA01:252 271410",null,"Indiana Water Area 01","271410-CIAC-Tax Mains FIT-Water",0,0]
["2020-11-01","2021-06-01","10WA01:252 271410",2017,"2021-05-01",-1801751.92,0,"10WA01:252 271410",null,"Indiana Water Area 01","271410-CIAC-Tax Mains FIT-Water",0,0]
["2020-11-01","2021-06-01","10WA01:252 271410",2017,"2021-06-01",-1894551.82,0,"10WA01:252 271410",null,"Indiana Water Area 01","271410-CIAC-Tax Mains FIT-Water",0,0]
["2020-11-01","2021-06-01","10WA01:271410",2632,"2020-11-01",-220037.37,2.6100000000000002E-2,"10WA01:271410",null,"Indiana Water Area 01","271410-CIAC-Tax Mains FIT-Water",0,0]
["2020-11-01","2021-06-01","10WA01:271410",2632,"2020-12-01",-220037.37,2.6100000000000002E-2,"10WA01:271410",null,"Indiana Water Area 01","271410-CIAC-Tax Mains FIT-Water",0,0]
["2020-11-01","2021-06-01","10WA01:271410",2632,"2021-01-01",-288816.71000000002,2.6100000000000002E-2,"10WA01:271410",null,"Indiana Water Area 01","271410-CIAC-Tax Mains FIT-Water",0,0]
["2020-11-01","2021-06-01","10WA01:271410",2632,"2021-02-01",-249907.74,2.6100000000000002E-2,"10WA01:271410",null,"Indiana Water Area 01","271410-CIAC-Tax Mains FIT-Water",0,0]
["2020-11-01","2021-06-01","10WA01:271410",2632,"2021-03-01",-249907.74,2.6100000000000002E-2,"10WA01:271410",null,"Indiana Water Area 01","271410-CIAC-Tax Mains FIT-Water",0,0]
["2020-11-01","2021-06-01","10WA01:271410",2632,"2021-04-01",-249907.74,2.6100000000000002E-2,"10WA01:271410",null,"Indiana Water Area 01","271410-CIAC-Tax Mains FIT-Water",0,0]
["2020-11-01","2021-06-01","10WA01:271410",2632,"2021-05-01",-249907.74,2.6100000000000002E-2,"10WA01:271410",null,"Indiana Water Area 01","271410-CIAC-Tax Mains FIT-Water",0,0]
["2020-11-01","2021-06-01","10WA01:271410",2632,"2021-06-01",-251009.49,2.6100000000000002E-2,"10WA01:271410",null,"Indiana Water Area 01","271410-CIAC-Tax Mains FIT-Water",0,0]
["2020-11-01","2021-06-01","10WA01:271430",134871693,"2020-11-01",0,0,"10WA01:271430",null,"Indiana Water Area 01","271430-CIAC-Tax Services FIT-Water",0,0]
["2020-11-01","2021-06-01","10WA01:271430",134871693,"2020-12-01",0,0,"10WA01:271430",null,"Indiana Water Area 01","271430-CIAC-Tax Services FIT-Water",0,0]
["2020-11-01","2021-06-01","10WA01:271430",134871693,"2021-01-01",-2016090.37,0,"10WA01:271430",null,"Indiana Water Area 01","271430-CIAC-Tax Services FIT-Water",0,0]
["2020-11-01","2021-06-01","10WA01:271430",134871693,"2021-02-01",-2016090.37,0,"10WA01:271430",null,"Indiana Water Area 01","271430-CIAC-Tax Services FIT-Water",0,0]
["2020-11-01","2021-06-01","10WA01:271430",134871693,"2021-03-01",-2016090.37,0,"10WA01:271430",null,"Indiana Water Area 01","271430-CIAC-Tax Services FIT-Water",0,0]
["2020-11-01","2021-06-01","10WA01:271430",134871693,"2021-04-01",-3216071.84,0,"10WA01:271430",null,"Indiana Water Area 01","271430-CIAC-Tax Services FIT-Water",0,0]
["2020-11-01","2021-06-01","10WA01:271430",134871693,"2021-05-01",-3017955.86,2.6100000000000002E-2,"10WA01:271430",null,"Indiana Water Area 01","271430-CIAC-Tax Services FIT-Water",0,0]
["2020-11-01","2021-06-01","10WA01:271430",134871693,"2021-06-01",-3017955.86,2.6100000000000002E-2,"10WA01:271430",null,"Indiana Water Area 01","271430-CIAC-Tax Services FIT-Water",0,0]
["2020-11-01","2021-06-01","10WA01:271440",2021,"2020-11-01",-892.5,2.6100000000000002E-2,"10WA01:271440",null,"Indiana Water Area 01","271440-CIAC-Tax Meters FIT-Water",0,0]
["2020-11-01","2021-06-01","10WA01:271440",2021,"2020-12-01",-892.5,2.6100000000000002E-2,"10WA01:271440",null,"Indiana Water Area 01","271440-CIAC-Tax Meters FIT-Water",0,0]
["2020-11-01","2021-06-01","10WA01:271440",2021,"2021-01-01",-1079.25,2.6100000000000002E-2,"10WA01:271440",null,"Indiana Water Area 01","271440-CIAC-Tax Meters FIT-Water",0,0]
["2020-11-01","2021-06-01","10WA01:271440",2021,"2021-02-01",-1079.25,2.6100000000000002E-2,"10WA01:271440",null,"Indiana Water Area 01","271440-CIAC-Tax Meters FIT-Water",0,0]
["2020-11-01","2021-06-01","10WA01:271440",2021,"2021-03-01",-1079.25,2.6100000000000002E-2,"10WA01:271440",null,"Indiana Water Area 01","271440-CIAC-Tax Meters FIT-Water",0,0]
["2020-11-01","2021-06-01","10WA01:271440",2021,"2021-04-01",-1079.25,2.6100000000000002E-2,"10WA01:271440",null,"Indiana Water Area 01","271440-CIAC-Tax Meters FIT-Water",0,0]
["2020-11-01","2021-06-01","10WA01:271440",2021,"2021-05-01",-1079.25,2.6100000000000002E-2,"10WA01:271440",null,"Indiana Water Area 01","271440-CIAC-Tax Meters FIT-Water",0,0]
["2020-11-01","2021-06-01","10WA01:271440",2021,"2021-06-01",-1079.25,2.6100000000000002E-2,"10WA01:271440",null,"Indiana Water Area 01","271440-CIAC-Tax Meters FIT-Water",0,0]
["2020-11-01","2021-06-01","10WA01:252 271450",5738,"2020-11-01",-242840.37,0,"10WA01:252 271450",null,"Indiana Water Area 01","271450-CIAC-Tax Hydrants FIT-Water",0,0]
["2020-11-01","2021-06-01","10WA01:252 271450",5738,"2020-12-01",-249390.33,0,"10WA01:252 271450",null,"Indiana Water Area 01","271450-CIAC-Tax Hydrants FIT-Water",0,0]
["2020-11-01","2021-06-01","10WA01:252 271450",5738,"2021-01-01",-309860.34999999998,0,"10WA01:252 271450",null,"Indiana Water Area 01","271450-CIAC-Tax Hydrants FIT-Water",0,0]
["2020-11-01","2021-06-01","10WA01:252 271450",5738,"2021-02-01",-312462.59000000003,0,"10WA01:252 271450",null,"Indiana Water Area 01","271450-CIAC-Tax Hydrants FIT-Water",0,0]
["2020-11-01","2021-06-01","10WA01:252 271450",5738,"2021-03-01",-344626.91,0,"10WA01:252 271450",null,"Indiana Water Area 01","271450-CIAC-Tax Hydrants FIT-Water",0,0]
["2020-11-01","2021-06-01","10WA01:252 271450",5738,"2021-04-01",-420286.71,0,"10WA01:252 271450",null,"Indiana Water Area 01","271450-CIAC-Tax Hydrants FIT-Water",0,0]
["2020-11-01","2021-06-01","10WA01:252 271450",5738,"2021-05-01",-419998.95,0,"10WA01:252 271450",null,"Indiana Water Area 01","271450-CIAC-Tax Hydrants FIT-Water",0,0]
["2020-11-01","2021-06-01","10WA01:252 271450",5738,"2021-06-01",-431963.38,0,"10WA01:252 271450",null,"Indiana Water Area 01","271450-CIAC-Tax Hydrants FIT-Water",0,0]
["2020-11-01","2021-06-01","10WA01:271450",5741,"2020-11-01",-18515.990000000002,2.6100000000000002E-2,"10WA01:271450",null,"Indiana Water Area 01","271450-CIAC-Tax Hydrants FIT-Water",0,0]
["2020-11-01","2021-06-01","10WA01:271450",5741,"2020-12-01",-18515.990000000002,2.6100000000000002E-2,"10WA01:271450",null,"Indiana Water Area 01","271450-CIAC-Tax Hydrants FIT-Water",0,0]
["2020-11-01","2021-06-01","10WA01:271450",5741,"2021-01-01",-18790.75,2.6100000000000002E-2,"10WA01:271450",null,"Indiana Water Area 01","271450-CIAC-Tax Hydrants FIT-Water",0,0]
["2020-11-01","2021-06-01","10WA01:271450",5741,"2021-02-01",-17253.55,2.6100000000000002E-2,"10WA01:271450",null,"Indiana Water Area 01","271450-CIAC-Tax Hydrants FIT-Water",0,0]
["2020-11-01","2021-06-01","10WA01:271450",5741,"2021-03-01",-28503.56,2.6100000000000002E-2,"10WA01:271450",null,"Indiana Water Area 01","271450-CIAC-Tax Hydrants FIT-Water",0,0]
["2020-11-01","2021-06-01","10WA01:271450",5741,"2021-04-01",-28503.56,2.6100000000000002E-2,"10WA01:271450",null,"Indiana Water Area 01","271450-CIAC-Tax Hydrants FIT-Water",0,0]
["2020-11-01","2021-06-01","10WA01:271450",5741,"2021-05-01",-24948.240000000002,2.6100000000000002E-2,"10WA01:271450",null,"Indiana Water Area 01","271450-CIAC-Tax Hydrants FIT-Water",0,0]
["2020-11-01","2021-06-01","10WA01:271450",5741,"2021-06-01",-24948.240000000002,2.6100000000000002E-2,"10WA01:271450",null,"Indiana Water Area 01","271450-CIAC-Tax Hydrants FIT-Water",0,0]
["2020-11-01","2021-06-01","10WA01:252 271460",3877,"2020-11-01",0,0,"10WA01:252 271460",null,"Indiana Water Area 01","271460-CIAC-Tax Other FIT-Water",0,0]
["2020-11-01","2021-06-01","10WA01:252 271460",3877,"2020-12-01",0,0,"10WA01:252 271460",null,"Indiana Water Area 01","271460-CIAC-Tax Other FIT-Water",0,0]
["2020-11-01","2021-06-01","10WA01:252 271460",3877,"2021-01-01",0,0,"10WA01:252 271460",null,"Indiana Water Area 01","271460-CIAC-Tax Other FIT-Water",0,0]
["2020-11-01","2021-06-01","10WA01:252 271460",3877,"2021-02-01",0,0,"10WA01:252 271460",null,"Indiana Water Area 01","271460-CIAC-Tax Other FIT-Water",0,0]
["2020-11-01","2021-06-01","10WA01:252 271460",3877,"2021-03-01",0,0,"10WA01:252 271460",null,"Indiana Water Area 01","271460-CIAC-Tax Other FIT-Water",0,0]
["2020-11-01","2021-06-01","10WA01:252 271460",3877,"2021-04-01",0,0,"10WA01:252 271460",null,"Indiana Water Area 01","271460-CIAC-Tax Other FIT-Water",0,0]
["2020-11-01","2021-06-01","10WA01:252 271460",3877,"2021-05-01",0,0,"10WA01:252 271460",null,"Indiana Water Area 01","271460-CIAC-Tax Other FIT-Water",0,0]
["2020-11-01","2021-06-01","10WA01:252 271460",3877,"2021-06-01",0,0,"10WA01:252 271460",null,"Indiana Water Area 01","271460-CIAC-Tax Other FIT-Water",0,0]
["2020-11-01","2021-06-01","10WA01:271460",3876,"2020-11-01",0,2.6100000000000002E-2,"10WA01:271460",null,"Indiana Water Area 01","271460-CIAC-Tax Other FIT-Water",0,0]
["2020-11-01","2021-06-01","10WA01:271460",3876,"2020-12-01",0,2.6100000000000002E-2,"10WA01:271460",null,"Indiana Water Area 01","271460-CIAC-Tax Other FIT-Water",0,0]
["2020-11-01","2021-06-01","10WA01:271460",3876,"2021-01-01",0,2.6100000000000002E-2,"10WA01:271460",null,"Indiana Water Area 01","271460-CIAC-Tax Other FIT-Water",0,0]
["2020-11-01","2021-06-01","10WA01:271460",3876,"2021-02-01",0,2.6100000000000002E-2,"10WA01:271460",null,"Indiana Water Area 01","271460-CIAC-Tax Other FIT-Water",0,0]
["2020-11-01","2021-06-01","10WA01:271460",3876,"2021-03-01",0,2.6100000000000002E-2,"10WA01:271460",null,"Indiana Water Area 01","271460-CIAC-Tax Other FIT-Water",0,0]
["2020-11-01","2021-06-01","10WA01:271460",3876,"2021-04-01",0,2.6100000000000002E-2,"10WA01:271460",null,"Indiana Water Area 01","271460-CIAC-Tax Other FIT-Water",0,0]
["2020-11-01","2021-06-01","10WA01:271460",3876,"2021-05-01",0,2.6100000000000002E-2,"10WA01:271460",null,"Indiana Water Area 01","271460-CIAC-Tax Other FIT-Water",0,0]
["2020-11-01","2021-06-01","10WA01:271460",3876,"2021-06-01",0,2.6100000000000002E-2,"10WA01:271460",null,"Indiana Water Area 01","271460-CIAC-Tax Other FIT-Water",0,0]
["2020-11-01","2021-06-01","10WA01:301000",6363,"2020-11-01",384293.7,0,"10WA01:301000",null,"Indiana Water Area 01","301000-Organization",0,0]
["2020-11-01","2021-06-01","10WA01:301000",6363,"2020-12-01",384293.7,0,"10WA01:301000",null,"Indiana Water Area 01","301000-Organization",0,0]
["2020-11-01","2021-06-01","10WA01:301000",6363,"2021-01-01",384293.7,0,"10WA01:301000",null,"Indiana Water Area 01","301000-Organization",0,0]
["2020-11-01","2021-06-01","10WA01:301000",6363,"2021-02-01",384293.7,0,"10WA01:301000",null,"Indiana Water Area 01","301000-Organization",0,0]
["2020-11-01","2021-06-01","10WA01:301000",6363,"2021-03-01",384293.7,0,"10WA01:301000",null,"Indiana Water Area 01","301000-Organization",0,0]
["2020-11-01","2021-06-01","10WA01:301000",6363,"2021-04-01",384293.7,0,"10WA01:301000",null,"Indiana Water Area 01","301000-Organization",0,0]
["2020-11-01","2021-06-01","10WA01:301000",6363,"2021-05-01",384293.7,0,"10WA01:301000",null,"Indiana Water Area 01","301000-Organization",0,0]
["2020-11-01","2021-06-01","10WA01:301000",6363,"2021-06-01",384293.7,0,"10WA01:301000",null,"Indiana Water Area 01","301000-Organization",0,0]
["2020-11-01","2021-06-01","10WA01:302000",2630,"2020-11-01",2677.34,0,"10WA01:302000",null,"Indiana Water Area 01","302000-Franchises",0,0]
["2020-11-01","2021-06-01","10WA01:302000",2630,"2020-12-01",2677.34,0,"10WA01:302000",null,"Indiana Water Area 01","302000-Franchises",0,0]
["2020-11-01","2021-06-01","10WA01:302000",2630,"2021-01-01",2677.34,0,"10WA01:302000",null,"Indiana Water Area 01","302000-Franchises",0,0]
["2020-11-01","2021-06-01","10WA01:302000",2630,"2021-02-01",2677.34,0,"10WA01:302000",null,"Indiana Water Area 01","302000-Franchises",0,0]
["2020-11-01","2021-06-01","10WA01:302000",2630,"2021-03-01",2677.34,0,"10WA01:302000",null,"Indiana Water Area 01","302000-Franchises",0,0]
["2020-11-01","2021-06-01","10WA01:302000",2630,"2021-04-01",2677.34,0,"10WA01:302000",null,"Indiana Water Area 01","302000-Franchises",0,0]
["2020-11-01","2021-06-01","10WA01:302000",2630,"2021-05-01",2677.34,0,"10WA01:302000",null,"Indiana Water Area 01","302000-Franchises",0,0]
["2020-11-01","2021-06-01","10WA01:302000",2630,"2021-06-01",2677.34,0,"10WA01:302000",null,"Indiana Water Area 01","302000-Franchises",0,0]
["2020-11-01","2021-06-01","10WA01:303200",2018,"2020-11-01",13510259.74,0,"10WA01:303200",null,"Indiana Water Area 01","303200-Land & Land Rights-Supply",0,0]
["2020-11-01","2021-06-01","10WA01:303200",2018,"2020-12-01",13510162.439999999,0,"10WA01:303200",null,"Indiana Water Area 01","303200-Land & Land Rights-Supply",0,0]
["2020-11-01","2021-06-01","10WA01:303200",2018,"2021-01-01",13510162.439999999,0,"10WA01:303200",null,"Indiana Water Area 01","303200-Land & Land Rights-Supply",0,0]
["2020-11-01","2021-06-01","10WA01:303200",2018,"2021-02-01",13510161.68,0,"10WA01:303200",null,"Indiana Water Area 01","303200-Land & Land Rights-Supply",0,0]
["2020-11-01","2021-06-01","10WA01:303200",2018,"2021-03-01",13510161.68,0,"10WA01:303200",null,"Indiana Water Area 01","303200-Land & Land Rights-Supply",0,0]
["2020-11-01","2021-06-01","10WA01:303200",2018,"2021-04-01",13510161.68,0,"10WA01:303200",null,"Indiana Water Area 01","303200-Land & Land Rights-Supply",0,0]
["2020-11-01","2021-06-01","10WA01:303200",2018,"2021-05-01",13508875.539999999,0,"10WA01:303200",null,"Indiana Water Area 01","303200-Land & Land Rights-Supply",0,0]
["2020-11-01","2021-06-01","10WA01:303200",2018,"2021-06-01",13508875.539999999,0,"10WA01:303200",null,"Indiana Water Area 01","303200-Land & Land Rights-Supply",0,0]
["2020-11-01","2021-06-01","10WA01:303300",5739,"2020-11-01",134753.62,0,"10WA01:303300",null,"Indiana Water Area 01","303300-Land & Land Rights-Pumping",0,0]
["2020-11-01","2021-06-01","10WA01:303300",5739,"2020-12-01",134753.62,0,"10WA01:303300",null,"Indiana Water Area 01","303300-Land & Land Rights-Pumping",0,0]
["2020-11-01","2021-06-01","10WA01:303300",5739,"2021-01-01",134753.62,0,"10WA01:303300",null,"Indiana Water Area 01","303300-Land & Land Rights-Pumping",0,0]
["2020-11-01","2021-06-01","10WA01:303300",5739,"2021-02-01",134753.62,0,"10WA01:303300",null,"Indiana Water Area 01","303300-Land & Land Rights-Pumping",0,0]
["2020-11-01","2021-06-01","10WA01:303300",5739,"2021-03-01",134753.62,0,"10WA01:303300",null,"Indiana Water Area 01","303300-Land & Land Rights-Pumping",0,0]
["2020-11-01","2021-06-01","10WA01:303300",5739,"2021-04-01",134753.62,0,"10WA01:303300",null,"Indiana Water Area 01","303300-Land & Land Rights-Pumping",0,0]
["2020-11-01","2021-06-01","10WA01:303300",5739,"2021-05-01",134753.62,0,"10WA01:303300",null,"Indiana Water Area 01","303300-Land & Land Rights-Pumping",0,0]
["2020-11-01","2021-06-01","10WA01:303300",5739,"2021-06-01",134753.62,0,"10WA01:303300",null,"Indiana Water Area 01","303300-Land & Land Rights-Pumping",0,0]
["2020-11-01","2021-06-01","10WA01:303400",3267,"2020-11-01",2848840.87,0,"10WA01:303400",null,"Indiana Water Area 01","303400-Land & Land Rights-Treatment",0,0]
["2020-11-01","2021-06-01","10WA01:303400",3267,"2020-12-01",2848840.87,0,"10WA01:303400",null,"Indiana Water Area 01","303400-Land & Land Rights-Treatment",0,0]
["2020-11-01","2021-06-01","10WA01:303400",3267,"2021-01-01",2848840.87,0,"10WA01:303400",null,"Indiana Water Area 01","303400-Land & Land Rights-Treatment",0,0]
["2020-11-01","2021-06-01","10WA01:303400",3267,"2021-02-01",2848840.87,0,"10WA01:303400",null,"Indiana Water Area 01","303400-Land & Land Rights-Treatment",0,0]
["2020-11-01","2021-06-01","10WA01:303400",3267,"2021-03-01",2848840.87,0,"10WA01:303400",null,"Indiana Water Area 01","303400-Land & Land Rights-Treatment",0,0]
["2020-11-01","2021-06-01","10WA01:303400",3267,"2021-04-01",2848840.87,0,"10WA01:303400",null,"Indiana Water Area 01","303400-Land & Land Rights-Treatment",0,0]
["2020-11-01","2021-06-01","10WA01:303400",3267,"2021-05-01",2848840.87,0,"10WA01:303400",null,"Indiana Water Area 01","303400-Land & Land Rights-Treatment",0,0]
["2020-11-01","2021-06-01","10WA01:303400",3267,"2021-06-01",2848840.87,0,"10WA01:303400",null,"Indiana Water Area 01","303400-Land & Land Rights-Treatment",0,0]
["2020-11-01","2021-06-01","10WA01:303500",4564,"2020-11-01",3249631.11,0,"10WA01:303500",null,"Indiana Water Area 01","303500-Land & Land Rights-T&D",0,0]
["2020-11-01","2021-06-01","10WA01:303500",4564,"2020-12-01",3280445.71,0,"10WA01:303500",null,"Indiana Water Area 01","303500-Land & Land Rights-T&D",0,0]
["2020-11-01","2021-06-01","10WA01:303500",4564,"2021-01-01",3292320.25,0,"10WA01:303500",null,"Indiana Water Area 01","303500-Land & Land Rights-T&D",0,0]
["2020-11-01","2021-06-01","10WA01:303500",4564,"2021-02-01",3294085.39,0,"10WA01:303500",null,"Indiana Water Area 01","303500-Land & Land Rights-T&D",0,0]
["2020-11-01","2021-06-01","10WA01:303500",4564,"2021-03-01",3294961.62,0,"10WA01:303500",null,"Indiana Water Area 01","303500-Land & Land Rights-T&D",0,0]
["2020-11-01","2021-06-01","10WA01:303500",4564,"2021-04-01",3294359.81,0,"10WA01:303500",null,"Indiana Water Area 01","303500-Land & Land Rights-T&D",0,0]
["2020-11-01","2021-06-01","10WA01:303500",4564,"2021-05-01",3293928.9,0,"10WA01:303500",null,"Indiana Water Area 01","303500-Land & Land Rights-T&D",0,0]
["2020-11-01","2021-06-01","10WA01:303500",4564,"2021-06-01",3294400.1,0,"10WA01:303500",null,"Indiana Water Area 01","303500-Land & Land Rights-T&D",0,0]
["2020-11-01","2021-06-01","10WA01:303600",3882,"2020-11-01",1401677.33,0,"10WA01:303600",null,"Indiana Water Area 01","303600-Land & Land Rights-General",0,0]
["2020-11-01","2021-06-01","10WA01:303600",3882,"2020-12-01",1401677.33,0,"10WA01:303600",null,"Indiana Water Area 01","303600-Land & Land Rights-General",0,0]
["2020-11-01","2021-06-01","10WA01:303600",3882,"2021-01-01",1405785.04,0,"10WA01:303600",null,"Indiana Water Area 01","303600-Land & Land Rights-General",0,0]
["2020-11-01","2021-06-01","10WA01:303600",3882,"2021-02-01",1405753.17,0,"10WA01:303600",null,"Indiana Water Area 01","303600-Land & Land Rights-General",0,0]
["2020-11-01","2021-06-01","10WA01:303600",3882,"2021-03-01",1405753.17,0,"10WA01:303600",null,"Indiana Water Area 01","303600-Land & Land Rights-General",0,0]
["2020-11-01","2021-06-01","10WA01:303600",3882,"2021-04-01",1405753.17,0,"10WA01:303600",null,"Indiana Water Area 01","303600-Land & Land Rights-General",0,0]
["2020-11-01","2021-06-01","10WA01:303600",3882,"2021-05-01",1405753.17,0,"10WA01:303600",null,"Indiana Water Area 01","303600-Land & Land Rights-General",0,0]
["2020-11-01","2021-06-01","10WA01:303600",3882,"2021-06-01",1405753.17,0,"10WA01:303600",null,"Indiana Water Area 01","303600-Land & Land Rights-General",0,0]
["2020-11-01","2021-06-01","10WA01:304100",3272,"2020-11-01",10847202.1,2.58E-2,"10WA01:304100",null,"Indiana Water Area 01","304100-Struct & Imp-Supply",6.4000000000000003E-3,0]
["2020-11-01","2021-06-01","10WA01:304100",3272,"2020-12-01",10881208.08,2.58E-2,"10WA01:304100",null,"Indiana Water Area 01","304100-Struct & Imp-Supply",6.4000000000000003E-3,0]
["2020-11-01","2021-06-01","10WA01:304100",3272,"2021-01-01",11185520.810000001,2.58E-2,"10WA01:304100",null,"Indiana Water Area 01","304100-Struct & Imp-Supply",6.4000000000000003E-3,0]
["2020-11-01","2021-06-01","10WA01:304100",3272,"2021-02-01",11296044.67,2.58E-2,"10WA01:304100",null,"Indiana Water Area 01","304100-Struct & Imp-Supply",6.4000000000000003E-3,0]
["2020-11-01","2021-06-01","10WA01:304100",3272,"2021-03-01",11316365.470000001,2.58E-2,"10WA01:304100",null,"Indiana Water Area 01","304100-Struct & Imp-Supply",6.4000000000000003E-3,0]
["2020-11-01","2021-06-01","10WA01:304100",3272,"2021-04-01",11331338.25,2.58E-2,"10WA01:304100",null,"Indiana Water Area 01","304100-Struct & Imp-Supply",6.4000000000000003E-3,0]
["2020-11-01","2021-06-01","10WA01:304100",3272,"2021-05-01",11413860.1,2.58E-2,"10WA01:304100",null,"Indiana Water Area 01","304100-Struct & Imp-Supply",6.4000000000000003E-3,0]
["2020-11-01","2021-06-01","10WA01:304100",3272,"2021-06-01",11424434.710000001,2.58E-2,"10WA01:304100",null,"Indiana Water Area 01","304100-Struct & Imp-Supply",6.4000000000000003E-3,0]
["2020-11-01","2021-06-01","10WA01:304200",5158,"2020-11-01",25365935.760000002,2.1100000000000001E-2,"10WA01:304200",null,"Indiana Water Area 01","304200-Struct & Imp-Pumping",5.1999999999999998E-3,0]
["2020-11-01","2021-06-01","10WA01:304200",5158,"2020-12-01",25370642.899999999,2.1100000000000001E-2,"10WA01:304200",null,"Indiana Water Area 01","304200-Struct & Imp-Pumping",5.1999999999999998E-3,0]
["2020-11-01","2021-06-01","10WA01:304200",5158,"2021-01-01",25394393.239999998,2.1100000000000001E-2,"10WA01:304200",null,"Indiana Water Area 01","304200-Struct & Imp-Pumping",5.1999999999999998E-3,0]
["2020-11-01","2021-06-01","10WA01:304200",5158,"2021-02-01",25388592.449999999,2.1100000000000001E-2,"10WA01:304200",null,"Indiana Water Area 01","304200-Struct & Imp-Pumping",5.1999999999999998E-3,0]
["2020-11-01","2021-06-01","10WA01:304200",5158,"2021-03-01",25387564.010000002,2.1100000000000001E-2,"10WA01:304200",null,"Indiana Water Area 01","304200-Struct & Imp-Pumping",5.1999999999999998E-3,0]
["2020-11-01","2021-06-01","10WA01:304200",5158,"2021-04-01",25393146.809999999,2.1100000000000001E-2,"10WA01:304200",null,"Indiana Water Area 01","304200-Struct & Imp-Pumping",5.1999999999999998E-3,0]
["2020-11-01","2021-06-01","10WA01:304200",5158,"2021-05-01",25387701.48,2.1100000000000001E-2,"10WA01:304200",null,"Indiana Water Area 01","304200-Struct & Imp-Pumping",5.1999999999999998E-3,0]
["2020-11-01","2021-06-01","10WA01:304200",5158,"2021-06-01",25394645.609999999,2.1100000000000001E-2,"10WA01:304200",null,"Indiana Water Area 01","304200-Struct & Imp-Pumping",5.1999999999999998E-3,0]
["2020-11-01","2021-06-01","10WA01:304300",3273,"2020-11-01",128223383.43000001,1.9800000000000002E-2,"10WA01:304300",null,"Indiana Water Area 01","304300-Struct & Imp-Treatment",5.0000000000000001E-3,0]
["2020-11-01","2021-06-01","10WA01:304300",3273,"2020-12-01",128431024.06999999,1.9800000000000002E-2,"10WA01:304300",null,"Indiana Water Area 01","304300-Struct & Imp-Treatment",5.0000000000000001E-3,0]
["2020-11-01","2021-06-01","10WA01:304300",3273,"2021-01-01",128494130.90000001,1.9800000000000002E-2,"10WA01:304300",null,"Indiana Water Area 01","304300-Struct & Imp-Treatment",5.0000000000000001E-3,0]
["2020-11-01","2021-06-01","10WA01:304300",3273,"2021-02-01",128424441.14,1.9800000000000002E-2,"10WA01:304300",null,"Indiana Water Area 01","304300-Struct & Imp-Treatment",5.0000000000000001E-3,0]
["2020-11-01","2021-06-01","10WA01:304300",3273,"2021-03-01",128422862.17,1.9800000000000002E-2,"10WA01:304300",null,"Indiana Water Area 01","304300-Struct & Imp-Treatment",5.0000000000000001E-3,0]
["2020-11-01","2021-06-01","10WA01:304300",3273,"2021-04-01",128539842.09999999,1.9800000000000002E-2,"10WA01:304300",null,"Indiana Water Area 01","304300-Struct & Imp-Treatment",5.0000000000000001E-3,0]
["2020-11-01","2021-06-01","10WA01:304300",3273,"2021-05-01",128442762.29000001,1.9800000000000002E-2,"10WA01:304300",null,"Indiana Water Area 01","304300-Struct & Imp-Treatment",5.0000000000000001E-3,0]
["2020-11-01","2021-06-01","10WA01:304300",3273,"2021-06-01",128460965.31999999,1.9800000000000002E-2,"10WA01:304300",null,"Indiana Water Area 01","304300-Struct & Imp-Treatment",5.0000000000000001E-3,0]
["2020-11-01","2021-06-01","10WA01:304301",3274,"2020-11-01",197248.24,2.52E-2,"10WA01:304301",null,"Indiana Water Area 01","304301-Struct & Imp-Treat-Dpr Paint",0,0]
["2020-11-01","2021-06-01","10WA01:304301",3274,"2020-12-01",197248.24,2.52E-2,"10WA01:304301",null,"Indiana Water Area 01","304301-Struct & Imp-Treat-Dpr Paint",0,0]
["2020-11-01","2021-06-01","10WA01:304301",3274,"2021-01-01",197248.24,2.52E-2,"10WA01:304301",null,"Indiana Water Area 01","304301-Struct & Imp-Treat-Dpr Paint",0,0]
["2020-11-01","2021-06-01","10WA01:304301",3274,"2021-02-01",197248.24,2.52E-2,"10WA01:304301",null,"Indiana Water Area 01","304301-Struct & Imp-Treat-Dpr Paint",0,0]
["2020-11-01","2021-06-01","10WA01:304301",3274,"2021-03-01",197248.24,2.52E-2,"10WA01:304301",null,"Indiana Water Area 01","304301-Struct & Imp-Treat-Dpr Paint",0,0]
["2020-11-01","2021-06-01","10WA01:304301",3274,"2021-04-01",197248.24,2.52E-2,"10WA01:304301",null,"Indiana Water Area 01","304301-Struct & Imp-Treat-Dpr Paint",0,0]
["2020-11-01","2021-06-01","10WA01:304301",3274,"2021-05-01",197248.24,2.52E-2,"10WA01:304301",null,"Indiana Water Area 01","304301-Struct & Imp-Treat-Dpr Paint",0,0]
["2020-11-01","2021-06-01","10WA01:304301",3274,"2021-06-01",197248.24,2.52E-2,"10WA01:304301",null,"Indiana Water Area 01","304301-Struct & Imp-Treat-Dpr Paint",0,0]
["2020-11-01","2021-06-01","10WA01:304302",5742,"2020-11-01",1206855.6299999999,2.52E-2,"10WA01:304302",null,"Indiana Water Area 01","304302-Struct & Imp-Treat-Painting",0,0]
["2020-11-01","2021-06-01","10WA01:304302",5742,"2020-12-01",1206855.6299999999,2.52E-2,"10WA01:304302",null,"Indiana Water Area 01","304302-Struct & Imp-Treat-Painting",0,0]
["2020-11-01","2021-06-01","10WA01:304302",5742,"2021-01-01",1206855.6299999999,2.52E-2,"10WA01:304302",null,"Indiana Water Area 01","304302-Struct & Imp-Treat-Painting",0,0]
["2020-11-01","2021-06-01","10WA01:304302",5742,"2021-02-01",1206855.6299999999,2.52E-2,"10WA01:304302",null,"Indiana Water Area 01","304302-Struct & Imp-Treat-Painting",0,0]
["2020-11-01","2021-06-01","10WA01:304302",5742,"2021-03-01",1206855.6299999999,2.52E-2,"10WA01:304302",null,"Indiana Water Area 01","304302-Struct & Imp-Treat-Painting",0,0]
["2020-11-01","2021-06-01","10WA01:304302",5742,"2021-04-01",1206855.6299999999,2.52E-2,"10WA01:304302",null,"Indiana Water Area 01","304302-Struct & Imp-Treat-Painting",0,0]
["2020-11-01","2021-06-01","10WA01:304302",5742,"2021-05-01",1206855.6299999999,2.52E-2,"10WA01:304302",null,"Indiana Water Area 01","304302-Struct & Imp-Treat-Painting",0,0]
["2020-11-01","2021-06-01","10WA01:304302",5742,"2021-06-01",1206855.6299999999,2.52E-2,"10WA01:304302",null,"Indiana Water Area 01","304302-Struct & Imp-Treat-Painting",0,0]
["2020-11-01","2021-06-01","10WA01:304310",3883,"2020-11-01",4799864.18,1.6639999999999999E-2,"10WA01:304310",null,"Indiana Water Area 01","304310-Struct & Imp-Treatment-Handl",4.1599999999999996E-3,0]
["2020-11-01","2021-06-01","10WA01:304310",3883,"2020-12-01",4799864.18,1.6639999999999999E-2,"10WA01:304310",null,"Indiana Water Area 01","304310-Struct & Imp-Treatment-Handl",4.1599999999999996E-3,0]
["2020-11-01","2021-06-01","10WA01:304310",3883,"2021-01-01",4799864.18,1.6639999999999999E-2,"10WA01:304310",null,"Indiana Water Area 01","304310-Struct & Imp-Treatment-Handl",4.1599999999999996E-3,0]
["2020-11-01","2021-06-01","10WA01:304310",3883,"2021-02-01",4799864.18,1.6639999999999999E-2,"10WA01:304310",null,"Indiana Water Area 01","304310-Struct & Imp-Treatment-Handl",4.1599999999999996E-3,0]
["2020-11-01","2021-06-01","10WA01:304310",3883,"2021-03-01",4799864.18,1.6639999999999999E-2,"10WA01:304310",null,"Indiana Water Area 01","304310-Struct & Imp-Treatment-Handl",4.1599999999999996E-3,0]
["2020-11-01","2021-06-01","10WA01:304310",3883,"2021-04-01",4799864.18,1.6639999999999999E-2,"10WA01:304310",null,"Indiana Water Area 01","304310-Struct & Imp-Treatment-Handl",4.1599999999999996E-3,0]
["2020-11-01","2021-06-01","10WA01:304310",3883,"2021-05-01",4799864.18,1.6639999999999999E-2,"10WA01:304310",null,"Indiana Water Area 01","304310-Struct & Imp-Treatment-Handl",4.1599999999999996E-3,0]
["2020-11-01","2021-06-01","10WA01:304310",3883,"2021-06-01",4799864.18,1.6639999999999999E-2,"10WA01:304310",null,"Indiana Water Area 01","304310-Struct & Imp-Treatment-Handl",4.1599999999999996E-3,0]
["2020-11-01","2021-06-01","10WA01:304312",4565,"2020-11-01",5085.58,2.52E-2,"10WA01:304312",null,"Indiana Water Area 01","304312-Struc & Imp-Treat-WH Repaint",0,0]
["2020-11-01","2021-06-01","10WA01:304312",4565,"2020-12-01",5085.58,2.52E-2,"10WA01:304312",null,"Indiana Water Area 01","304312-Struc & Imp-Treat-WH Repaint",0,0]
["2020-11-01","2021-06-01","10WA01:304312",4565,"2021-01-01",5085.58,2.52E-2,"10WA01:304312",null,"Indiana Water Area 01","304312-Struc & Imp-Treat-WH Repaint",0,0]
["2020-11-01","2021-06-01","10WA01:304312",4565,"2021-02-01",5085.58,2.52E-2,"10WA01:304312",null,"Indiana Water Area 01","304312-Struc & Imp-Treat-WH Repaint",0,0]
["2020-11-01","2021-06-01","10WA01:304312",4565,"2021-03-01",5085.58,2.52E-2,"10WA01:304312",null,"Indiana Water Area 01","304312-Struc & Imp-Treat-WH Repaint",0,0]
["2020-11-01","2021-06-01","10WA01:304312",4565,"2021-04-01",5085.58,2.52E-2,"10WA01:304312",null,"Indiana Water Area 01","304312-Struc & Imp-Treat-WH Repaint",0,0]
["2020-11-01","2021-06-01","10WA01:304312",4565,"2021-05-01",5085.58,2.52E-2,"10WA01:304312",null,"Indiana Water Area 01","304312-Struc & Imp-Treat-WH Repaint",0,0]
["2020-11-01","2021-06-01","10WA01:304312",4565,"2021-06-01",5085.58,2.52E-2,"10WA01:304312",null,"Indiana Water Area 01","304312-Struc & Imp-Treat-WH Repaint",0,0]
["2020-11-01","2021-06-01","10WA01:304390",3884,"2020-11-01",20370.79,1.6639999999999999E-2,"10WA01:304390",null,"Indiana Water Area 01","304390-Struct & Imp-Treat-Mixing",4.1599999999999996E-3,0]
["2020-11-01","2021-06-01","10WA01:304390",3884,"2020-12-01",20370.79,1.6639999999999999E-2,"10WA01:304390",null,"Indiana Water Area 01","304390-Struct & Imp-Treat-Mixing",4.1599999999999996E-3,0]
["2020-11-01","2021-06-01","10WA01:304390",3884,"2021-01-01",20370.79,1.6639999999999999E-2,"10WA01:304390",null,"Indiana Water Area 01","304390-Struct & Imp-Treat-Mixing",4.1599999999999996E-3,0]
["2020-11-01","2021-06-01","10WA01:304390",3884,"2021-02-01",20370.79,1.6639999999999999E-2,"10WA01:304390",null,"Indiana Water Area 01","304390-Struct & Imp-Treat-Mixing",4.1599999999999996E-3,0]
["2020-11-01","2021-06-01","10WA01:304390",3884,"2021-03-01",20370.79,1.6639999999999999E-2,"10WA01:304390",null,"Indiana Water Area 01","304390-Struct & Imp-Treat-Mixing",4.1599999999999996E-3,0]
["2020-11-01","2021-06-01","10WA01:304390",3884,"2021-04-01",20370.79,1.6639999999999999E-2,"10WA01:304390",null,"Indiana Water Area 01","304390-Struct & Imp-Treat-Mixing",4.1599999999999996E-3,0]
["2020-11-01","2021-06-01","10WA01:304390",3884,"2021-05-01",20370.79,1.6639999999999999E-2,"10WA01:304390",null,"Indiana Water Area 01","304390-Struct & Imp-Treat-Mixing",4.1599999999999996E-3,0]
["2020-11-01","2021-06-01","10WA01:304390",3884,"2021-06-01",20370.79,1.6639999999999999E-2,"10WA01:304390",null,"Indiana Water Area 01","304390-Struct & Imp-Treat-Mixing",4.1599999999999996E-3,0]
["2020-11-01","2021-06-01","10WA01:304391",3885,"2020-11-01",741553.39,1.6639999999999999E-2,"10WA01:304391",null,"Indiana Water Area 01","304391-Struct & Imp-Treat-Purifictn",4.1599999999999996E-3,0]
["2020-11-01","2021-06-01","10WA01:304391",3885,"2020-12-01",741553.39,1.6639999999999999E-2,"10WA01:304391",null,"Indiana Water Area 01","304391-Struct & Imp-Treat-Purifictn",4.1599999999999996E-3,0]
["2020-11-01","2021-06-01","10WA01:304391",3885,"2021-01-01",741553.39,1.6639999999999999E-2,"10WA01:304391",null,"Indiana Water Area 01","304391-Struct & Imp-Treat-Purifictn",4.1599999999999996E-3,0]
["2020-11-01","2021-06-01","10WA01:304391",3885,"2021-02-01",741553.39,1.6639999999999999E-2,"10WA01:304391",null,"Indiana Water Area 01","304391-Struct & Imp-Treat-Purifictn",4.1599999999999996E-3,0]
["2020-11-01","2021-06-01","10WA01:304391",3885,"2021-03-01",741553.39,1.6639999999999999E-2,"10WA01:304391",null,"Indiana Water Area 01","304391-Struct & Imp-Treat-Purifictn",4.1599999999999996E-3,0]
["2020-11-01","2021-06-01","10WA01:304391",3885,"2021-04-01",741553.39,1.6639999999999999E-2,"10WA01:304391",null,"Indiana Water Area 01","304391-Struct & Imp-Treat-Purifictn",4.1599999999999996E-3,0]
["2020-11-01","2021-06-01","10WA01:304391",3885,"2021-05-01",741553.39,1.6639999999999999E-2,"10WA01:304391",null,"Indiana Water Area 01","304391-Struct & Imp-Treat-Purifictn",4.1599999999999996E-3,0]
["2020-11-01","2021-06-01","10WA01:304391",3885,"2021-06-01",741553.39,1.6639999999999999E-2,"10WA01:304391",null,"Indiana Water Area 01","304391-Struct & Imp-Treat-Purifictn",4.1599999999999996E-3,0]
["2020-11-01","2021-06-01","10WA01:304392",4566,"2020-11-01",125315.75,1.6639999999999999E-2,"10WA01:304392",null,"Indiana Water Area 01","304392-Struct & Imp-Treat-Wash Tank",4.1599999999999996E-3,0]
["2020-11-01","2021-06-01","10WA01:304392",4566,"2020-12-01",125324.18,1.6639999999999999E-2,"10WA01:304392",null,"Indiana Water Area 01","304392-Struct & Imp-Treat-Wash Tank",4.1599999999999996E-3,0]
["2020-11-01","2021-06-01","10WA01:304392",4566,"2021-01-01",125327.4,1.6639999999999999E-2,"10WA01:304392",null,"Indiana Water Area 01","304392-Struct & Imp-Treat-Wash Tank",4.1599999999999996E-3,0]
["2020-11-01","2021-06-01","10WA01:304392",4566,"2021-02-01",125322.1,1.6639999999999999E-2,"10WA01:304392",null,"Indiana Water Area 01","304392-Struct & Imp-Treat-Wash Tank",4.1599999999999996E-3,0]
["2020-11-01","2021-06-01","10WA01:304392",4566,"2021-03-01",125444.95,1.6639999999999999E-2,"10WA01:304392",null,"Indiana Water Area 01","304392-Struct & Imp-Treat-Wash Tank",4.1599999999999996E-3,0]
["2020-11-01","2021-06-01","10WA01:304392",4566,"2021-04-01",125444.95,1.6639999999999999E-2,"10WA01:304392",null,"Indiana Water Area 01","304392-Struct & Imp-Treat-Wash Tank",4.1599999999999996E-3,0]
["2020-11-01","2021-06-01","10WA01:304392",4566,"2021-05-01",125340.59,1.6639999999999999E-2,"10WA01:304392",null,"Indiana Water Area 01","304392-Struct & Imp-Treat-Wash Tank",4.1599999999999996E-3,0]
["2020-11-01","2021-06-01","10WA01:304392",4566,"2021-06-01",125441.74,1.6639999999999999E-2,"10WA01:304392",null,"Indiana Water Area 01","304392-Struct & Imp-Treat-Wash Tank",4.1599999999999996E-3,0]
["2020-11-01","2021-06-01","10WA01:304400",3886,"2020-11-01",4056822.21,2.2200000000000001E-2,"10WA01:304400",null,"Indiana Water Area 01","304400-Struct & Imp-T&D",5.4999999999999997E-3,0]
["2020-11-01","2021-06-01","10WA01:304400",3886,"2020-12-01",4056828.7,2.2200000000000001E-2,"10WA01:304400",null,"Indiana Water Area 01","304400-Struct & Imp-T&D",5.4999999999999997E-3,0]
["2020-11-01","2021-06-01","10WA01:304400",3886,"2021-01-01",4158046.7,2.2200000000000001E-2,"10WA01:304400",null,"Indiana Water Area 01","304400-Struct & Imp-T&D",5.4999999999999997E-3,0]
["2020-11-01","2021-06-01","10WA01:304400",3886,"2021-02-01",4158046.64,2.2200000000000001E-2,"10WA01:304400",null,"Indiana Water Area 01","304400-Struct & Imp-T&D",5.4999999999999997E-3,0]
["2020-11-01","2021-06-01","10WA01:304400",3886,"2021-03-01",4154480.48,2.2200000000000001E-2,"10WA01:304400",null,"Indiana Water Area 01","304400-Struct & Imp-T&D",5.4999999999999997E-3,0]
["2020-11-01","2021-06-01","10WA01:304400",3886,"2021-04-01",4154494.95,2.2200000000000001E-2,"10WA01:304400",null,"Indiana Water Area 01","304400-Struct & Imp-T&D",5.4999999999999997E-3,0]
["2020-11-01","2021-06-01","10WA01:304400",3886,"2021-05-01",4157859.68,2.2200000000000001E-2,"10WA01:304400",null,"Indiana Water Area 01","304400-Struct & Imp-T&D",5.4999999999999997E-3,0]
["2020-11-01","2021-06-01","10WA01:304400",3886,"2021-06-01",4157342.24,2.2200000000000001E-2,"10WA01:304400",null,"Indiana Water Area 01","304400-Struct & Imp-T&D",5.4999999999999997E-3,0]
["2020-11-01","2021-06-01","10WA01:304500",5743,"2020-11-01",10145928.17,0.03,"10WA01:304500",null,"Indiana Water Area 01","304500-Struct & Imp-General",7.4999999999999997E-3,0]
["2020-11-01","2021-06-01","10WA01:304500",5743,"2020-12-01",10243595.92,0.03,"10WA01:304500",null,"Indiana Water Area 01","304500-Struct & Imp-General",7.4999999999999997E-3,0]
["2020-11-01","2021-06-01","10WA01:304500",5743,"2021-01-01",10687250.77,0.03,"10WA01:304500",null,"Indiana Water Area 01","304500-Struct & Imp-General",7.4999999999999997E-3,0]
["2020-11-01","2021-06-01","10WA01:304500",5743,"2021-02-01",10764571.210000001,0.03,"10WA01:304500",null,"Indiana Water Area 01","304500-Struct & Imp-General",7.4999999999999997E-3,0]
["2020-11-01","2021-06-01","10WA01:304500",5743,"2021-03-01",10669202.560000001,0.03,"10WA01:304500",null,"Indiana Water Area 01","304500-Struct & Imp-General",7.4999999999999997E-3,0]
["2020-11-01","2021-06-01","10WA01:304500",5743,"2021-04-01",10666991.18,0.03,"10WA01:304500",null,"Indiana Water Area 01","304500-Struct & Imp-General",7.4999999999999997E-3,0]
["2020-11-01","2021-06-01","10WA01:304500",5743,"2021-05-01",10716445.09,0.03,"10WA01:304500",null,"Indiana Water Area 01","304500-Struct & Imp-General",7.4999999999999997E-3,0]
["2020-11-01","2021-06-01","10WA01:304500",5743,"2021-06-01",11032247.470000001,0.03,"10WA01:304500",null,"Indiana Water Area 01","304500-Struct & Imp-General",7.4999999999999997E-3,0]
["2020-11-01","2021-06-01","10WA01:304510",3887,"2020-11-01",0,0.03,"10WA01:304510",null,"Indiana Water Area 01","304510-Struct & Imp-Cap Lease",7.4999999999999997E-3,0]
["2020-11-01","2021-06-01","10WA01:304510",3887,"2020-12-01",0,0.03,"10WA01:304510",null,"Indiana Water Area 01","304510-Struct & Imp-Cap Lease",7.4999999999999997E-3,0]
["2020-11-01","2021-06-01","10WA01:304510",3887,"2021-01-01",0,0.03,"10WA01:304510",null,"Indiana Water Area 01","304510-Struct & Imp-Cap Lease",7.4999999999999997E-3,0]
["2020-11-01","2021-06-01","10WA01:304510",3887,"2021-02-01",0,0.03,"10WA01:304510",null,"Indiana Water Area 01","304510-Struct & Imp-Cap Lease",7.4999999999999997E-3,0]
["2020-11-01","2021-06-01","10WA01:304510",3887,"2021-03-01",0,0.03,"10WA01:304510",null,"Indiana Water Area 01","304510-Struct & Imp-Cap Lease",7.4999999999999997E-3,0]
["2020-11-01","2021-06-01","10WA01:304510",3887,"2021-04-01",0,0.03,"10WA01:304510",null,"Indiana Water Area 01","304510-Struct & Imp-Cap Lease",7.4999999999999997E-3,0]
["2020-11-01","2021-06-01","10WA01:304510",3887,"2021-05-01",0,0.03,"10WA01:304510",null,"Indiana Water Area 01","304510-Struct & Imp-Cap Lease",7.4999999999999997E-3,0]
["2020-11-01","2021-06-01","10WA01:304510",3887,"2021-06-01",0,0.03,"10WA01:304510",null,"Indiana Water Area 01","304510-Struct & Imp-Cap Lease",7.4999999999999997E-3,0]
["2020-11-01","2021-06-01","10WA01:304600",3888,"2020-11-01",2993855.62,3.1800000000000002E-2,"10WA01:304600",null,"Indiana Water Area 01","304600-Struct & Imp-Offices",4.7999999999999996E-3,0]
["2020-11-01","2021-06-01","10WA01:304600",3888,"2020-12-01",2952135.76,3.1800000000000002E-2,"10WA01:304600",null,"Indiana Water Area 01","304600-Struct & Imp-Offices",4.7999999999999996E-3,0]
["2020-11-01","2021-06-01","10WA01:304600",3888,"2021-01-01",2948443.24,3.1800000000000002E-2,"10WA01:304600",null,"Indiana Water Area 01","304600-Struct & Imp-Offices",4.7999999999999996E-3,0]
["2020-11-01","2021-06-01","10WA01:304600",3888,"2021-02-01",2951665.38,3.1800000000000002E-2,"10WA01:304600",null,"Indiana Water Area 01","304600-Struct & Imp-Offices",4.7999999999999996E-3,0]
["2020-11-01","2021-06-01","10WA01:304600",3888,"2021-03-01",2946753.85,3.1800000000000002E-2,"10WA01:304600",null,"Indiana Water Area 01","304600-Struct & Imp-Offices",4.7999999999999996E-3,0]
["2020-11-01","2021-06-01","10WA01:304600",3888,"2021-04-01",2949434.05,3.1800000000000002E-2,"10WA01:304600",null,"Indiana Water Area 01","304600-Struct & Imp-Offices",4.7999999999999996E-3,0]
["2020-11-01","2021-06-01","10WA01:304600",3888,"2021-05-01",2955587.07,3.1800000000000002E-2,"10WA01:304600",null,"Indiana Water Area 01","304600-Struct & Imp-Offices",4.7999999999999996E-3,0]
["2020-11-01","2021-06-01","10WA01:304600",3888,"2021-06-01",2954973.99,3.1800000000000002E-2,"10WA01:304600",null,"Indiana Water Area 01","304600-Struct & Imp-Offices",4.7999999999999996E-3,0]
["2020-11-01","2021-06-01","10WA01:304610",3880,"2020-11-01",203891.59,3.6900000000000002E-2,"10WA01:304610",null,"Indiana Water Area 01","304610-Struct & Imp-HVAC",0,0]
["2020-11-01","2021-06-01","10WA01:304610",3880,"2020-12-01",217384.45,3.6900000000000002E-2,"10WA01:304610",null,"Indiana Water Area 01","304610-Struct & Imp-HVAC",0,0]
["2020-11-01","2021-06-01","10WA01:304610",3880,"2021-01-01",253784.61,3.6900000000000002E-2,"10WA01:304610",null,"Indiana Water Area 01","304610-Struct & Imp-HVAC",0,0]
["2020-11-01","2021-06-01","10WA01:304610",3880,"2021-02-01",325142.52,3.6900000000000002E-2,"10WA01:304610",null,"Indiana Water Area 01","304610-Struct & Imp-HVAC",0,0]
["2020-11-01","2021-06-01","10WA01:304610",3880,"2021-03-01",325741.21999999997,3.6900000000000002E-2,"10WA01:304610",null,"Indiana Water Area 01","304610-Struct & Imp-HVAC",0,0]
["2020-11-01","2021-06-01","10WA01:304610",3880,"2021-04-01",335927.78,3.6900000000000002E-2,"10WA01:304610",null,"Indiana Water Area 01","304610-Struct & Imp-HVAC",0,0]
["2020-11-01","2021-06-01","10WA01:304610",3880,"2021-05-01",331643.88,3.6900000000000002E-2,"10WA01:304610",null,"Indiana Water Area 01","304610-Struct & Imp-HVAC",0,0]
["2020-11-01","2021-06-01","10WA01:304610",3880,"2021-06-01",344039.81,3.6900000000000002E-2,"10WA01:304610",null,"Indiana Water Area 01","304610-Struct & Imp-HVAC",0,0]
["2020-11-01","2021-06-01","10WA01:304620",2634,"2020-11-01",79372.73,2.6499999999999999E-2,"10WA01:304620",null,"Indiana Water Area 01","304620-Struct & Imp-Leasehold",0,0]
["2020-11-01","2021-06-01","10WA01:304620",2634,"2020-12-01",79372.73,2.6499999999999999E-2,"10WA01:304620",null,"Indiana Water Area 01","304620-Struct & Imp-Leasehold",0,0]
["2020-11-01","2021-06-01","10WA01:304620",2634,"2021-01-01",79372.73,2.6499999999999999E-2,"10WA01:304620",null,"Indiana Water Area 01","304620-Struct & Imp-Leasehold",0,0]
["2020-11-01","2021-06-01","10WA01:304620",2634,"2021-02-01",79372.73,2.6499999999999999E-2,"10WA01:304620",null,"Indiana Water Area 01","304620-Struct & Imp-Leasehold",0,0]
["2020-11-01","2021-06-01","10WA01:304620",2634,"2021-03-01",79372.73,2.6499999999999999E-2,"10WA01:304620",null,"Indiana Water Area 01","304620-Struct & Imp-Leasehold",0,0]
["2020-11-01","2021-06-01","10WA01:304620",2634,"2021-04-01",79372.73,2.6499999999999999E-2,"10WA01:304620",null,"Indiana Water Area 01","304620-Struct & Imp-Leasehold",0,0]
["2020-11-01","2021-06-01","10WA01:304620",2634,"2021-05-01",79372.73,2.6499999999999999E-2,"10WA01:304620",null,"Indiana Water Area 01","304620-Struct & Imp-Leasehold",0,0]
["2020-11-01","2021-06-01","10WA01:304620",2634,"2021-06-01",79372.73,2.6499999999999999E-2,"10WA01:304620",null,"Indiana Water Area 01","304620-Struct & Imp-Leasehold",0,0]
["2020-11-01","2021-06-01","10WA01:304700",6367,"2020-11-01",8668764.3900000006,1.7299999999999999E-2,"10WA01:304700",null,"Indiana Water Area 01","304700-Struct & Imp-Store,Shop,Gar",3.5000000000000001E-3,0]
["2020-11-01","2021-06-01","10WA01:304700",6367,"2020-12-01",8668764.3900000006,1.7299999999999999E-2,"10WA01:304700",null,"Indiana Water Area 01","304700-Struct & Imp-Store,Shop,Gar",3.5000000000000001E-3,0]
["2020-11-01","2021-06-01","10WA01:304700",6367,"2021-01-01",8652752.2799999993,1.7299999999999999E-2,"10WA01:304700",null,"Indiana Water Area 01","304700-Struct & Imp-Store,Shop,Gar",3.5000000000000001E-3,0]
["2020-11-01","2021-06-01","10WA01:304700",6367,"2021-02-01",8683004.2599999998,1.7299999999999999E-2,"10WA01:304700",null,"Indiana Water Area 01","304700-Struct & Imp-Store,Shop,Gar",3.5000000000000001E-3,0]
["2020-11-01","2021-06-01","10WA01:304700",6367,"2021-03-01",8676422.6999999993,1.7299999999999999E-2,"10WA01:304700",null,"Indiana Water Area 01","304700-Struct & Imp-Store,Shop,Gar",3.5000000000000001E-3,0]
["2020-11-01","2021-06-01","10WA01:304700",6367,"2021-04-01",9074298.7899999991,1.7299999999999999E-2,"10WA01:304700",null,"Indiana Water Area 01","304700-Struct & Imp-Store,Shop,Gar",3.5000000000000001E-3,0]
["2020-11-01","2021-06-01","10WA01:304700",6367,"2021-05-01",9074298.7899999991,1.7299999999999999E-2,"10WA01:304700",null,"Indiana Water Area 01","304700-Struct & Imp-Store,Shop,Gar",3.5000000000000001E-3,0]
["2020-11-01","2021-06-01","10WA01:304700",6367,"2021-06-01",9077374.9900000002,1.7299999999999999E-2,"10WA01:304700",null,"Indiana Water Area 01","304700-Struct & Imp-Store,Shop,Gar",3.5000000000000001E-3,0]
["2020-11-01","2021-06-01","10WA01:304800",3270,"2020-11-01",715345.73,1.32E-2,"10WA01:304800",null,"Indiana Water Area 01","304800-Struct & Imp-Misc",1.2999999999999999E-3,0]
["2020-11-01","2021-06-01","10WA01:304800",3270,"2020-12-01",715345.73,1.32E-2,"10WA01:304800",null,"Indiana Water Area 01","304800-Struct & Imp-Misc",1.2999999999999999E-3,0]
["2020-11-01","2021-06-01","10WA01:304800",3270,"2021-01-01",804341.05,1.32E-2,"10WA01:304800",null,"Indiana Water Area 01","304800-Struct & Imp-Misc",1.2999999999999999E-3,0]
["2020-11-01","2021-06-01","10WA01:304800",3270,"2021-02-01",803710.15,1.32E-2,"10WA01:304800",null,"Indiana Water Area 01","304800-Struct & Imp-Misc",1.2999999999999999E-3,0]
["2020-11-01","2021-06-01","10WA01:304800",3270,"2021-03-01",803416.64,1.32E-2,"10WA01:304800",null,"Indiana Water Area 01","304800-Struct & Imp-Misc",1.2999999999999999E-3,0]
["2020-11-01","2021-06-01","10WA01:304800",3270,"2021-04-01",803416.64,1.32E-2,"10WA01:304800",null,"Indiana Water Area 01","304800-Struct & Imp-Misc",1.2999999999999999E-3,0]
["2020-11-01","2021-06-01","10WA01:304800",3270,"2021-05-01",869637.12,1.32E-2,"10WA01:304800",null,"Indiana Water Area 01","304800-Struct & Imp-Misc",1.2999999999999999E-3,0]
["2020-11-01","2021-06-01","10WA01:304800",3270,"2021-06-01",869637.12,1.32E-2,"10WA01:304800",null,"Indiana Water Area 01","304800-Struct & Imp-Misc",1.2999999999999999E-3,0]
["2020-11-01","2021-06-01","10WA01:305000",2635,"2020-11-01",10461640.439999999,1.1299999999999999E-2,"10WA01:305000",null,"Indiana Water Area 01","305000-Collect & Impound Reservoirs",1.2999999999999999E-3,-2.0000000000000001E-4]
["2020-11-01","2021-06-01","10WA01:305000",2635,"2020-12-01",10461640.439999999,1.1299999999999999E-2,"10WA01:305000",null,"Indiana Water Area 01","305000-Collect & Impound Reservoirs",1.2999999999999999E-3,-2.0000000000000001E-4]
["2020-11-01","2021-06-01","10WA01:305000",2635,"2021-01-01",10461640.439999999,1.1299999999999999E-2,"10WA01:305000",null,"Indiana Water Area 01","305000-Collect & Impound Reservoirs",1.2999999999999999E-3,-2.0000000000000001E-4]
["2020-11-01","2021-06-01","10WA01:305000",2635,"2021-02-01",10461640.439999999,1.1299999999999999E-2,"10WA01:305000",null,"Indiana Water Area 01","305000-Collect & Impound Reservoirs",1.2999999999999999E-3,-2.0000000000000001E-4]
["2020-11-01","2021-06-01","10WA01:305000",2635,"2021-03-01",10461640.439999999,1.1299999999999999E-2,"10WA01:305000",null,"Indiana Water Area 01","305000-Collect & Impound Reservoirs",1.2999999999999999E-3,-2.0000000000000001E-4]
["2020-11-01","2021-06-01","10WA01:305000",2635,"2021-04-01",10461640.439999999,1.1299999999999999E-2,"10WA01:305000",null,"Indiana Water Area 01","305000-Collect & Impound Reservoirs",1.2999999999999999E-3,-2.0000000000000001E-4]
["2020-11-01","2021-06-01","10WA01:305000",2635,"2021-05-01",10461640.439999999,1.1299999999999999E-2,"10WA01:305000",null,"Indiana Water Area 01","305000-Collect & Impound Reservoirs",1.2999999999999999E-3,-2.0000000000000001E-4]
["2020-11-01","2021-06-01","10WA01:305000",2635,"2021-06-01",10461640.439999999,1.1299999999999999E-2,"10WA01:305000",null,"Indiana Water Area 01","305000-Collect & Impound Reservoirs",1.2999999999999999E-3,-2.0000000000000001E-4]
["2020-11-01","2021-06-01","10WA01:306000",3881,"2020-11-01",49950480.159999996,2.0899999999999998E-2,"10WA01:306000",null,"Indiana Water Area 01","306000-Lake, River & Other Intakes",0,0]
["2020-11-01","2021-06-01","10WA01:306000",3881,"2020-12-01",49960424.020000003,2.0899999999999998E-2,"10WA01:306000",null,"Indiana Water Area 01","306000-Lake, River & Other Intakes",0,0]
["2020-11-01","2021-06-01","10WA01:306000",3881,"2021-01-01",49949749.619999997,2.0899999999999998E-2,"10WA01:306000",null,"Indiana Water Area 01","306000-Lake, River & Other Intakes",0,0]
["2020-11-01","2021-06-01","10WA01:306000",3881,"2021-02-01",49956668.810000002,2.0899999999999998E-2,"10WA01:306000",null,"Indiana Water Area 01","306000-Lake, River & Other Intakes",0,0]
["2020-11-01","2021-06-01","10WA01:306000",3881,"2021-03-01",49959723.060000002,2.0899999999999998E-2,"10WA01:306000",null,"Indiana Water Area 01","306000-Lake, River & Other Intakes",0,0]
["2020-11-01","2021-06-01","10WA01:306000",3881,"2021-04-01",49965478.490000002,2.0899999999999998E-2,"10WA01:306000",null,"Indiana Water Area 01","306000-Lake, River & Other Intakes",0,0]
["2020-11-01","2021-06-01","10WA01:306000",3881,"2021-05-01",49965505.950000003,2.0899999999999998E-2,"10WA01:306000",null,"Indiana Water Area 01","306000-Lake, River & Other Intakes",0,0]
["2020-11-01","2021-06-01","10WA01:306000",3881,"2021-06-01",49965488.200000003,2.0899999999999998E-2,"10WA01:306000",null,"Indiana Water Area 01","306000-Lake, River & Other Intakes",0,0]
["2020-11-01","2021-06-01","10WA01:307000",3271,"2020-11-01",19863764.670000002,2.41E-2,"10WA01:307000",null,"Indiana Water Area 01","307000-Wells & Springs",3.8E-3,-2.0000000000000001E-4]
["2020-11-01","2021-06-01","10WA01:307000",3271,"2020-12-01",19910624.75,2.41E-2,"10WA01:307000",null,"Indiana Water Area 01","307000-Wells & Springs",3.8E-3,-2.0000000000000001E-4]
["2020-11-01","2021-06-01","10WA01:307000",3271,"2021-01-01",19952648.84,2.41E-2,"10WA01:307000",null,"Indiana Water Area 01","307000-Wells & Springs",3.8E-3,-2.0000000000000001E-4]
["2020-11-01","2021-06-01","10WA01:307000",3271,"2021-02-01",19954272.969999999,2.41E-2,"10WA01:307000",null,"Indiana Water Area 01","307000-Wells & Springs",3.8E-3,-2.0000000000000001E-4]
["2020-11-01","2021-06-01","10WA01:307000",3271,"2021-03-01",19946905.510000002,2.41E-2,"10WA01:307000",null,"Indiana Water Area 01","307000-Wells & Springs",3.8E-3,-2.0000000000000001E-4]
["2020-11-01","2021-06-01","10WA01:307000",3271,"2021-04-01",19978900.960000001,2.41E-2,"10WA01:307000",null,"Indiana Water Area 01","307000-Wells & Springs",3.8E-3,-2.0000000000000001E-4]
["2020-11-01","2021-06-01","10WA01:307000",3271,"2021-05-01",19995248.609999999,2.41E-2,"10WA01:307000",null,"Indiana Water Area 01","307000-Wells & Springs",3.8E-3,-2.0000000000000001E-4]
["2020-11-01","2021-06-01","10WA01:307000",3271,"2021-06-01",20466757.719999999,2.41E-2,"10WA01:307000",null,"Indiana Water Area 01","307000-Wells & Springs",3.8E-3,-2.0000000000000001E-4]
["2020-11-01","2021-06-01","10WA01:308000",5161,"2020-11-01",71671.31,0.1009,"10WA01:308000",null,"Indiana Water Area 01","308000-Infiltratn Galleries & Tunne",5.0000000000000001E-3,0]
["2020-11-01","2021-06-01","10WA01:308000",5161,"2020-12-01",71671.31,0.1009,"10WA01:308000",null,"Indiana Water Area 01","308000-Infiltratn Galleries & Tunne",5.0000000000000001E-3,0]
["2020-11-01","2021-06-01","10WA01:308000",5161,"2021-01-01",71671.31,0.1009,"10WA01:308000",null,"Indiana Water Area 01","308000-Infiltratn Galleries & Tunne",5.0000000000000001E-3,0]
["2020-11-01","2021-06-01","10WA01:308000",5161,"2021-02-01",71671.31,0.1009,"10WA01:308000",null,"Indiana Water Area 01","308000-Infiltratn Galleries & Tunne",5.0000000000000001E-3,0]
["2020-11-01","2021-06-01","10WA01:308000",5161,"2021-03-01",71671.31,0.1009,"10WA01:308000",null,"Indiana Water Area 01","308000-Infiltratn Galleries & Tunne",5.0000000000000001E-3,0]
["2020-11-01","2021-06-01","10WA01:308000",5161,"2021-04-01",71671.31,0.1009,"10WA01:308000",null,"Indiana Water Area 01","308000-Infiltratn Galleries & Tunne",5.0000000000000001E-3,0]
["2020-11-01","2021-06-01","10WA01:308000",5161,"2021-05-01",71671.31,0.1009,"10WA01:308000",null,"Indiana Water Area 01","308000-Infiltratn Galleries & Tunne",5.0000000000000001E-3,0]
["2020-11-01","2021-06-01","10WA01:308000",5161,"2021-06-01",71671.31,0.1009,"10WA01:308000",null,"Indiana Water Area 01","308000-Infiltratn Galleries & Tunne",5.0000000000000001E-3,0]
["2020-11-01","2021-06-01","10WA01:309000",5746,"2020-11-01",14473996.74,1.18E-2,"10WA01:309000",null,"Indiana Water Area 01","309000-Supply Mains",2.3999999999999998E-3,0]
["2020-11-01","2021-06-01","10WA01:309000",5746,"2020-12-01",14507149.16,1.18E-2,"10WA01:309000",null,"Indiana Water Area 01","309000-Supply Mains",2.3999999999999998E-3,0]
["2020-11-01","2021-06-01","10WA01:309000",5746,"2021-01-01",14532454.6,1.18E-2,"10WA01:309000",null,"Indiana Water Area 01","309000-Supply Mains",2.3999999999999998E-3,0]
["2020-11-01","2021-06-01","10WA01:309000",5746,"2021-02-01",14522220.85,1.18E-2,"10WA01:309000",null,"Indiana Water Area 01","309000-Supply Mains",2.3999999999999998E-3,0]
["2020-11-01","2021-06-01","10WA01:309000",5746,"2021-03-01",14523065.390000001,1.18E-2,"10WA01:309000",null,"Indiana Water Area 01","309000-Supply Mains",2.3999999999999998E-3,0]
["2020-11-01","2021-06-01","10WA01:309000",5746,"2021-04-01",14545360.73,1.18E-2,"10WA01:309000",null,"Indiana Water Area 01","309000-Supply Mains",2.3999999999999998E-3,0]
["2020-11-01","2021-06-01","10WA01:309000",5746,"2021-05-01",14529570.630000001,1.18E-2,"10WA01:309000",null,"Indiana Water Area 01","309000-Supply Mains",2.3999999999999998E-3,0]
["2020-11-01","2021-06-01","10WA01:309000",5746,"2021-06-01",14550506.539999999,1.18E-2,"10WA01:309000",null,"Indiana Water Area 01","309000-Supply Mains",2.3999999999999998E-3,0]
["2020-11-01","2021-06-01","10WA01:310000",2024,"2020-11-01",12944140.08,2.07E-2,"10WA01:310000",null,"Indiana Water Area 01","310000-Power Generation Equip",2.7000000000000001E-3,-5.9999999999999995E-4]
["2020-11-01","2021-06-01","10WA01:310000",2024,"2020-12-01",13101263.529999999,2.07E-2,"10WA01:310000",null,"Indiana Water Area 01","310000-Power Generation Equip",2.7000000000000001E-3,-5.9999999999999995E-4]
["2020-11-01","2021-06-01","10WA01:310000",2024,"2021-01-01",13104406.810000001,2.07E-2,"10WA01:310000",null,"Indiana Water Area 01","310000-Power Generation Equip",2.7000000000000001E-3,-5.9999999999999995E-4]
["2020-11-01","2021-06-01","10WA01:310000",2024,"2021-02-01",13105673.550000001,2.07E-2,"10WA01:310000",null,"Indiana Water Area 01","310000-Power Generation Equip",2.7000000000000001E-3,-5.9999999999999995E-4]
["2020-11-01","2021-06-01","10WA01:310000",2024,"2021-03-01",13102571.720000001,2.07E-2,"10WA01:310000",null,"Indiana Water Area 01","310000-Power Generation Equip",2.7000000000000001E-3,-5.9999999999999995E-4]
["2020-11-01","2021-06-01","10WA01:310000",2024,"2021-04-01",13106774.039999999,2.07E-2,"10WA01:310000",null,"Indiana Water Area 01","310000-Power Generation Equip",2.7000000000000001E-3,-5.9999999999999995E-4]
["2020-11-01","2021-06-01","10WA01:310000",2024,"2021-05-01",13105381.48,2.07E-2,"10WA01:310000",null,"Indiana Water Area 01","310000-Power Generation Equip",2.7000000000000001E-3,-5.9999999999999995E-4]
["2020-11-01","2021-06-01","10WA01:310000",2024,"2021-06-01",13106315.640000001,2.07E-2,"10WA01:310000",null,"Indiana Water Area 01","310000-Power Generation Equip",2.7000000000000001E-3,-5.9999999999999995E-4]
["2020-11-01","2021-06-01","10WA01:311200",3889,"2020-11-01",47669880.979999997,1.26E-2,"10WA01:311200",null,"Indiana Water Area 01","311200-Pump Eqp Electric",1.6999999999999999E-3,-4.0000000000000002E-4]
["2020-11-01","2021-06-01","10WA01:311200",3889,"2020-12-01",47634731.380000003,1.26E-2,"10WA01:311200",null,"Indiana Water Area 01","311200-Pump Eqp Electric",1.6999999999999999E-3,-4.0000000000000002E-4]
["2020-11-01","2021-06-01","10WA01:311200",3889,"2021-01-01",47711175.439999998,1.26E-2,"10WA01:311200",null,"Indiana Water Area 01","311200-Pump Eqp Electric",1.6999999999999999E-3,-4.0000000000000002E-4]
["2020-11-01","2021-06-01","10WA01:311200",3889,"2021-02-01",47727155.020000003,1.26E-2,"10WA01:311200",null,"Indiana Water Area 01","311200-Pump Eqp Electric",1.6999999999999999E-3,-4.0000000000000002E-4]
["2020-11-01","2021-06-01","10WA01:311200",3889,"2021-03-01",47685636.229999997,1.26E-2,"10WA01:311200",null,"Indiana Water Area 01","311200-Pump Eqp Electric",1.6999999999999999E-3,-4.0000000000000002E-4]
["2020-11-01","2021-06-01","10WA01:311200",3889,"2021-04-01",48246547.579999998,1.26E-2,"10WA01:311200",null,"Indiana Water Area 01","311200-Pump Eqp Electric",1.6999999999999999E-3,-4.0000000000000002E-4]
["2020-11-01","2021-06-01","10WA01:311200",3889,"2021-05-01",48241535.079999998,1.26E-2,"10WA01:311200",null,"Indiana Water Area 01","311200-Pump Eqp Electric",1.6999999999999999E-3,-4.0000000000000002E-4]
["2020-11-01","2021-06-01","10WA01:311200",3889,"2021-06-01",48240460.82,1.26E-2,"10WA01:311200",null,"Indiana Water Area 01","311200-Pump Eqp Electric",1.6999999999999999E-3,-4.0000000000000002E-4]
["2020-11-01","2021-06-01","10WA01:311300",5744,"2020-11-01",645658.39,3.9899999999999998E-2,"10WA01:311300",null,"Indiana Water Area 01","311300-Pump Eqp Diesel",5.1999999999999998E-3,-1.1999999999999999E-3]
["2020-11-01","2021-06-01","10WA01:311300",5744,"2020-12-01",645658.39,3.9899999999999998E-2,"10WA01:311300",null,"Indiana Water Area 01","311300-Pump Eqp Diesel",5.1999999999999998E-3,-1.1999999999999999E-3]
["2020-11-01","2021-06-01","10WA01:311300",5744,"2021-01-01",645658.39,3.9899999999999998E-2,"10WA01:311300",null,"Indiana Water Area 01","311300-Pump Eqp Diesel",5.1999999999999998E-3,-1.1999999999999999E-3]
["2020-11-01","2021-06-01","10WA01:311300",5744,"2021-02-01",645658.39,3.9899999999999998E-2,"10WA01:311300",null,"Indiana Water Area 01","311300-Pump Eqp Diesel",5.1999999999999998E-3,-1.1999999999999999E-3]
["2020-11-01","2021-06-01","10WA01:311300",5744,"2021-03-01",645658.39,3.9899999999999998E-2,"10WA01:311300",null,"Indiana Water Area 01","311300-Pump Eqp Diesel",5.1999999999999998E-3,-1.1999999999999999E-3]
["2020-11-01","2021-06-01","10WA01:311300",5744,"2021-04-01",645658.39,3.9899999999999998E-2,"10WA01:311300",null,"Indiana Water Area 01","311300-Pump Eqp Diesel",5.1999999999999998E-3,-1.1999999999999999E-3]
["2020-11-01","2021-06-01","10WA01:311300",5744,"2021-05-01",645658.39,3.9899999999999998E-2,"10WA01:311300",null,"Indiana Water Area 01","311300-Pump Eqp Diesel",5.1999999999999998E-3,-1.1999999999999999E-3]
["2020-11-01","2021-06-01","10WA01:311300",5744,"2021-06-01",624311.52,3.9899999999999998E-2,"10WA01:311300",null,"Indiana Water Area 01","311300-Pump Eqp Diesel",5.1999999999999998E-3,-1.1999999999999999E-3]
["2020-11-01","2021-06-01","10WA01:311350",5159,"2020-11-01",0,3.9899999999999998E-2,"10WA01:311350",null,"Indiana Water Area 01","311350-Pump Equip Diesel TD",5.1999999999999998E-3,-1.1999999999999999E-3]
["2020-11-01","2021-06-01","10WA01:311350",5159,"2020-12-01",0,3.9899999999999998E-2,"10WA01:311350",null,"Indiana Water Area 01","311350-Pump Equip Diesel TD",5.1999999999999998E-3,-1.1999999999999999E-3]
["2020-11-01","2021-06-01","10WA01:311350",5159,"2021-01-01",0,3.9899999999999998E-2,"10WA01:311350",null,"Indiana Water Area 01","311350-Pump Equip Diesel TD",5.1999999999999998E-3,-1.1999999999999999E-3]
["2020-11-01","2021-06-01","10WA01:311350",5159,"2021-02-01",0,3.9899999999999998E-2,"10WA01:311350",null,"Indiana Water Area 01","311350-Pump Equip Diesel TD",5.1999999999999998E-3,-1.1999999999999999E-3]
["2020-11-01","2021-06-01","10WA01:311350",5159,"2021-03-01",0,3.9899999999999998E-2,"10WA01:311350",null,"Indiana Water Area 01","311350-Pump Equip Diesel TD",5.1999999999999998E-3,-1.1999999999999999E-3]
["2020-11-01","2021-06-01","10WA01:311350",5159,"2021-04-01",0,3.9899999999999998E-2,"10WA01:311350",null,"Indiana Water Area 01","311350-Pump Equip Diesel TD",5.1999999999999998E-3,-1.1999999999999999E-3]
["2020-11-01","2021-06-01","10WA01:311350",5159,"2021-05-01",0,3.9899999999999998E-2,"10WA01:311350",null,"Indiana Water Area 01","311350-Pump Equip Diesel TD",5.1999999999999998E-3,-1.1999999999999999E-3]
["2020-11-01","2021-06-01","10WA01:311350",5159,"2021-06-01",0,3.9899999999999998E-2,"10WA01:311350",null,"Indiana Water Area 01","311350-Pump Equip Diesel TD",5.1999999999999998E-3,-1.1999999999999999E-3]
["2020-11-01","2021-06-01","10WA01:311400",5160,"2020-11-01",67635.59,1.9300000000000001E-2,"10WA01:311400",null,"Indiana Water Area 01","311400-Pump Eqp Hydraulic",2.5000000000000001E-3,-5.9999999999999995E-4]
["2020-11-01","2021-06-01","10WA01:311400",5160,"2020-12-01",67635.59,1.9300000000000001E-2,"10WA01:311400",null,"Indiana Water Area 01","311400-Pump Eqp Hydraulic",2.5000000000000001E-3,-5.9999999999999995E-4]
["2020-11-01","2021-06-01","10WA01:311400",5160,"2021-01-01",67635.59,1.9300000000000001E-2,"10WA01:311400",null,"Indiana Water Area 01","311400-Pump Eqp Hydraulic",2.5000000000000001E-3,-5.9999999999999995E-4]
["2020-11-01","2021-06-01","10WA01:311400",5160,"2021-02-01",67635.59,1.9300000000000001E-2,"10WA01:311400",null,"Indiana Water Area 01","311400-Pump Eqp Hydraulic",2.5000000000000001E-3,-5.9999999999999995E-4]
["2020-11-01","2021-06-01","10WA01:311400",5160,"2021-03-01",67635.59,1.9300000000000001E-2,"10WA01:311400",null,"Indiana Water Area 01","311400-Pump Eqp Hydraulic",2.5000000000000001E-3,-5.9999999999999995E-4]
["2020-11-01","2021-06-01","10WA01:311400",5160,"2021-04-01",67635.59,1.9300000000000001E-2,"10WA01:311400",null,"Indiana Water Area 01","311400-Pump Eqp Hydraulic",2.5000000000000001E-3,-5.9999999999999995E-4]
["2020-11-01","2021-06-01","10WA01:311400",5160,"2021-05-01",67635.59,1.9300000000000001E-2,"10WA01:311400",null,"Indiana Water Area 01","311400-Pump Eqp Hydraulic",2.5000000000000001E-3,-5.9999999999999995E-4]
["2020-11-01","2021-06-01","10WA01:311400",5160,"2021-06-01",67635.59,1.9300000000000001E-2,"10WA01:311400",null,"Indiana Water Area 01","311400-Pump Eqp Hydraulic",2.5000000000000001E-3,-5.9999999999999995E-4]
["2020-11-01","2021-06-01","10WA01:311500",2637,"2020-11-01",3015200.79,2.7300000000000001E-2,"10WA01:311500",null,"Indiana Water Area 01","311500-Pump Eqp Other",3.5000000000000001E-3,-8.0000000000000004E-4]
["2020-11-01","2021-06-01","10WA01:311500",2637,"2020-12-01",2904777.61,2.7300000000000001E-2,"10WA01:311500",null,"Indiana Water Area 01","311500-Pump Eqp Other",3.5000000000000001E-3,-8.0000000000000004E-4]
["2020-11-01","2021-06-01","10WA01:311500",2637,"2021-01-01",3140592.79,2.7300000000000001E-2,"10WA01:311500",null,"Indiana Water Area 01","311500-Pump Eqp Other",3.5000000000000001E-3,-8.0000000000000004E-4]
["2020-11-01","2021-06-01","10WA01:311500",2637,"2021-02-01",3347874.1,2.7300000000000001E-2,"10WA01:311500",null,"Indiana Water Area 01","311500-Pump Eqp Other",3.5000000000000001E-3,-8.0000000000000004E-4]
["2020-11-01","2021-06-01","10WA01:311500",2637,"2021-03-01",3380487.08,2.7300000000000001E-2,"10WA01:311500",null,"Indiana Water Area 01","311500-Pump Eqp Other",3.5000000000000001E-3,-8.0000000000000004E-4]
["2020-11-01","2021-06-01","10WA01:311500",2637,"2021-04-01",3568660.01,2.7300000000000001E-2,"10WA01:311500",null,"Indiana Water Area 01","311500-Pump Eqp Other",3.5000000000000001E-3,-8.0000000000000004E-4]
["2020-11-01","2021-06-01","10WA01:311500",2637,"2021-05-01",3572785.95,2.7300000000000001E-2,"10WA01:311500",null,"Indiana Water Area 01","311500-Pump Eqp Other",3.5000000000000001E-3,-8.0000000000000004E-4]
["2020-11-01","2021-06-01","10WA01:311500",2637,"2021-06-01",3751246.47,2.7300000000000001E-2,"10WA01:311500",null,"Indiana Water Area 01","311500-Pump Eqp Other",3.5000000000000001E-3,-8.0000000000000004E-4]
["2020-11-01","2021-06-01","10WA01:311520",3275,"2020-11-01",7958119.54,2.7300000000000001E-2,"10WA01:311520",null,"Indiana Water Area 01","311520-Pump Eqp-SOS & Pumping",3.5000000000000001E-3,-8.0000000000000004E-4]
["2020-11-01","2021-06-01","10WA01:311520",3275,"2020-12-01",7958699.1399999997,2.7300000000000001E-2,"10WA01:311520",null,"Indiana Water Area 01","311520-Pump Eqp-SOS & Pumping",3.5000000000000001E-3,-8.0000000000000004E-4]
["2020-11-01","2021-06-01","10WA01:311520",3275,"2021-01-01",7929950.96,2.7300000000000001E-2,"10WA01:311520",null,"Indiana Water Area 01","311520-Pump Eqp-SOS & Pumping",3.5000000000000001E-3,-8.0000000000000004E-4]
["2020-11-01","2021-06-01","10WA01:311520",3275,"2021-02-01",7928961.7800000003,2.7300000000000001E-2,"10WA01:311520",null,"Indiana Water Area 01","311520-Pump Eqp-SOS & Pumping",3.5000000000000001E-3,-8.0000000000000004E-4]
["2020-11-01","2021-06-01","10WA01:311520",3275,"2021-03-01",7917252.0300000003,2.7300000000000001E-2,"10WA01:311520",null,"Indiana Water Area 01","311520-Pump Eqp-SOS & Pumping",3.5000000000000001E-3,-8.0000000000000004E-4]
["2020-11-01","2021-06-01","10WA01:311520",3275,"2021-04-01",7918129.9400000004,2.7300000000000001E-2,"10WA01:311520",null,"Indiana Water Area 01","311520-Pump Eqp-SOS & Pumping",3.5000000000000001E-3,-8.0000000000000004E-4]
["2020-11-01","2021-06-01","10WA01:311520",3275,"2021-05-01",7909941.4699999997,2.7300000000000001E-2,"10WA01:311520",null,"Indiana Water Area 01","311520-Pump Eqp-SOS & Pumping",3.5000000000000001E-3,-8.0000000000000004E-4]
["2020-11-01","2021-06-01","10WA01:311520",3275,"2021-06-01",7909579.5,2.7300000000000001E-2,"10WA01:311520",null,"Indiana Water Area 01","311520-Pump Eqp-SOS & Pumping",3.5000000000000001E-3,-8.0000000000000004E-4]
["2020-11-01","2021-06-01","10WA01:311530",6369,"2020-11-01",1091171.6200000001,2.7300000000000001E-2,"10WA01:311530",null,"Indiana Water Area 01","311530-Pump Eqp Wtr Treatment",3.5000000000000001E-3,-8.0000000000000004E-4]
["2020-11-01","2021-06-01","10WA01:311530",6369,"2020-12-01",1144077.0900000001,2.7300000000000001E-2,"10WA01:311530",null,"Indiana Water Area 01","311530-Pump Eqp Wtr Treatment",3.5000000000000001E-3,-8.0000000000000004E-4]
["2020-11-01","2021-06-01","10WA01:311530",6369,"2021-01-01",1246955.8899999999,2.7300000000000001E-2,"10WA01:311530",null,"Indiana Water Area 01","311530-Pump Eqp Wtr Treatment",3.5000000000000001E-3,-8.0000000000000004E-4]
["2020-11-01","2021-06-01","10WA01:311530",6369,"2021-02-01",1246243.22,2.7300000000000001E-2,"10WA01:311530",null,"Indiana Water Area 01","311530-Pump Eqp Wtr Treatment",3.5000000000000001E-3,-8.0000000000000004E-4]
["2020-11-01","2021-06-01","10WA01:311530",6369,"2021-03-01",1246988.3999999999,2.7300000000000001E-2,"10WA01:311530",null,"Indiana Water Area 01","311530-Pump Eqp Wtr Treatment",3.5000000000000001E-3,-8.0000000000000004E-4]
["2020-11-01","2021-06-01","10WA01:311530",6369,"2021-04-01",1246346.31,2.7300000000000001E-2,"10WA01:311530",null,"Indiana Water Area 01","311530-Pump Eqp Wtr Treatment",3.5000000000000001E-3,-8.0000000000000004E-4]
["2020-11-01","2021-06-01","10WA01:311530",6369,"2021-05-01",1248812.6399999999,2.7300000000000001E-2,"10WA01:311530",null,"Indiana Water Area 01","311530-Pump Eqp Wtr Treatment",3.5000000000000001E-3,-8.0000000000000004E-4]
["2020-11-01","2021-06-01","10WA01:311530",6369,"2021-06-01",1260085.98,2.7300000000000001E-2,"10WA01:311530",null,"Indiana Water Area 01","311530-Pump Eqp Wtr Treatment",3.5000000000000001E-3,-8.0000000000000004E-4]
["2020-11-01","2021-06-01","10WA01:311540",3276,"2020-11-01",907137.68,2.7300000000000001E-2,"10WA01:311540",null,"Indiana Water Area 01","311540-Pump Eqp T&D",3.5000000000000001E-3,-8.0000000000000004E-4]
["2020-11-01","2021-06-01","10WA01:311540",3276,"2020-12-01",907248.98,2.7300000000000001E-2,"10WA01:311540",null,"Indiana Water Area 01","311540-Pump Eqp T&D",3.5000000000000001E-3,-8.0000000000000004E-4]
["2020-11-01","2021-06-01","10WA01:311540",3276,"2021-01-01",907259.79,2.7300000000000001E-2,"10WA01:311540",null,"Indiana Water Area 01","311540-Pump Eqp T&D",3.5000000000000001E-3,-8.0000000000000004E-4]
["2020-11-01","2021-06-01","10WA01:311540",3276,"2021-02-01",924636.84,2.7300000000000001E-2,"10WA01:311540",null,"Indiana Water Area 01","311540-Pump Eqp T&D",3.5000000000000001E-3,-8.0000000000000004E-4]
["2020-11-01","2021-06-01","10WA01:311540",3276,"2021-03-01",924636.84,2.7300000000000001E-2,"10WA01:311540",null,"Indiana Water Area 01","311540-Pump Eqp T&D",3.5000000000000001E-3,-8.0000000000000004E-4]
["2020-11-01","2021-06-01","10WA01:311540",3276,"2021-04-01",924636.84,2.7300000000000001E-2,"10WA01:311540",null,"Indiana Water Area 01","311540-Pump Eqp T&D",3.5000000000000001E-3,-8.0000000000000004E-4]
["2020-11-01","2021-06-01","10WA01:311540",3276,"2021-05-01",924636.84,2.7300000000000001E-2,"10WA01:311540",null,"Indiana Water Area 01","311540-Pump Eqp T&D",3.5000000000000001E-3,-8.0000000000000004E-4]
["2020-11-01","2021-06-01","10WA01:311540",3276,"2021-06-01",924636.84,2.7300000000000001E-2,"10WA01:311540",null,"Indiana Water Area 01","311540-Pump Eqp T&D",3.5000000000000001E-3,-8.0000000000000004E-4]
["2020-11-01","2021-06-01","10WA01:320100",3277,"2020-11-01",124504352.59,1.8499999999999999E-2,"10WA01:320100",null,"Indiana Water Area 01","320100-WT Equip Non-Media",4.7999999999999996E-3,-2.0000000000000001E-4]
["2020-11-01","2021-06-01","10WA01:320100",3277,"2020-12-01",124621911.22,1.8499999999999999E-2,"10WA01:320100",null,"Indiana Water Area 01","320100-WT Equip Non-Media",4.7999999999999996E-3,-2.0000000000000001E-4]
["2020-11-01","2021-06-01","10WA01:320100",3277,"2021-01-01",124703799.14,1.8499999999999999E-2,"10WA01:320100",null,"Indiana Water Area 01","320100-WT Equip Non-Media",4.7999999999999996E-3,-2.0000000000000001E-4]
["2020-11-01","2021-06-01","10WA01:320100",3277,"2021-02-01",124813139.67,1.8499999999999999E-2,"10WA01:320100",null,"Indiana Water Area 01","320100-WT Equip Non-Media",4.7999999999999996E-3,-2.0000000000000001E-4]
["2020-11-01","2021-06-01","10WA01:320100",3277,"2021-03-01",124802269.41,1.8499999999999999E-2,"10WA01:320100",null,"Indiana Water Area 01","320100-WT Equip Non-Media",4.7999999999999996E-3,-2.0000000000000001E-4]
["2020-11-01","2021-06-01","10WA01:320100",3277,"2021-04-01",124883867.01000001,1.8499999999999999E-2,"10WA01:320100",null,"Indiana Water Area 01","320100-WT Equip Non-Media",4.7999999999999996E-3,-2.0000000000000001E-4]
["2020-11-01","2021-06-01","10WA01:320100",3277,"2021-05-01",124973865.59,1.8499999999999999E-2,"10WA01:320100",null,"Indiana Water Area 01","320100-WT Equip Non-Media",4.7999999999999996E-3,-2.0000000000000001E-4]
["2020-11-01","2021-06-01","10WA01:320100",3277,"2021-06-01",125289522.06999999,1.8499999999999999E-2,"10WA01:320100",null,"Indiana Water Area 01","320100-WT Equip Non-Media",4.7999999999999996E-3,-2.0000000000000001E-4]
["2020-11-01","2021-06-01","10WA01:320190",6370,"2020-11-01",12032033.9,2.1499999999999998E-2,"10WA01:320190",null,"Indiana Water Area 01","320190-WT Equip-Basin,Clearwell",5.5999999999999999E-3,-2.0000000000000001E-4]
["2020-11-01","2021-06-01","10WA01:320190",6370,"2020-12-01",12108102.939999999,2.1499999999999998E-2,"10WA01:320190",null,"Indiana Water Area 01","320190-WT Equip-Basin,Clearwell",5.5999999999999999E-3,-2.0000000000000001E-4]
["2020-11-01","2021-06-01","10WA01:320190",6370,"2021-01-01",12110014.15,2.1499999999999998E-2,"10WA01:320190",null,"Indiana Water Area 01","320190-WT Equip-Basin,Clearwell",5.5999999999999999E-3,-2.0000000000000001E-4]
["2020-11-01","2021-06-01","10WA01:320190",6370,"2021-02-01",12109562.83,2.1499999999999998E-2,"10WA01:320190",null,"Indiana Water Area 01","320190-WT Equip-Basin,Clearwell",5.5999999999999999E-3,-2.0000000000000001E-4]
["2020-11-01","2021-06-01","10WA01:320190",6370,"2021-03-01",12110625.140000001,2.1499999999999998E-2,"10WA01:320190",null,"Indiana Water Area 01","320190-WT Equip-Basin,Clearwell",5.5999999999999999E-3,-2.0000000000000001E-4]
["2020-11-01","2021-06-01","10WA01:320190",6370,"2021-04-01",12110625.140000001,2.1499999999999998E-2,"10WA01:320190",null,"Indiana Water Area 01","320190-WT Equip-Basin,Clearwell",5.5999999999999999E-3,-2.0000000000000001E-4]
["2020-11-01","2021-06-01","10WA01:320190",6370,"2021-05-01",12114125.869999999,2.1499999999999998E-2,"10WA01:320190",null,"Indiana Water Area 01","320190-WT Equip-Basin,Clearwell",5.5999999999999999E-3,-2.0000000000000001E-4]
["2020-11-01","2021-06-01","10WA01:320190",6370,"2021-06-01",12114399.48,2.1499999999999998E-2,"10WA01:320190",null,"Indiana Water Area 01","320190-WT Equip-Basin,Clearwell",5.5999999999999999E-3,-2.0000000000000001E-4]
["2020-11-01","2021-06-01","10WA01:320191",2636,"2020-11-01",19863721.120000001,2.1499999999999998E-2,"10WA01:320191",null,"Indiana Water Area 01","320191-WT Equip-Filter Plt Piping",5.5999999999999999E-3,-2.0000000000000001E-4]
["2020-11-01","2021-06-01","10WA01:320191",2636,"2020-12-01",19934830.629999999,2.1499999999999998E-2,"10WA01:320191",null,"Indiana Water Area 01","320191-WT Equip-Filter Plt Piping",5.5999999999999999E-3,-2.0000000000000001E-4]
["2020-11-01","2021-06-01","10WA01:320191",2636,"2021-01-01",19962545.109999999,2.1499999999999998E-2,"10WA01:320191",null,"Indiana Water Area 01","320191-WT Equip-Filter Plt Piping",5.5999999999999999E-3,-2.0000000000000001E-4]
["2020-11-01","2021-06-01","10WA01:320191",2636,"2021-02-01",19939857.75,2.1499999999999998E-2,"10WA01:320191",null,"Indiana Water Area 01","320191-WT Equip-Filter Plt Piping",5.5999999999999999E-3,-2.0000000000000001E-4]
["2020-11-01","2021-06-01","10WA01:320191",2636,"2021-03-01",19938809.100000001,2.1499999999999998E-2,"10WA01:320191",null,"Indiana Water Area 01","320191-WT Equip-Filter Plt Piping",5.5999999999999999E-3,-2.0000000000000001E-4]
["2020-11-01","2021-06-01","10WA01:320191",2636,"2021-04-01",19960873.710000001,2.1499999999999998E-2,"10WA01:320191",null,"Indiana Water Area 01","320191-WT Equip-Filter Plt Piping",5.5999999999999999E-3,-2.0000000000000001E-4]
["2020-11-01","2021-06-01","10WA01:320191",2636,"2021-05-01",19941322.73,2.1499999999999998E-2,"10WA01:320191",null,"Indiana Water Area 01","320191-WT Equip-Filter Plt Piping",5.5999999999999999E-3,-2.0000000000000001E-4]
["2020-11-01","2021-06-01","10WA01:320191",2636,"2021-06-01",19969582.800000001,2.1499999999999998E-2,"10WA01:320191",null,"Indiana Water Area 01","320191-WT Equip-Filter Plt Piping",5.5999999999999999E-3,-2.0000000000000001E-4]
["2020-11-01","2021-06-01","10WA01:320192",5745,"2020-11-01",750470.64,2.1499999999999998E-2,"10WA01:320192",null,"Indiana Water Area 01","320192-WT Equip-Wash Water Tank",5.5999999999999999E-3,-2.0000000000000001E-4]
["2020-11-01","2021-06-01","10WA01:320192",5745,"2020-12-01",790537.85,2.1499999999999998E-2,"10WA01:320192",null,"Indiana Water Area 01","320192-WT Equip-Wash Water Tank",5.5999999999999999E-3,-2.0000000000000001E-4]
["2020-11-01","2021-06-01","10WA01:320192",5745,"2021-01-01",791545.82,2.1499999999999998E-2,"10WA01:320192",null,"Indiana Water Area 01","320192-WT Equip-Wash Water Tank",5.5999999999999999E-3,-2.0000000000000001E-4]
["2020-11-01","2021-06-01","10WA01:320192",5745,"2021-02-01",791305.85,2.1499999999999998E-2,"10WA01:320192",null,"Indiana Water Area 01","320192-WT Equip-Wash Water Tank",5.5999999999999999E-3,-2.0000000000000001E-4]
["2020-11-01","2021-06-01","10WA01:320192",5745,"2021-03-01",791918.18,2.1499999999999998E-2,"10WA01:320192",null,"Indiana Water Area 01","320192-WT Equip-Wash Water Tank",5.5999999999999999E-3,-2.0000000000000001E-4]
["2020-11-01","2021-06-01","10WA01:320192",5745,"2021-04-01",791918.18,2.1499999999999998E-2,"10WA01:320192",null,"Indiana Water Area 01","320192-WT Equip-Wash Water Tank",5.5999999999999999E-3,-2.0000000000000001E-4]
["2020-11-01","2021-06-01","10WA01:320192",5745,"2021-05-01",793717.03,2.1499999999999998E-2,"10WA01:320192",null,"Indiana Water Area 01","320192-WT Equip-Wash Water Tank",5.5999999999999999E-3,-2.0000000000000001E-4]
["2020-11-01","2021-06-01","10WA01:320192",5745,"2021-06-01",793904.65,2.1499999999999998E-2,"10WA01:320192",null,"Indiana Water Area 01","320192-WT Equip-Wash Water Tank",5.5999999999999999E-3,-2.0000000000000001E-4]
["2020-11-01","2021-06-01","10WA01:320193",3890,"2020-11-01",13286136.85,2.1499999999999998E-2,"10WA01:320193",null,"Indiana Water Area 01","320193-WT Equip-Chemical Feed",5.5999999999999999E-3,-2.0000000000000001E-4]
["2020-11-01","2021-06-01","10WA01:320193",3890,"2020-12-01",13304450.130000001,2.1499999999999998E-2,"10WA01:320193",null,"Indiana Water Area 01","320193-WT Equip-Chemical Feed",5.5999999999999999E-3,-2.0000000000000001E-4]
["2020-11-01","2021-06-01","10WA01:320193",3890,"2021-01-01",13334957.82,2.1499999999999998E-2,"10WA01:320193",null,"Indiana Water Area 01","320193-WT Equip-Chemical Feed",5.5999999999999999E-3,-2.0000000000000001E-4]
["2020-11-01","2021-06-01","10WA01:320193",3890,"2021-02-01",13340057.02,2.1499999999999998E-2,"10WA01:320193",null,"Indiana Water Area 01","320193-WT Equip-Chemical Feed",5.5999999999999999E-3,-2.0000000000000001E-4]
["2020-11-01","2021-06-01","10WA01:320193",3890,"2021-03-01",13348091.76,2.1499999999999998E-2,"10WA01:320193",null,"Indiana Water Area 01","320193-WT Equip-Chemical Feed",5.5999999999999999E-3,-2.0000000000000001E-4]
["2020-11-01","2021-06-01","10WA01:320193",3890,"2021-04-01",13381988.640000001,2.1499999999999998E-2,"10WA01:320193",null,"Indiana Water Area 01","320193-WT Equip-Chemical Feed",5.5999999999999999E-3,-2.0000000000000001E-4]
["2020-11-01","2021-06-01","10WA01:320193",3890,"2021-05-01",13365647.27,2.1499999999999998E-2,"10WA01:320193",null,"Indiana Water Area 01","320193-WT Equip-Chemical Feed",5.5999999999999999E-3,-2.0000000000000001E-4]
["2020-11-01","2021-06-01","10WA01:320193",3890,"2021-06-01",13380155.460000001,2.1499999999999998E-2,"10WA01:320193",null,"Indiana Water Area 01","320193-WT Equip-Chemical Feed",5.5999999999999999E-3,-2.0000000000000001E-4]
["2020-11-01","2021-06-01","10WA01:320200",4567,"2020-11-01",5031258.53,9.4E-2,"10WA01:320200",null,"Indiana Water Area 01","320200-WT Equip Filter Media",0,0]
["2020-11-01","2021-06-01","10WA01:320200",4567,"2020-12-01",5033518.33,9.4E-2,"10WA01:320200",null,"Indiana Water Area 01","320200-WT Equip Filter Media",0,0]
["2020-11-01","2021-06-01","10WA01:320200",4567,"2021-01-01",5034249.51,9.4E-2,"10WA01:320200",null,"Indiana Water Area 01","320200-WT Equip Filter Media",0,0]
["2020-11-01","2021-06-01","10WA01:320200",4567,"2021-02-01",5033697.7,9.4E-2,"10WA01:320200",null,"Indiana Water Area 01","320200-WT Equip Filter Media",0,0]
["2020-11-01","2021-06-01","10WA01:320200",4567,"2021-03-01",5037943.47,9.4E-2,"10WA01:320200",null,"Indiana Water Area 01","320200-WT Equip Filter Media",0,0]
["2020-11-01","2021-06-01","10WA01:320200",4567,"2021-04-01",5038498.66,9.4E-2,"10WA01:320200",null,"Indiana Water Area 01","320200-WT Equip Filter Media",0,0]
["2020-11-01","2021-06-01","10WA01:320200",4567,"2021-05-01",5038044.88,9.4E-2,"10WA01:320200",null,"Indiana Water Area 01","320200-WT Equip Filter Media",0,0]
["2020-11-01","2021-06-01","10WA01:320200",4567,"2021-06-01",5038742.2699999996,9.4E-2,"10WA01:320200",null,"Indiana Water Area 01","320200-WT Equip Filter Media",0,0]
["2020-11-01","2021-06-01","10WA01:330000",6368,"2020-11-01",39261706.020000003,1.55E-2,"10WA01:330000",null,"Indiana Water Area 01","330000-Dist Reservoirs & Standpipes",4.8999999999999998E-3,-2.9999999999999997E-4]
["2020-11-01","2021-06-01","10WA01:330000",6368,"2020-12-01",39695990.25,1.55E-2,"10WA01:330000",null,"Indiana Water Area 01","330000-Dist Reservoirs & Standpipes",4.8999999999999998E-3,-2.9999999999999997E-4]
["2020-11-01","2021-06-01","10WA01:330000",6368,"2021-01-01",39700270.219999999,1.55E-2,"10WA01:330000",null,"Indiana Water Area 01","330000-Dist Reservoirs & Standpipes",4.8999999999999998E-3,-2.9999999999999997E-4]
["2020-11-01","2021-06-01","10WA01:330000",6368,"2021-02-01",39700860.390000001,1.55E-2,"10WA01:330000",null,"Indiana Water Area 01","330000-Dist Reservoirs & Standpipes",4.8999999999999998E-3,-2.9999999999999997E-4]
["2020-11-01","2021-06-01","10WA01:330000",6368,"2021-03-01",39700117.869999997,1.55E-2,"10WA01:330000",null,"Indiana Water Area 01","330000-Dist Reservoirs & Standpipes",4.8999999999999998E-3,-2.9999999999999997E-4]
["2020-11-01","2021-06-01","10WA01:330000",6368,"2021-04-01",39723177.850000001,1.55E-2,"10WA01:330000",null,"Indiana Water Area 01","330000-Dist Reservoirs & Standpipes",4.8999999999999998E-3,-2.9999999999999997E-4]
["2020-11-01","2021-06-01","10WA01:330000",6368,"2021-05-01",39703928.990000002,1.55E-2,"10WA01:330000",null,"Indiana Water Area 01","330000-Dist Reservoirs & Standpipes",4.8999999999999998E-3,-2.9999999999999997E-4]
["2020-11-01","2021-06-01","10WA01:330000",6368,"2021-06-01",39704223.579999998,1.55E-2,"10WA01:330000",null,"Indiana Water Area 01","330000-Dist Reservoirs & Standpipes",4.8999999999999998E-3,-2.9999999999999997E-4]
["2020-11-01","2021-06-01","10WA01:330001",5097,"2020-11-01",227377.55,0.1169,"10WA01:330001",null,"Indiana Water Area 01","330001-Tank Repainting",0,0]
["2020-11-01","2021-06-01","10WA01:330001",5097,"2020-12-01",1318210.71,0.1169,"10WA01:330001",null,"Indiana Water Area 01","330001-Tank Repainting",0,0]
["2020-11-01","2021-06-01","10WA01:330001",5097,"2021-01-01",1346719.46,0.1169,"10WA01:330001",null,"Indiana Water Area 01","330001-Tank Repainting",0,0]
["2020-11-01","2021-06-01","10WA01:330001",5097,"2021-02-01",1347310.41,0.1169,"10WA01:330001",null,"Indiana Water Area 01","330001-Tank Repainting",0,0]
["2020-11-01","2021-06-01","10WA01:330001",5097,"2021-03-01",1323091.1200000001,2.69E-2,"10WA01:330001",null,"Indiana Water Area 01","330001-Tank Repainting",0,0]
["2020-11-01","2021-06-01","10WA01:330001",5097,"2021-04-01",1370641.86,2.69E-2,"10WA01:330001",null,"Indiana Water Area 01","330001-Tank Repainting",0,0]
["2020-11-01","2021-06-01","10WA01:330001",5097,"2021-05-01",1329620.5,2.69E-2,"10WA01:330001",null,"Indiana Water Area 01","330001-Tank Repainting",0,0]
["2020-11-01","2021-06-01","10WA01:330001",5097,"2021-06-01",1330449.27,2.69E-2,"10WA01:330001",null,"Indiana Water Area 01","330001-Tank Repainting",0,0]
["2020-11-01","2021-06-01","10WA01:330002",2023,"2020-11-01",974929.41,0.1169,"10WA01:330002",null,"Indiana Water Area 01","330002-Tank Original Painting",0,0]
["2020-11-01","2021-06-01","10WA01:330002",2023,"2020-12-01",974962.94,0.1169,"10WA01:330002",null,"Indiana Water Area 01","330002-Tank Original Painting",0,0]
["2020-11-01","2021-06-01","10WA01:330002",2023,"2021-01-01",974975.73,0.1169,"10WA01:330002",null,"Indiana Water Area 01","330002-Tank Original Painting",0,0]
["2020-11-01","2021-06-01","10WA01:330002",2023,"2021-02-01",974954.65,0.1169,"10WA01:330002",null,"Indiana Water Area 01","330002-Tank Original Painting",0,0]
["2020-11-01","2021-06-01","10WA01:330002",2023,"2021-03-01",975443.39,0.1169,"10WA01:330002",null,"Indiana Water Area 01","330002-Tank Original Painting",0,0]
["2020-11-01","2021-06-01","10WA01:330002",2023,"2021-04-01",975483.64,0.1169,"10WA01:330002",null,"Indiana Water Area 01","330002-Tank Original Painting",0,0]
["2020-11-01","2021-06-01","10WA01:330002",2023,"2021-05-01",975068.45,0.1169,"10WA01:330002",null,"Indiana Water Area 01","330002-Tank Original Painting",0,0]
["2020-11-01","2021-06-01","10WA01:330002",2023,"2021-06-01",975470.84,0.1169,"10WA01:330002",null,"Indiana Water Area 01","330002-Tank Original Painting",0,0]
["2020-11-01","2021-06-01","10WA01:330003",2025,"2020-11-01",14979487.84,0.1169,"10WA01:330003",null,"Indiana Water Area 01","330003-Tank Repainting",0,0]
["2020-11-01","2021-06-01","10WA01:330003",2025,"2020-12-01",14907760.939999999,0.1169,"10WA01:330003",null,"Indiana Water Area 01","330003-Tank Repainting",0,0]
["2020-11-01","2021-06-01","10WA01:330003",2025,"2021-01-01",14907843.869999999,0.1169,"10WA01:330003",null,"Indiana Water Area 01","330003-Tank Repainting",0,0]
["2020-11-01","2021-06-01","10WA01:330003",2025,"2021-02-01",14907836.24,0.1169,"10WA01:330003",null,"Indiana Water Area 01","330003-Tank Repainting",0,0]
["2020-11-01","2021-06-01","10WA01:330003",2025,"2021-03-01",14907836.24,0.1169,"10WA01:330003",null,"Indiana Water Area 01","330003-Tank Repainting",0,0]
["2020-11-01","2021-06-01","10WA01:330003",2025,"2021-04-01",14907836.24,0.1169,"10WA01:330003",null,"Indiana Water Area 01","330003-Tank Repainting",0,0]
["2020-11-01","2021-06-01","10WA01:330003",2025,"2021-05-01",14907836.24,0.1169,"10WA01:330003",null,"Indiana Water Area 01","330003-Tank Repainting",0,0]
["2020-11-01","2021-06-01","10WA01:330003",2025,"2021-06-01",14907836.24,0.1169,"10WA01:330003",null,"Indiana Water Area 01","330003-Tank Repainting",0,0]
["2020-11-01","2021-06-01","10WA01:330100",5748,"2020-11-01",16116988.66,1.55E-2,"10WA01:330100",null,"Indiana Water Area 01","330100-Elevated Tanks & Standpipes",4.8999999999999998E-3,-2.9999999999999997E-4]
["2020-11-01","2021-06-01","10WA01:330100",5748,"2020-12-01",16117129.1,1.55E-2,"10WA01:330100",null,"Indiana Water Area 01","330100-Elevated Tanks & Standpipes",4.8999999999999998E-3,-2.9999999999999997E-4]
["2020-11-01","2021-06-01","10WA01:330100",5748,"2021-01-01",16186292.9,1.55E-2,"10WA01:330100",null,"Indiana Water Area 01","330100-Elevated Tanks & Standpipes",4.8999999999999998E-3,-2.9999999999999997E-4]
["2020-11-01","2021-06-01","10WA01:330100",5748,"2021-02-01",16186180.060000001,1.55E-2,"10WA01:330100",null,"Indiana Water Area 01","330100-Elevated Tanks & Standpipes",4.8999999999999998E-3,-2.9999999999999997E-4]
["2020-11-01","2021-06-01","10WA01:330100",5748,"2021-03-01",16188227.5,1.55E-2,"10WA01:330100",null,"Indiana Water Area 01","330100-Elevated Tanks & Standpipes",4.8999999999999998E-3,-2.9999999999999997E-4]
["2020-11-01","2021-06-01","10WA01:330100",5748,"2021-04-01",16188227.5,1.55E-2,"10WA01:330100",null,"Indiana Water Area 01","330100-Elevated Tanks & Standpipes",4.8999999999999998E-3,-2.9999999999999997E-4]
["2020-11-01","2021-06-01","10WA01:330100",5748,"2021-05-01",16186488.199999999,1.55E-2,"10WA01:330100",null,"Indiana Water Area 01","330100-Elevated Tanks & Standpipes",4.8999999999999998E-3,-2.9999999999999997E-4]
["2020-11-01","2021-06-01","10WA01:330100",5748,"2021-06-01",16188173.92,1.55E-2,"10WA01:330100",null,"Indiana Water Area 01","330100-Elevated Tanks & Standpipes",4.8999999999999998E-3,-2.9999999999999997E-4]
["2020-11-01","2021-06-01","10WA01:330200",2639,"2020-11-01",5200888.6399999997,1.55E-2,"10WA01:330200",null,"Indiana Water Area 01","330200-Ground Level Tanks",4.8999999999999998E-3,-2.9999999999999997E-4]
["2020-11-01","2021-06-01","10WA01:330200",2639,"2020-12-01",5200888.6399999997,1.55E-2,"10WA01:330200",null,"Indiana Water Area 01","330200-Ground Level Tanks",4.8999999999999998E-3,-2.9999999999999997E-4]
["2020-11-01","2021-06-01","10WA01:330200",2639,"2021-01-01",5200888.6399999997,1.55E-2,"10WA01:330200",null,"Indiana Water Area 01","330200-Ground Level Tanks",4.8999999999999998E-3,-2.9999999999999997E-4]
["2020-11-01","2021-06-01","10WA01:330200",2639,"2021-02-01",5200888.6399999997,1.55E-2,"10WA01:330200",null,"Indiana Water Area 01","330200-Ground Level Tanks",4.8999999999999998E-3,-2.9999999999999997E-4]
["2020-11-01","2021-06-01","10WA01:330200",2639,"2021-03-01",5200757.6399999997,1.55E-2,"10WA01:330200",null,"Indiana Water Area 01","330200-Ground Level Tanks",4.8999999999999998E-3,-2.9999999999999997E-4]
["2020-11-01","2021-06-01","10WA01:330200",2639,"2021-04-01",5200757.6399999997,1.55E-2,"10WA01:330200",null,"Indiana Water Area 01","330200-Ground Level Tanks",4.8999999999999998E-3,-2.9999999999999997E-4]
["2020-11-01","2021-06-01","10WA01:330200",2639,"2021-05-01",5200757.6399999997,1.55E-2,"10WA01:330200",null,"Indiana Water Area 01","330200-Ground Level Tanks",4.8999999999999998E-3,-2.9999999999999997E-4]
["2020-11-01","2021-06-01","10WA01:330200",2639,"2021-06-01",5200757.6399999997,1.55E-2,"10WA01:330200",null,"Indiana Water Area 01","330200-Ground Level Tanks",4.8999999999999998E-3,-2.9999999999999997E-4]
["2020-11-01","2021-06-01","10WA01:331001",3892,"2020-11-01",795321369.78999996,9.7000000000000003E-3,"10WA01:331001",null,"Indiana Water Area 01","331001-TD Mains Not Classified",7.9000000000000008E-3,-5.9999999999999995E-4]
["2020-11-01","2021-06-01","10WA01:331001",3892,"2020-12-01",807126287.29999995,9.7000000000000003E-3,"10WA01:331001",null,"Indiana Water Area 01","331001-TD Mains Not Classified",7.9000000000000008E-3,-5.9999999999999995E-4]
["2020-11-01","2021-06-01","10WA01:331001",3892,"2021-01-01",811678397.05999994,9.7000000000000003E-3,"10WA01:331001",null,"Indiana Water Area 01","331001-TD Mains Not Classified",7.9000000000000008E-3,-5.9999999999999995E-4]
["2020-11-01","2021-06-01","10WA01:331001",3892,"2021-02-01",812607498.39999998,9.7000000000000003E-3,"10WA01:331001",null,"Indiana Water Area 01","331001-TD Mains Not Classified",7.9000000000000008E-3,-5.9999999999999995E-4]
["2020-11-01","2021-06-01","10WA01:331001",3892,"2021-03-01",815490168.14999998,9.7000000000000003E-3,"10WA01:331001",null,"Indiana Water Area 01","331001-TD Mains Not Classified",7.9000000000000008E-3,-5.9999999999999995E-4]
["2020-11-01","2021-06-01","10WA01:331001",3892,"2021-04-01",817193431.38999999,9.7000000000000003E-3,"10WA01:331001",null,"Indiana Water Area 01","331001-TD Mains Not Classified",7.9000000000000008E-3,-5.9999999999999995E-4]
["2020-11-01","2021-06-01","10WA01:331001",3892,"2021-05-01",818775995.96000004,9.7000000000000003E-3,"10WA01:331001",null,"Indiana Water Area 01","331001-TD Mains Not Classified",7.9000000000000008E-3,-5.9999999999999995E-4]
["2020-11-01","2021-06-01","10WA01:331001",3892,"2021-06-01",820529393.45000005,9.7000000000000003E-3,"10WA01:331001",null,"Indiana Water Area 01","331001-TD Mains Not Classified",7.9000000000000008E-3,-5.9999999999999995E-4]
["2020-11-01","2021-06-01","10WA01:331200",3893,"2020-11-01",15231506.130000001,9.7000000000000003E-3,"10WA01:331200",null,"Indiana Water Area 01","331200-TD Mains 6in to 8in",7.9000000000000008E-3,-5.9999999999999995E-4]
["2020-11-01","2021-06-01","10WA01:331200",3893,"2020-12-01",15211713.34,9.7000000000000003E-3,"10WA01:331200",null,"Indiana Water Area 01","331200-TD Mains 6in to 8in",7.9000000000000008E-3,-5.9999999999999995E-4]
["2020-11-01","2021-06-01","10WA01:331200",3893,"2021-01-01",15421900.529999999,9.7000000000000003E-3,"10WA01:331200",null,"Indiana Water Area 01","331200-TD Mains 6in to 8in",7.9000000000000008E-3,-5.9999999999999995E-4]
["2020-11-01","2021-06-01","10WA01:331200",3893,"2021-02-01",15427655.48,9.7000000000000003E-3,"10WA01:331200",null,"Indiana Water Area 01","331200-TD Mains 6in to 8in",7.9000000000000008E-3,-5.9999999999999995E-4]
["2020-11-01","2021-06-01","10WA01:331200",3893,"2021-03-01",15432953.83,9.7000000000000003E-3,"10WA01:331200",null,"Indiana Water Area 01","331200-TD Mains 6in to 8in",7.9000000000000008E-3,-5.9999999999999995E-4]
["2020-11-01","2021-06-01","10WA01:331200",3893,"2021-04-01",15450475.5,9.7000000000000003E-3,"10WA01:331200",null,"Indiana Water Area 01","331200-TD Mains 6in to 8in",7.9000000000000008E-3,-5.9999999999999995E-4]
["2020-11-01","2021-06-01","10WA01:331200",3893,"2021-05-01",15449509.359999999,9.7000000000000003E-3,"10WA01:331200",null,"Indiana Water Area 01","331200-TD Mains 6in to 8in",7.9000000000000008E-3,-5.9999999999999995E-4]
["2020-11-01","2021-06-01","10WA01:331200",3893,"2021-06-01",15449478.59,9.7000000000000003E-3,"10WA01:331200",null,"Indiana Water Area 01","331200-TD Mains 6in to 8in",7.9000000000000008E-3,-5.9999999999999995E-4]
["2020-11-01","2021-06-01","10WA01:332000",4483,"2020-11-01",20402.57,0.01,"10WA01:332000",null,"Indiana Water Area 01","332000-Fire Mains",0,0]
["2020-11-01","2021-06-01","10WA01:332000",4483,"2020-12-01",20402.57,0.01,"10WA01:332000",null,"Indiana Water Area 01","332000-Fire Mains",0,0]
["2020-11-01","2021-06-01","10WA01:332000",4483,"2021-01-01",20402.57,0.01,"10WA01:332000",null,"Indiana Water Area 01","332000-Fire Mains",0,0]
["2020-11-01","2021-06-01","10WA01:332000",4483,"2021-02-01",20402.57,0.01,"10WA01:332000",null,"Indiana Water Area 01","332000-Fire Mains",0,0]
["2020-11-01","2021-06-01","10WA01:332000",4483,"2021-03-01",20402.57,0.01,"10WA01:332000",null,"Indiana Water Area 01","332000-Fire Mains",0,0]
["2020-11-01","2021-06-01","10WA01:332000",4483,"2021-04-01",20402.57,0.01,"10WA01:332000",null,"Indiana Water Area 01","332000-Fire Mains",0,0]
["2020-11-01","2021-06-01","10WA01:332000",4483,"2021-05-01",20402.57,0.01,"10WA01:332000",null,"Indiana Water Area 01","332000-Fire Mains",0,0]
["2020-11-01","2021-06-01","10WA01:332000",4483,"2021-06-01",20402.57,0.01,"10WA01:332000",null,"Indiana Water Area 01","332000-Fire Mains",0,0]
["2020-11-01","2021-06-01","10WA01:333000",2640,"2020-11-01",186312282.80000001,1.44E-2,"10WA01:333000",null,"Indiana Water Area 01","333000-Services",2.18E-2,-2.9999999999999997E-4]
["2020-11-01","2021-06-01","10WA01:333000",2640,"2020-12-01",188898826.24000001,1.44E-2,"10WA01:333000",null,"Indiana Water Area 01","333000-Services",2.18E-2,-2.9999999999999997E-4]
["2020-11-01","2021-06-01","10WA01:333000",2640,"2021-01-01",189949211.65000001,1.44E-2,"10WA01:333000",null,"Indiana Water Area 01","333000-Services",2.18E-2,-2.9999999999999997E-4]
["2020-11-01","2021-06-01","10WA01:333000",2640,"2021-02-01",190622205.49000001,1.44E-2,"10WA01:333000",null,"Indiana Water Area 01","333000-Services",2.18E-2,-2.9999999999999997E-4]
["2020-11-01","2021-06-01","10WA01:333000",2640,"2021-03-01",191134062.68000001,1.44E-2,"10WA01:333000",null,"Indiana Water Area 01","333000-Services",2.18E-2,-2.9999999999999997E-4]
["2020-11-01","2021-06-01","10WA01:333000",2640,"2021-04-01",191419940.03,1.44E-2,"10WA01:333000",null,"Indiana Water Area 01","333000-Services",2.18E-2,-2.9999999999999997E-4]
["2020-11-01","2021-06-01","10WA01:333000",2640,"2021-05-01",191793506.22,1.44E-2,"10WA01:333000",null,"Indiana Water Area 01","333000-Services",2.18E-2,-2.9999999999999997E-4]
["2020-11-01","2021-06-01","10WA01:333000",2640,"2021-06-01",192494863.22999999,1.44E-2,"10WA01:333000",null,"Indiana Water Area 01","333000-Services",2.18E-2,-2.9999999999999997E-4]
["2020-11-01","2021-06-01","10WA01:333100",2641,"2020-11-01",13195420.460000001,1.44E-2,"10WA01:333100",null,"Indiana Water Area 01","333100-Replaced Cust Lead Services",2.18E-2,-2.9999999999999997E-4]
["2020-11-01","2021-06-01","10WA01:333100",2641,"2020-12-01",13108334.42,1.44E-2,"10WA01:333100",null,"Indiana Water Area 01","333100-Replaced Cust Lead Services",2.18E-2,-2.9999999999999997E-4]
["2020-11-01","2021-06-01","10WA01:333100",2641,"2021-01-01",13109370.07,1.44E-2,"10WA01:333100",null,"Indiana Water Area 01","333100-Replaced Cust Lead Services",2.18E-2,-2.9999999999999997E-4]
["2020-11-01","2021-06-01","10WA01:333100",2641,"2021-02-01",13132515.439999999,1.44E-2,"10WA01:333100",null,"Indiana Water Area 01","333100-Replaced Cust Lead Services",2.18E-2,-2.9999999999999997E-4]
["2020-11-01","2021-06-01","10WA01:333100",2641,"2021-03-01",13125030.85,1.44E-2,"10WA01:333100",null,"Indiana Water Area 01","333100-Replaced Cust Lead Services",2.18E-2,-2.9999999999999997E-4]
["2020-11-01","2021-06-01","10WA01:333100",2641,"2021-04-01",13217107.640000001,1.44E-2,"10WA01:333100",null,"Indiana Water Area 01","333100-Replaced Cust Lead Services",2.18E-2,-2.9999999999999997E-4]
["2020-11-01","2021-06-01","10WA01:333100",2641,"2021-05-01",13549940.75,1.44E-2,"10WA01:333100",null,"Indiana Water Area 01","333100-Replaced Cust Lead Services",2.18E-2,-2.9999999999999997E-4]
["2020-11-01","2021-06-01","10WA01:333100",2641,"2021-06-01",13579511.390000001,1.44E-2,"10WA01:333100",null,"Indiana Water Area 01","333100-Replaced Cust Lead Services",2.18E-2,-2.9999999999999997E-4]
["2020-11-01","2021-06-01","10WA01:334100",3279,"2020-11-01",29168419.300000001,4.3299999999999998E-2,"10WA01:334100",null,"Indiana Water Area 01","334100-Meters",1.04E-2,-1.6999999999999999E-3]
["2020-11-01","2021-06-01","10WA01:334100",3279,"2020-12-01",29474692.219999999,4.3299999999999998E-2,"10WA01:334100",null,"Indiana Water Area 01","334100-Meters",1.04E-2,-1.6999999999999999E-3]
["2020-11-01","2021-06-01","10WA01:334100",3279,"2021-01-01",29670062.280000001,4.3299999999999998E-2,"10WA01:334100",null,"Indiana Water Area 01","334100-Meters",1.04E-2,-1.6999999999999999E-3]
["2020-11-01","2021-06-01","10WA01:334100",3279,"2021-02-01",29698481.699999999,4.3299999999999998E-2,"10WA01:334100",null,"Indiana Water Area 01","334100-Meters",1.04E-2,-1.6999999999999999E-3]
["2020-11-01","2021-06-01","10WA01:334100",3279,"2021-03-01",29805833.199999999,4.3299999999999998E-2,"10WA01:334100",null,"Indiana Water Area 01","334100-Meters",1.04E-2,-1.6999999999999999E-3]
["2020-11-01","2021-06-01","10WA01:334100",3279,"2021-04-01",29860326.399999999,4.3299999999999998E-2,"10WA01:334100",null,"Indiana Water Area 01","334100-Meters",1.04E-2,-1.6999999999999999E-3]
["2020-11-01","2021-06-01","10WA01:334100",3279,"2021-05-01",29991205.16,4.3299999999999998E-2,"10WA01:334100",null,"Indiana Water Area 01","334100-Meters",1.04E-2,-1.6999999999999999E-3]
["2020-11-01","2021-06-01","10WA01:334100",3279,"2021-06-01",30265770.140000001,4.3299999999999998E-2,"10WA01:334100",null,"Indiana Water Area 01","334100-Meters",1.04E-2,-1.6999999999999999E-3]
["2020-11-01","2021-06-01","10WA01:334110",3280,"2020-11-01",30255732,5.1400000000000001E-2,"10WA01:334110",null,"Indiana Water Area 01","334110-Meters Bronze Case",1.24E-2,-2.0999999999999999E-3]
["2020-11-01","2021-06-01","10WA01:334110",3280,"2020-12-01",30288057.850000001,5.1400000000000001E-2,"10WA01:334110",null,"Indiana Water Area 01","334110-Meters Bronze Case",1.24E-2,-2.0999999999999999E-3]
["2020-11-01","2021-06-01","10WA01:334110",3280,"2021-01-01",30246107.850000001,5.1400000000000001E-2,"10WA01:334110",null,"Indiana Water Area 01","334110-Meters Bronze Case",1.24E-2,-2.0999999999999999E-3]
["2020-11-01","2021-06-01","10WA01:334110",3280,"2021-02-01",30240765.98,5.1400000000000001E-2,"10WA01:334110",null,"Indiana Water Area 01","334110-Meters Bronze Case",1.24E-2,-2.0999999999999999E-3]
["2020-11-01","2021-06-01","10WA01:334110",3280,"2021-03-01",30240607.109999999,5.1400000000000001E-2,"10WA01:334110",null,"Indiana Water Area 01","334110-Meters Bronze Case",1.24E-2,-2.0999999999999999E-3]
["2020-11-01","2021-06-01","10WA01:334110",3280,"2021-04-01",30270784.77,5.1400000000000001E-2,"10WA01:334110",null,"Indiana Water Area 01","334110-Meters Bronze Case",1.24E-2,-2.0999999999999999E-3]
["2020-11-01","2021-06-01","10WA01:334110",3280,"2021-05-01",30270784.77,5.1400000000000001E-2,"10WA01:334110",null,"Indiana Water Area 01","334110-Meters Bronze Case",1.24E-2,-2.0999999999999999E-3]
["2020-11-01","2021-06-01","10WA01:334110",3280,"2021-06-01",30270784.77,5.1400000000000001E-2,"10WA01:334110",null,"Indiana Water Area 01","334110-Meters Bronze Case",1.24E-2,-2.0999999999999999E-3]
["2020-11-01","2021-06-01","10WA01:334120",4569,"2020-11-01",9619336.2799999993,7.3300000000000004E-2,"10WA01:334120",null,"Indiana Water Area 01","334120-Meters Plastic Case",1.7600000000000001E-2,-2.8999999999999998E-3]
["2020-11-01","2021-06-01","10WA01:334120",4569,"2020-12-01",9607860.5,7.3300000000000004E-2,"10WA01:334120",null,"Indiana Water Area 01","334120-Meters Plastic Case",1.7600000000000001E-2,-2.8999999999999998E-3]
["2020-11-01","2021-06-01","10WA01:334120",4569,"2021-01-01",9605019.8000000007,7.3300000000000004E-2,"10WA01:334120",null,"Indiana Water Area 01","334120-Meters Plastic Case",1.7600000000000001E-2,-2.8999999999999998E-3]
["2020-11-01","2021-06-01","10WA01:334120",4569,"2021-02-01",9605019.8000000007,7.3300000000000004E-2,"10WA01:334120",null,"Indiana Water Area 01","334120-Meters Plastic Case",1.7600000000000001E-2,-2.8999999999999998E-3]
["2020-11-01","2021-06-01","10WA01:334120",4569,"2021-03-01",9605019.8000000007,7.3300000000000004E-2,"10WA01:334120",null,"Indiana Water Area 01","334120-Meters Plastic Case",1.7600000000000001E-2,-2.8999999999999998E-3]
["2020-11-01","2021-06-01","10WA01:334120",4569,"2021-04-01",9589659.6600000001,7.3300000000000004E-2,"10WA01:334120",null,"Indiana Water Area 01","334120-Meters Plastic Case",1.7600000000000001E-2,-2.8999999999999998E-3]
["2020-11-01","2021-06-01","10WA01:334120",4569,"2021-05-01",9584136.3399999999,7.3300000000000004E-2,"10WA01:334120",null,"Indiana Water Area 01","334120-Meters Plastic Case",1.7600000000000001E-2,-2.8999999999999998E-3]
["2020-11-01","2021-06-01","10WA01:334120",4569,"2021-06-01",9578515.4499999993,7.3300000000000004E-2,"10WA01:334120",null,"Indiana Water Area 01","334120-Meters Plastic Case",1.7600000000000001E-2,-2.8999999999999998E-3]
["2020-11-01","2021-06-01","10WA01:334130",4570,"2020-11-01",9411678.8100000005,3.73E-2,"10WA01:334130",null,"Indiana Water Area 01","334130-Meters Other",8.9999999999999993E-3,-1.5E-3]
["2020-11-01","2021-06-01","10WA01:334130",4570,"2020-12-01",9384836.8100000005,3.73E-2,"10WA01:334130",null,"Indiana Water Area 01","334130-Meters Other",8.9999999999999993E-3,-1.5E-3]
["2020-11-01","2021-06-01","10WA01:334130",4570,"2021-01-01",9382586.4499999993,3.73E-2,"10WA01:334130",null,"Indiana Water Area 01","334130-Meters Other",8.9999999999999993E-3,-1.5E-3]
["2020-11-01","2021-06-01","10WA01:334130",4570,"2021-02-01",9359489.3000000007,3.73E-2,"10WA01:334130",null,"Indiana Water Area 01","334130-Meters Other",8.9999999999999993E-3,-1.5E-3]
["2020-11-01","2021-06-01","10WA01:334130",4570,"2021-03-01",9359494.8499999996,3.73E-2,"10WA01:334130",null,"Indiana Water Area 01","334130-Meters Other",8.9999999999999993E-3,-1.5E-3]
["2020-11-01","2021-06-01","10WA01:334130",4570,"2021-04-01",9365974.4499999993,3.73E-2,"10WA01:334130",null,"Indiana Water Area 01","334130-Meters Other",8.9999999999999993E-3,-1.5E-3]
["2020-11-01","2021-06-01","10WA01:334130",4570,"2021-05-01",9367801.1699999999,3.73E-2,"10WA01:334130",null,"Indiana Water Area 01","334130-Meters Other",8.9999999999999993E-3,-1.5E-3]
["2020-11-01","2021-06-01","10WA01:334130",4570,"2021-06-01",9368224.2100000009,3.73E-2,"10WA01:334130",null,"Indiana Water Area 01","334130-Meters Other",8.9999999999999993E-3,-1.5E-3]
["2020-11-01","2021-06-01","10WA01:334131",2026,"2020-11-01",7410838.3899999997,3.73E-2,"10WA01:334131",null,"Indiana Water Area 01","334131-Meter Reading Units",8.9999999999999993E-3,-1.5E-3]
["2020-11-01","2021-06-01","10WA01:334131",2026,"2020-12-01",7410713.4000000004,3.73E-2,"10WA01:334131",null,"Indiana Water Area 01","334131-Meter Reading Units",8.9999999999999993E-3,-1.5E-3]
["2020-11-01","2021-06-01","10WA01:334131",2026,"2021-01-01",7426678.8499999996,3.73E-2,"10WA01:334131",null,"Indiana Water Area 01","334131-Meter Reading Units",8.9999999999999993E-3,-1.5E-3]
["2020-11-01","2021-06-01","10WA01:334131",2026,"2021-02-01",7426678.8499999996,3.73E-2,"10WA01:334131",null,"Indiana Water Area 01","334131-Meter Reading Units",8.9999999999999993E-3,-1.5E-3]
["2020-11-01","2021-06-01","10WA01:334131",2026,"2021-03-01",7426856.7300000004,3.73E-2,"10WA01:334131",null,"Indiana Water Area 01","334131-Meter Reading Units",8.9999999999999993E-3,-1.5E-3]
["2020-11-01","2021-06-01","10WA01:334131",2026,"2021-04-01",7390803.3200000003,3.73E-2,"10WA01:334131",null,"Indiana Water Area 01","334131-Meter Reading Units",8.9999999999999993E-3,-1.5E-3]
["2020-11-01","2021-06-01","10WA01:334131",2026,"2021-05-01",7390803.3200000003,3.73E-2,"10WA01:334131",null,"Indiana Water Area 01","334131-Meter Reading Units",8.9999999999999993E-3,-1.5E-3]
["2020-11-01","2021-06-01","10WA01:334131",2026,"2021-06-01",7391517.8099999996,3.73E-2,"10WA01:334131",null,"Indiana Water Area 01","334131-Meter Reading Units",8.9999999999999993E-3,-1.5E-3]
["2020-11-01","2021-06-01","10WA01:334200",3891,"2020-11-01",67429001.489999995,1.6299999999999999E-2,"10WA01:334200",null,"Indiana Water Area 01","334200-Meter Installations",8.9999999999999993E-3,-8.0000000000000004E-4]
["2020-11-01","2021-06-01","10WA01:334200",3891,"2020-12-01",67965779.269999996,1.6299999999999999E-2,"10WA01:334200",null,"Indiana Water Area 01","334200-Meter Installations",8.9999999999999993E-3,-8.0000000000000004E-4]
["2020-11-01","2021-06-01","10WA01:334200",3891,"2021-01-01",68556349.370000005,1.6299999999999999E-2,"10WA01:334200",null,"Indiana Water Area 01","334200-Meter Installations",8.9999999999999993E-3,-8.0000000000000004E-4]
["2020-11-01","2021-06-01","10WA01:334200",3891,"2021-02-01",68707694.459999993,1.6299999999999999E-2,"10WA01:334200",null,"Indiana Water Area 01","334200-Meter Installations",8.9999999999999993E-3,-8.0000000000000004E-4]
["2020-11-01","2021-06-01","10WA01:334200",3891,"2021-03-01",69058696.930000007,1.6299999999999999E-2,"10WA01:334200",null,"Indiana Water Area 01","334200-Meter Installations",8.9999999999999993E-3,-8.0000000000000004E-4]
["2020-11-01","2021-06-01","10WA01:334200",3891,"2021-04-01",69145131.269999996,1.6299999999999999E-2,"10WA01:334200",null,"Indiana Water Area 01","334200-Meter Installations",8.9999999999999993E-3,-8.0000000000000004E-4]
["2020-11-01","2021-06-01","10WA01:334200",3891,"2021-05-01",69546332.140000001,1.6299999999999999E-2,"10WA01:334200",null,"Indiana Water Area 01","334200-Meter Installations",8.9999999999999993E-3,-8.0000000000000004E-4]
["2020-11-01","2021-06-01","10WA01:334200",3891,"2021-06-01",69602597.730000004,1.6299999999999999E-2,"10WA01:334200",null,"Indiana Water Area 01","334200-Meter Installations",8.9999999999999993E-3,-8.0000000000000004E-4]
["2020-11-01","2021-06-01","10WA01:334201",4568,"2020-11-01",4348479.75,1.6299999999999999E-2,"10WA01:334201",null,"Indiana Water Area 01","334201-Meter Installations-Other",8.9999999999999993E-3,-8.0000000000000004E-4]
["2020-11-01","2021-06-01","10WA01:334201",4568,"2020-12-01",4349113.21,1.6299999999999999E-2,"10WA01:334201",null,"Indiana Water Area 01","334201-Meter Installations-Other",8.9999999999999993E-3,-8.0000000000000004E-4]
["2020-11-01","2021-06-01","10WA01:334201",4568,"2021-01-01",4346149.6399999997,1.6299999999999999E-2,"10WA01:334201",null,"Indiana Water Area 01","334201-Meter Installations-Other",8.9999999999999993E-3,-8.0000000000000004E-4]
["2020-11-01","2021-06-01","10WA01:334201",4568,"2021-02-01",4346250.9800000004,1.6299999999999999E-2,"10WA01:334201",null,"Indiana Water Area 01","334201-Meter Installations-Other",8.9999999999999993E-3,-8.0000000000000004E-4]
["2020-11-01","2021-06-01","10WA01:334201",4568,"2021-03-01",4346147.18,1.6299999999999999E-2,"10WA01:334201",null,"Indiana Water Area 01","334201-Meter Installations-Other",8.9999999999999993E-3,-8.0000000000000004E-4]
["2020-11-01","2021-06-01","10WA01:334201",4568,"2021-04-01",4345777.7,1.6299999999999999E-2,"10WA01:334201",null,"Indiana Water Area 01","334201-Meter Installations-Other",8.9999999999999993E-3,-8.0000000000000004E-4]
["2020-11-01","2021-06-01","10WA01:334201",4568,"2021-05-01",4357930.09,1.6299999999999999E-2,"10WA01:334201",null,"Indiana Water Area 01","334201-Meter Installations-Other",8.9999999999999993E-3,-8.0000000000000004E-4]
["2020-11-01","2021-06-01","10WA01:334201",4568,"2021-06-01",4362292.29,1.6299999999999999E-2,"10WA01:334201",null,"Indiana Water Area 01","334201-Meter Installations-Other",8.9999999999999993E-3,-8.0000000000000004E-4]
["2020-11-01","2021-06-01","10WA01:334300",5162,"2020-11-01",28558218.620000001,2.2499999999999999E-2,"10WA01:334300",null,"Indiana Water Area 01","334300-Meter Vaults",8.9999999999999993E-3,-2.2000000000000001E-3]
["2020-11-01","2021-06-01","10WA01:334300",5162,"2020-12-01",28622944.149999999,2.2499999999999999E-2,"10WA01:334300",null,"Indiana Water Area 01","334300-Meter Vaults",8.9999999999999993E-3,-2.2000000000000001E-3]
["2020-11-01","2021-06-01","10WA01:334300",5162,"2021-01-01",28976299.949999999,2.2499999999999999E-2,"10WA01:334300",null,"Indiana Water Area 01","334300-Meter Vaults",8.9999999999999993E-3,-2.2000000000000001E-3]
["2020-11-01","2021-06-01","10WA01:334300",5162,"2021-02-01",29050276.969999999,2.2499999999999999E-2,"10WA01:334300",null,"Indiana Water Area 01","334300-Meter Vaults",8.9999999999999993E-3,-2.2000000000000001E-3]
["2020-11-01","2021-06-01","10WA01:334300",5162,"2021-03-01",29283625.829999998,2.2499999999999999E-2,"10WA01:334300",null,"Indiana Water Area 01","334300-Meter Vaults",8.9999999999999993E-3,-2.2000000000000001E-3]
["2020-11-01","2021-06-01","10WA01:334300",5162,"2021-04-01",29349916.100000001,2.2499999999999999E-2,"10WA01:334300",null,"Indiana Water Area 01","334300-Meter Vaults",8.9999999999999993E-3,-2.2000000000000001E-3]
["2020-11-01","2021-06-01","10WA01:334300",5162,"2021-05-01",29680146.300000001,2.2499999999999999E-2,"10WA01:334300",null,"Indiana Water Area 01","334300-Meter Vaults",8.9999999999999993E-3,-2.2000000000000001E-3]
["2020-11-01","2021-06-01","10WA01:334300",5162,"2021-06-01",29824485.91,2.2499999999999999E-2,"10WA01:334300",null,"Indiana Water Area 01","334300-Meter Vaults",8.9999999999999993E-3,-2.2000000000000001E-3]
["2020-11-01","2021-06-01","10WA01:335000",2638,"2020-11-01",74846133.180000007,1.4999999999999999E-2,"10WA01:335000",null,"Indiana Water Area 01","335000-Hydrants",8.0000000000000002E-3,-5.0000000000000001E-4]
["2020-11-01","2021-06-01","10WA01:335000",2638,"2020-12-01",76186234.120000005,1.4999999999999999E-2,"10WA01:335000",null,"Indiana Water Area 01","335000-Hydrants",8.0000000000000002E-3,-5.0000000000000001E-4]
["2020-11-01","2021-06-01","10WA01:335000",2638,"2021-01-01",77130007.290000007,1.4999999999999999E-2,"10WA01:335000",null,"Indiana Water Area 01","335000-Hydrants",8.0000000000000002E-3,-5.0000000000000001E-4]
["2020-11-01","2021-06-01","10WA01:335000",2638,"2021-02-01",77418526.739999995,1.4999999999999999E-2,"10WA01:335000",null,"Indiana Water Area 01","335000-Hydrants",8.0000000000000002E-3,-5.0000000000000001E-4]
["2020-11-01","2021-06-01","10WA01:335000",2638,"2021-03-01",77732163.400000006,1.4999999999999999E-2,"10WA01:335000",null,"Indiana Water Area 01","335000-Hydrants",8.0000000000000002E-3,-5.0000000000000001E-4]
["2020-11-01","2021-06-01","10WA01:335000",2638,"2021-04-01",78098591.129999995,1.4999999999999999E-2,"10WA01:335000",null,"Indiana Water Area 01","335000-Hydrants",8.0000000000000002E-3,-5.0000000000000001E-4]
["2020-11-01","2021-06-01","10WA01:335000",2638,"2021-05-01",78287712.519999996,1.4999999999999999E-2,"10WA01:335000",null,"Indiana Water Area 01","335000-Hydrants",8.0000000000000002E-3,-5.0000000000000001E-4]
["2020-11-01","2021-06-01","10WA01:335000",2638,"2021-06-01",78585844.569999993,1.4999999999999999E-2,"10WA01:335000",null,"Indiana Water Area 01","335000-Hydrants",8.0000000000000002E-3,-5.0000000000000001E-4]
["2020-11-01","2021-06-01","10WA01:336000",3278,"2020-11-01",0,3.49E-2,"10WA01:336000",null,"Indiana Water Area 01","336000-Backflow Prevention Devices",0,0]
["2020-11-01","2021-06-01","10WA01:336000",3278,"2020-12-01",0,3.49E-2,"10WA01:336000",null,"Indiana Water Area 01","336000-Backflow Prevention Devices",0,0]
["2020-11-01","2021-06-01","10WA01:336000",3278,"2021-01-01",0,3.49E-2,"10WA01:336000",null,"Indiana Water Area 01","336000-Backflow Prevention Devices",0,0]
["2020-11-01","2021-06-01","10WA01:336000",3278,"2021-02-01",0,3.49E-2,"10WA01:336000",null,"Indiana Water Area 01","336000-Backflow Prevention Devices",0,0]
["2020-11-01","2021-06-01","10WA01:336000",3278,"2021-03-01",0,3.49E-2,"10WA01:336000",null,"Indiana Water Area 01","336000-Backflow Prevention Devices",0,0]
["2020-11-01","2021-06-01","10WA01:336000",3278,"2021-04-01",0,3.49E-2,"10WA01:336000",null,"Indiana Water Area 01","336000-Backflow Prevention Devices",0,0]
["2020-11-01","2021-06-01","10WA01:336000",3278,"2021-05-01",0,3.49E-2,"10WA01:336000",null,"Indiana Water Area 01","336000-Backflow Prevention Devices",0,0]
["2020-11-01","2021-06-01","10WA01:336000",3278,"2021-06-01",10892.64,3.49E-2,"10WA01:336000",null,"Indiana Water Area 01","336000-Backflow Prevention Devices",0,0]
["2020-11-01","2021-06-01","10WA01:339100",5163,"2020-11-01",0,0,"10WA01:339100",null,"Indiana Water Area 01","339100-Other P/E-Intangible",0,0]
["2020-11-01","2021-06-01","10WA01:339100",5163,"2020-12-01",0,0,"10WA01:339100",null,"Indiana Water Area 01","339100-Other P/E-Intangible",0,0]
["2020-11-01","2021-06-01","10WA01:339100",5163,"2021-01-01",0,0,"10WA01:339100",null,"Indiana Water Area 01","339100-Other P/E-Intangible",0,0]
["2020-11-01","2021-06-01","10WA01:339100",5163,"2021-02-01",0,0,"10WA01:339100",null,"Indiana Water Area 01","339100-Other P/E-Intangible",0,0]
["2020-11-01","2021-06-01","10WA01:339100",5163,"2021-03-01",0,0,"10WA01:339100",null,"Indiana Water Area 01","339100-Other P/E-Intangible",0,0]
["2020-11-01","2021-06-01","10WA01:339100",5163,"2021-04-01",0,0,"10WA01:339100",null,"Indiana Water Area 01","339100-Other P/E-Intangible",0,0]
["2020-11-01","2021-06-01","10WA01:339100",5163,"2021-05-01",0,0,"10WA01:339100",null,"Indiana Water Area 01","339100-Other P/E-Intangible",0,0]
["2020-11-01","2021-06-01","10WA01:339100",5163,"2021-06-01",0,0,"10WA01:339100",null,"Indiana Water Area 01","339100-Other P/E-Intangible",0,0]
["2020-11-01","2021-06-01","10WA01:339300",5164,"2020-11-01",284900.76,3.49E-2,"10WA01:339300",null,"Indiana Water Area 01","339300-Other P/E-Treatment",0,0]
["2020-11-01","2021-06-01","10WA01:339300",5164,"2020-12-01",284900.76,3.49E-2,"10WA01:339300",null,"Indiana Water Area 01","339300-Other P/E-Treatment",0,0]
["2020-11-01","2021-06-01","10WA01:339300",5164,"2021-01-01",284900.76,3.49E-2,"10WA01:339300",null,"Indiana Water Area 01","339300-Other P/E-Treatment",0,0]
["2020-11-01","2021-06-01","10WA01:339300",5164,"2021-02-01",284900.76,3.49E-2,"10WA01:339300",null,"Indiana Water Area 01","339300-Other P/E-Treatment",0,0]
["2020-11-01","2021-06-01","10WA01:339300",5164,"2021-03-01",284900.76,3.49E-2,"10WA01:339300",null,"Indiana Water Area 01","339300-Other P/E-Treatment",0,0]
["2020-11-01","2021-06-01","10WA01:339300",5164,"2021-04-01",284900.76,3.49E-2,"10WA01:339300",null,"Indiana Water Area 01","339300-Other P/E-Treatment",0,0]
["2020-11-01","2021-06-01","10WA01:339300",5164,"2021-05-01",284900.76,3.49E-2,"10WA01:339300",null,"Indiana Water Area 01","339300-Other P/E-Treatment",0,0]
["2020-11-01","2021-06-01","10WA01:339300",5164,"2021-06-01",284900.76,3.49E-2,"10WA01:339300",null,"Indiana Water Area 01","339300-Other P/E-Treatment",0,0]
["2020-11-01","2021-06-01","10WA01:339500",5747,"2020-11-01",106210.84,0.1153,"10WA01:339500",null,"Indiana Water Area 01","339500-Other P/E-TD",0,0]
["2020-11-01","2021-06-01","10WA01:339500",5747,"2020-12-01",106210.84,0.1153,"10WA01:339500",null,"Indiana Water Area 01","339500-Other P/E-TD",0,0]
["2020-11-01","2021-06-01","10WA01:339500",5747,"2021-01-01",106210.84,0.1153,"10WA01:339500",null,"Indiana Water Area 01","339500-Other P/E-TD",0,0]
["2020-11-01","2021-06-01","10WA01:339500",5747,"2021-02-01",106210.84,0.1153,"10WA01:339500",null,"Indiana Water Area 01","339500-Other P/E-TD",0,0]
["2020-11-01","2021-06-01","10WA01:339500",5747,"2021-03-01",115938.8,0.1153,"10WA01:339500",null,"Indiana Water Area 01","339500-Other P/E-TD",0,0]
["2020-11-01","2021-06-01","10WA01:339500",5747,"2021-04-01",115938.8,0.1153,"10WA01:339500",null,"Indiana Water Area 01","339500-Other P/E-TD",0,0]
["2020-11-01","2021-06-01","10WA01:339500",5747,"2021-05-01",115938.8,0.1153,"10WA01:339500",null,"Indiana Water Area 01","339500-Other P/E-TD",0,0]
["2020-11-01","2021-06-01","10WA01:339500",5747,"2021-06-01",115938.8,0.1153,"10WA01:339500",null,"Indiana Water Area 01","339500-Other P/E-TD",0,0]
["2020-11-01","2021-06-01","10WA01:339600",3281,"2020-11-01",38807.5,0,"10WA01:339600",null,"Indiana Water Area 01","339600-Other P/E-CPS",0,0]
["2020-11-01","2021-06-01","10WA01:339600",3281,"2020-12-01",38807.5,0,"10WA01:339600",null,"Indiana Water Area 01","339600-Other P/E-CPS",0,0]
["2020-11-01","2021-06-01","10WA01:339600",3281,"2021-01-01",38807.5,0,"10WA01:339600",null,"Indiana Water Area 01","339600-Other P/E-CPS",0,0]
["2020-11-01","2021-06-01","10WA01:339600",3281,"2021-02-01",38807.5,0,"10WA01:339600",null,"Indiana Water Area 01","339600-Other P/E-CPS",0,0]
["2020-11-01","2021-06-01","10WA01:339600",3281,"2021-03-01",38807.5,0,"10WA01:339600",null,"Indiana Water Area 01","339600-Other P/E-CPS",0,0]
["2020-11-01","2021-06-01","10WA01:339600",3281,"2021-04-01",38807.5,0,"10WA01:339600",null,"Indiana Water Area 01","339600-Other P/E-CPS",0,0]
["2020-11-01","2021-06-01","10WA01:339600",3281,"2021-05-01",38807.5,0,"10WA01:339600",null,"Indiana Water Area 01","339600-Other P/E-CPS",0,0]
["2020-11-01","2021-06-01","10WA01:339600",3281,"2021-06-01",38807.5,0,"10WA01:339600",null,"Indiana Water Area 01","339600-Other P/E-CPS",0,0]
["2020-11-01","2021-06-01","10WA01:340100",2028,"2020-11-01",746683.34,0.05,"10WA01:340100",null,"Indiana Water Area 01","340100-Office Furniture & Equip",0,0]
["2020-11-01","2021-06-01","10WA01:340100",2028,"2020-12-01",747152.5,0.05,"10WA01:340100",null,"Indiana Water Area 01","340100-Office Furniture & Equip",0,0]
["2020-11-01","2021-06-01","10WA01:340100",2028,"2021-01-01",819458.81,0.05,"10WA01:340100",null,"Indiana Water Area 01","340100-Office Furniture & Equip",0,0]
["2020-11-01","2021-06-01","10WA01:340100",2028,"2021-02-01",821176.36,0.05,"10WA01:340100",null,"Indiana Water Area 01","340100-Office Furniture & Equip",0,0]
["2020-11-01","2021-06-01","10WA01:340100",2028,"2021-03-01",821938.99,0.05,"10WA01:340100",null,"Indiana Water Area 01","340100-Office Furniture & Equip",0,0]
["2020-11-01","2021-06-01","10WA01:340100",2028,"2021-04-01",822649.62,0.05,"10WA01:340100",null,"Indiana Water Area 01","340100-Office Furniture & Equip",0,0]
["2020-11-01","2021-06-01","10WA01:340100",2028,"2021-05-01",825052.9,0.05,"10WA01:340100",null,"Indiana Water Area 01","340100-Office Furniture & Equip",0,0]
["2020-11-01","2021-06-01","10WA01:340100",2028,"2021-06-01",825935.72,0.05,"10WA01:340100",null,"Indiana Water Area 01","340100-Office Furniture & Equip",0,0]
["2020-11-01","2021-06-01","10WA01:340210",2027,"2020-11-01",226114.15,0.2,"10WA01:340210",null,"Indiana Water Area 01","340210-Comp & Periph Mainframe",0,0]
["2020-11-01","2021-06-01","10WA01:340210",2027,"2020-12-01",226114.15,0.2,"10WA01:340210",null,"Indiana Water Area 01","340210-Comp & Periph Mainframe",0,0]
["2020-11-01","2021-06-01","10WA01:340210",2027,"2021-01-01",226114.15,0.2,"10WA01:340210",null,"Indiana Water Area 01","340210-Comp & Periph Mainframe",0,0]
["2020-11-01","2021-06-01","10WA01:340210",2027,"2021-02-01",226114.15,0.2,"10WA01:340210",null,"Indiana Water Area 01","340210-Comp & Periph Mainframe",0,0]
["2020-11-01","2021-06-01","10WA01:340210",2027,"2021-03-01",226114.15,0.2,"10WA01:340210",null,"Indiana Water Area 01","340210-Comp & Periph Mainframe",0,0]
["2020-11-01","2021-06-01","10WA01:340210",2027,"2021-04-01",226114.15,0.2,"10WA01:340210",null,"Indiana Water Area 01","340210-Comp & Periph Mainframe",0,0]
["2020-11-01","2021-06-01","10WA01:340210",2027,"2021-05-01",226114.15,0.2,"10WA01:340210",null,"Indiana Water Area 01","340210-Comp & Periph Mainframe",0,0]
["2020-11-01","2021-06-01","10WA01:340210",2027,"2021-06-01",226114.15,0.2,"10WA01:340210",null,"Indiana Water Area 01","340210-Comp & Periph Mainframe",0,0]
["2020-11-01","2021-06-01","10WA01:340220",6371,"2020-11-01",295939.51,0.2,"10WA01:340220",null,"Indiana Water Area 01","340220-Comp & Periph Personal",0,0]
["2020-11-01","2021-06-01","10WA01:340220",6371,"2020-12-01",295939.51,0.2,"10WA01:340220",null,"Indiana Water Area 01","340220-Comp & Periph Personal",0,0]
["2020-11-01","2021-06-01","10WA01:340220",6371,"2021-01-01",279155.46000000002,0.2,"10WA01:340220",null,"Indiana Water Area 01","340220-Comp & Periph Personal",0,0]
["2020-11-01","2021-06-01","10WA01:340220",6371,"2021-02-01",279010.08,0.2,"10WA01:340220",null,"Indiana Water Area 01","340220-Comp & Periph Personal",0,0]
["2020-11-01","2021-06-01","10WA01:340220",6371,"2021-03-01",279010.08,0.2,"10WA01:340220",null,"Indiana Water Area 01","340220-Comp & Periph Personal",0,0]
["2020-11-01","2021-06-01","10WA01:340220",6371,"2021-04-01",276033.91999999998,0.2,"10WA01:340220",null,"Indiana Water Area 01","340220-Comp & Periph Personal",0,0]
["2020-11-01","2021-06-01","10WA01:340220",6371,"2021-05-01",276033.91999999998,0.2,"10WA01:340220",null,"Indiana Water Area 01","340220-Comp & Periph Personal",0,0]
["2020-11-01","2021-06-01","10WA01:340220",6371,"2021-06-01",276033.91999999998,0.2,"10WA01:340220",null,"Indiana Water Area 01","340220-Comp & Periph Personal",0,0]
["2020-11-01","2021-06-01","10WA01:340230",5165,"2020-11-01",2488957.04,0.2,"10WA01:340230",null,"Indiana Water Area 01","340230-Comp & Periph Other",0,0]
["2020-11-01","2021-06-01","10WA01:340230",5165,"2020-12-01",2538214.31,0.2,"10WA01:340230",null,"Indiana Water Area 01","340230-Comp & Periph Other",0,0]
["2020-11-01","2021-06-01","10WA01:340230",5165,"2021-01-01",2586322.41,0.2,"10WA01:340230",null,"Indiana Water Area 01","340230-Comp & Periph Other",0,0]
["2020-11-01","2021-06-01","10WA01:340230",5165,"2021-02-01",2586250,0.2,"10WA01:340230",null,"Indiana Water Area 01","340230-Comp & Periph Other",0,0]
["2020-11-01","2021-06-01","10WA01:340230",5165,"2021-03-01",2586532.73,0.2,"10WA01:340230",null,"Indiana Water Area 01","340230-Comp & Periph Other",0,0]
["2020-11-01","2021-06-01","10WA01:340230",5165,"2021-04-01",2171514.94,0.2,"10WA01:340230",null,"Indiana Water Area 01","340230-Comp & Periph Other",0,0]
["2020-11-01","2021-06-01","10WA01:340230",5165,"2021-05-01",2171514.94,0.2,"10WA01:340230",null,"Indiana Water Area 01","340230-Comp & Periph Other",0,0]
["2020-11-01","2021-06-01","10WA01:340230",5165,"2021-06-01",2171514.94,0.2,"10WA01:340230",null,"Indiana Water Area 01","340230-Comp & Periph Other",0,0]
["2020-11-01","2021-06-01","10WA01:340240",5166,"2020-11-01",0,0.2,"10WA01:340240",null,"Indiana Water Area 01","340240-Comp & Periph Capital Lease",0,0]
["2020-11-01","2021-06-01","10WA01:340240",5166,"2020-12-01",0,0.2,"10WA01:340240",null,"Indiana Water Area 01","340240-Comp & Periph Capital Lease",0,0]
["2020-11-01","2021-06-01","10WA01:340240",5166,"2021-01-01",0,0.2,"10WA01:340240",null,"Indiana Water Area 01","340240-Comp & Periph Capital Lease",0,0]
["2020-11-01","2021-06-01","10WA01:340240",5166,"2021-02-01",0,0.2,"10WA01:340240",null,"Indiana Water Area 01","340240-Comp & Periph Capital Lease",0,0]
["2020-11-01","2021-06-01","10WA01:340240",5166,"2021-03-01",0,0.2,"10WA01:340240",null,"Indiana Water Area 01","340240-Comp & Periph Capital Lease",0,0]
["2020-11-01","2021-06-01","10WA01:340240",5166,"2021-04-01",0,0.2,"10WA01:340240",null,"Indiana Water Area 01","340240-Comp & Periph Capital Lease",0,0]
["2020-11-01","2021-06-01","10WA01:340240",5166,"2021-05-01",0,0.2,"10WA01:340240",null,"Indiana Water Area 01","340240-Comp & Periph Capital Lease",0,0]
["2020-11-01","2021-06-01","10WA01:340240",5166,"2021-06-01",0,0.2,"10WA01:340240",null,"Indiana Water Area 01","340240-Comp & Periph Capital Lease",0,0]
["2020-11-01","2021-06-01","10WA01:340300",4572,"2020-11-01",0,0.1,"10WA01:340300",null,"Indiana Water Area 01","340300-Computer Software",0,0]
["2020-11-01","2021-06-01","10WA01:340300",4572,"2020-12-01",0,0.1,"10WA01:340300",null,"Indiana Water Area 01","340300-Computer Software",0,0]
["2020-11-01","2021-06-01","10WA01:340300",4572,"2021-01-01",0,0.1,"10WA01:340300",null,"Indiana Water Area 01","340300-Computer Software",0,0]
["2020-11-01","2021-06-01","10WA01:340300",4572,"2021-02-01",0,0.1,"10WA01:340300",null,"Indiana Water Area 01","340300-Computer Software",0,0]
["2020-11-01","2021-06-01","10WA01:340300",4572,"2021-03-01",0,0.1,"10WA01:340300",null,"Indiana Water Area 01","340300-Computer Software",0,0]
["2020-11-01","2021-06-01","10WA01:340300",4572,"2021-04-01",0,0.1,"10WA01:340300",null,"Indiana Water Area 01","340300-Computer Software",0,0]
["2020-11-01","2021-06-01","10WA01:340300",4572,"2021-05-01",0,0.1,"10WA01:340300",null,"Indiana Water Area 01","340300-Computer Software",0,0]
["2020-11-01","2021-06-01","10WA01:340300",4572,"2021-06-01",0,0.1,"10WA01:340300",null,"Indiana Water Area 01","340300-Computer Software",0,0]
["2020-11-01","2021-06-01","10WA01:340310",5750,"2020-11-01",3715.86,0.2,"10WA01:340310",null,"Indiana Water Area 01","340310-Comp Software Mainframe",0,0]
["2020-11-01","2021-06-01","10WA01:340310",5750,"2020-12-01",3715.86,0.2,"10WA01:340310",null,"Indiana Water Area 01","340310-Comp Software Mainframe",0,0]
["2020-11-01","2021-06-01","10WA01:340310",5750,"2021-01-01",3715.86,0.2,"10WA01:340310",null,"Indiana Water Area 01","340310-Comp Software Mainframe",0,0]
["2020-11-01","2021-06-01","10WA01:340310",5750,"2021-02-01",3715.86,0.2,"10WA01:340310",null,"Indiana Water Area 01","340310-Comp Software Mainframe",0,0]
["2020-11-01","2021-06-01","10WA01:340310",5750,"2021-03-01",3715.86,0.2,"10WA01:340310",null,"Indiana Water Area 01","340310-Comp Software Mainframe",0,0]
["2020-11-01","2021-06-01","10WA01:340310",5750,"2021-04-01",3715.86,0.2,"10WA01:340310",null,"Indiana Water Area 01","340310-Comp Software Mainframe",0,0]
["2020-11-01","2021-06-01","10WA01:340310",5750,"2021-05-01",3715.86,0.2,"10WA01:340310",null,"Indiana Water Area 01","340310-Comp Software Mainframe",0,0]
["2020-11-01","2021-06-01","10WA01:340310",5750,"2021-06-01",3715.86,0.2,"10WA01:340310",null,"Indiana Water Area 01","340310-Comp Software Mainframe",0,0]
["2020-11-01","2021-06-01","10WA01:340320",2642,"2020-11-01",0,0,"10WA01:340320",null,"Indiana Water Area 01","340320-Comp Software Personal",0,0]
["2020-11-01","2021-06-01","10WA01:340320",2642,"2020-12-01",0,0,"10WA01:340320",null,"Indiana Water Area 01","340320-Comp Software Personal",0,0]
["2020-11-01","2021-06-01","10WA01:340320",2642,"2021-01-01",0,0,"10WA01:340320",null,"Indiana Water Area 01","340320-Comp Software Personal",0,0]
["2020-11-01","2021-06-01","10WA01:340320",2642,"2021-02-01",0,0,"10WA01:340320",null,"Indiana Water Area 01","340320-Comp Software Personal",0,0]
["2020-11-01","2021-06-01","10WA01:340320",2642,"2021-03-01",0,0,"10WA01:340320",null,"Indiana Water Area 01","340320-Comp Software Personal",0,0]
["2020-11-01","2021-06-01","10WA01:340320",2642,"2021-04-01",0,0,"10WA01:340320",null,"Indiana Water Area 01","340320-Comp Software Personal",0,0]
["2020-11-01","2021-06-01","10WA01:340320",2642,"2021-05-01",0,0,"10WA01:340320",null,"Indiana Water Area 01","340320-Comp Software Personal",0,0]
["2020-11-01","2021-06-01","10WA01:340320",2642,"2021-06-01",0,0,"10WA01:340320",null,"Indiana Water Area 01","340320-Comp Software Personal",0,0]
["2020-11-01","2021-06-01","10WA01:340325",5751,"2020-11-01",60426.54,0.2,"10WA01:340325",null,"Indiana Water Area 01","340325-Comp Software Customized",0,0]
["2020-11-01","2021-06-01","10WA01:340325",5751,"2020-12-01",60426.54,0.2,"10WA01:340325",null,"Indiana Water Area 01","340325-Comp Software Customized",0,0]
["2020-11-01","2021-06-01","10WA01:340325",5751,"2021-01-01",51912.82,0.2,"10WA01:340325",null,"Indiana Water Area 01","340325-Comp Software Customized",0,0]
["2020-11-01","2021-06-01","10WA01:340325",5751,"2021-02-01",51912.83,0.2,"10WA01:340325",null,"Indiana Water Area 01","340325-Comp Software Customized",0,0]
["2020-11-01","2021-06-01","10WA01:340325",5751,"2021-03-01",51912.83,0.2,"10WA01:340325",null,"Indiana Water Area 01","340325-Comp Software Customized",0,0]
["2020-11-01","2021-06-01","10WA01:340325",5751,"2021-04-01",47733.82,0.2,"10WA01:340325",null,"Indiana Water Area 01","340325-Comp Software Customized",0,0]
["2020-11-01","2021-06-01","10WA01:340325",5751,"2021-05-01",47733.82,0.2,"10WA01:340325",null,"Indiana Water Area 01","340325-Comp Software Customized",0,0]
["2020-11-01","2021-06-01","10WA01:340325",5751,"2021-06-01",47733.82,0.2,"10WA01:340325",null,"Indiana Water Area 01","340325-Comp Software Customized",0,0]
["2020-11-01","2021-06-01","10WA01:340330",3894,"2020-11-01",56835.13,0.2,"10WA01:340330",null,"Indiana Water Area 01","340330-Comp Software Other",0,0]
["2020-11-01","2021-06-01","10WA01:340330",3894,"2020-12-01",56835.13,0.2,"10WA01:340330",null,"Indiana Water Area 01","340330-Comp Software Other",0,0]
["2020-11-01","2021-06-01","10WA01:340330",3894,"2021-01-01",56835.13,0.2,"10WA01:340330",null,"Indiana Water Area 01","340330-Comp Software Other",0,0]
["2020-11-01","2021-06-01","10WA01:340330",3894,"2021-02-01",56835.13,0.2,"10WA01:340330",null,"Indiana Water Area 01","340330-Comp Software Other",0,0]
["2020-11-01","2021-06-01","10WA01:340330",3894,"2021-03-01",56835.13,0.2,"10WA01:340330",null,"Indiana Water Area 01","340330-Comp Software Other",0,0]
["2020-11-01","2021-06-01","10WA01:340330",3894,"2021-04-01",56835.13,0.2,"10WA01:340330",null,"Indiana Water Area 01","340330-Comp Software Other",0,0]
["2020-11-01","2021-06-01","10WA01:340330",3894,"2021-05-01",56835.13,0.2,"10WA01:340330",null,"Indiana Water Area 01","340330-Comp Software Other",0,0]
["2020-11-01","2021-06-01","10WA01:340330",3894,"2021-06-01",56835.13,0.2,"10WA01:340330",null,"Indiana Water Area 01","340330-Comp Software Other",0,0]
["2020-11-01","2021-06-01","10WA01:340500",5749,"2020-11-01",0,6.6699999999999995E-2,"10WA01:340500",null,"Indiana Water Area 01","340500-Other Office Equipment",0,0]
["2020-11-01","2021-06-01","10WA01:340500",5749,"2020-12-01",0,6.6699999999999995E-2,"10WA01:340500",null,"Indiana Water Area 01","340500-Other Office Equipment",0,0]
["2020-11-01","2021-06-01","10WA01:340500",5749,"2021-01-01",0,6.6699999999999995E-2,"10WA01:340500",null,"Indiana Water Area 01","340500-Other Office Equipment",0,0]
["2020-11-01","2021-06-01","10WA01:340500",5749,"2021-02-01",0,6.6699999999999995E-2,"10WA01:340500",null,"Indiana Water Area 01","340500-Other Office Equipment",0,0]
["2020-11-01","2021-06-01","10WA01:340500",5749,"2021-03-01",0,6.6699999999999995E-2,"10WA01:340500",null,"Indiana Water Area 01","340500-Other Office Equipment",0,0]
["2020-11-01","2021-06-01","10WA01:340500",5749,"2021-04-01",0,6.6699999999999995E-2,"10WA01:340500",null,"Indiana Water Area 01","340500-Other Office Equipment",0,0]
["2020-11-01","2021-06-01","10WA01:340500",5749,"2021-05-01",0,6.6699999999999995E-2,"10WA01:340500",null,"Indiana Water Area 01","340500-Other Office Equipment",0,0]
["2020-11-01","2021-06-01","10WA01:340500",5749,"2021-06-01",0,6.6699999999999995E-2,"10WA01:340500",null,"Indiana Water Area 01","340500-Other Office Equipment",0,0]
["2020-11-01","2021-06-01","10WA01:341100",3895,"2020-11-01",4002900.97,4.8500000000000001E-2,"10WA01:341100",null,"Indiana Water Area 01","341100-Trans Equip Lt Duty Trks",0,-7.3000000000000001E-3]
["2020-11-01","2021-06-01","10WA01:341100",3895,"2020-12-01",4448292.43,4.8500000000000001E-2,"10WA01:341100",null,"Indiana Water Area 01","341100-Trans Equip Lt Duty Trks",0,-7.3000000000000001E-3]
["2020-11-01","2021-06-01","10WA01:341100",3895,"2021-01-01",4745466.1399999997,4.8500000000000001E-2,"10WA01:341100",null,"Indiana Water Area 01","341100-Trans Equip Lt Duty Trks",0,-7.3000000000000001E-3]
["2020-11-01","2021-06-01","10WA01:341100",3895,"2021-02-01",4795310.29,4.8500000000000001E-2,"10WA01:341100",null,"Indiana Water Area 01","341100-Trans Equip Lt Duty Trks",0,-7.3000000000000001E-3]
["2020-11-01","2021-06-01","10WA01:341100",3895,"2021-03-01",4693784.9400000004,4.8500000000000001E-2,"10WA01:341100",null,"Indiana Water Area 01","341100-Trans Equip Lt Duty Trks",0,-7.3000000000000001E-3]
["2020-11-01","2021-06-01","10WA01:341100",3895,"2021-04-01",4693784.9400000004,4.8500000000000001E-2,"10WA01:341100",null,"Indiana Water Area 01","341100-Trans Equip Lt Duty Trks",0,-7.3000000000000001E-3]
["2020-11-01","2021-06-01","10WA01:341100",3895,"2021-05-01",4693784.9400000004,4.8500000000000001E-2,"10WA01:341100",null,"Indiana Water Area 01","341100-Trans Equip Lt Duty Trks",0,-7.3000000000000001E-3]
["2020-11-01","2021-06-01","10WA01:341100",3895,"2021-06-01",4693784.9400000004,4.8500000000000001E-2,"10WA01:341100",null,"Indiana Water Area 01","341100-Trans Equip Lt Duty Trks",0,-7.3000000000000001E-3]
["2020-11-01","2021-06-01","10WA01:341200",4571,"2020-11-01",5195060.62,8.1600000000000006E-2,"10WA01:341200",null,"Indiana Water Area 01","341200-Trans Equip Hvy Duty Trks",0,-1.6299999999999999E-2]
["2020-11-01","2021-06-01","10WA01:341200",4571,"2020-12-01",6604505.3399999999,8.1600000000000006E-2,"10WA01:341200",null,"Indiana Water Area 01","341200-Trans Equip Hvy Duty Trks",0,-1.6299999999999999E-2]
["2020-11-01","2021-06-01","10WA01:341200",4571,"2021-01-01",7500179.0599999996,8.1600000000000006E-2,"10WA01:341200",null,"Indiana Water Area 01","341200-Trans Equip Hvy Duty Trks",0,-1.6299999999999999E-2]
["2020-11-01","2021-06-01","10WA01:341200",4571,"2021-02-01",7500179.0599999996,8.1600000000000006E-2,"10WA01:341200",null,"Indiana Water Area 01","341200-Trans Equip Hvy Duty Trks",0,-1.6299999999999999E-2]
["2020-11-01","2021-06-01","10WA01:341200",4571,"2021-03-01",7500179.0599999996,8.1600000000000006E-2,"10WA01:341200",null,"Indiana Water Area 01","341200-Trans Equip Hvy Duty Trks",0,-1.6299999999999999E-2]
["2020-11-01","2021-06-01","10WA01:341200",4571,"2021-04-01",7500179.0599999996,8.1600000000000006E-2,"10WA01:341200",null,"Indiana Water Area 01","341200-Trans Equip Hvy Duty Trks",0,-1.6299999999999999E-2]
["2020-11-01","2021-06-01","10WA01:341200",4571,"2021-05-01",7500179.0599999996,8.1600000000000006E-2,"10WA01:341200",null,"Indiana Water Area 01","341200-Trans Equip Hvy Duty Trks",0,-1.6299999999999999E-2]
["2020-11-01","2021-06-01","10WA01:341200",4571,"2021-06-01",7500179.0599999996,8.1600000000000006E-2,"10WA01:341200",null,"Indiana Water Area 01","341200-Trans Equip Hvy Duty Trks",0,-1.6299999999999999E-2]
["2020-11-01","2021-06-01","10WA01:341300",3896,"2020-11-01",761748.71,0.16689999999999999,"10WA01:341300",null,"Indiana Water Area 01","341300-Trans Equip Autos",0,-4.1700000000000001E-2]
["2020-11-01","2021-06-01","10WA01:341300",3896,"2020-12-01",1022289.57,0.16689999999999999,"10WA01:341300",null,"Indiana Water Area 01","341300-Trans Equip Autos",0,-4.1700000000000001E-2]
["2020-11-01","2021-06-01","10WA01:341300",3896,"2021-01-01",1057866.22,0.16689999999999999,"10WA01:341300",null,"Indiana Water Area 01","341300-Trans Equip Autos",0,-4.1700000000000001E-2]
["2020-11-01","2021-06-01","10WA01:341300",3896,"2021-02-01",1057866.22,0.16689999999999999,"10WA01:341300",null,"Indiana Water Area 01","341300-Trans Equip Autos",0,-4.1700000000000001E-2]
["2020-11-01","2021-06-01","10WA01:341300",3896,"2021-03-01",1057866.22,0.16689999999999999,"10WA01:341300",null,"Indiana Water Area 01","341300-Trans Equip Autos",0,-4.1700000000000001E-2]
["2020-11-01","2021-06-01","10WA01:341300",3896,"2021-04-01",1057866.22,0.16689999999999999,"10WA01:341300",null,"Indiana Water Area 01","341300-Trans Equip Autos",0,-4.1700000000000001E-2]
["2020-11-01","2021-06-01","10WA01:341300",3896,"2021-05-01",1057866.22,0.16689999999999999,"10WA01:341300",null,"Indiana Water Area 01","341300-Trans Equip Autos",0,-4.1700000000000001E-2]
["2020-11-01","2021-06-01","10WA01:341300",3896,"2021-06-01",1057866.22,0.16689999999999999,"10WA01:341300",null,"Indiana Water Area 01","341300-Trans Equip Autos",0,-4.1700000000000001E-2]
["2020-11-01","2021-06-01","10WA01:341400",2644,"2020-11-01",1351101.55,0.14169999999999999,"10WA01:341400",null,"Indiana Water Area 01","341400-Trans Equip Other",0,-1.4200000000000001E-2]
["2020-11-01","2021-06-01","10WA01:341400",2644,"2020-12-01",1394177.42,0.14169999999999999,"10WA01:341400",null,"Indiana Water Area 01","341400-Trans Equip Other",0,-1.4200000000000001E-2]
["2020-11-01","2021-06-01","10WA01:341400",2644,"2021-01-01",1778818.12,0.14169999999999999,"10WA01:341400",null,"Indiana Water Area 01","341400-Trans Equip Other",0,-1.4200000000000001E-2]
["2020-11-01","2021-06-01","10WA01:341400",2644,"2021-02-01",1778818.12,0.14169999999999999,"10WA01:341400",null,"Indiana Water Area 01","341400-Trans Equip Other",0,-1.4200000000000001E-2]
["2020-11-01","2021-06-01","10WA01:341400",2644,"2021-03-01",1767288.11,0.14169999999999999,"10WA01:341400",null,"Indiana Water Area 01","341400-Trans Equip Other",0,-1.4200000000000001E-2]
["2020-11-01","2021-06-01","10WA01:341400",2644,"2021-04-01",1767288.1,0.14169999999999999,"10WA01:341400",null,"Indiana Water Area 01","341400-Trans Equip Other",0,-1.4200000000000001E-2]
["2020-11-01","2021-06-01","10WA01:341400",2644,"2021-05-01",1767288.1,0.14169999999999999,"10WA01:341400",null,"Indiana Water Area 01","341400-Trans Equip Other",0,-1.4200000000000001E-2]
["2020-11-01","2021-06-01","10WA01:341400",2644,"2021-06-01",1767288.1,0.14169999999999999,"10WA01:341400",null,"Indiana Water Area 01","341400-Trans Equip Other",0,-1.4200000000000001E-2]
["2020-11-01","2021-06-01","10WA01:342000",6372,"2020-11-01",144445.66,0.04,"10WA01:342000",null,"Indiana Water Area 01","342000-Stores Equipment",0,0]
["2020-11-01","2021-06-01","10WA01:342000",6372,"2020-12-01",144445.66,0.04,"10WA01:342000",null,"Indiana Water Area 01","342000-Stores Equipment",0,0]
["2020-11-01","2021-06-01","10WA01:342000",6372,"2021-01-01",144445.66,0.04,"10WA01:342000",null,"Indiana Water Area 01","342000-Stores Equipment",0,0]
["2020-11-01","2021-06-01","10WA01:342000",6372,"2021-02-01",144445.66,0.04,"10WA01:342000",null,"Indiana Water Area 01","342000-Stores Equipment",0,0]
["2020-11-01","2021-06-01","10WA01:342000",6372,"2021-03-01",144445.66,0.04,"10WA01:342000",null,"Indiana Water Area 01","342000-Stores Equipment",0,0]
["2020-11-01","2021-06-01","10WA01:342000",6372,"2021-04-01",141257.84,0.04,"10WA01:342000",null,"Indiana Water Area 01","342000-Stores Equipment",0,0]
["2020-11-01","2021-06-01","10WA01:342000",6372,"2021-05-01",141257.84,0.04,"10WA01:342000",null,"Indiana Water Area 01","342000-Stores Equipment",0,0]
["2020-11-01","2021-06-01","10WA01:342000",6372,"2021-06-01",141257.84,0.04,"10WA01:342000",null,"Indiana Water Area 01","342000-Stores Equipment",0,0]
["2020-11-01","2021-06-01","10WA01:343000",5168,"2020-11-01",5945527.1500000004,0.04,"10WA01:343000",null,"Indiana Water Area 01","343000-Tools,Shop,Garage Equip",0,0]
["2020-11-01","2021-06-01","10WA01:343000",5168,"2020-12-01",5948887.4699999997,0.04,"10WA01:343000",null,"Indiana Water Area 01","343000-Tools,Shop,Garage Equip",0,0]
["2020-11-01","2021-06-01","10WA01:343000",5168,"2021-01-01",6122799.3600000003,0.04,"10WA01:343000",null,"Indiana Water Area 01","343000-Tools,Shop,Garage Equip",0,0]
["2020-11-01","2021-06-01","10WA01:343000",5168,"2021-02-01",6128473.0899999999,0.04,"10WA01:343000",null,"Indiana Water Area 01","343000-Tools,Shop,Garage Equip",0,0]
["2020-11-01","2021-06-01","10WA01:343000",5168,"2021-03-01",6276484.4500000002,0.04,"10WA01:343000",null,"Indiana Water Area 01","343000-Tools,Shop,Garage Equip",0,0]
["2020-11-01","2021-06-01","10WA01:343000",5168,"2021-04-01",6282226.1200000001,0.04,"10WA01:343000",null,"Indiana Water Area 01","343000-Tools,Shop,Garage Equip",0,0]
["2020-11-01","2021-06-01","10WA01:343000",5168,"2021-05-01",6322690.4699999997,0.04,"10WA01:343000",null,"Indiana Water Area 01","343000-Tools,Shop,Garage Equip",0,0]
["2020-11-01","2021-06-01","10WA01:343000",5168,"2021-06-01",6556251.1100000003,0.04,"10WA01:343000",null,"Indiana Water Area 01","343000-Tools,Shop,Garage Equip",0,0]
["2020-11-01","2021-06-01","10WA01:343100",3152,"2020-11-01",0,0.04,"10WA01:343100",null,"Indiana Water Area 01","343100-Tools,Shop,Garage Equip-Othr",0,0]
["2020-11-01","2021-06-01","10WA01:343100",3152,"2020-12-01",0,0.04,"10WA01:343100",null,"Indiana Water Area 01","343100-Tools,Shop,Garage Equip-Othr",0,0]
["2020-11-01","2021-06-01","10WA01:343100",3152,"2021-01-01",0,0.04,"10WA01:343100",null,"Indiana Water Area 01","343100-Tools,Shop,Garage Equip-Othr",0,0]
["2020-11-01","2021-06-01","10WA01:343100",3152,"2021-02-01",0,0.04,"10WA01:343100",null,"Indiana Water Area 01","343100-Tools,Shop,Garage Equip-Othr",0,0]
["2020-11-01","2021-06-01","10WA01:343100",3152,"2021-03-01",0,0.04,"10WA01:343100",null,"Indiana Water Area 01","343100-Tools,Shop,Garage Equip-Othr",0,0]
["2020-11-01","2021-06-01","10WA01:343100",3152,"2021-04-01",0,0.04,"10WA01:343100",null,"Indiana Water Area 01","343100-Tools,Shop,Garage Equip-Othr",0,0]
["2020-11-01","2021-06-01","10WA01:343100",3152,"2021-05-01",0,0.04,"10WA01:343100",null,"Indiana Water Area 01","343100-Tools,Shop,Garage Equip-Othr",0,0]
["2020-11-01","2021-06-01","10WA01:343100",3152,"2021-06-01",0,0.04,"10WA01:343100",null,"Indiana Water Area 01","343100-Tools,Shop,Garage Equip-Othr",0,0]
["2020-11-01","2021-06-01","10WA01:344000",5752,"2020-11-01",2084556.3,6.6699999999999995E-2,"10WA01:344000",null,"Indiana Water Area 01","344000-Laboratory Equipment",0,0]
["2020-11-01","2021-06-01","10WA01:344000",5752,"2020-12-01",2089233.74,6.6699999999999995E-2,"10WA01:344000",null,"Indiana Water Area 01","344000-Laboratory Equipment",0,0]
["2020-11-01","2021-06-01","10WA01:344000",5752,"2021-01-01",2125842.04,6.6699999999999995E-2,"10WA01:344000",null,"Indiana Water Area 01","344000-Laboratory Equipment",0,0]
["2020-11-01","2021-06-01","10WA01:344000",5752,"2021-02-01",2125414.5099999998,6.6699999999999995E-2,"10WA01:344000",null,"Indiana Water Area 01","344000-Laboratory Equipment",0,0]
["2020-11-01","2021-06-01","10WA01:344000",5752,"2021-03-01",2130625.38,6.6699999999999995E-2,"10WA01:344000",null,"Indiana Water Area 01","344000-Laboratory Equipment",0,0]
["2020-11-01","2021-06-01","10WA01:344000",5752,"2021-04-01",2130769.7400000002,6.6699999999999995E-2,"10WA01:344000",null,"Indiana Water Area 01","344000-Laboratory Equipment",0,0]
["2020-11-01","2021-06-01","10WA01:344000",5752,"2021-05-01",2132230.11,6.6699999999999995E-2,"10WA01:344000",null,"Indiana Water Area 01","344000-Laboratory Equipment",0,0]
["2020-11-01","2021-06-01","10WA01:344000",5752,"2021-06-01",2132409.66,6.6699999999999995E-2,"10WA01:344000",null,"Indiana Water Area 01","344000-Laboratory Equipment",0,0]
["2020-11-01","2021-06-01","10WA01:345000",3898,"2020-11-01",1783499.86,2.3699999999999999E-2,"10WA01:345000",null,"Indiana Water Area 01","345000-Power Operated Equipment",0,-1.1999999999999999E-3]
["2020-11-01","2021-06-01","10WA01:345000",3898,"2020-12-01",1783499.86,2.3699999999999999E-2,"10WA01:345000",null,"Indiana Water Area 01","345000-Power Operated Equipment",0,-1.1999999999999999E-3]
["2020-11-01","2021-06-01","10WA01:345000",3898,"2021-01-01",1785166.63,2.3699999999999999E-2,"10WA01:345000",null,"Indiana Water Area 01","345000-Power Operated Equipment",0,-1.1999999999999999E-3]
["2020-11-01","2021-06-01","10WA01:345000",3898,"2021-02-01",1787409.06,2.3699999999999999E-2,"10WA01:345000",null,"Indiana Water Area 01","345000-Power Operated Equipment",0,-1.1999999999999999E-3]
["2020-11-01","2021-06-01","10WA01:345000",3898,"2021-03-01",1807197.25,2.3699999999999999E-2,"10WA01:345000",null,"Indiana Water Area 01","345000-Power Operated Equipment",0,-1.1999999999999999E-3]
["2020-11-01","2021-06-01","10WA01:345000",3898,"2021-04-01",2093325.42,2.3699999999999999E-2,"10WA01:345000",null,"Indiana Water Area 01","345000-Power Operated Equipment",0,-1.1999999999999999E-3]
["2020-11-01","2021-06-01","10WA01:345000",3898,"2021-05-01",2093325.42,2.3699999999999999E-2,"10WA01:345000",null,"Indiana Water Area 01","345000-Power Operated Equipment",0,-1.1999999999999999E-3]
["2020-11-01","2021-06-01","10WA01:345000",3898,"2021-06-01",2122790.5,2.3699999999999999E-2,"10WA01:345000",null,"Indiana Water Area 01","345000-Power Operated Equipment",0,-1.1999999999999999E-3]
["2020-11-01","2021-06-01","10WA01:346000",3282,"2020-11-01",226743.52,6.6699999999999995E-2,"10WA01:346000",null,"Indiana Water Area 01","346000-Comm Equip Not Classified",0,0]
["2020-11-01","2021-06-01","10WA01:346000",3282,"2020-12-01",256550.62,6.6699999999999995E-2,"10WA01:346000",null,"Indiana Water Area 01","346000-Comm Equip Not Classified",0,0]
["2020-11-01","2021-06-01","10WA01:346000",3282,"2021-01-01",275755.44,6.6699999999999995E-2,"10WA01:346000",null,"Indiana Water Area 01","346000-Comm Equip Not Classified",0,0]
["2020-11-01","2021-06-01","10WA01:346000",3282,"2021-02-01",274768.73,6.6699999999999995E-2,"10WA01:346000",null,"Indiana Water Area 01","346000-Comm Equip Not Classified",0,0]
["2020-11-01","2021-06-01","10WA01:346000",3282,"2021-03-01",494555.99,6.6699999999999995E-2,"10WA01:346000",null,"Indiana Water Area 01","346000-Comm Equip Not Classified",0,0]
["2020-11-01","2021-06-01","10WA01:346000",3282,"2021-04-01",494555.99,6.6699999999999995E-2,"10WA01:346000",null,"Indiana Water Area 01","346000-Comm Equip Not Classified",0,0]
["2020-11-01","2021-06-01","10WA01:346000",3282,"2021-05-01",501031.85,6.6699999999999995E-2,"10WA01:346000",null,"Indiana Water Area 01","346000-Comm Equip Not Classified",0,0]
["2020-11-01","2021-06-01","10WA01:346000",3282,"2021-06-01",507455.8,6.6699999999999995E-2,"10WA01:346000",null,"Indiana Water Area 01","346000-Comm Equip Not Classified",0,0]
["2020-11-01","2021-06-01","10WA01:346100",5167,"2020-11-01",2325926.91,6.6699999999999995E-2,"10WA01:346100",null,"Indiana Water Area 01","346100-Comm Equip Non-Telephone",0,0]
["2020-11-01","2021-06-01","10WA01:346100",5167,"2020-12-01",2471878.66,6.6699999999999995E-2,"10WA01:346100",null,"Indiana Water Area 01","346100-Comm Equip Non-Telephone",0,0]
["2020-11-01","2021-06-01","10WA01:346100",5167,"2021-01-01",2640091.5,6.6699999999999995E-2,"10WA01:346100",null,"Indiana Water Area 01","346100-Comm Equip Non-Telephone",0,0]
["2020-11-01","2021-06-01","10WA01:346100",5167,"2021-02-01",2641602.44,6.6699999999999995E-2,"10WA01:346100",null,"Indiana Water Area 01","346100-Comm Equip Non-Telephone",0,0]
["2020-11-01","2021-06-01","10WA01:346100",5167,"2021-03-01",2626673.9700000002,6.6699999999999995E-2,"10WA01:346100",null,"Indiana Water Area 01","346100-Comm Equip Non-Telephone",0,0]
["2020-11-01","2021-06-01","10WA01:346100",5167,"2021-04-01",2624380.7999999998,6.6699999999999995E-2,"10WA01:346100",null,"Indiana Water Area 01","346100-Comm Equip Non-Telephone",0,0]
["2020-11-01","2021-06-01","10WA01:346100",5167,"2021-05-01",2642013.39,6.6699999999999995E-2,"10WA01:346100",null,"Indiana Water Area 01","346100-Comm Equip Non-Telephone",0,0]
["2020-11-01","2021-06-01","10WA01:346100",5167,"2021-06-01",2799576.06,6.6699999999999995E-2,"10WA01:346100",null,"Indiana Water Area 01","346100-Comm Equip Non-Telephone",0,0]
["2020-11-01","2021-06-01","10WA01:346190",3897,"2020-11-01",13617941.08,6.6699999999999995E-2,"10WA01:346190",null,"Indiana Water Area 01","346190-Remote Control & Instrument",0,0]
["2020-11-01","2021-06-01","10WA01:346190",3897,"2020-12-01",13694871.050000001,6.6699999999999995E-2,"10WA01:346190",null,"Indiana Water Area 01","346190-Remote Control & Instrument",0,0]
["2020-11-01","2021-06-01","10WA01:346190",3897,"2021-01-01",14251261.359999999,6.6699999999999995E-2,"10WA01:346190",null,"Indiana Water Area 01","346190-Remote Control & Instrument",0,0]
["2020-11-01","2021-06-01","10WA01:346190",3897,"2021-02-01",14405998.720000001,6.6699999999999995E-2,"10WA01:346190",null,"Indiana Water Area 01","346190-Remote Control & Instrument",0,0]
["2020-11-01","2021-06-01","10WA01:346190",3897,"2021-03-01",14675938.029999999,6.6699999999999995E-2,"10WA01:346190",null,"Indiana Water Area 01","346190-Remote Control & Instrument",0,0]
["2020-11-01","2021-06-01","10WA01:346190",3897,"2021-04-01",14761992.24,6.6699999999999995E-2,"10WA01:346190",null,"Indiana Water Area 01","346190-Remote Control & Instrument",0,0]
["2020-11-01","2021-06-01","10WA01:346190",3897,"2021-05-01",14947791.99,6.6699999999999995E-2,"10WA01:346190",null,"Indiana Water Area 01","346190-Remote Control & Instrument",0,0]
["2020-11-01","2021-06-01","10WA01:346190",3897,"2021-06-01",15003837.189999999,6.6699999999999995E-2,"10WA01:346190",null,"Indiana Water Area 01","346190-Remote Control & Instrument",0,0]
["2020-11-01","2021-06-01","10WA01:346200",2643,"2020-11-01",164023.16,6.6699999999999995E-2,"10WA01:346200",null,"Indiana Water Area 01","346200-Comm Equip Telephone",0,0]
["2020-11-01","2021-06-01","10WA01:346200",2643,"2020-12-01",164023.16,6.6699999999999995E-2,"10WA01:346200",null,"Indiana Water Area 01","346200-Comm Equip Telephone",0,0]
["2020-11-01","2021-06-01","10WA01:346200",2643,"2021-01-01",164023.16,6.6699999999999995E-2,"10WA01:346200",null,"Indiana Water Area 01","346200-Comm Equip Telephone",0,0]
["2020-11-01","2021-06-01","10WA01:346200",2643,"2021-02-01",164023.16,6.6699999999999995E-2,"10WA01:346200",null,"Indiana Water Area 01","346200-Comm Equip Telephone",0,0]
["2020-11-01","2021-06-01","10WA01:346200",2643,"2021-03-01",164023.16,6.6699999999999995E-2,"10WA01:346200",null,"Indiana Water Area 01","346200-Comm Equip Telephone",0,0]
["2020-11-01","2021-06-01","10WA01:346200",2643,"2021-04-01",164736.89000000001,6.6699999999999995E-2,"10WA01:346200",null,"Indiana Water Area 01","346200-Comm Equip Telephone",0,0]
["2020-11-01","2021-06-01","10WA01:346200",2643,"2021-05-01",164845.12,6.6699999999999995E-2,"10WA01:346200",null,"Indiana Water Area 01","346200-Comm Equip Telephone",0,0]
["2020-11-01","2021-06-01","10WA01:346200",2643,"2021-06-01",164845.12,6.6699999999999995E-2,"10WA01:346200",null,"Indiana Water Area 01","346200-Comm Equip Telephone",0,0]
["2020-11-01","2021-06-01","10WA01:347000",4573,"2020-11-01",5521351.71,0.05,"10WA01:347000",null,"Indiana Water Area 01","347000-Misc Equipment",0,0]
["2020-11-01","2021-06-01","10WA01:347000",4573,"2020-12-01",5540003.4400000004,0.05,"10WA01:347000",null,"Indiana Water Area 01","347000-Misc Equipment",0,0]
["2020-11-01","2021-06-01","10WA01:347000",4573,"2021-01-01",5569575.5499999998,0.05,"10WA01:347000",null,"Indiana Water Area 01","347000-Misc Equipment",0,0]
["2020-11-01","2021-06-01","10WA01:347000",4573,"2021-02-01",5655139.6699999999,0.05,"10WA01:347000",null,"Indiana Water Area 01","347000-Misc Equipment",0,0]
["2020-11-01","2021-06-01","10WA01:347000",4573,"2021-03-01",5622935.3799999999,0.05,"10WA01:347000",null,"Indiana Water Area 01","347000-Misc Equipment",0,0]
["2020-11-01","2021-06-01","10WA01:347000",4573,"2021-04-01",5635350.7400000002,0.05,"10WA01:347000",null,"Indiana Water Area 01","347000-Misc Equipment",0,0]
["2020-11-01","2021-06-01","10WA01:347000",4573,"2021-05-01",5636675.6200000001,0.05,"10WA01:347000",null,"Indiana Water Area 01","347000-Misc Equipment",0,0]
["2020-11-01","2021-06-01","10WA01:347000",4573,"2021-06-01",5653374.1500000004,0.05,"10WA01:347000",null,"Indiana Water Area 01","347000-Misc Equipment",0,0]
["2020-11-01","2021-06-01","z-10:Unspecified",10,"2020-11-01",0,0,"z-10:Unspecified",null,"Unspecified","Unspecified",0,0]
["2020-11-01","2021-06-01","z-10:Unspecified",10,"2020-12-01",0,0,"z-10:Unspecified",null,"Unspecified","Unspecified",0,0]
["2020-11-01","2021-06-01","z-10:Unspecified",10,"2021-01-01",0,0,"z-10:Unspecified",null,"Unspecified","Unspecified",0,0]
["2020-11-01","2021-06-01","z-10:Unspecified",10,"2021-02-01",0,0,"z-10:Unspecified",null,"Unspecified","Unspecified",0,0]
["2020-11-01","2021-06-01","z-10:Unspecified",10,"2021-03-01",0,0,"z-10:Unspecified",null,"Unspecified","Unspecified",0,0]
["2020-11-01","2021-06-01","z-10:Unspecified",10,"2021-04-01",0,0,"z-10:Unspecified",null,"Unspecified","Unspecified",0,0]
["2020-11-01","2021-06-01","z-10:Unspecified",10,"2021-05-01",0,0,"z-10:Unspecified",null,"Unspecified","Unspecified",0,0]
["2020-11-01","2021-06-01","z-10:Unspecified",10,"2021-06-01",0,0,"z-10:Unspecified",null,"Unspecified","Unspecified",0,0]

{"sheet":"Asset 1200 SEI","index":15,"n_rows":148,"n_cols":19,"rows_kept":148,"cut":false,"hidden":true,"merged":[]}
["Asset 1200 report May 2020 to July 2022 Co 1010 filtered for just the 120 WBS' provided"]
[]
[]
[null,null,null,null,null,null,null,null,null,null,null,null,"xx"]
["activity_cost","activity_quantity","description","long_description","eng_in_service_year","start_month","end_month","description","COS","UA","Depr group","cpr_ledger_wo_number","cpr_activity_wo_number","description","description","description","description","description","asset_id"]
[172430.46,1,"340300-Computer Software","VMWare Workspace One","2021-03-01","2020-11-01","2022-11-01","Indiana Corp-Specific","10C",{"$f":"LEFT(C6,6)","v":"340300"},{"$f":"CONCATENATE(I6,\":\",J6)","v":"10C:340300"},"R10-01K3.19-P-4031","R10-01K3.19-P-4031","1010-Indiana American Water Co","340300-Computer Software","1 - Water","None","10100000-Utility Plant In Service",140901925]
[27091.5,1,"340300-Computer Software","New Authentication Platform (Okta)","2021-06-15","2020-11-01","2022-11-01","Indiana Corp-Specific","10C",{"$f":"LEFT(C7,6)","v":"340300"},{"$f":"CONCATENATE(I7,\":\",J7)","v":"10C:340300"},"T10-0185-P-1000","T10-0185-P-1000","1010-Indiana American Water Co","340300-Computer Software","1 - Water","None","10100000-Utility Plant In Service",140768515]
[0,0,"340300-Computer Software","VMWare Workspace One","2021-03-01","2020-11-01","2022-11-01","Indiana Corp-Specific","10C","340300","10C:340300","R10-01K3.19-P-4031","R10-01K3.19-P-4031","1010-Indiana American Water Co","340300-Computer Software","1 - Water","None","10600000-Completed Not Classified",136066419]
[103039.69,7,"340300-Computer Software","SIEM Suite Implementation","2020-11-20","2020-11-01","2022-11-01","Indiana Corp-Specific","10C","340300","10C:340300","T10-0184-P-1000","T10-0184-P-1000","1010-Indiana American Water Co","340300-Computer Software","1 - Water","None","10600000-Completed Not Classified",134352638]
[0,0,"340300-Computer Software","New Authentication Platform (Okta)","2021-06-15","2020-11-01","2022-11-01","Indiana Corp-Specific","10C","340300","10C:340300","T10-0185-P-1000","T10-0185-P-1000","1010-Indiana American Water Co","340300-Computer Software","1 - Water","None","10600000-Completed Not Classified",136902032]
[null,null,null,null,null,null,null,null,null,"",":"]
[null,null,null,null,null,null,null,null,null,"",":"]
[null,null,null,null,null,null,null,null,null,"",":"]
[null,null,null,null,null,null,null,null,null,"",":"]
[null,null,null,null,null,null,null,null,null,"",":"]
[null,null,null,null,null,null,null,null,null,"",":"]
[null,null,null,null,null,null,null,null,null,"",":"]
[null,null,null,null,null,null,null,null,null,"",":"]
[null,null,null,null,null,null,null,null,null,"",":"]
[null,null,null,null,null,null,null,null,null,"",":"]
[null,null,null,null,null,null,null,null,null,"",":"]
[null,null,null,null,null,null,null,null,null,"",":"]
[null,null,null,null,null,null,null,null,null,"",":"]
[null,null,null,null,null,null,null,null,null,"",":"]
[null,null,null,null,null,null,null,null,null,"",":"]
[null,null,null,null,null,null,null,null,null,"",":"]
[null,null,null,null,null,null,null,null,null,"",":"]
[null,null,null,null,null,null,null,null,null,"",":"]
[null,null,null,null,null,null,null,null,null,"",":"]
[null,null,null,null,null,null,null,null,null,"",":"]
[null,null,null,null,null,null,null,null,null,"",":"]
[null,null,null,null,null,null,null,null,null,"",":"]
[null,null,null,null,null,null,null,null,null,"",":"]
[null,null,null,null,null,null,null,null,null,"",":"]
[null,null,null,null,null,null,null,null,null,"",":"]
[null,null,null,null,null,null,null,null,null,"",":"]
[null,null,null,null,null,null,null,null,null,"",":"]
[null,null,null,null,null,null,null,null,null,"",":"]
[null,null,null,null,null,null,null,null,null,"",":"]
[null,null,null,null,null,null,null,null,null,"",":"]
[null,null,null,null,null,null,null,null,null,"",":"]
[null,null,null,null,null,null,null,null,null,"",":"]
[null,null,null,null,null,null,null,null,null,"",":"]
[null,null,null,null,null,null,null,null,null,"",":"]
[null,null,null,null,null,null,null,null,null,"",":"]
[null,null,null,null,null,null,null,null,null,"",":"]
[null,null,null,null,null,null,null,null,null,"",":"]
[null,null,null,null,null,null,null,null,null,"",":"]
[null,null,null,null,null,null,null,null,null,"",":"]
[null,null,null,null,null,null,null,null,null,"",":"]
[null,null,null,null,null,null,null,null,null,"",":"]
[null,null,null,null,null,null,null,null,null,"",":"]
[null,null,null,null,null,null,null,null,null,"",":"]
[null,null,null,null,null,null,null,null,null,"",":"]
[null,null,null,null,null,null,null,null,null,"",":"]
[null,null,null,null,null,null,null,null,null,"",":"]
[null,null,null,null,null,null,null,null,null,"",":"]
[null,null,null,null,null,null,null,null,null,"",":"]
[null,null,null,null,null,null,null,null,null,"",":"]
[null,null,null,null,null,null,null,null,null,"",":"]
[null,null,null,null,null,null,null,null,null,"",":"]
[null,null,null,null,null,null,null,null,null,"",":"]
[null,null,null,null,null,null,null,null,null,"",":"]
[null,null,null,null,null,null,null,null,null,"",":"]
[null,null,null,null,null,null,null,null,null,"",":"]
[null,null,null,null,null,null,null,null,null,"",":"]
[null,null,null,null,null,null,null,null,null,"",":"]
[null,null,null,null,null,null,null,null,null,"",":"]
[null,null,null,null,null,null,null,null,null,"",":"]
[null,null,null,null,null,null,null,null,null,"",":"]
[null,null,null,null,null,null,null,null,null,{"$f":"LEFT(C71,6)","v":""},{"$f":"CONCATENATE(I71,\":\",J71)","v":":"}]
[null,null,null,null,null,null,null,null,null,"",":"]
[null,null,null,null,null,null,null,null,null,"",":"]
[null,null,null,null,null,null,null,null,null,"",":"]
[null,null,null,null,null,null,null,null,null,"",":"]
[null,null,null,null,null,null,null,null,null,"",":"]
[null,null,null,null,null,null,null,null,null,"",":"]
[null,null,null,null,null,null,null,null,null,"",":"]
[null,null,null,null,null,null,null,null,null,"",":"]
[null,null,null,null,null,null,null,null,null,"",":"]
[null,null,null,null,null,null,null,null,null,"",":"]
[null,null,null,null,null,null,null,null,null,"",":"]
[null,null,null,null,null,null,null,null,null,"",":"]
[null,null,null,null,null,null,null,null,null,"",":"]
[null,null,null,null,null,null,null,null,null,"",":"]
[null,null,null,null,null,null,null,null,null,"",":"]
[null,null,null,null,null,null,null,null,null,"",":"]
[null,null,null,null,null,null,null,null,null,"",":"]
[null,null,null,null,null,null,null,null,null,"",":"]
[null,null,null,null,null,null,null,null,null,"",":"]
[null,null,null,null,null,null,null,null,null,"",":"]
[null,null,null,null,null,null,null,null,null,"",":"]
[null,null,null,null,null,null,null,null,null,"",":"]
[null,null,null,null,null,null,null,null,null,"",":"]
[null,null,null,null,null,null,null,null,null,"",":"]
[null,null,null,null,null,null,null,null,null,"",":"]
[null,null,null,null,null,null,null,null,null,"",":"]
[null,null,null,null,null,null,null,null,null,"",":"]
[null,null,null,null,null,null,null,null,null,"",":"]
[null,null,null,null,null,null,null,null,null,"",":"]
[null,null,null,null,null,null,null,null,null,"",":"]
[null,null,null,null,null,null,null,null,null,"",":"]
[null,null,null,null,null,null,null,null,null,"",":"]
[null,null,null,null,null,null,null,null,null,"",":"]
[null,null,null,null,null,null,null,null,null,"",":"]
[null,null,null,null,null,null,null,null,null,"",":"]
[null,null,null,null,null,null,null,null,null,"",":"]
[null,null,null,null,null,null,null,null,null,"",":"]
[null,null,null,null,null,null,null,null,null,"",":"]
[null,null,null,null,null,null,null,null,null,"",":"]
[null,null,null,null,null,null,null,null,null,{"$f":"LEFT(C111,6)","v":""},{"$f":"CONCATENATE(I111,\":\",J111)","v":":"}]
[null,null,null,null,null,null,null,null,null,"",":"]
[null,null,null,null,null,null,null,null,null,"",":"]
[null,null,null,null,null,null,null,null,null,"",":"]
[null,null,null,null,null,null,null,null,null,"",":"]
[null,null,null,null,null,null,null,null,null,"",":"]
[null,null,null,null,null,null,null,null,null,"",":"]
[null,null,null,null,null,null,null,null,null,"",":"]
[null,null,null,null,null,null,null,null,null,"",":"]
[null,null,null,null,null,null,null,null,null,"",":"]
[null,null,null,null,null,null,null,null,null,"",":"]
[null,null,null,null,null,null,null,null,null,"",":"]
[null,null,null,null,null,null,null,null,null,"",":"]
[null,null,null,null,null,null,null,null,null,"",":"]
[null,null,null,null,null,null,null,null,null,"",":"]
[null,null,null,null,null,null,null,null,null,"",":"]
[null,null,null,null,null,null,null,null,null,"",":"]
[null,null,null,null,null,null,null,null,null,{"$f":"LEFT(C128,6)","v":""},{"$f":"CONCATENATE(I128,\":\",J128)","v":":"}]
[null,null,null,null,null,null,null,null,null,"",":"]
[null,null,null,null,null,null,null,null,null,"",":"]
[null,null,null,null,null,null,null,null,null,"",":"]
[null,null,null,null,null,null,null,null,null,"",":"]
[null,null,null,null,null,null,null,null,null,"",":"]
[null,null,null,null,null,null,null,null,null,"",":"]
[null,null,null,null,null,null,null,null,null,"",":"]
[null,null,null,null,null,null,null,null,null,"",":"]
[null,null,null,null,null,null,null,null,null,"",":"]
[null,null,null,null,null,null,null,null,null,"",":"]
[null,null,null,null,null,null,null,null,null,"",":"]
[null,null,null,null,null,null,null,null,null,"",":"]
[null,null,null,null,null,null,null,null,null,"",":"]
[null,null,null,null,null,null,null,null,null,"",":"]
[null,null,null,null,null,null,null,null,null,"",":"]
[null,null,null,null,null,null,null,null,null,"",":"]
[null,null,null,null,null,null,null,null,null,"",":"]
[null,null,null,null,null,null,null,null,null,"",":"]
[null,null,null,null,null,null,null,null,null,"",":"]
[null,null,null,null,null,null,null,null,null,"",":"]

{"sheet":"info","index":16,"n_rows":86,"n_cols":1,"rows_kept":86,"cut":false,"hidden":true,"merged":[]}
[]
["Assumptions CWIP query calc"]
[]
["Ran Powerplant CR query for the CWIP activity so that the derivations to RWIP are eliminated.  CJI3 will not list out the charges with just CWIP being in the population."]
["Reworded"]
["Used CR query for CWIP vs CJI3 so just what settled as CWIP.  Anything in cost elements 52801200,52805100,any 728xxxxx cost elements exclude from exported result"]
[]
["Filter Cost element column for those values & delete those rows "]
["Due to the different in service dates the PIS AFUDC could not be calculated to WBS level in one tab.  "]
["CWIP query data was grouped by common in service dates & separate calculations perfomed.  This is only means to compound the PIS AFUDC."]
["An allocation was created for the population of work orders with common in service dates; so anything in servicing Dece 2020 was grouped then based on spend on each wbs a % was generated & used to apply a % of the Debt, Equity & Equity Reduction"]
["The month of wbs in servcing the Calc was halved for the Debt & Equity.  The Equity reduction halves naturally"]
[]
["Dilution of the PIS AFUDC Equity is being done via difference of Debt & Equity calc; so Equity number equals the value of the debt but still record to 70510000."]
["Equity Reduction credits the Reg Asset while Debt & Equity AFUDC debits Reg Asset"]
[]
["Use Find Replace function to simply updates.  Reminder column C is hidden in the PIS Summary tabs"]
["Check is in column J to ensure accurate formulas of the AFUDC base.  Full population of the query used in each respective summary tab less last current base row plus PIS Equity & Debt sums should equal 0"]
["Equity Reduction is not compounded"]
[]
[]
[]
["CR query for the Additions activity (unitization & autonon) this assigned prior month convention"]
["e.g. June 2020 in service date begins def depr July 2020 in line when depr is recognized"]
["based on word doc included life reserve, COR & salvage rates"]
["July 2022 in svc dates the month count was mannually changed to 0 so this column needs updating monthly all rows"]
[]
["Ran Asset 1200 report to id which wbs' posted to which Depr groups"]
["Used Depr 1039 to translate major location to Cost of Service Area & pull Life, COR & Salvage Rates for calc; deleted unneeded columns to thin file"]
["be careful for low rates if use 2 decimals"]
[]
["built the data points from both into Depr info tab"]
["Downloaded via comma macro the wbs' in svc dates"]
[]
["Pulled CR query of the CWIP activity on these populations of wbs'"]
[]
["back section houses the CWIP queries.  One tab - one in service date - multiple work orders"]
["All months then oldest to newest sequence"]
[]
["All months tab pulls in svc date from SEI ISD tab which is slimmed down of the PM > WO > Select screen with comma macro for all 120 wbs'"]
["Debt & Equity rates copied from prior file"]
["Column K-N are formulaed when have time see if can remove column M & N.  Filter function in excel gives needed grouping of month & yr of the in scv dates"]
["Colors on tabs for eye ease only"]
["Asset 1200 \"cpr_activity_wo_number\" column is the column for consideration for the calc"]
[]
["tabs were slimmed where possible & quick to do"]
["Grabbed in service dates from PP"]
[]
["Total PIS the pivot table will need updating over time & formulas to the right will require updating accordingly"]
["Columns C-H are formulas.  Its best to do find replace in JE tab at the end so profit center & cost center are easiest to manage"]
["Caution work orders where Depr group is not 1 to 1 relationship so far only one so eyeball SAP acct to ensure this flows"]
["Due to many rows having zeroes another tab was added to reduce number of zero rows in je tab for deferred depr "]
["JE ease tab was also used to simplify the pasting of the entry into JE tab"]
["Cell O3 has instructions & formulas added to weed out the decimals so blackline uploads this smooth.  Use debit credit columns for je tab in case.  Check totals & add penny variances to 1st wbs for each section so its easy to find."]
["Tie out to Total PIS #s.  "]
[]
[]
["Count of months"]
["2020-05-01"]
["2020-06-01"]
["2020-07-01"]
["2020-08-01"]
["2020-09-01"]
["2020-10-01"]
["2020-11-01"]
["2020-12-01"]
["2021-01-01"]
["2021-02-01"]
["2021-03-01"]
["2021-04-01"]
["2021-05-01"]
["2021-06-01"]
["2021-07-01"]
["2021-08-01"]
["2021-09-01"]
["2021-10-01"]
["2021-11-01"]
["2021-12-01"]
["2022-01-01"]
["2022-02-01"]
["2022-03-01"]
["2022-04-01"]
["2022-05-01"]
["2022-06-01"]
["2022-07-01"]
["2022-08-01"]